{"text_format":"1","workbook":"xlsx","n_sheets":8,"sheets":["Overview","Step 1. Scoping","Step 2. Basic Info","Step 3. Lease Payments","Step 4. Classification","Output OP Lease Amort","Output FIN Lease Amort","Validations - DO NOT DELETE"],"not_rendered":{"charts":0,"images":0,"macros":1,"external_links":0,"defined_names":104,"comments":0,"pivot_tables":0},"unopened":[],"bounds":{"document_bytes":16777216,"sheet_cells":100000,"rows_first":2000,"rows_last":500,"rows_between":2000,"halvings":0,"cell_chars":16384,"cell_head_chars":4096},"cells_cut":0,"cells_raw":0,"read":"whole","date_system":"1900"}

{"sheet":"Overview","index":0,"n_rows":39,"n_cols":3,"rows_kept":39,"cut":false,"hidden":false,"merged":[[6,1,6,2],[7,1,7,2],[8,1,8,2],[2,1,2,2],[3,1,3,2],[4,1,4,2],[10,1,10,2],[11,1,11,2],[12,1,12,2],[14,1,15,2],[9,1,9,2]]}
[]
[]
[null,"ASC 842 Leases - Guidance Aid"]
[null,"Purpose - This guide illustrates considerations and guidance for the application of the new leasing standard - ASC 842, Leases. "]
[null,"Instructions - Follow the questions outlined in this workpaper in order. Use the drop down menus in the blue input tabs to respond to each of the questions below. After filling out the initial information outlined by the questions in the Input Sheet tab, move to the Step 1 tab and begin filling out the questions there, also using the available drop down menus. After each question is answered, instructions will populate to move you to the next applicable step. Follow the instructions which populate to guide you through the entirety of the aid."]
[]
[null,"Scope of ASC 842"]
[null,"ASC 842 applies to all arrangements that meet the definition of a lease except for:"]
[null," * Leases of intangible assets subject to ASC 350"]
[null," * Leases to explore for or use minerals, oil, natural gas, and similar nonregenerative resources subject to the guidance contained in ASC 930 and ASC 932"]
[null," * Leases of biological assets ASC 905"]
[null," * Leases of inventory ASC 330"]
[null," * Leases of inventory ASC 360"]
[]
[null,"Short-term lease exemption: An entity may elect to not apply ASC 842 of a lease that, at the commencement date, has a lease term of 12 months or less and does not include an option to purchase the underlying asset that the lessee is reasonably certain to exercise."]
[]
[]
[null,"Key Definitions"]
[null,"Lease","A contract, or part of a contract, that conveys the right to control the use of identified property, plant, or equipment (an identified asset) for a period of time in exchange for consideration."]
[null,"Lessee","An entity that enters into a contract to obtain the right to use an underlying asset for a period of time in exchange for consideration."]
[null,"Lessor","An entity that enters into a contract to provide the right to use an underlying asset for a period of time in exchange for consideration."]
[null,"Contract","An agreement between two or more parties that creates enforceable rights and obligations."]
[null,"Finance Lease","A lessee shall classify a lease as a finance lease when the lease meets any of the following criteria at lease commencement:\n  a. The lease transfers ownership of the underlying asset to the lessee by the end of the lease term.\n  b. The lease grants the lessee an option to purchase the underlying asset that the lessee is reasonably certain to exercise.\n  c. The lease term is for the major part of the remaining economic life  of the underlying asset. \n  d. The present value of the sum of the lease payments  and any residual value guaranteed by the lessee that is not already reflected in the lease payments equals or exceeds substantially all of the fair value  of the underlying asset.\n  e. The underlying asset is of such a specialized nature that it is expected to have no alternative use to the lessor at the end of the lease term.\nFinance Lease replaces the term \"Capital Lease\""]
[]
[null,"Direct Financing Lease","From the perspective of a lessor  a lease that meets none of the criteria in paragraph 842-10-25-2 to be treated as a sales-type lease but meets the criteria in paragraph 842-10-25-3(b) "]
[]
[null,"Operating Lease","From the perspective of a lessee, any lease other than a finance lease."]
[]
[null,"Commencement Date","The date on which a lessor makes an underlying asset available for use by a lessee."]
[]
[null,"Incremental Borrowing Rate","The rate of interest that a lessee would have today to borrow on a collateralized basis over a similar term an amount equal to the lease payments in a similar economic environment."]
[]
[null,"Discount Rate for the Lease","For a lessee: the discount rate for the lease is the rate implicit in the lease unless that rate cannot be readily determined. In that case, the lessee is required to use its incremental borrowing rate.\nFor a lessor:  the discount rate for the lease is the rate implicit in the lease"]
[]
[null,"Initial Direct Costs","Incremental costs of a lease that would not have been incurred if the lease had not been obtained"]
[]
[null,"Lease Term","The noncancelable period for which a lessee has the right to use an underlying asset, together with all of the following:\n  a. Periods covered by an option to extend the lease if the lessee is reasonably certain to exercise that option\n  b. Periods covered by an option to terminate the lease if the lessee is reasonably certain not to exercise that option\n  c. Periods covered by an option to extend (or not to terminate) the lease in which exercise of the option is controlled by the lessor."]
[null,"Right-of-Use Asset","An asset that represents a lessee’s right to use an underlying asset for the lease term."]
[null,"Economic Life","Either the period over which an assets expected to be economically usable by one or more users or the number of production or similar units expected to be obtained from an asset by one or more users."]

{"sheet":"Step 1. Scoping","index":1,"n_rows":923,"n_cols":16301,"rows_kept":923,"cut":false,"hidden":false,"merged":[[33,4,33,5],[6,1,6,5],[18,4,19,5],[29,4,30,5],[24,4,25,5],[27,1,27,2],[10,4,10,5],[28,1,29,2],[23,1,23,3],[31,1,31,5]]}
[null,null,null,null,null,null,null,null,null,null,null,null,null,null,null,null,null,null,null,null,null,null,null,null,null,null,null,null,null,null,null,null,null,null,null,null,null,null,null,null,null,null,null,null,null,null,null,null,null,null,null,null,null,null,null,null,null,null,null,null,null,null,null,null,null,null,null,null,null,null,null,null,null,null,null,null,null,null,null,null,null,null,null,null,null,null,null,null,null,null,null,null,null,null,null,null,null,null,null,null,null,null,null,null,null,null,null,null,null,null,null,null,null,null,null,null,null,null,null,null,null,null,null,null,null,null,null,null,null,null,null,null,null,null,null,null,null,null,null,null,null,null,null,null,null,null,null,null,null,null,null,null,null,null,null,null,null,null,null,null,null,null,null,null,null,null,null,null,null,null,null,null,null,null,null,null,null,null,null,null,null,null,null,null,null,null,null,null,null,null,null,null,null,null,null,null,null,null,null,null,null,null,null,null,null,null,null,null,null,null,null,null,null,null,null,null,null,null,null,null,null,null,null,null,null,null,null,null,null,null,null,null,null,null,null,null,null,null,null,null,null,null,null,null,null,null,null,null,null,null,null,null,null,null,null,null,null,null,null,null,null,null,null,null,null,null,null,null,null,null,null,null,null,null,null,null,null,null,null,null,null,null,null,null,null,null,null,null,null,null,null,null,null,null,null,null,null,null,null,null,null,null,null,null,null,null,null,null,null,null,null,null,null,null,null,null,null,null,null,null,null,null,null,null,null,null,null,null,null,null,null,null,null,null,null,null,null,null,null,null,null,null,null,null,null,null,null,null,null,null,null,null,null,null,null,null,null,null,null,null,null,null,null,null,null,null,null,null,null,null,null,null,null,null,null,null,null,null,null,null,null,null,null,null,null,null,null,null,null,null,null,null,null,null,null,null,null,null,null,null,null,null,null,null,null,null,null,null,null,null,null,null,null,null,null,null,null,null,null,null,null,null,null,null,null,null,null,null,null,null,null,null,null,null,null,null,null,null,null,null,null,null,null,null,null,null,null,null,null,null,null,null,null,null,null,null,null,null,null,null,null,null,null,null,null,null,null,null,null,null,null,null,null,null,null,null,null,null,null,null,null,null,null,null,null,null,null,null,null,null,null,null,null,null,null,null,null,null,null,null,null,null,null,null,null,null,null,null,null,null,null,null,null,null,null,null,null,null,null,null,null,null,null,null,null,null,null,null,null,null,null,null,null,null,null,null,null,null,null,null,null,null,null,null,null,null,null,null,null,null,null,null,null,null,null,null,null,null,null,null,null,null,null,null,null,null,null,null,null,null,null,null,null,null,null,null,null,null,null,null,null,null,null,null,null,null,null,null,null,null,null,null,null,null,null,null,null,null,null,null,null,null,null,null,null,null,null,null,null,null,null,null,null,null,null,null,null,null,null,null,null,null,null,null,null,null,null,null,null,null,null,null,null,null,null,null,null,null,null,null,null,null,null,null,null,null,null,null,null,null,null,null,null,null,null,null,null,null,null,null,null,null,null,null,null,null,null,null,null,null,null,null,null,null,null,null,null,null,null,null,null,null,null,null,null,null,null,null,null,null,null,null,null,null,null,null,null,null,null,null,null,null,null,null,null,null,null,null,null,null,null,null,null,null,null,null,null,null,null,null,null,null,null,null,null,null,null,null,null,null,null,null,null,null,null,null,null,null,null,null,null,null,null,null,null,null,null,null,null,null,null,null,null,null,null,null,null,null,null,null,null,null,null,null,null,null,null,null,null,null,null,null,null,null,null,null,null,null,null,null,null,null,null,null,null,null,null,null,null,null,null,null,null,null,null,null,null,null,null,null,null,null,null,null,null,null,null,null,null,null,null,null,null,null,null,null,null,null,null,null,null,null,null,null,null,null,null,null,null,null,null,null,null,null,null,null,null,null,null,null,null,null,null,null,null,null,null,null,null,null,null,null,null,null,null,null,null,null,null,null,null,null,null,null,null,null,null,null,null,null,null,null,null,null,null,null,null,null,null,null,null,null,null,null,null,null,null,null,null,null,null,null,null,null,null,null,null,null,null,null,null,null,null,null,null,null,null,null,null,null,null,null,null,null,null,null,null,null,null,null,null,null,null,null,null,null,null,null,null,null,null,null,null,null,null,null,null,null,null,null,null,null,null,null,null,null,null,null,null,null,null,null,null,null,null,null,null,null,null,null,null,null,null,null,null,null,null,null,null,null,null,null,null,null,null,null,null,null,null,null,null,null,null,null,null,null,null,null,null,null,null,null,null,null,null,null,null,null,null,null,null,null,null,null,null,null,null,null,null,null,null,null,null,null,null,null,null,null,null,null,null,null,null,null,null,null,null,null,null,null,null,null,null,null,null,null,null,null,null,null,null,null,null,null,null,null,null,null,null,null,null,null,null,null,null,null,null,null,null,null,null,null,null,null,null,null,null,null,null,null,null,null,null,null,null,null,null,null,null,null,null,null,null,null,null,null,null,null,null,null,null,null,null,null,null,null,null,null,null,null,null,null,null,null,null,null,null,null,null,null,null,null,null,null,null,null,null,null,null,null,null,null,null,null,null,null,null,null,null,null,null,null,null,null,null,null,null,null,null,null,null,null,null,null,null,null,null,null,null,null,null,null,null,null,null,null,null,null,null,null,null,null,null,null,null,null,null,null,null,null,null,null,null,null,null,null,null,null,null,null,null,null,null,null,null,null,null,null,null,null,null,null,null,null,null,null,null,null,null,null,null,null,null,null,null,null,null,null,null,null,null,null,null,null,null,null,null,null,null,null,null,null,null,null,null,null,null,null,null,null,null,null,null,null,null,null,null,null,null,null,null,null,null,null,null,null,null,null,null,null,null,null,null,null,null,null,null,null,null,null,null,null,null,null,null,null,null,null,null,null,null,null,null,null,null,null,null,null,null,null,null,null,null,null,null,null,null,null,null,null,null,null,null,null,null,null,null,null,null,null,null,null,null,null,null,null,null,null,null,null,null,null,null,null,null,null,null,null,null,null,null,null,null,null,null,null,null,null,null,null,null,null,null,null,null,null,null,null,null,null,null,null,null,null,null,null,null,null,null,null,null,null,null,null,null,null,null,null,null,null,null,null,null,null,null,null,null,null,null,null,null,null,null,null,null,null,null,null,null,null,null,null,null,null,null,null,null,null,null,null,null,null,null,null,null,null,null,null,null,null,null,null,null,null,null,null,null,null,null,null,null,null,null,null,null,null,null,null,null,null,null,null,null,null,null,null,null,null,null,null,null,null,"X"]
[null,"BDO"]
[null,"ENTITY NAME",null,null,"User Input Cells",null,null,null,null,null,null,null,null,null,null,null,null,null,null,null,null,null,null,null,null,null,null,null,null,null,null,null,null,null,null,null,null,null,null,null,null,null,null,null,null,null,null,null,null,null,null,null,null,null,null,null,null,null,null,null,null,null,null,null,null,null,null,null,null,null,null,null,null,null,null,null,null,null,null,null,null,null,null,null,null,null,null,null,null,null,null,null,null,null,null,null,null,null,null,null,null,null,null,null,null,null,null,null,null,null,null,null,null,null,null,null,null,null,null,null,null,null,null,null,null,null,null,null,null,null,null,null,null,null,null,null,null,null,null,null,null,null,null,null,null,null,null,null,null,null,null,null,null,null,null,null,null,null,null,null,null,null,null,null,null,null,null,null,null,null,null,null,null,null,null,null,null,null,null,null,null,null,null,null,null,null,null,null,null,null,null,null,null,null,null,null,null,null,null,null,null,null,null,null,null,null,null,null,null,null,null,null,null,null,null,null,null,null,null,null,null,null,null,null,null,null,null,null,null,null,null,null,null,null,null,null,null,null,null,null,null,null,null,null,null,null,null,null,null,null,null,null,null,null,null,null,null,null,null,null,null,null,null,null,null,null,null,null,null,null,null,null,null,null,null,null,null,null,null,null,null,null,null,null,null,null,null,null,null,null,null,null,null,null,null,null,null,null,null,null,null,null,null,null,null,null,null,null,null,null,null,null,null,null,null,null,null,null,null,null,null,null,null,null,null,null,null,null,null,null,null,null,null,null,null,null,null,null,null,null,null,null,null,null,null,null,null,null,null,null,null,null,null,null,null,null,null,null,null,null,null,null,null,null,null,null,null,null,null,null,null,null,null,null,null,null,null,null,null,null,null,null,null,null,null,null,null,null,null,null,null,null,null,null,null,null,null,null,null,null,null,null,null,null,null,null,null,null,null,null,null,null,null,null,null,null,null,null,null,null,null,null,null,null,null,null,null,null,null,null,null,null,null,null,null,null,null,null,null,null,null,null,null,null,null,null,null,null,null,null,null,null,null,null,null,null,null,null,null,null,null,null,null,null,null,null,null,null,null,null,null,null,null,null,null,null,null,null,null,null,null,null,null,null,null,null,null,null,null,null,null,null,null,null,null,null,null,null,null,null,null,null,null,null,null,null,null,null,null,null,null,null,null,null,null,null,null,null,null,null,null,null,null,null,null,null,null,null,null,null,null,null,null,null,null,null,null,null,null,null,null,null,null,null,null,null,null,null,null,null,null,null,null,null,null,null,null,null,null,null,null,null,null,null,null,null,null,null,null,null,null,null,null,null,null,null,null,null,null,null,null,null,null,null,null,null,null,null,null,null,null,null,null,null,null,null,null,null,null,null,null,null,null,null,null,null,null,null,null,null,null,null,null,null,null,null,null,null,null,null,null,null,null,null,null,null,null,null,null,null,null,null,null,null,null,null,null,null,null,null,null,null,null,null,null,null,null,null,null,null,null,null,null,null,null,null,null,null,null,null,null,null,null,null,null,null,null,null,null,null,null,null,null,null,null,null,null,null,null,null,null,null,null,null,null,null,null,null,null,null,null,null,null,null,null,null,null,null,null,null,null,null,null,null,null,null,null,null,null,null,null,null,null,null,null,null,null,null,null,null,null,null,null,null,null,null,null,null,null,null,null,null,null,null,null,null,null,null,null,null,null,null,null,null,null,null,null,null,null,null,null,null,null,null,null,null,null,null,null,null,null,null,null,null,null,null,null,null,null,null,null,null,null,null,null,null,null,null,null,null,null,null,null,null,null,null,null,null,null,null,null,null,null,null,null,null,null,null,null,null,null,null,null,null,null,null,null,null,null,null,null,null,null,null,null,null,null,null,null,null,null,null,null,null,null,null,null,null,null,null,null,null,null,null,null,null,null,null,null,null,null,null,null,null,null,null,null,null,null,null,null,null,null,null,null,null,null,null,null,null,null,null,null,null,null,null,null,null,null,null,null,null,null,null,null,null,null,null,null,null,null,null,null,null,null,null,null,null,null,null,null,null,null,null,null,null,null,null,null,null,null,null,null,null,null,null,null,null,null,null,null,null,null,null,null,null,null,null,null,null,null,null,null,null,null,null,null,null,null,null,null,null,null,null,null,null,null,null,null,null,null,null,null,null,null,null,null,null,null,null,null,null,null,null,null,null,null,null,null,null,null,null,null,null,null,null,null,null,null,null,null,null,null,null,null,null,null,null,null,null,null,null,null,null,null,null,null,null,null,null,null,null,null,null,null,null,null,null,null,null,null,null,null,null,null,null,null,null,null,null,null,null,null,null,null,null,null,null,null,null,null,null,null,null,null,null,null,null,null,null,null,null,null,null,null,null,null,null,null,null,null,null,null,null,null,null,null,null,null,null,null,null,null,null,null,null,null,null,null,null,null,null,null,null,null,null,null,null,null,null,null,null,null,null,null,null,null,null,null,null,null,null,null,null,null,null,null,null,null,null,null,null,null,null,null,null,null,null,null,null,null,null,null,null,null,null,null,null,null,null,null,null,null,null,null,null,null,null,null,null,null,null,null,null,null,null,null,null,null,null,null,null,null,null,null,null,null,null,null,null,null,null,null,null,null,null,null,null,null,null,null,null,null,null,null,null,null,null,null,null,null,null,null,null,null,null,null,null,null,null,null,null,null,null,null,null,null,null,null,null,null,null,null,null,null,null,null,null,null,null,null,null,null,null,null,null,null,null,null,null,null,null,null,null,null,null,null,null,null,null,null,null,null,null,null,null,null,null,null,null,null,null,null,null,null,null,null,null,null,null,null,null,null,null,null,null,null,null,null,null,null,null,null,null,null,null,null,null,null,null,null,null,null,null,null,null,null,null,null,null,null,null,null,null,null,null,null,null,null,null,null,null,null,null,null,null,null,null,null,null,null,null,null,null,null,null,null,null,null,null,null,null,null,null,null,null,null,null,null,null,null,null,null,null,null,null,null,null,null,null,null,null,null,null,null,null,null,null,null,null,null,null,null,null,null,null,null,null,null,null,null,null,null,null,null,null,null,null,null,null,null,null,null,null,null,null,null,null,null,null,null,null,null,null,null,null,null,null,null,null,null,null,null,null,null,null,null,null,null,null,null,null,null,null,null,null,null,null,null,null,null,null,null,null,null,null,null,null,null,null,null,null,null,null,null,null,null,null,null,null,null,null,null,null,null,null,null,null,null,null,null,null,null,null,null,null,null,null,null,null,null,null,null,null,null,null,null,null,null,null,null,null,null,null,null,null,null,null,null,null,null,null,null,null,null,null,null,null,null,null,null,null,null,null,null,null,null,null,null,null,null,null,null,null,null,null,null,null,null,null,null,null,null,null,null,null,null,null,null,null,null,null,null,null,null,null,null,null,null,null,null,null,null,null,null,null,null,null,null,null,null,null,null,null,null,null,null,null,null,null,null,null,null,null,null,null,null,null,null,null,null,null,null,null,null,null,null,null,null,null,null,null,null,null,null,null,null,null,null,null,null,null,null,null,null,null,null,null,null,null,null,null,null,null,null,null,null,null,null,null,null,null,null,null,null,null,null,null,null,null,null,null,null,null,null,null,null,null,null,null,null,null,null,null,null,null,null,null,null,null,null,null,null,null,null,null,null,null,null,null,null,null,null,null,null,null,null,null,null,null,null,null,null,null,null,null,null,null,null,null,null,null,null,null,null,null,null,null,null,null,null,null,null,null,null,null,null,null,null,null,null,null,null,null,null,null,null,null,null,null,null,null,null,null,null,null,null,null,null,null,null,null,null,null,null,null,null,null,null,null,null,null,null,null,null,null,null,null,null,null,null,null,null,null,null,null,null,null,null,null,null,null,null,null,null,null,null,null,null,null,null,null,null,null,null,null,null,null,null,null,null,null,null,null,null,null,null,null,null,null,null,null,null,null,null,null,null,null,null,null,null,null,null,null,null,null,null,null,null,null,null,null,null,null,null,null,null,null,null,null,null,null,null,null,null,null,null,null,null,null,null,null,null,null,null,null,null,null,null,null,null,null,null,null,null,null,null,null,null,null,null,null,null,null,null,null,null,null,null,null,null,null,null,null,null,null,null,null,null,null,null,null,null,null,null,null,null,null,null,null,null,null,null,null,null,null,null,null,null,null,null,null,null,null,null,null,null,null,null,null,null,null,null,null,null,null,null,null,null,null,null,null,null,null,null,null,null,null,null,null,null,null,null,null,null,null,null,null,null,null,null,null,null,null,null,null,null,null,null,null,null,null,null,null,null,null,null,null,null,null,null,null,null,null,null,null,null,null,null,null,null,null,null,null,null,null,null,null,null,null,null,null,null,null,null,null,null,null,null,null,null,null,null,null,null,null,null,null,null,null,null,null,null,null,null,null,null,null,null,null,null,null,null,null,null,null,null,null,null,null,null,null,null,null,null,null,null,null,null,null,null,null,null,null,null,null,null,null,null,null,null,null,null,null,null,null,null,null,null,null,null,null,null,null,null,null,null,null,null,null,null,null,null,null,null,null,null,null,null,null,null,null,null,null,null,null,null,null,null,null,null,null,null,null,null,null,null,null,null,null,null,null,null,null,null,null,null,null,null,null,null,null,null,null,null,null,null,null,null,null,null,null,null,null,null,null,null,null,null,null,null,null,null,null,null,null,null,null,null,null,null,null,null,null,null,null,null,null,null,null,null,null,null,null,null,null,null,null,null,null,null,null,null,null,null,null,null,null,null,null,null,null,null,null,null,null,null,null,null,null,null,null,null,null,null,null,null,null,null,null,null,null,null,null,null,null,null,null,null,null,null,null,null,null,null,null,null,null,null,null,null,null,null,null,null,null,null,null,null,null,null,null,null,null,null,null,null,null,null,null,null,null,null,null,null,null,null,null,null,null,null,null,null,null,null,null,null,null,null,null,null,null,null,null,null,null,null,null,null,null,null,null,null,null,null,null,null,null,null,null,null,null,null,null,null,null,null,null,null,null,null,null,null,null,null,null,null,null,null,null,null,null,null,null,null,null,null,null,null,null,null,null,null,null,null,null,null,null,null,null,null,null,null,null,null,null,null,null,null,null,null,null,null,null,null,null,null,null,null,null,null,null,null,null,null,null,null,null,null,null,null,null,null,null,null,null,null,null,null,null,null,null,null,null,null,null,null,null,null,null,null,null,null,null,null,null,null,null,null,null,null,null,null,null,null,null,null,null,null,null,null,null,null,null,null,null,null,null,null,null,null,null,null,null,null,null,null,null,null,null,null,null,null,null,null,null,null,null,null,null,null,null,null,null,null,null,null,null,null,null,null,null,null,null,null,null,null,null,null,null,null,null,null,null,null,null,null,null,null,null,null,null,null,null,null,null,null,null,null,null,null,null,null,null,null,null,null,null,null,null,null,null,null,null,null,null,null,null,null,null,null,null,null,null,null,null,null,null,null,null,null,null,null,null,null,null,null,null,null,null,null,null,null,null,null,null,null,null,null,null,null,null,null,null,null,null,null,null,null,null,null,null,null,null,null,null,null,null,null,null,null,null,null,null,null,null,null,null,null,null,null,null,null,null,null,null,null,null,null,null,null,null,null,null,null,null,null,null,null,null,null,null,null,null,null,null,null,null,null,null,null,null,null,null,null,null,null,null,null,null,null,null,null,null,null,null,null,null,null,null,null,null,null,null,null,null,null,null,null,null,null,null,null,null,null,null,null,null,null,null,null,null,null,null,null,null,null,null,null,null,null,null,null,null,null,null,null,null,null,null,null,null,null,null,null,null,null,null,null,null,null,null,null,null,null,null,null,null,null,null,null,null,null,null,null,null,null,null,null,null,null,null,null,null,null,null,null,null,null,null,null,null,null,null,null,null,null,null,null,null,null,null,null,null,null,null,null,null,null,null,null,null,null,null,null,null,null,null,null,null,null,null,null,null,null,null,null,null,null,null,null,null,null,null,null,null,null,null,null,null,null,null,null,null,null,null,null,null,null,null,null,null,null,null,null,null,null,null,null,null,null,null,null,null,null,null,null,null,null,null,null,null,null,null,null,null,null,null,null,null,null,null,null,null,null,null,null,null,null,null,null,null,null,null,null,null,null,null,null,null,null,null,null,null,null,null,null,null,null,null,null,null,null,null,null,null,null,null,null,null,null,null,null,null,null,null,null,null,null,null,null,null,null,null,null,null,null,null,null,null,null,null,null,null,null,null,null,null,null,null,null,null,null,null,null,null,null,null,null,null,null,null,null,null,null,null,null,null,null,null,null,null,null,null,null,null,null,null,null,null,null,null,null,null,null,null,null,null,null,null,null,null,null,null,null,null,null,null,null,null,null,null,null,null,null,null,null,null,null,null,null,null,null,null,null,null,null,null,null,null,null,null,null,null,null,null,null,null,null,null,null,null,null,null,null,null,null,null,null,null,null,null,null,null,null,null,null,null,null,null,null,null,null,null,null,null,null,null,null,null,null,null,null,null,null,null,null,null,null,null,null,null,null,null,null,null,null,null,null,null,null,null,null,null,null,null,null,null,null,null,null,null,null,null,null,null,null,null,null,null,null,null,null,null,null,null,null,null,null,null,null,null,null,null,null,null,null,null,null,null,null,null,null,null,null,null,null,null,null,null,null,null,null,null,null,null,null,null,null,null,null,null,null,null,null,null,null,null,null,null,null,null,null,null,null,null,null,null,null,null,null,null,null,null,null,null,null,null,null,null,null,null,null,null,null,null,null,null,null,null,null,null,null,null,null,null,null,null,null,null,null,null,null,null,null,null,null,null,null,null,null,null,null,null,null,null,null,null,null,null,null,null,null,null,null,null,null,null,null,null,null,null,null,null,null,null,null,null,null,null,null,null,null,null,null,null,null,null,null,null,null,null,null,null,null,null,null,null,null,null,null,null,null,null,null,null,null,null,null,null,null,null,null,null,null,null,null,null,null,null,null,null,null,null,null,null,null,null,null,null,null,null,null,null,null,null,null,null,null,null,null,null,null,null,null,null,null,null,null,null,null,null,null,null,null,null,null,null,null,null,null,null,null,null,null,null,null,null,null,null,null,null,null,null,null,null,null,null,null,null,null,null,null,null,null,null,null,null,null,null,null,null,null,null,null,null,null,null,null,null,null,null,null,null,null,null,null,null,null,null,null,null,null,null,null,null,null,null,null,null,null,null,null,null,null,null,null,null,null,null,null,null,null,null,null,null,null,null,null,null,null,null,null,null,null,null,null,null,null,null,null,null,null,null,null,null,null,null,null,null,null,null,null,null,null,null,null,null,null,null,null,null,null,null,null,null,null,null,null,null,null,null,null,null,null,null,null,null,null,null,null,null,null,null,null,null,null,null,null,null,null,null,null,null,null,null,null,null,null,null,null,null,null,null,null,null,null,null,null,null,null,null,null,null,null,null,null,null,null,null,null,null,null,null,null,null,null,null,null,null,null,null,null,null,null,null,null,null,null,null,null,null,null,null,null,null,null,null,null,null,null,null,null,null,null,null,null,null,null,null,null,null,null,null,null,null,null,null,null,null,null,null,null,null,null,null,null,null,null,null,null,null,null,null,null,null,null,null,null,null,null,null,null,null,null,null,null,null,null,null,null,null,null,null,null,null,null,null,null,null,null,null,null,null,null,null,null,null,null,null,null,null,null,null,null,null,null,null,null,null,null,null,null,null,null,null,null,null,null,null,null,null,null,null,null,null,null,null,null,null,null,null,null,null,null,null,null,null,null,null,null,null,null,null,null,null,null,null,null,null,null,null,null,null,null,null,null,null,null,null,null,null,null,null,null,null,null,null,null,null,null,null,null,null,null,null,null,null,null,null,null,null,null,null,null,null,null,null,null,null,null,null,null,null,null,null,null,null,null,null,null,null,null,null,null,null,null,null,null,null,null,null,null,null,null,null,null,null,null,null,null,null,null,null,null,null,null,null,null,null,null,null,null,null,null,null,null,null,null,null,null,null,null,null,null,null,null,null,null,null,null,null,null,null,null,null,null,null,null,null,null,null,null,null,null,null,null,null,null,null,null,null,null,null,null,null,null,null,null,null,null,null,null,null,null,null,null,null,null,null,null,null,null,null,null,null,null,null,null,null,null,null,null,null,null,null,null,null,null,null,null,null,null,null,null,null,null,null,null,null,null,null,null,null,null,null,null,null,null,null,null,null,null,null,null,null,null,null,null,null,null,null,null,null,null,null,null,null,null,null,null,null,null,null,null,null,null,null,null,null,null,null,null,null,null,null,null,null,null,null,null,null,null,null,null,null,null,null,null,null,null,null,null,null,null,null,null,null,null,null,null,null,null,null,null,null,null,null,null,null,null,null,null,null,null,null,null,null,null,null,null,null,null,null,null,null,null,null,null,null,null,null,null,null,null,null,null,null,null,null,null,null,null,null,null,null,null,null,null,null,null,null,null,null,null,null,null,null,null,null,null,null,null,null,null,null,null,null,null,null,null,null,null,null,null,null,null,null,null,null,null,null,null,null,null,null,null,null,null,null,null,null,null,null,null,null,null,null,null,null,null,null,null,null,null,null,null,null,null,null,null,null,null,null,null,null,null,null,null,null,null,null,null,null,null,null,null,null,null,null,null,null,null,null,null,null,null,null,null,null,null,null,null,null,null,null,null,null,null,null,null,null,null,null,null,null,null,null,null,null,null,null,null,null,null,null,null,null,null,null,null,null,null,null,null,null,null,null,null,null,null,null,null,null,null,null,null,null,null,null,null,null,null,null,null,null,null,null,null,null,null,null,null,null,null,null,null,null,null,null,null,null,null,null,null,null,null,null,null,null,null,null,null,null,null,null,null,null,null,null,null,null,null,null,null,null,null,null,null,null,null,null,null,null,null,null,null,null,null,null,null,null,null,null,null,null,null,null,null,null,null,null,null,null,null,null,null,null,null,null,null,null,null,null,null,null,null,null,null,null,null,null,null,null,null,null,null,null,null,null,null,null,null,null,null,null,null,null,null,null,null,null,null,null,null,null,null,null,null,null,null,null,null,null,null,null,null,null,null,null,null,null,null,null,null,null,null,null,null,null,null,null,null,null,null,null,null,null,null,null,null,null,null,null,null,null,null,null,null,null,null,null,null,null,null,null,null,null,null,null,null,null,null,null,null,null,null,null,null,null,null,null,null,null,null,null,null,null,null,null,null,null,null,null,null,null,null,null,null,null,null,null,null,null,null,null,null,null,null,null,null,null,null,null,null,null,null,null,null,null,null,null,null,null,null,null,null,null,null,null,null,null,null,null,null,null,null,null,null,null,null,null,null,null,null,null,null,null,null,null,null,null,null,null,null,null,null,null,null,null,null,null,null,null,null,null,null,null,null,null,null,null,null,null,null,null,null,null,null,null,null,null,null,null,null,null,null,null,null,null,null,null,null,null,null,null,null,null,null,null,null,null,null,null,null,null,null,null,null,null,null,null,null,null,null,null,null,null,null,null,null,null,null,null,null,null,null,null,null,null,null,null,null,null,null,null,null,null,null,null,null,null,null,null,null,null,null,null,null,null,null,null,null,null,null,null,null,null,null,null,null,null,null,null,null,null,null,null,null,null,null,null,null,null,null,null,null,null,null,null,null,null,null,null,null,null,null,null,null,null,null,null,null,null,null,null,null,null,null,null,null,null,null,null,null,null,null,null,null,null,null,null,null,null,null,null,null,null,null,null,null,null,null,null,null,null,null,null,null,null,null,null,null,null,null,null,null,null,null,null,null,null,null,null,null,null,null,null,null,null,null,null,null,null,null,null,null,null,null,null,null,null,null,null,null,null,null,null,null,null,null,null,null,null,null,null,null,null,null,null,null,null,null,null,null,null,null,null,null,null,null,null,null,null,null,null,null,null,null,null,null,null,null,null,null,null,null,null,null,null,null,null,null,null,null,null,null,null,null,null,null,null,null,null,null,null,null,null,null,null,null,null,null,null,null,null,null,null,null,null,null,null,null,null,null,null,null,null,null,null,null,null,null,null,null,null,null,null,null,null,null,null,null,null,null,null,null,null,null,null,null,null,null,null,null,null,null,null,null,null,null,null,null,null,null,null,null,null,null,null,null,null,null,null,null,null,null,null,null,null,null,null,null,null,null,null,null,null,null,null,null,null,null,null,null,null,null,null,null,null,null,null,null,null,null,null,null,null,null,null,null,null,null,null,null,null,null,null,null,null,null,null,null,null,null,null,null,null,null,null,null,null,null,null,null,null,null,null,null,null,null,null,null,null,null,null,null,null,null,null,null,null,null,null,null,null,null,null,null,null,null,null,null,null,null,null,null,null,null,null,null,null,null,null,null,null,null,null,null,null,null,null,null,null,null,null,null,null,null,null,null,null,null,null,null,null,null,null,null,null,null,null,null,null,null,null,null,null,null,null,null,null,null,null,null,null,null,null,null,null,null,null,null,null,null,null,null,null,null,null,null,null,null,null,null,null,null,null,null,null,null,null,null,null,null,null,null,null,null,null,null,null,null,null,null,null,null,null,null,null,null,null,null,null,null,null,null,null,null,null,null,null,null,null,null,null,null,null,null,null,null,null,null,null,null,null,null,null,null,null,null,null,null,null,null,null,null,null,null,null,null,null,null,null,null,null,null,null,null,null,null,null,null,null,null,null,null,null,null,null,null,null,null,null,null,null,null,null,null,null,null,null,null,null,null,null,null,null,null,null,null,null,null,null,null,null,null,null,null,null,null,null,null,null,null,null,null,null,null,null,null,null,null,null,null,null,null,null,null,null,null,null,null,null,null,null,null,null,null,null,null,null,null,null,null,null,null,null,null,null,null,null,null,null,null,null,null,null,null,null,null,null,null,null,null,null,null,null,null,null,null,null,null,null,null,null,null,null,null,null,null,null,null,null,null,null,null,null,null,null,null,null,null,null,null,null,null,null,null,null,null,null,null,null,null,null,null,null,null,null,null,null,null,null,null,null,null,null,null,null,null,null,null,null,null,null,null,null,null,null,null,null,null,null,null,null,null,null,null,null,null,null,null,null,null,null,null,null,null,null,null,null,null,null,null,null,null,null,null,null,null,null,null,null,null,null,null,null,null,null,null,null,null,null,null,null,null,null,null,null,null,null,null,null,null,null,null,null,null,null,null,null,null,null,null,null,null,null,null,null,null,null,null,null,null,null,null,null,null,null,null,null,null,null,null,null,null,null,null,null,null,null,null,null,null,null,null,null,null,null,null,null,null,null,null,null,null,null,null,null,null,null,null,null,null,null,null,null,null,null,null,null,null,null,null,null,null,null,null,null,null,null,null,null,null,null,null,null,null,null,null,null,null,null,null,null,null,null,null,null,null,null,null,null,null,null,null,null,null,null,null,null,null,null,null,null,null,null,null,null,null,null,null,null,null,null,null,null,null,null,null,null,null,null,null,null,null,null,null,null,null,null,null,null,null,null,null,null,null,null,null,null,null,null,null,null,null,null,null,null,null,null,null,null,null,null,null,null,null,null,null,null,null,null,null,null,null,null,null,null,null,null,null,null,null,null,null,null,null,null,null,null,null,null,null,null,null,null,null,null,null,null,null,null,null,null,null,null,null,null,null,null,null,null,null,null,null,null,null,null,null,null,null,null,null,null,null,null,null,null,null,null,null,null,null,null,null,null,null,null,null,null,null,null,null,null,null,null,null,null,null,null,null,null,null,null,null,null,null,null,null,null,null,null,null,null,null,null,null,null,null,null,null,null,null,null,null,null,null,null,null,null,null,null,null,null,null,null,null,null,null,null,null,null,null,null,null,null,null,null,null,null,null,null,null,null,null,null,null,null,null,null,null,null,null,null,null,null,null,null,null,null,null,null,null,null,null,null,null,null,null,null,null,null,null,null,null,null,null,null,null,null,null,null,null,null,null,null,null,null,null,null,null,null,null,null,null,null,null,null,null,null,null,null,null,null,null,null,null,null,null,null,null,null,null,null,null,null,null,null,null,null,null,null,null,null,null,null,null,null,null,null,null,null,null,null,null,null,null,null,null,null,null,null,null,null,null,null,null,null,null,null,null,null,null,null,null,null,null,null,null,null,null,null,null,null,null,null,null,null,null,null,null,null,null,null,null,null,null,null,null,null,null,null,null,null,null,null,null,null,null,null,null,null,null,null,null,null,null,null,null,null,null,null,null,null,null,null,null,null,null,null,null,null,null,null,null,null,null,null,null,null,null,null,null,null,null,null,null,null,null,null,null,null,null,null,null,null,null,null,null,null,null,null,null,null,null,null,null,null,null,null,null,null,null,null,null,null,null,null,null,null,null,null,null,null,null,null,null,null,null,null,null,null,null,null,null,null,null,null,null,null,null,null,null,null,null,null,null,null,null,null,null,null,null,null,null,null,null,null,null,null,null,null,null,null,null,null,null,null,null,null,null,null,null,null,null,null,null,null,null,null,null,null,null,null,null,null,null,null,null,null,null,null,null,null,null,null,null,null,null,null,null,null,null,null,null,null,null,null,null,null,null,null,null,null,null,null,null,null,null,null,null,null,null,null,null,null,null,null,null,null,null,null,null,null,null,null,null,null,null,null,null,null,null,null,null,null,null,null,null,null,null,null,null,null,null,null,null,null,null,null,null,null,null,null,null,null,null,null,null,null,null,null,null,null,null,null,null,null,null,null,null,null,null,null,null,null,null,null,null,null,null,null,null,null,null,null,null,null,null,null,null,null,null,null,null,null,null,null,null,null,null,null,null,null,null,null,null,null,null,null,null,null,null,null,null,null,null,null,null,null,null,null,null,null,null,null,null,null,null,null,null,null,null,null,null,null,null,null,null,null,null,null,null,null,null,null,null,null,null,null,null,null,null,null,null,null,null,null,null,null,null,null,null,null,null,null,null,null,null,null,null,null,null,null,null,null,null,null,null,null,null,null,null,null,null,null,null,null,null,null,null,null,null,null,null,null,null,null,null,null,null,null,null,null,null,null,null,null,null,null,null,null,null,null,null,null,null,null,null,null,null,null,null,null,null,null,null,null,null,null,null,null,null,null,null,null,null,null,null,null,null,null,null,null,null,null,null,null,null,null,null,null,null,null,null,null,null,null,null,null,null,null,null,null,null,null,null,null,null,null,null,null,null,null,null,null,null,null,null,null,null,null,null,null,null,null,null,null,null,null,null,null,null,null,null,null,null,null,null,null,null,null,null,null,null,null,null,null,null,null,null,null,null,null,null,null,null,null,null,null,null,null,null,null,null,null,null,null,null,null,null,null,null,null,null,null,null,null,null,null,null,null,null,null,null,null,null,null,null,null,null,null,null,null,null,null,null,null,null,null,null,null,null,null,null,null,null,null,null,null,null,null,null,null,null,null,null,null,null,null,null,null,null,null,null,null,null,null,null,null,null,null,null,null,null,null,null,null,null,null,null,null,null,null,null,null,null,null,null,null,null,null,null,null,null,null,null,null,null,null,null,null,null,null,null,null,null,null,null,null,null,null,null,null,null,null,null,null,null,null,null,null,null,null,null,null,null,null,null,null,null,null,null,null,null,null,null,null,null,null,null,null,null,null,null,null,null,null,null,null,null,null,null,null,null,null,null,null,null,null,null,null,null,null,null,null,null,null,null,null,null,null,null,null,null,null,null,null,null,null,null,null,null,null,null,null,null,null,null,null,null,null,null,null,null,null,null,null,null,null,null,null,null,null,null,null,null,null,null,null,null,null,null,null,null,null,null,null,null,null,null,null,null,null,null,null,null,null,null,null,null,null,null,null,null,null,null,null,null,null,null,null,null,null,null,null,null,null,null,null,null,null,null,null,null,null,null,null,null,null,null,null,null,null,null,null,null,null,null,null,null,null,null,null,null,null,null,null,null,null,null,null,null,null,null,null,null,null,null,null,null,null,null,null,null,null,null,null,null,null,null,null,null,null,null,null,null,null,null,null,null,null,null,null,null,null,null,null,null,null,null,null,null,null,null,null,null,null,null,null,null,null,null,null,null,null,null,null,null,null,null,null,null,null,null,null,null,null,null,null,null,null,null,null,null,null,null,null,null,null,null,null,null,null,null,null,null,null,null,null,null,null,null,null,null,null,null,null,null,null,null,null,null,null,null,null,null,null,null,null,null,null,null,null,null,null,null,null,null,null,null,null,null,null,null,null,null,null,null,null,null,null,null,null,null,null,null,null,null,null,null,null,null,null,null,null,null,null,null,null,null,null,null,null,null,null,null,null,null,null,null,null,null,null,null,null,null,null,null,null,null,null,null,null,null,null,null,null,null,null,null,null,null,null,null,null,null,null,null,null,null,null,null,null,null,null,null,null,null,null,null,null,null,null,null,null,null,null,null,null,null,null,null,null,null,null,null,null,null,null,null,null,null,null,null,null,null,null,null,null,null,null,null,null,null,null,null,null,null,null,null,null,null,null,null,null,null,null,null,null,null,null,null,null,null,null,null,null,null,null,null,null,null,null,null,null,null,null,null,null,null,null,null,null,null,null,null,null,null,null,null,null,null,null,null,null,null,null,null,null,null,null,null,null,null,null,null,null,null,null,null,null,null,null,null,null,null,null,null,null,null,null,null,null,null,null,null,null,null,null,null,null,null,null,null,null,null,null,null,null,null,null,null,null,null,null,null,null,null,null,null,null,null,null,null,null,null,null,null,null,null,null,null,null,null,null,null,null,null,null,null,null,null,null,null,null,null,null,null,null,null,null,null,null,null,null,null,null,null,null,null,null,null,null,null,null,null,null,null,null,null,null,null,null,null,null,null,null,null,null,null,null,null,null,null,null,null,null,null,null,null,null,null,null,null,null,null,null,null,null,null,null,null,null,null,null,null,null,null,null,null,null,null,null,null,null,null,null,null,null,null,null,null,null,null,null,null,null,null,null,null,null,null,null,null,null,null,null,null,null,null,null,null,null,null,null,null,null,null,null,null,null,null,null,null,null,null,null,null,null,null,null,null,null,null,null,null,null,null,null,null,null,null,null,null,null,null,null,null,null,null,null,null,null,null,null,null,null,null,null,null,null,null,null,null,null,null,null,null,null,null,null,null,null,null,null,null,null,null,null,null,null,null,null,null,null,null,null,null,null,null,null,null,null,null,null,null,null,null,null,null,null,null,null,null,null,null,null,null,null,null,null,null,null,null,null,null,null,null,null,null,null,null,null,null,null,null,null,null,null,null,null,null,null,null,null,null,null,null,null,null,null,null,null,null,null,null,null,null,null,null,null,null,null,null,null,null,null,null,null,null,null,null,null,null,null,null,null,null,null,null,null,null,null,null,null,null,null,null,null,null,null,null,null,null,null,null,null,null,null,null,null,null,null,null,null,null,null,null,null,null,null,null,null,null,null,null,null,null,null,null,null,null,null,null,null,null,null,null,null,null,null,null,null,null,null,null,null,null,null,null,null,null,null,null,null,null,null,null,null,null,null,null,null,null,null,null,null,null,null,null,null,null,null,null,null,null,null,null,null,null,null,null,null,null,null,null,null,null,null,null,null,null,null,null,null,null,null,null,null,null,null,null,null,null,null,null,null,null,null,null,null,null,null,null,null,null,null,null,null,null,null,null,null,null,null,null,null,null,null,null,null,null,null,null,null,null,null,null,null,null,null,null,null,null,null,null,null,null,null,null,null,null,null,null,null,null,null,null,null,null,null,null,null,null,null,null,null,null,null,null,null,null,null,null,null,null,null,null,null,null,null,null,null,null,null,null,null,null,null,null,null,null,null,null,null,null,null,null,null,null,null,null,null,null,null,null,null,null,null,null,null,null,null,null,null,null,null,null,null,null,null,null,null,null,null,null,null,null,null,null,null,null,null,null,null,null,null,null,null,null,null,null,null,null,null,null,null,null,null,null,null,null,null,null,null,null,null,null,null,null,null,null,null,null,null,null,null,null,null,null,null,null,null,null,null,null,null,null,null,null,null,null,null,null,null,null,null,null,null,null,null,null,null,null,null,null,null,null,null,null,null,null,null,null,null,null,null,null,null,null,null,null,null,null,null,null,null,null,null,null,null,null,null,null,null,null,null,null,null,null,null,null,null,null,null,null,null,null,null,null,null,null,null,null,null,null,null,null,null,null,null,null,null,null,null,null,null,null,null,null,null,null,null,null,null,null,null,null,null,null,null,null,null,null,null,null,null,null,null,null,null,null,null,null,null,null,null,null,null,null,null,null,null,null,null,null,null,null,null,null,null,null,null,null,null,null,null,null,null,null,null,null,null,null,null,null,null,null,null,null,null,null,null,null,null,null,null,null,null,null,null,null,null,null,null,null,null,null,null,null,null,null,null,null,null,null,null,null,null,null,null,null,null,null,null,null,null,null,null,null,null,null,null,null,null,null,null,null,null,null,null,null,null,null,null,null,null,null,null,null,null,null,null,null,null,null,null,null,null,null,null,null,null,null,null,null,null,null,null,null,null,null,null,null,null,null,null,null,null,null,null,null,null,null,null,null,null,null,null,null,null,null,null,null,null,null,null,null,null,null,null,null,null,null,null,null,null,null,null,null,null,null,null,null,null,null,null,null,null,null,null,null,null,null,null,null,null,null,null,null,null,null,null,null,null,null,null,null,null,null,null,null,null,null,null,null,null,null,null,null,null,null,null,null,null,null,null,null,null,null,null,null,null,null,null,null,null,null,null,null,null,null,null,null,null,null,null,null,null,null,null,null,null,null,null,null,null,null,null,null,null,null,null,null,null,null,null,null,null,null,null,null,null,null,null,null,null,null,null,null,null,null,null,null,null,null,null,null,null,null,null,null,null,null,null,null,null,null,null,null,null,null,null,null,null,null,null,null,null,null,null,null,null,null,null,null,null,null,null,null,null,null,null,null,null,null,null,null,null,null,null,null,null,null,null,null,null,null,null,null,null,null,null,null,null,null,null,null,null,null,null,null,null,null,null,null,null,null,null,null,null,null,null,null,null,null,null,null,null,null,null,null,null,null,null,null,null,null,null,null,null,null,null,null,null,null,null,null,null,null,null,null,null,null,null,null,null,null,null,null,null,null,null,null,null,null,null,null,null,null,null,null,null,null,null,null,null,null,null,null,null,null,null,null,null,null,null,null,null,null,null,null,null,null,null,null,null,null,null,null,null,null,null,null,null,null,null,null,null,null,null,null,null,null,null,null,null,null,null,null,null,null,null,null,null,null,null,null,null,null,null,null,null,null,null,null,null,null,null,null,null,null,null,null,null,null,null,null,null,null,null,null,null,null,null,null,null,null,null,null,null,null,null,null,null,null,null,null,null,null,null,null,null,null,null,null,null,null,null,null,null,null,null,null,null,null,null,null,null,null,null,null,null,null,null,null,null,null,null,null,null,null,null,null,null,null,null,null,null,null,null,null,null,null,null,null,null,null,null,null,null,null,null,null,null,null,null,null,null,null,null,null,null,null,null,null,null,null,null,null,null,null,null,null,null,null,null,null,null,null,null,null,null,null,null,null,null,null,null,null,null,null,null,null,null,null,null,null,null,null,null,null,null,null,null,null,null,null,null,null,null,null,null,null,null,null,null,null,null,null,null,null,null,null,null,null,null,null,null,null,null,null,null,null,null,null,null,null,null,null,null,null,null,null,null,null,null,null,null,null,null,null,null,null,null,null,null,null,null,null,null,null,null,null,null,null,null,null,null,null,null,null,null,null,null,null,null,null,null,null,null,null,null,null,null,null,null,null,null,null,null,null,null,null,null,null,null,null,null,null,null,null,null,null,null,null,null,null,null,null,null,null,null,null,null,null,null,null,null,null,null,null,null,null,null,null,null,null,null,null,null,null,null,null,null,null,null,null,null,null,null,null,null,null,null,null,null,null,null,null,null,null,null,null,null,null,null,null,null,null,null,null,null,null,null,null,null,null,null,null,null,null,null,null,null,null,null,null,null,null,null,null,null,null,null,null,null,null,null,null,null,null,null,null,null,null,null,null,null,null,null,null,null,null,null,null,null,null,null,null,null,null,null,null,null,null,null,null,null,null,null,null,null,null,null,null,null,null,null,null,null,null,null,null,null,null,null,null,null,null,null,null,null,null,null,null,null,null,null,null,null,null,null,null,null,null,null,null,null,null,null,null,null,null,null,null,null,null,null,null,null,null,null,null,null,null,null,null,null,null,null,null,null,null,null,null,null,null,null,null,null,null,null,null,null,null,null,null,null,null,null,null,null,null,null,null,null,null,null,null,null,null,null,null,null,null,null,null,null,null,null,null,null,null,null,null,null,null,null,null,null,null,null,null,null,null,null,null,null,null,null,null,null,null,null,null,null,null,null,null,null,null,null,null,null,null,null,null,null,null,null,null,null,null,null,null,null,null,null,null,null,null,null,null,null,null,null,null,null,null,null,null,null,null,null,null,null,null,null,null,null,null,null,null,null,null,null,null,null,null,null,null,null,null,null,null,null,null,null,null,null,null,null,null,null,null,null,null,null,null,null,null,null,null,null,null,null,null,null,null,null,null,null,null,null,null,null,null,null,null,null,null,null,null,null,null,null,null,null,null,null,null,null,null,null,null,null,null,null,null,null,null,null,null,null,null,null,null,null,null,null,null,null,null,null,null,null,null,null,null,null,null,null,null,null,null,null,null,null,null,null,null,null,null,null,null,null,null,null,null,null,null,null,null,null,null,null,null,null,null,null,null,null,null,null,null,null,null,null,null,null,null,null,null,null,null,null,null,null,null,null,null,null,null,null,null,null,null,null,null,null,null,null,null,null,null,null,null,null,null,null,null,null,null,null,null,null,null,null,null,null,null,null,null,null,null,null,null,null,null,null,null,null,null,null,null,null,null,null,null,null,null,null,null,null,null,null,null,null,null,null,null,null,null,null,null,null,null,null,null,null,null,null,null,null,null,null,null,null,null,null,null,null,null,null,null,null,null,null,null,null,null,null,null,null,null,null,null,null,null,null,null,null,null,null,null,null,null,null,null,null,null,null,null,null,null,null,null,null,null,null,null,null,null,null,null,null,null,null,null,null,null,null,null,null,null,null,null,null,null,null,null,null,null,null,null,null,null,null,null,null,null,null,null,null,null,null,null,null,null,null,null,null,null,null,null,null,null,null,null,null,null,null,null,null,null,null,null,null,null,null,null,null,null,null,null,null,null,null,null,null,null,null,null,null,null,null,null,null,null,null,null,null,null,null,null,null,null,null,null,null,null,null,null,null,null,null,null,null,null,null,null,null,null,null,null,null,null,null,null,null,null,null,null,null,null,null,null,null,null,null,null,null,null,null,null,null,null,null,null,null,null,null,null,null,null,null,null,null,null,null,null,null,null,null,null,null,null,null,null,null,null,null,null,null,null,null,null,null,null,null,null,null,null,null,null,null,null,null,null,null,null,null,null,null,null,null,null,null,null,null,null,null,null,null,null,null,null,null,null,null,null,null,null,null,null,null,null,null,null,null,null,null,null,null,null,null,null,null,null,null,null,null,null,null,null,null,null,null,null,null,null,null,null,null,null,null,null,null,null,null,null,null,null,null,null,null,null,null,null,null,null,null,null,null,null,null,null,null,null,null,null,null,null,null,null,null,null,null,null,null,null,null,null,null,null,null,null,null,null,null,null,null,null,null,null,null,null,null,null,null,null,null,null,null,null,null,null,null,null,null,null,null,null,null,null,null,null,null,null,null,null,null,null,null,null,null,null,null,null,null,null,null,null,null,null,null,null,null,null,null,null,null,null,null,null,null,null,null,null,null,null,null,null,null,null,null,null,null,null,null,null,null,null,null,null,null,null,null,null,null,null,null,null,null,null,null,null,null,null,null,null,null,null,null,null,null,null,null,null,null,null,null,null,null,null,null,null,null,null,null,null,null,null,null,null,null,null,null,null,null,null,null,null,null,null,null,null,null,null,null,null,null,null,null,null,null,null,null,null,null,null,null,null,null,null,null,null,null,null,null,null,null,null,null,null,null,null,null,null,null,null,null,null,null,null,null,null,null,null,null,null,null,null,null,null,null,null,null,null,null,null,null,null,null,null,null,null,null,null,null,null,null,null,null,null,null,null,null,null,null,null,null,null,null,null,null,null,null,null,null,null,null,null,null,null,null,null,null,null,null,null,null,null,null,null,null,null,null,null,null,null,null,null,null,null,null,null,null,null,null,null,null,null,null,null,null,null,null,null,null,null,null,null,null,null,null,null,null,null,null,null,null,null,null,null,null,null,null,null,null,null,null,null,null,null,null,null,null,null,null,null,null,null,null,null,null,null,null,null,null,null,null,null,null,null,null,null,null,null,null,null,null,null,null,null,null,null,null,null,null,null,null,null,null,null,null,null,null,null,null,null,null,null,null,null,null,null,null,null,null,null,null,null,null,null,null,null,null,null,null,null,null,null,null,null,null,null,null,null,null,null,null,null,null,null,null,null,null,null,null,null,null,null,null,null,null,null,null,null,null,null,null,null,null,null,null,null,null,null,null,null,null,null,null,null,null,null,null,null,null,null,null,null,null,null,null,null,null,null,null,null,null,null,null,null,null,null,null,null,null,null,null,null,null,null,null,null,null,null,null,null,null,null,null,null,null,null,null,null,null,null,null,null,null,null,null,null,null,null,null,null,null,null,null,null,null,null,null,null,null,null,null,null,null,null,null,null,null,null,null,null,null,null,null,null,null,null,null,null,null,null,null,null,null,null,null,null,null,null,null,null,null,null,null,null,null,null,null,null,null,null,null,null,null,null,null,null,null,null,null,null,null,null,null,null,null,null,null,null,null,null,null,null,null,null,null,null,null,null,null,null,null,null,null,null,null,null,null,null,null,null,null,null,null,null,null,null,null,null,null,null,null,null,null,null,null,null,null,null,null,null,null,null,null,null,null,null,null,null,null,null,null,null,null,null,null,null,null,null,null,null,null,null,null,null,null,null,null,null,null,null,null,null,null,null,null,null,null,null,null,null,null,null,null,null,null,null,null,null,null,null,null,null,null,null,null,null,null,null,null,null,null,null,null,null,null,null,null,null,null,null,null,null,null,null,null,null,null,null,null,null,null,null,null,null,null,null,null,null,null,null,null,null,null,null,null,null,null,null,null,null,null,null,null,null,null,null,null,null,null,null,null,null,null,null,null,null,null,null,null,null,null,null,null,null,null,null,null,null,null,null,null,null,null,null,null,null,null,null,null,null,null,null,null,null,null,null,null,null,null,null,null,null,null,null,null,null,null,null,null,null,null,null,null,null,null,null,null,null,null,null,null,null,null,null,null,null,null,null,null,null,null,null,null,null,null,null,null,null,null,null,null,null,null,null,null,null,null,null,null,null,null,null,null,null,null,null,null,null,null,null,null,null,null,null,null,null,null,null,null,null,null,null,null,null,null,null,null,null,null,null,null,null,null,null,null,null,null,null,null,null,null,null,null,null,null,null,null,null,null,null,null,null,null,null,null,null,null,null,null,null,null,null,null,null,null,null,null,null,null,null,null,null,null,null,null,null,null,null,null,null,null,null,null,null,null,null,null,null,null,null,null,null,null,null,null,null,null,null,null,null,null,null,null,null,null,null,null,null,null,null,null,null,null,null,null,null,null,null,null,null,null,null,null,null,null,null,null,null,null,null,null,null,null,null,null,null,null,null,null,null,null,null,null,null,null,null,null,null,null,null,null,null,null,null,null,null,null,null,null,null,null,null,null,null,null,null,null,null,null,null,null,null,null,null,null,null,null,null,null,null,null,null,null,null,null,null,null,null,null,null,null,null,null,null,null,null,null,null,null,null,null,null,null,null,null,null,null,null,null,null,null,null,null,null,null,null,null,null,null,null,null,null,null,null,null,null,null,null,null,null,null,null,null,null,null,null,null,null,null,null,null,null,null,null,null,null,null,null,null,null,null,null,null,null,null,null,null,null,null,null,null,null,null,null,null,null,null,null,null,null,null,null,null,null,null,null,null,null,null,null,null,null,null,null,null,null,null,null,null,null,null,null,null,null,null,null,null,null,null,null,null,null,null,null,null,null,null,null,null,null,null,null,null,null,null,null,null,null,null,null,null,null,null,null,null,null,null,null,null,null,null,null,null,null,null,null,null,null,null,null,null,null,null,null,null,null,null,null,null,null,null,null,null,null,null,null,null,null,null,null,null,null,null,null,null,null,null,null,null,null,null,null,null,null,null,null,null,null,null,null,null,null,null,null,null,null,null,null,null,null,null,null,null,null,null,null,null,null,null,null,null,null,null,null,null,null,null,null,null,null,null,null,null,null,null,null,null,null,null,null,null,null,null,null,null,null,null,null,null,null,null,null,null,null,null,null,null,null,null,null,null,null,null,null,null,null,null,null,null,null,null,null,null,null,null,null,null,null,null,null,null,null,null,null,null,null,null,null,null,null,null,null,null,null,null,null,null,null,null,null,null,null,null,null,null,null,null,null,null,null,null,null,null,null,null,null,null,null,null,null,null,null,null,null,null,null,null,null,null,null,null,null,null,null,null,null,null,null,null,null,null,null,null,null,null,null,null,null,null,null,null,null,null,null,null,null,null,null,null,null,null,null,null,null,null,null,null,null,null,null,null,null,null,null,null,null,null,null,null,null,null,null,null,null,null,null,null,null,null,null,null,null,null,null,null,null,null,null,null,null,null,null,null,null,null,null,null,null,null,null,null,null,null,null,null,null,null,null,null,null,null,null,null,null,null,null,null,null,null,null,null,null,null,null,null,null,null,null,null,null,null,null,null,null,null,null,null,null,null,null,null,null,null,null,null,null,null,null,null,null,null,null,null,null,null,null,null,null,null,null,null,null,null,null,null,null,null,null,null,null,null,null,null,null,null,null,null,null,null,null,null,null,null,null,null,null,null,null,null,null,null,null,null,null,null,null,null,null,null,null,null,null,null,null,null,null,null,null,null,null,null,null,null,null,null,null,null,null,null,null,null,null,null,null,null,null,null,null,null,null,null,null,null,null,null,null,null,null,null,null,null,null,null,null,null,null,null,null,null,null,null,null,null,null,null,null,null,null,null,null,null,null,null,null,null,null,null,null,null,null,null,null,null,null,null,null,null,null,null,null,null,null,null,null,null,null,null,null,null,null,null,null,null,null,null,null,null,null,null,null,null,null,null,null,null,null,null,null,null,null,null,null,null,null,null,null,null,null,null,null,null,null,null,null,null,null,null,null,null,null,null,null,null,null,null,null,null,null,null,null,null,null,null,null,null,null,null,null,null,null,null,null,null,null,null,null,null,null,null,null,null,null,null,null,null,null,null,null,null,null,null,null,null,null,null,null,null,null,null,null,null,null,null,null,null,null,null,null,null,null,null,null,null,null,null,null,null,null,null,null,null,null,null,null,null,null,null,null,null,null,null,null,null,null,null,null,null,null,null,null,null,null,null,null,null,null,null,null,null,null,null,null,null,null,null,null,null,null,null,null,null,null,null,null,null,null,null,null,null,null,null,null,null,null,null,null,null,null,null,null,null,null,null,null,null,null,null,null,null,null,null,null,null,null,null,null,null,null,null,null,null,null,null,null,null,null,null,null,null,null,null,null,null,null,null,null,null,null,null,null,null,null,null,null,null,null,null,null,null,null,null,null,null,null,null,null,null,null,null,null,null,null,null,null,null,null,null,null,null,null,null,null,null,null,null,null,null,null,null,null,null,null,null,null,null,null,null,null,null,null,null,null,null,null,null,null,null,null,null,null,null,null,null,null,null,null,null,null,null,null,null,null,null,null,null,null,null,null,null,null,null,null,null,null,null,null,null,null,null,null,null,null,null,null,null,null,null,null,null,null,null,null,null,null,null,null,null,null,null,null,null,null,null,null,null,null,null,null,null,null,null,null,null,null,null,null,null,null,null,null,null,null,null,null,null,null,null,null,null,null,null,null,null,null,null,null,null,null,null,null,null,null,null,null,null,null,null,null,null,null,null,null,null,null,null,null,null,null,null,null,null,null,null,null,null,null,null,null,null,null,null,null,null,null,null,null,null,null,null,null,null,null,null,null,null,null,null,null,null,null,null,null,null,null,null,null,null,null,null,null,null,null,null,null,null,null,null,null,null,null,null,null,null,null,null,null,null,null,null,null,null,null,null,null,null,null,null,null,null,null,null,null,null,null,null,null,null,null,null,null,null,null,null,null,null,null,null,null,null,null,null,null,null,null,null,null,null,null,null,null,null,null,null,null,null,null,null,null,null,null,null,null,null,null,null,null,null,null,null,null,null,null,null,null,null,null,null,null,null,null,null,null,null,null,null,null,null,null,null,null,null,null,null,null,null,null,null,null,null,null,null,null,null,null,null,null,null,null,null,null,null,null,null,null,null,null,null,null,null,null,null,null,null,null,null,null,null,null,null,null,null,null,null,null,null,null,null,null,null,null,null,null,null,null,null,null,null,null,null,null,null,null,null,null,null,null,null,null,null,null,null,null,null,null,null,null,null,null,null,null,null,null,null,null,null,null,null,null,null,null,null,null,null,null,null,null,null,null,null,null,null,null,null,null,null,null,null,null,null,null,null,null,null,null,null,null,null,null,null,null,null,null,null,null,null,null,null,null,null,null,null,null,null,null,null,null,null,null,null,null,null,null,null,null,null,null,null,null,null,null,null,null,null,null,null,null,null,null,null,null,null,null,null,null,null,null,null,null,null,null,null,null,null,null,null,null,null,null,null,null,null,null,null,null,null,null,null,null,null,null,null,null,null,null,null,null,null,null,null,null,null,null,null,null,null,null,null,null,null,null,null,null,null,null,null,null,null,null,null,null,null,null,null,null,null,null,null,null,null,null,null,null,null,null,null,null,null,null,null,null,null,null,null,null,null,null,null,null,null,null,null,null,null,null,null,null,null,null,null,null,null,null,null,null,null,null,null,null,null,null,null,null,null,null,null,null,null,null,null,null,null,null,null,null,null,null,null,null,null,null,null,null,null,null,null,null,null,null,null,null,null,null,null,null,null,null,null,null,null,null,null,null,null,null,null,null,null,null,null,null,null,null,null,null,null,null,null,null,null,null,null,null,null,null,null,null,null,null,null,null,null,null,null,null,null,null,null,null,null,null,null,null,null,null,null,null,null,null,null,null,null,null,null,null,null,null,null,null,null,null,null,null,null,null,null,null,null,null,null,null,null,null,null,null,null,null,null,null,null,null,null,null,null,null,null,null,null,null,null,null,null,null,null,null,null,null,null,null,null,null,null,null,null,null,null,null,null,null,null,null,null,null,null,null,null,null,null,null,null,null,null,null,null,null,null,null,null,null,null,null,null,null,null,null,null,null,null,null,null,null,null,null,null,null,null,null,null,null,null,null,null,null,null,null,null,null,null,null,null,null,null,null,null,null,null,null,null,null,null,null,null,null,null,null,null,null,null,null,null,null,null,null,null,null,null,null,null,null,null,null,null,null,null,null,null,null,null,null,null,null,null,null,null,null,null,null,null,null,null,null,null,null,null,null,null,null,null,null,null,null,null,null,null,null,null,null,null,null,null,null,null,null,null,null,null,null,null,null,null,null,null,null,null,null,null,null,null,null,null,null,null,null,null,null,null,null,null,null,null,null,null,null,null,null,null,null,null,null,null,null,null,null,null,null,null,null,null,null,null,null,null,null,null,null,null,null,null,null,null,null,null,null,null,null,null,null,null,null,null,null,null,null,null,null,null,null,null,null,null,null,null,null,null,null,null,null,null,null,null,null,null,null,null,null,null,null,null,null,null,null,null,null,null,null,null,null,null,null,null,null,null,null,null,null,null,null,null,null,null,null,null,null,null,null,null,null,null,null,null,null,null,null,null,null,null,null,null,null,null,null,null,null,null,null,null,null,null,null,null,null,null,null,null,null,null,null,null,null,null,null,null,null,null,null,null,null,null,null,null,null,null,null,null,null,null,null,null,null,null,null,null,null,null,null,null,null,null,null,null,null,null,null,null,null,null,null,null,null,null,null,null,null,null,null,null,null,null,null,null,null,null,null,null,null,null,null,null,null,null,null,null,null,null,null,null,null,null,null,null,null,null,null,null,null,null,null,null,null,null,null,null,null,null,null,null,null,null,null,null,null,null,null,null,null,null,null,null,null,null,null,null,null,null,null,null,null,null,null,null,null,null,null,null,null,null,null,null,null,null,null,null,null,null,null,null,null,null,null,null,null,null,null,null,null,null,null,null,null,null,null,null,null,null,null,null,null,null,null,null,null,null,null,null,null,null,null,null,null,null,null,null,null,null,null,null,null,null,null,null,null,null,null,null,null,null,null,null,null,null,null,null,null,null,null,null,null,null,null,null,null,null,null,null,null,null,null,null,null,null,null,null,null,null,null,null,null,null,null,null,null,null,null,null,null,null,null,null,null,null,null,null,null,null,null,null,null,null,null,null,null,null,null,null,null,null,null,null,null,null,null,null,null,null,null,null,null,null,null,null,null,null,null,null,null,null,null,null,null,null,null,null,null,null,null,null,null,null,null,null,null,null,null,null,null,null,null,null,null,null,null,null,null,null,null,null,null,null,null,null,null,null,null,null,null,null,null,null,null,null,null,null,null,null,null,null,null,null,null,null,null,null,null,null,null,null,null,null,null,null,null,null,null,null,null,null,null,null,null,null,null,null,null,null,null,null,null,null,null,null,null,null,null,null,null,null,null,null,null,null,null,null,null,null,null,null,null,null,null,null,null,null,null,null,null,null,null,null,null,null,null,null,null,null,null,null,null,null,null,null,null,null,null,null,null,null,null,null,null,null,null,null,null,null,null,null,null,null,null,null,null,null,null,null,null,null,null,null,null,null,null,null,null,null,null,null,null,null,null,null,null,null,null,null,null,null,null,null,null,null,null,null,null,null,null,null,null,null,null,null,null,null,null,null,null,null,null,null,null,null,null,null,null,null,null,null,null,null,null,null,null,null,null,null,null,null,null,null,null,null,null,null,null,null,null,null,null,null,null,null,null,null,null,null,null,null,null,null,null,null,null,null,null,null,null,null,null,null,null,null,null,null,null,null,null,null,null,null,null,null,null,null,null,null,null,null,null,null,null,null,null,null,null,null,null,null,null,null,null,null,null,null,null,null,null,null,null,null,null,null,null,null,null,null,null,null,null,null,null,null,null,null,null,null,null,null,null,null,null,null,null,null,null,null,null,null,null,null,null,null,null,null,null,null,null,null,null,null,null,null,null,null,null,null,null,null,null,null,null,null,null,null,null,null,null,null,null,null,null,null,null,null,null,null,null,null,null,null,null,null,null,null,null,null,null,null,null,null,null,null,null,null,null,null,null,null,null,null,null,null,null,null,null,null,null,null,null,null,null,null,null,null,null,null,null,null,null,null,null,null,null,null,null,null,null,null,null,null,null,null,null,null,null,null,null,null,null,null,null,null,null,null,null,null,null,null,null,null,null,null,null,null,null,null,null,null,null,null,null,null,null,null,null,null,null,null,null,null,null,null,null,null,null,null,null,null,null,null,null,null,null,null,null,null,null,null,null,null,null,null,null,null,null,null,null,null,null,null,null,null,null,null,null,null,null,null,null,null,null,null,null,null,null,null,null,null,null,null,null,null,null,null,null,null,null,null,null,null,null,null,null,null,null,null,null,null,null,null,null,null,null,null,null,null,null,null,null,null,null,null,null,null,null,null,null,null,null,null,null,null,null,null,null,null,null,null,null,null,null,null,null,null,null,null,null,null,null,null,null,null,null,null,null,null,null,null,null,null,null,null,null,null,null,null,null,null,null,null,null,null,null,null,null,null,null,null,null,null,null,null,null,null,null,null,null,null,null,null,null,null,null,null,null,null,null,null,null,null,null,null,null,null,null,null,null,null,null,null,null,null,null,null,null,null,null,null,null,null,null,null,null,null,null,null,null,null,null,null,null,null,null,null,null,null,null,null,null,null,null,null,null,null,null,null,null,null,null,null,null,null,null,null,null,null,null,null,null,null,null,null,null,null,null,null,null,null,null,null,null,null,null,null,null,null,null,null,null,null,null,null,null,null,null,null,null,null,null,null,null,null,null,null,null,null,null,null,null,null,null,null,null,null,null,null,null,null,null,null,null,null,null,null,null,null,null,null,null,null,null,null,null,null,null,null,null,null,null,null,null,null,null,null,null,null,null,null,null,null,null,null,null,null,null,null,null,null,null,null,null,null,null,null,null,null,null,null,null,null,null,null,null,null,null,null,null,null,null,null,null,null,null,null,null,null,null,null,null,null,null,null,null,null,null,null,null,null,null,null,null,null,null,null,null,null,null,null,null,null,null,null,null,null,null,null,null,null,null,null,null,null,null,null,null,null,null,null,null,null,null,null,null,null,null,null,null,null,null,null,null,null,null,null,null,null,null,null,null,null,null,null,null,null,null,null,null,null,null,null,null,null,null,null,null,null,null,null,null,null,null,null,null,null,null,null,null,null,null,null,null,null,null,null,null,null,null,null,null,null,null,null,null,null,null,null,null,null,null,null,null,null,null,null,null,null,null,null,null,null,null,null,null,null,null,null,null,null,null,null,null,null,null,null,null,null,null,null,null,null,null,null,null,null,null,null,null,null,null,null,null,null,null,null,null,null,null,null,null,null,null,null,null,null,null,null,null,null,null,null,null,null,null,null,null,null,null,null,null,null,null,null,null,null,null,null,null,null,null,null,null,null,null,null,null,null,null,null,null,null,null,null,null,null,null,null,null,null,null,null,null,null,null,null,null,null,null,null,null,null,null,null,null,null,null,null,null,null,null,null,null,null,null,null,null,null,null,null,null,null,null,null,null,null,null,null,null,null,null,null,null,null,null,null,null,null,null,null,null,null,null,null,null,null,null,null,null,null,null,null,null,null,null,null,null,null,null,null,null,null,null,null,null,null,null,null,null,null,null,null,null,null,null,null,null,null,null,null,null,null,null,null,null,null,null,null,null,null,null,null,null,null,null,null,null,null,null,null,null,null,null,null,null,null,null,null,null,null,null,null,null,null,null,null,null,null,null,null,null,null,null,null,null,null,null,null,null,null,null,null,null,null,null,null,null,null,null,null,null,null,null,null,null,null,null,null,null,null,null,null,null,null,null,null,null,null,null,null,null,null,null,null,null,null,null,null,null,null,null,null,null,null,null,null,null,null,null,null,null,null,null,null,null,null,null,null,null,null,null,null,null,null,null,null,null,null,null,null,null,null,null,null,null,null,null,null,null,null,null,null,null,null,null,null,null,null,null,null,null,null,null,null,null,null,null,null,null,null,null,null,null,null,null,null,null,null,null,null,null,null,null,null,null,null,null,null,null,null,null,null,null,null,null,null,null,null,null,null,null,null,null,null,null,null,null,null,null,null,null,null,null,null,null,null,null,null,null,null,null,null,null,null,null,null,null,null,null,null,null,null,null,null,null,null,null,null,null,null,null,null,null,null,null,null,null,null,null,null,null,null,null,null,null,null,null,null,null,null,null,null,null,null,null,null,null,null,null,null,null,null,null,null,null,null,null,null,null,null,null,null,null,null,null,null,null,null,null,null,null,null,null,null,null,null,null,null,null,null,null,null,null,null,null,null,null,null,null,null,null,null,null,null,null,null,null,null,null,null,null,null,null,null,null,null,null,null,null,null,null,null,null,null,null,null,null,null,null,null,null,null,null,null,null,null,null,null,null,null,null,null,null,null,null,null,null,null,null,null,null,null,null,null,null,null,null,null,null,null,null,null,null,null,null,null,null,null,null,null,null,null,null,null,null,null,null,null,null,null,null,null,null,null,null,null,null,null,null,null,null,null,null,null,null,null,null,null,null,null,null,null,null,null,null,null,null,null,null,null,null,null,null,null,null,null,null,null,null,null,null,null,null,null,null,null,null,null,null,null,null,null,null,null,null,null,null,null,null,null,null,null,null,null,null,null,null,null,null,null,null,null,null,null,null,null,null,null,null,null,null,null,null,null,null,null,null,null,null,null,null,null,null,null,null,null,null,null,null,null,null,null,null,null,null,null,null,null,null,null,null,null,null,null,null,null,null,null,null,null,null,null,null,null,null,null,null,null,null,null,null,null,null,null,null,null,null,null,null,null,null,null,null,null,null,null,null,null,null,null,null,null,null,null,null,null,null,null,null,null,null,null,null,null,null,null,null,null,null,null,null,null,null,null,null,null,null,null,null,null,null,null,null,null,null,null,null,null,null,null,null,null,null,null,null,null,null,null,null,null,null,null,null,null,null,null,null,null,null,null,null,null,null,null,null,null,null,null,null,null,null,null,null,null,null,null,null,null,null,null,null,null,null,null,null,null,null,null,null,null,null,null,null,null,null,null,null,null,null,null,null,null,null,null,null,null,null,null,null,null,null,null,null,null,null,null,null,null,null,null,null,null,null,null,null,null,null,null,null,null,null,null,null,null,null,null,null,null,null,null,null,null,null,null,null,null,null,null,null,null,null,null,null,null,null,null,null,null,null,null,null,null,null,null,null,null,null,null,null,null,null,null,null,null,null,null,null,null,null,null,null,null,null,null,null,null,null,null,null,null,null,null,null,null,null,null,null,null,null,null,null,null,null,null,null,null,null,null,null,null,null,null,null,null,null,null,null,null,null,null,null,null,null,null,null,null,null,null,null,null,null,null,null,null,null,null,null,null,null,null,null,null,null,null,null,null,null,null,null,null,null,null,null,null,null,null,null,null,null,null,null,null,null,null,null,null,null,null,null,null,null,null,null,null,null,null,null,null,null,null,null,null,null,null,null,null,null,null,null,null,null,null,null,null,null,null,null,null,null,null,null,null,null,null,null,null,null,null,null,null,null,null,null,null,null,null,null,null,null,null,null,null,null,null,null,null,null,null,null,null,null,null,null,null,null,null,null,null,null,null,null,null,null,null,null,null,null,null,null,null,null,null,null,null,null,null,null,null,null,null,null,null,null,null,null,null,null,null,null,null,null,null,null,null,null,null,null,null,null,null,null,null,null,null,null,null,null,null,null,null,null,null,null,null,null,null,null,null,null,null,null,null,null,null,null,null,null,null,null,null,null,null,null,null,null,null,null,null,null,null,null,null,null,null,null,null,null,null,null,null,null,null,null,null,null,null,null,null,null,null,null,null,null,null,null,null,null,null,null,null,null,null,null,null,null,null,null,null,null,null,null,null,null,null,null,null,null,null,null,null,null,null,null,null,null,null,null,null,null,null,null,null,null,null,null,null,null,null,null,null,null,null,null,null,null,null,null,null,null,null,null,null,null,null,null,null,null,null,null,null,null,null,null,null,null,null,null,null,null,null,null,null,null,null,null,null,null,null,null,null,null,null,null,null,null,null,null,null,null,null,null,null,null,null,null,null,null,null,null,null,null,null,null,null,null,null,null,null,null,null,null,null,null,null,null,null,null,null,null,null,null,null,null,null,null,null,null,null,null,null,null,null,null,null,null,null,null,null,null,null,null,null,null,null,null,null,null,null,null,null,null,null,null,null,null,null,null,null,null,null,null,null,null,null,null,null,null,null,null,null,null,null,null,null,null,null,null,null,null,null,null,null,null,null,null,null,null,null,null,null,null,null,null,null,null,null,null,null,null,null,null,null,null,null,null,null,null,null,null,null,null,null,null,null,null,null,null,null,null,null,null,null,null,null,null,null,null,null,null,null,null,null,null,null,null,null,null,null,null,null,null,null,null,null,null,null,null,null,null,null,null,null,null,null,null,null,null,null,null,null,null,null,null,null,null,null,null,null,null,null,null,null,null,null,null,null,null,null,null,null,null,null,null,null,null,null,null,null,null,null,null,null,null,null,null,null,null,null,null,null,null,null,null,null,null,null,null,null,null,null,null,null,null,null,null,null,null,null,null,null,null,null,null,null,null,null,null,null,null,null,null,null,null,null,null,null,null,null,null,null,null,null,null,null,null,null,null,null,null,null,null,null,null,null,null,null,null,null,null,null,null,null,null,null,null,null,null,null,null,null,null,null,null,null,null,null,null,null,null,null,null,null,null,null,null,null,null,null,null,null,null,null,null,null,null,null,null,null,null,null,null,null,null,null,null,null,null,null,null,null,null,null,null,null,null,null,null,null,null,null,null,null,null,null,null,null,null,null,null,null,null,null,null,null,null,null,null,null,null,null,null,null,null,null,null,null,null,null,null,null,null,null,null,null,null,null,null,null,null,null,null,null,null,null,null,null,null,null,null,null,null,null,null,null,null,null,null,null,null,null,null,null,null,null,null,null,null,null,null,null,null,null,null,null,null,null,null,null,null,null,null,null,null,null,null,null,null,null,null,null,null,null,null,null,null,null,null,null,null,null,null,null,null,null,null,null,null,null,null,null,null,null,null,null,null,null,null,null,null,null,null,null,null,null,null,null,null,null,null,null,null,null,null,null,null,null,null,null,null,null,null,null,null,null,null,null,null,null,null,null,null,null,null,null,null,null,null,null,null,null,null,null,null,null,null,null,null,null,null,null,null,null,null,null,null,null,null,null,null,null,null,null,null,null,null,null,null,null,null,null,null,null,null,null,null,null,null,null,null,null,null,null,null,null,null,null,null,null,null,null,null,null,null,null,null,null,null,null,null,null,null,null,null,null,null,null,null,null,null,null,null,null,null,null,null,null,null,null,null,null,null,null,null,null,null,null,null,null,null,null,null,null,null,null,null,null,null,null,null,null,null,null,null,null,null,null,null,null,null,null,null,null,null,null,null,null,null,null,null,null,null,null,null,null,null,null,null,null,null,null,null,null,null,null,null,null,null,null,null,null,null,null,null,null,null,null,null,null,null,null,null,null,null,null,null,null,null,null,null,null,null,null,null,null,null,null,null,null,null,null,null,null,null,null,null,null,null,null,null,null,null,null,null,null,null,null,null,null,null,null,null,null,null,null,null,null,null,null,null,null,null,null,null,null,null,null,null,null,null,null,null,null,null,null,null,null,null,null,null,null,null,null,null,null,null,null,null,null,null,null,null,null,null,null,null,null,null,null,null,null,null,null,null,null,null,null,null,null,null,null,null,null,null,null,null,null,null,null,null,null,null,null,null,null,null,null,null,null,null,null,null,null,null,null,null,null,null,null,null,null,null,null,null,null,null,null,null,null,null,null,null,null,null,null,null,null,null,null,null,null,null,null,null,null,null,null,null,null,null,null,null,null,null,null,null,null,null,null,null,null,null,null,null,null,null,null,null,null,null,null,null,null,null,null,null,null,null,null,null,null,null,null,null,null,null,null,null,null,null,null,null,null,null,null,null,null,null,null,null,null,null,null,null,null,null,null,null,null,null,null,null,null,null,null,null,null,null,null,null,null,null,null,null,null,null,null,null,null,null,null,null,null,null,null,null,null,null,null,null,null,null,null,null,null,null,null,null,null,null,null,null,null,null,null,null,null,null,null,null,null,null,null,null,null,null,null,null,null,null,null,null,null,null,null,null,null,null,null,null,null,null,null,null,null,null,null,null,null,null,null,null,null,null,null,null,null,null,null,null,null,null,null,null,null,null,null,null,null,null,null,null,null,null,null,null,null,null,null,null,null,null,null,null,null,null,null,null,null,null,null,null,null,null,null,null,null,null,null,null,null,null,null,null,null,null,null,null,null,null,null,null,null,null,null,null,null,null,null,null,null,null,null,null,null,null,null,null,null,null,null,null,null,null,null,null,null,null,null,null,null,null,null,null,null,null,null,null,null,null,null,null,null,null,null,null,null,null,null,null,null,null,null,null,null,null,null,null,null,null,null,null,null,null,null,null,null,null,null,null,null,null,null,null,null,null,null,null,null,null,null,null,null,null,null,null,null,null,null,null,null,null,null,null,null,null,null,null,null,null,null,null,null,null,null,null,null,null,null,null,null,null,null,null,null,null,null,null,null,null,null,null,null,null,null,null,null,null,null,null,null,null,null,null,null,null,null,null,null,null,null,null,null,null,null,null,null,null,null,null,null,null,null,null,null,null,null,null,null,null,null,null,null,null,null,null,null,null,null,null,null,null,null,null,null,null,null,null,null,null,null,null,null,null,null,null,null,null,null,null,null,null,null,null,null,null,null,null,null,null,null,null,null,null,null,null,null,null,null,null,null,null,null,null,null,null,null,null,null,null,null,null,null,null,null,null,null,null,null,null,null,null,null,null,null,null,null,null,null,null,null,null,null,null,null,null,null,null,null,null,null,null,null,null,null,null,null,null,null,null,null,null,null,null,null,null,null,null,null,null,null,null,null,null,null,null,null,null,null,null,null,null,null,null,null,null,null,null,null,null,null,null,null,null,null,null,null,null,null,null,null,null,null,null,null,null,null,null,null,null,null,null,null,null,null,null,null,null,null,null,null,null,null,null,null,null,null,null,null,null,null,null,null,null,null,null,null,null,null,null,null,null,null,null,null,null,null,null,null,null,null,null,null,null,null,null,null,null,null,null,null,null,null,null,null,null,null,null,null,null,null,null,null,null,null,null,null,null,null,null,null,null,null,null,null,null,null,null,null,null,null,null,null,null,null,null,null,null,null,null,null,null,null,null,null,null,null,null,null,null,null,null,null,null,null,null,null,null,null,null,null,null,null,null,null,null,null,null,null,null,null,null,null,null,null,null,null,null,null,null,null,null,null,null,null,null,null,null,null,null,null,null,null,null,null,null,null,null,null,null,null,null,null,null,null,null,null,null,null,null,null,null,null,null,null,null,null,null,null,null,null,null,null,null,null,null,null,null,null,null,null,null,null,null,null,null,null,null,null,null,null,null,null,null,null,null,null,null,null,null,null,null,null,null,null,null,null,null,null,null,null,null,null,null,null,null,null,null,null,null,null,null,null,null,null,null,null,null,null,null,null,null,null,null,null,null,null,null,null,null,null,null,null,null,null,null,null,null,null,null,null,null,null,null,null,null,null,null,null,null,null,null,null,null,null,null,null,null,null,null,null,null,null,null,null,null,null,null,null,null,null,null,null,null,null,null,null,null,null,null,null,null,null,null,null,null,null,null,null,null,null,null,null,null,null,null,null,null,null,null,null,null,null,null,null,null,null,null,null,null,null,null,null,null,null,null,null,null,null,null,null,null,null,null,null,null,null,null,null,null,null,null,null,null,null,null,null,null,null,null,null,null,null,null,null,null,null,null,null,null,null,null,null,null,null,null,null,null,null,null,null,null,null,null,null,null,null,null,null,null,null,null,null,null,null,null,null,null,null,null,null,null,null,null,null,null,null,null,null,null,null,null,null,null,null,null,null,null,null,null,null,null,null,null,null,null,null,null,null,null,null,null,null,null,null,null,null,null,null,null,null,null,null,null,null,null,null,null,null,null,null,null,null,null,null,null,null,null,null,null,null,null,null,null,null,null,null,null,null,null,null,null,null,null,null,null,null,null,null,null,null,null,null,null,null,null,null,null,null,null,null,null,null,null,null,null,null,null,null,null,null,null,null,null,null,null,null,null,null,null,null,null,null,null,null,null,null,null,null,null,null,null,null,null,null,null,null,null,null,null,null,null,null,null,null,null,null,null,null,null,null,null,null,null,null,null,null,null,null,null,null,null,null,null,null,null,null,null,null,null,null,null,null,null,null,null,null,null,null,null,null,null,null,null,null,null,null,null,null,null,null,null,null,null,null,null,null,null,null,null,null,null,null,null,null,null,null,null,null,null,null,null,null,null,null,null,null,null,null,null,null,null,null,null,null,null,null,null,null,null,null,null,null,null,null,null,null,null,null,null,null,null,null,null,null,null,null,null,null,null,null,null,null,null,null,null,null,null,null,null,null,null,null,null,null,null,null,null,null,null,null,null,null,null,null,null,null,null,null,null,null,null,null,null,null,null,null,null,null,null,null,null,null,null,null,null,null,null,null,null,null,null,null,null,null,null,null,null,null,null,null,null,null,null,null,null,null,null,null,null,null,null,null,null,null,null,null,null,null,null,null,null,null,null,null,null,null,null,null,null,null,null,null,null,null,null,null,null,null,null,null,null,null,null,null,null,null,null,null,null,null,null,null,null,null,null,null,null,null,null,null,null,null,null,null,null,null,null,null,null,null,null,null,null,null,null,null,null,null,null,null,null,null,null,null,null,null,null,null,null,null,null,null,null,null,null,null,null,null,null,null,null,null,null,null,null,null,null,null,null,null,null,null,null,null,null,null,null,null,null,null,null,null,null,null,null,null,null,null,null,null,null,null,null,null,null,null,null,null,null,null,null,null,null,null,null,null,null,null,null,null,null,null,null,null,null,null,null,null,null,null,null,null,null,null,null,null,null,null,null,null,null,null,null,null,null,null,null,null,null,null,null,null,null,null,null,null,null,null,null,null,null,null,null,null,null,null,null,null,null,null,null,null,null,null,null,null,null,null,null,null,null,null,null,null,null,null,null,null,null,null,null,null,null,null,null,null,null,null,null,null,null,null,null,null,null,null,null,null,null,null,null,null,null,null,null,null,null,null,null,null,null,null,null,null,null,null,null,null,null,null,null,null,null,null,null,null,null,null,null,null,null,null,null,null,null,null,null,null,null,null,null,null,null,null,null,null,null,null,null,null,null,null,null,null,null,null,null,null,null,null,null,null,null,null,null,null,null,null,null,null,null,null,null,null,null,null,null,null,null,null,null,null,null,null,null,null,null,null,null,null,null,null,null,null,null,null,null,null,null,null,null,null,null,null,null,null,null,null,null,null,null,null,null,null,null,null,null,null,null,null,null,null,null,null,null,null,null,null,null,null,null,null,null,null,null,null,null,null,null,null,null,null,null,null,null,null,null,null,null,null,null,null,null,null,null,null,null,null,null,null,null,null,null,null,null,null,null,null,null,null,null,null,null,null,null,null,null,null,null,null,null,null,null,null,null,null,null,null,null,null,null,null,null,null,null,null,null,null,null,null,null,null,null,null,null,null,null,null,null,null,null,null,null,null,null,null,null,null,null,null,null,null,null,null,null,null,null,null,null,null,null,null,null,null,null,null,null,null,null,null,null,null,null,null,null,null,null,null,null,null,null,null,null,null,null,null,null,null,null,null,null,null,null,null,null,null,null,null,null,null,null,null,null,null,null,null,null,null,null,null,null,null,null,null,null,null,null,null,null,null,null,null,null,null,null,null,null,null,null,null,"Conclusion Drop Downs"]
[null,"DOCUMENT NAME","ASC 842 - Leases - Template",null,"WP References",null,null,null,null,null,null,null,null,null,null,null,null,null,null,null,null,null,null,null,null,null,null,null,null,null,null,null,null,null,null,null,null,null,null,null,null,null,null,null,null,null,null,null,null,null,null,null,null,null,null,null,null,null,null,null,null,null,null,null,null,null,null,null,null,null,null,null,null,null,null,null,null,null,null,null,null,null,null,null,null,null,null,null,null,null,null,null,null,null,null,null,null,null,null,null,null,null,null,null,null,null,null,null,null,null,null,null,null,null,null,null,null,null,null,null,null,null,null,null,null,null,null,null,null,null,null,null,null,null,null,null,null,null,null,null,null,null,null,null,null,null,null,null,null,null,null,null,null,null,null,null,null,null,null,null,null,null,null,null,null,null,null,null,null,null,null,null,null,null,null,null,null,null,null,null,null,null,null,null,null,null,null,null,null,null,null,null,null,null,null,null,null,null,null,null,null,null,null,null,null,null,null,null,null,null,null,null,null,null,null,null,null,null,null,null,null,null,null,null,null,null,null,null,null,null,null,null,null,null,null,null,null,null,null,null,null,null,null,null,null,null,null,null,null,null,null,null,null,null,null,null,null,null,null,null,null,null,null,null,null,null,null,null,null,null,null,null,null,null,null,null,null,null,null,null,null,null,null,null,null,null,null,null,null,null,null,null,null,null,null,null,null,null,null,null,null,null,null,null,null,null,null,null,null,null,null,null,null,null,null,null,null,null,null,null,null,null,null,null,null,null,null,null,null,null,null,null,null,null,null,null,null,null,null,null,null,null,null,null,null,null,null,null,null,null,null,null,null,null,null,null,null,null,null,null,null,null,null,null,null,null,null,null,null,null,null,null,null,null,null,null,null,null,null,null,null,null,null,null,null,null,null,null,null,null,null,null,null,null,null,null,null,null,null,null,null,null,null,null,null,null,null,null,null,null,null,null,null,null,null,null,null,null,null,null,null,null,null,null,null,null,null,null,null,null,null,null,null,null,null,null,null,null,null,null,null,null,null,null,null,null,null,null,null,null,null,null,null,null,null,null,null,null,null,null,null,null,null,null,null,null,null,null,null,null,null,null,null,null,null,null,null,null,null,null,null,null,null,null,null,null,null,null,null,null,null,null,null,null,null,null,null,null,null,null,null,null,null,null,null,null,null,null,null,null,null,null,null,null,null,null,null,null,null,null,null,null,null,null,null,null,null,null,null,null,null,null,null,null,null,null,null,null,null,null,null,null,null,null,null,null,null,null,null,null,null,null,null,null,null,null,null,null,null,null,null,null,null,null,null,null,null,null,null,null,null,null,null,null,null,null,null,null,null,null,null,null,null,null,null,null,null,null,null,null,null,null,null,null,null,null,null,null,null,null,null,null,null,null,null,null,null,null,null,null,null,null,null,null,null,null,null,null,null,null,null,null,null,null,null,null,null,null,null,null,null,null,null,null,null,null,null,null,null,null,null,null,null,null,null,null,null,null,null,null,null,null,null,null,null,null,null,null,null,null,null,null,null,null,null,null,null,null,null,null,null,null,null,null,null,null,null,null,null,null,null,null,null,null,null,null,null,null,null,null,null,null,null,null,null,null,null,null,null,null,null,null,null,null,null,null,null,null,null,null,null,null,null,null,null,null,null,null,null,null,null,null,null,null,null,null,null,null,null,null,null,null,null,null,null,null,null,null,null,null,null,null,null,null,null,null,null,null,null,null,null,null,null,null,null,null,null,null,null,null,null,null,null,null,null,null,null,null,null,null,null,null,null,null,null,null,null,null,null,null,null,null,null,null,null,null,null,null,null,null,null,null,null,null,null,null,null,null,null,null,null,null,null,null,null,null,null,null,null,null,null,null,null,null,null,null,null,null,null,null,null,null,null,null,null,null,null,null,null,null,null,null,null,null,null,null,null,null,null,null,null,null,null,null,null,null,null,null,null,null,null,null,null,null,null,null,null,null,null,null,null,null,null,null,null,null,null,null,null,null,null,null,null,null,null,null,null,null,null,null,null,null,null,null,null,null,null,null,null,null,null,null,null,null,null,null,null,null,null,null,null,null,null,null,null,null,null,null,null,null,null,null,null,null,null,null,null,null,null,null,null,null,null,null,null,null,null,null,null,null,null,null,null,null,null,null,null,null,null,null,null,null,null,null,null,null,null,null,null,null,null,null,null,null,null,null,null,null,null,null,null,null,null,null,null,null,null,null,null,null,null,null,null,null,null,null,null,null,null,null,null,null,null,null,null,null,null,null,null,null,null,null,null,null,null,null,null,null,null,null,null,null,null,null,null,null,null,null,null,null,null,null,null,null,null,null,null,null,null,null,null,null,null,null,null,null,null,null,null,null,null,null,null,null,null,null,null,null,null,null,null,null,null,null,null,null,null,null,null,null,null,null,null,null,null,null,null,null,null,null,null,null,null,null,null,null,null,null,null,null,null,null,null,null,null,null,null,null,null,null,null,null,null,null,null,null,null,null,null,null,null,null,null,null,null,null,null,null,null,null,null,null,null,null,null,null,null,null,null,null,null,null,null,null,null,null,null,null,null,null,null,null,null,null,null,null,null,null,null,null,null,null,null,null,null,null,null,null,null,null,null,null,null,null,null,null,null,null,null,null,null,null,null,null,null,null,null,null,null,null,null,null,null,null,null,null,null,null,null,null,null,null,null,null,null,null,null,null,null,null,null,null,null,null,null,null,null,null,null,null,null,null,null,null,null,null,null,null,null,null,null,null,null,null,null,null,null,null,null,null,null,null,null,null,null,null,null,null,null,null,null,null,null,null,null,null,null,null,null,null,null,null,null,null,null,null,null,null,null,null,null,null,null,null,null,null,null,null,null,null,null,null,null,null,null,null,null,null,null,null,null,null,null,null,null,null,null,null,null,null,null,null,null,null,null,null,null,null,null,null,null,null,null,null,null,null,null,null,null,null,null,null,null,null,null,null,null,null,null,null,null,null,null,null,null,null,null,null,null,null,null,null,null,null,null,null,null,null,null,null,null,null,null,null,null,null,null,null,null,null,null,null,null,null,null,null,null,null,null,null,null,null,null,null,null,null,null,null,null,null,null,null,null,null,null,null,null,null,null,null,null,null,null,null,null,null,null,null,null,null,null,null,null,null,null,null,null,null,null,null,null,null,null,null,null,null,null,null,null,null,null,null,null,null,null,null,null,null,null,null,null,null,null,null,null,null,null,null,null,null,null,null,null,null,null,null,null,null,null,null,null,null,null,null,null,null,null,null,null,null,null,null,null,null,null,null,null,null,null,null,null,null,null,null,null,null,null,null,null,null,null,null,null,null,null,null,null,null,null,null,null,null,null,null,null,null,null,null,null,null,null,null,null,null,null,null,null,null,null,null,null,null,null,null,null,null,null,null,null,null,null,null,null,null,null,null,null,null,null,null,null,null,null,null,null,null,null,null,null,null,null,null,null,null,null,null,null,null,null,null,null,null,null,null,null,null,null,null,null,null,null,null,null,null,null,null,null,null,null,null,null,null,null,null,null,null,null,null,null,null,null,null,null,null,null,null,null,null,null,null,null,null,null,null,null,null,null,null,null,null,null,null,null,null,null,null,null,null,null,null,null,null,null,null,null,null,null,null,null,null,null,null,null,null,null,null,null,null,null,null,null,null,null,null,null,null,null,null,null,null,null,null,null,null,null,null,null,null,null,null,null,null,null,null,null,null,null,null,null,null,null,null,null,null,null,null,null,null,null,null,null,null,null,null,null,null,null,null,null,null,null,null,null,null,null,null,null,null,null,null,null,null,null,null,null,null,null,null,null,null,null,null,null,null,null,null,null,null,null,null,null,null,null,null,null,null,null,null,null,null,null,null,null,null,null,null,null,null,null,null,null,null,null,null,null,null,null,null,null,null,null,null,null,null,null,null,null,null,null,null,null,null,null,null,null,null,null,null,null,null,null,null,null,null,null,null,null,null,null,null,null,null,null,null,null,null,null,null,null,null,null,null,null,null,null,null,null,null,null,null,null,null,null,null,null,null,null,null,null,null,null,null,null,null,null,null,null,null,null,null,null,null,null,null,null,null,null,null,null,null,null,null,null,null,null,null,null,null,null,null,null,null,null,null,null,null,null,null,null,null,null,null,null,null,null,null,null,null,null,null,null,null,null,null,null,null,null,null,null,null,null,null,null,null,null,null,null,null,null,null,null,null,null,null,null,null,null,null,null,null,null,null,null,null,null,null,null,null,null,null,null,null,null,null,null,null,null,null,null,null,null,null,null,null,null,null,null,null,null,null,null,null,null,null,null,null,null,null,null,null,null,null,null,null,null,null,null,null,null,null,null,null,null,null,null,null,null,null,null,null,null,null,null,null,null,null,null,null,null,null,null,null,null,null,null,null,null,null,null,null,null,null,null,null,null,null,null,null,null,null,null,null,null,null,null,null,null,null,null,null,null,null,null,null,null,null,null,null,null,null,null,null,null,null,null,null,null,null,null,null,null,null,null,null,null,null,null,null,null,null,null,null,null,null,null,null,null,null,null,null,null,null,null,null,null,null,null,null,null,null,null,null,null,null,null,null,null,null,null,null,null,null,null,null,null,null,null,null,null,null,null,null,null,null,null,null,null,null,null,null,null,null,null,null,null,null,null,null,null,null,null,null,null,null,null,null,null,null,null,null,null,null,null,null,null,null,null,null,null,null,null,null,null,null,null,null,null,null,null,null,null,null,null,null,null,null,null,null,null,null,null,null,null,null,null,null,null,null,null,null,null,null,null,null,null,null,null,null,null,null,null,null,null,null,null,null,null,null,null,null,null,null,null,null,null,null,null,null,null,null,null,null,null,null,null,null,null,null,null,null,null,null,null,null,null,null,null,null,null,null,null,null,null,null,null,null,null,null,null,null,null,null,null,null,null,null,null,null,null,null,null,null,null,null,null,null,null,null,null,null,null,null,null,null,null,null,null,null,null,null,null,null,null,null,null,null,null,null,null,null,null,null,null,null,null,null,null,null,null,null,null,null,null,null,null,null,null,null,null,null,null,null,null,null,null,null,null,null,null,null,null,null,null,null,null,null,null,null,null,null,null,null,null,null,null,null,null,null,null,null,null,null,null,null,null,null,null,null,null,null,null,null,null,null,null,null,null,null,null,null,null,null,null,null,null,null,null,null,null,null,null,null,null,null,null,null,null,null,null,null,null,null,null,null,null,null,null,null,null,null,null,null,null,null,null,null,null,null,null,null,null,null,null,null,null,null,null,null,null,null,null,null,null,null,null,null,null,null,null,null,null,null,null,null,null,null,null,null,null,null,null,null,null,null,null,null,null,null,null,null,null,null,null,null,null,null,null,null,null,null,null,null,null,null,null,null,null,null,null,null,null,null,null,null,null,null,null,null,null,null,null,null,null,null,null,null,null,null,null,null,null,null,null,null,null,null,null,null,null,null,null,null,null,null,null,null,null,null,null,null,null,null,null,null,null,null,null,null,null,null,null,null,null,null,null,null,null,null,null,null,null,null,null,null,null,null,null,null,null,null,null,null,null,null,null,null,null,null,null,null,null,null,null,null,null,null,null,null,null,null,null,null,null,null,null,null,null,null,null,null,null,null,null,null,null,null,null,null,null,null,null,null,null,null,null,null,null,null,null,null,null,null,null,null,null,null,null,null,null,null,null,null,null,null,null,null,null,null,null,null,null,null,null,null,null,null,null,null,null,null,null,null,null,null,null,null,null,null,null,null,null,null,null,null,null,null,null,null,null,null,null,null,null,null,null,null,null,null,null,null,null,null,null,null,null,null,null,null,null,null,null,null,null,null,null,null,null,null,null,null,null,null,null,null,null,null,null,null,null,null,null,null,null,null,null,null,null,null,null,null,null,null,null,null,null,null,null,null,null,null,null,null,null,null,null,null,null,null,null,null,null,null,null,null,null,null,null,null,null,null,null,null,null,null,null,null,null,null,null,null,null,null,null,null,null,null,null,null,null,null,null,null,null,null,null,null,null,null,null,null,null,null,null,null,null,null,null,null,null,null,null,null,null,null,null,null,null,null,null,null,null,null,null,null,null,null,null,null,null,null,null,null,null,null,null,null,null,null,null,null,null,null,null,null,null,null,null,null,null,null,null,null,null,null,null,null,null,null,null,null,null,null,null,null,null,null,null,null,null,null,null,null,null,null,null,null,null,null,null,null,null,null,null,null,null,null,null,null,null,null,null,null,null,null,null,null,null,null,null,null,null,null,null,null,null,null,null,null,null,null,null,null,null,null,null,null,null,null,null,null,null,null,null,null,null,null,null,null,null,null,null,null,null,null,null,null,null,null,null,null,null,null,null,null,null,null,null,null,null,null,null,null,null,null,null,null,null,null,null,null,null,null,null,null,null,null,null,null,null,null,null,null,null,null,null,null,null,null,null,null,null,null,null,null,null,null,null,null,null,null,null,null,null,null,null,null,null,null,null,null,null,null,null,null,null,null,null,null,null,null,null,null,null,null,null,null,null,null,null,null,null,null,null,null,null,null,null,null,null,null,null,null,null,null,null,null,null,null,null,null,null,null,null,null,null,null,null,null,null,null,null,null,null,null,null,null,null,null,null,null,null,null,null,null,null,null,null,null,null,null,null,null,null,null,null,null,null,null,null,null,null,null,null,null,null,null,null,null,null,null,null,null,null,null,null,null,null,null,null,null,null,null,null,null,null,null,null,null,null,null,null,null,null,null,null,null,null,null,null,null,null,null,null,null,null,null,null,null,null,null,null,null,null,null,null,null,null,null,null,null,null,null,null,null,null,null,null,null,null,null,null,null,null,null,null,null,null,null,null,null,null,null,null,null,null,null,null,null,null,null,null,null,null,null,null,null,null,null,null,null,null,null,null,null,null,null,null,null,null,null,null,null,null,null,null,null,null,null,null,null,null,null,null,null,null,null,null,null,null,null,null,null,null,null,null,null,null,null,null,null,null,null,null,null,null,null,null,null,null,null,null,null,null,null,null,null,null,null,null,null,null,null,null,null,null,null,null,null,null,null,null,null,null,null,null,null,null,null,null,null,null,null,null,null,null,null,null,null,null,null,null,null,null,null,null,null,null,null,null,null,null,null,null,null,null,null,null,null,null,null,null,null,null,null,null,null,null,null,null,null,null,null,null,null,null,null,null,null,null,null,null,null,null,null,null,null,null,null,null,null,null,null,null,null,null,null,null,null,null,null,null,null,null,null,null,null,null,null,null,null,null,null,null,null,null,null,null,null,null,null,null,null,null,null,null,null,null,null,null,null,null,null,null,null,null,null,null,null,null,null,null,null,null,null,null,null,null,null,null,null,null,null,null,null,null,null,null,null,null,null,null,null,null,null,null,null,null,null,null,null,null,null,null,null,null,null,null,null,null,null,null,null,null,null,null,null,null,null,null,null,null,null,null,null,null,null,null,null,null,null,null,null,null,null,null,null,null,null,null,null,null,null,null,null,null,null,null,null,null,null,null,null,null,null,null,null,null,null,null,null,null,null,null,null,null,null,null,null,null,null,null,null,null,null,null,null,null,null,null,null,null,null,null,null,null,null,null,null,null,null,null,null,null,null,null,null,null,null,null,null,null,null,null,null,null,null,null,null,null,null,null,null,null,null,null,null,null,null,null,null,null,null,null,null,null,null,null,null,null,null,null,null,null,null,null,null,null,null,null,null,null,null,null,null,null,null,null,null,null,null,null,null,null,null,null,null,null,null,null,null,null,null,null,null,null,null,null,null,null,null,null,null,null,null,null,null,null,null,null,null,null,null,null,null,null,null,null,null,null,null,null,null,null,null,null,null,null,null,null,null,null,null,null,null,null,null,null,null,null,null,null,null,null,null,null,null,null,null,null,null,null,null,null,null,null,null,null,null,null,null,null,null,null,null,null,null,null,null,null,null,null,null,null,null,null,null,null,null,null,null,null,null,null,null,null,null,null,null,null,null,null,null,null,null,null,null,null,null,null,null,null,null,null,null,null,null,null,null,null,null,null,null,null,null,null,null,null,null,null,null,null,null,null,null,null,null,null,null,null,null,null,null,null,null,null,null,null,null,null,null,null,null,null,null,null,null,null,null,null,null,null,null,null,null,null,null,null,null,null,null,null,null,null,null,null,null,null,null,null,null,null,null,null,null,null,null,null,null,null,null,null,null,null,null,null,null,null,null,null,null,null,null,null,null,null,null,null,null,null,null,null,null,null,null,null,null,null,null,null,null,null,null,null,null,null,null,null,null,null,null,null,null,null,null,null,null,null,null,null,null,null,null,null,null,null,null,null,null,null,null,null,null,null,null,null,null,null,null,null,null,null,null,null,null,null,null,null,null,null,null,null,null,null,null,null,null,null,null,null,null,null,null,null,null,null,null,null,null,null,null,null,null,null,null,null,null,null,null,null,null,null,null,null,null,null,null,null,null,null,null,null,null,null,null,null,null,null,null,null,null,null,null,null,null,null,null,null,null,null,null,null,null,null,null,null,null,null,null,null,null,null,null,null,null,null,null,null,null,null,null,null,null,null,null,null,null,null,null,null,null,null,null,null,null,null,null,null,null,null,null,null,null,null,null,null,null,null,null,null,null,null,null,null,null,null,null,null,null,null,null,null,null,null,null,null,null,null,null,null,null,null,null,null,null,null,null,null,null,null,null,null,null,null,null,null,null,null,null,null,null,null,null,null,null,null,null,null,null,null,null,null,null,null,null,null,null,null,null,null,null,null,null,null,null,null,null,null,null,null,null,null,null,null,null,null,null,null,null,null,null,null,null,null,null,null,null,null,null,null,null,null,null,null,null,null,null,null,null,null,null,null,null,null,null,null,null,null,null,null,null,null,null,null,null,null,null,null,null,null,null,null,null,null,null,null,null,null,null,null,null,null,null,null,null,null,null,null,null,null,null,null,null,null,null,null,null,null,null,null,null,null,null,null,null,null,null,null,null,null,null,null,null,null,null,null,null,null,null,null,null,null,null,null,null,null,null,null,null,null,null,null,null,null,null,null,null,null,null,null,null,null,null,null,null,null,null,null,null,null,null,null,null,null,null,null,null,null,null,null,null,null,null,null,null,null,null,null,null,null,null,null,null,null,null,null,null,null,null,null,null,null,null,null,null,null,null,null,null,null,null,null,null,null,null,null,null,null,null,null,null,null,null,null,null,null,null,null,null,null,null,null,null,null,null,null,null,null,null,null,null,null,null,null,null,null,null,null,null,null,null,null,null,null,null,null,null,null,null,null,null,null,null,null,null,null,null,null,null,null,null,null,null,null,null,null,null,null,null,null,null,null,null,null,null,null,null,null,null,null,null,null,null,null,null,null,null,null,null,null,null,null,null,null,null,null,null,null,null,null,null,null,null,null,null,null,null,null,null,null,null,null,null,null,null,null,null,null,null,null,null,null,null,null,null,null,null,null,null,null,null,null,null,null,null,null,null,null,null,null,null,null,null,null,null,null,null,null,null,null,null,null,null,null,null,null,null,null,null,null,null,null,null,null,null,null,null,null,null,null,null,null,null,null,null,null,null,null,null,null,null,null,null,null,null,null,null,null,null,null,null,null,null,null,null,null,null,null,null,null,null,null,null,null,null,null,null,null,null,null,null,null,null,null,null,null,null,null,null,null,null,null,null,null,null,null,null,null,null,null,null,null,null,null,null,null,null,null,null,null,null,null,null,null,null,null,null,null,null,null,null,null,null,null,null,null,null,null,null,null,null,null,null,null,null,null,null,null,null,null,null,null,null,null,null,null,null,null,null,null,null,null,null,null,null,null,null,null,null,null,null,null,null,null,null,null,null,null,null,null,null,null,null,null,null,null,null,null,null,null,null,null,null,null,null,null,null,null,null,null,null,null,null,null,null,null,null,null,null,null,null,null,null,null,null,null,null,null,null,null,null,null,null,null,null,null,null,null,null,null,null,null,null,null,null,null,null,null,null,null,null,null,null,null,null,null,null,null,null,null,null,null,null,null,null,null,null,null,null,null,null,null,null,null,null,null,null,null,null,null,null,null,null,null,null,null,null,null,null,null,null,null,null,null,null,null,null,null,null,null,null,null,null,null,null,null,null,null,null,null,null,null,null,null,null,null,null,null,null,null,null,null,null,null,null,null,null,null,null,null,null,null,null,null,null,null,null,null,null,null,null,null,null,null,null,null,null,null,null,null,null,null,null,null,null,null,null,null,null,null,null,null,null,null,null,null,null,null,null,null,null,null,null,null,null,null,null,null,null,null,null,null,null,null,null,null,null,null,null,null,null,null,null,null,null,null,null,null,null,null,null,null,null,null,null,null,null,null,null,null,null,null,null,null,null,null,null,null,null,null,null,null,null,null,null,null,null,null,null,null,null,null,null,null,null,null,null,null,null,null,null,null,null,null,null,null,null,null,null,null,null,null,null,null,null,null,null,null,null,null,null,null,null,null,null,null,null,null,null,null,null,null,null,null,null,null,null,null,null,null,null,null,null,null,null,null,null,null,null,null,null,null,null,null,null,null,null,null,null,null,null,null,null,null,null,null,null,null,null,null,null,null,null,null,null,null,null,null,null,null,null,null,null,null,null,null,null,null,null,null,null,null,null,null,null,null,null,null,null,null,null,null,null,null,null,null,null,null,null,null,null,null,null,null,null,null,null,null,null,null,null,null,null,null,null,null,null,null,null,null,null,null,null,null,null,null,null,null,null,null,null,null,null,null,null,null,null,null,null,null,null,null,null,null,null,null,null,null,null,null,null,null,null,null,null,null,null,null,null,null,null,null,null,null,null,null,null,null,null,null,null,null,null,null,null,null,null,null,null,null,null,null,null,null,null,null,null,null,null,null,null,null,null,null,null,null,null,null,null,null,null,null,null,null,null,null,null,null,null,null,null,null,null,null,null,null,null,null,null,null,null,null,null,null,null,null,null,null,null,null,null,null,null,null,null,null,null,null,null,null,null,null,null,null,null,null,null,null,null,null,null,null,null,null,null,null,null,null,null,null,null,null,null,null,null,null,null,null,null,null,null,null,null,null,null,null,null,null,null,null,null,null,null,null,null,null,null,null,null,null,null,null,null,null,null,null,null,null,null,null,null,null,null,null,null,null,null,null,null,null,null,null,null,null,null,null,null,null,null,null,null,null,null,null,null,null,null,null,null,null,null,null,null,null,null,null,null,null,null,null,null,null,null,null,null,null,null,null,null,null,null,null,null,null,null,null,null,null,null,null,null,null,null,null,null,null,null,null,null,null,null,null,null,null,null,null,null,null,null,null,null,null,null,null,null,null,null,null,null,null,null,null,null,null,null,null,null,null,null,null,null,null,null,null,null,null,null,null,null,null,null,null,null,null,null,null,null,null,null,null,null,null,null,null,null,null,null,null,null,null,null,null,null,null,null,null,null,null,null,null,null,null,null,null,null,null,null,null,null,null,null,null,null,null,null,null,null,null,null,null,null,null,null,null,null,null,null,null,null,null,null,null,null,null,null,null,null,null,null,null,null,null,null,null,null,null,null,null,null,null,null,null,null,null,null,null,null,null,null,null,null,null,null,null,null,null,null,null,null,null,null,null,null,null,null,null,null,null,null,null,null,null,null,null,null,null,null,null,null,null,null,null,null,null,null,null,null,null,null,null,null,null,null,null,null,null,null,null,null,null,null,null,null,null,null,null,null,null,null,null,null,null,null,null,null,null,null,null,null,null,null,null,null,null,null,null,null,null,null,null,null,null,null,null,null,null,null,null,null,null,null,null,null,null,null,null,null,null,null,null,null,null,null,null,null,null,null,null,null,null,null,null,null,null,null,null,null,null,null,null,null,null,null,null,null,null,null,null,null,null,null,null,null,null,null,null,null,null,null,null,null,null,null,null,null,null,null,null,null,null,null,null,null,null,null,null,null,null,null,null,null,null,null,null,null,null,null,null,null,null,null,null,null,null,null,null,null,null,null,null,null,null,null,null,null,null,null,null,null,null,null,null,null,null,null,null,null,null,null,null,null,null,null,null,null,null,null,null,null,null,null,null,null,null,null,null,null,null,null,null,null,null,null,null,null,null,null,null,null,null,null,null,null,null,null,null,null,null,null,null,null,null,null,null,null,null,null,null,null,null,null,null,null,null,null,null,null,null,null,null,null,null,null,null,null,null,null,null,null,null,null,null,null,null,null,null,null,null,null,null,null,null,null,null,null,null,null,null,null,null,null,null,null,null,null,null,null,null,null,null,null,null,null,null,null,null,null,null,null,null,null,null,null,null,null,null,null,null,null,null,null,null,null,null,null,null,null,null,null,null,null,null,null,null,null,null,null,null,null,null,null,null,null,null,null,null,null,null,null,null,null,null,null,null,null,null,null,null,null,null,null,null,null,null,null,null,null,null,null,null,null,null,null,null,null,null,null,null,null,null,null,null,null,null,null,null,null,null,null,null,null,null,null,null,null,null,null,null,null,null,null,null,null,null,null,null,null,null,null,null,null,null,null,null,null,null,null,null,null,null,null,null,null,null,null,null,null,null,null,null,null,null,null,null,null,null,null,null,null,null,null,null,null,null,null,null,null,null,null,null,null,null,null,null,null,null,null,null,null,null,null,null,null,null,null,null,null,null,null,null,null,null,null,null,null,null,null,null,null,null,null,null,null,null,null,null,null,null,null,null,null,null,null,null,null,null,null,null,null,null,null,null,null,null,null,null,null,null,null,null,null,null,null,null,null,null,null,null,null,null,null,null,null,null,null,null,null,null,null,null,null,null,null,null,null,null,null,null,null,null,null,null,null,null,null,null,null,null,null,null,null,null,null,null,null,null,null,null,null,null,null,null,null,null,null,null,null,null,null,null,null,null,null,null,null,null,null,null,null,null,null,null,null,null,null,null,null,null,null,null,null,null,null,null,null,null,null,null,null,null,null,null,null,null,null,null,null,null,null,null,null,null,null,null,null,null,null,null,null,null,null,null,null,null,null,null,null,null,null,null,null,null,null,null,null,null,null,null,null,null,null,null,null,null,null,null,null,null,null,null,null,null,null,null,null,null,null,null,null,null,null,null,null,null,null,null,null,null,null,null,null,null,null,null,null,null,null,null,null,null,null,null,null,null,null,null,null,null,null,null,null,null,null,null,null,null,null,null,null,null,null,null,null,null,null,null,null,null,null,null,null,null,null,null,null,null,null,null,null,null,null,null,null,null,null,null,null,null,null,null,null,null,null,null,null,null,null,null,null,null,null,null,null,null,null,null,null,null,null,null,null,null,null,null,null,null,null,null,null,null,null,null,null,null,null,null,null,null,null,null,null,null,null,null,null,null,null,null,null,null,null,null,null,null,null,null,null,null,null,null,null,null,null,null,null,null,null,null,null,null,null,null,null,null,null,null,null,null,null,null,null,null,null,null,null,null,null,null,null,null,null,null,null,null,null,null,null,null,null,null,null,null,null,null,null,null,null,null,null,null,null,null,null,null,null,null,null,null,null,null,null,null,null,null,null,null,null,null,null,null,null,null,null,null,null,null,null,null,null,null,null,null,null,null,null,null,null,null,null,null,null,null,null,null,null,null,null,null,null,null,null,null,null,null,null,null,null,null,null,null,null,null,null,null,null,null,null,null,null,null,null,null,null,null,null,null,null,null,null,null,null,null,null,null,null,null,null,null,null,null,null,null,null,null,null,null,null,null,null,null,null,null,null,null,null,null,null,null,null,null,null,null,null,null,null,null,null,null,null,null,null,null,null,null,null,null,null,null,null,null,null,null,null,null,null,null,null,null,null,null,null,null,null,null,null,null,null,null,null,null,null,null,null,null,null,null,null,null,null,null,null,null,null,null,null,null,null,null,null,null,null,null,null,null,null,null,null,null,null,null,null,null,null,null,null,null,null,null,null,null,null,null,null,null,null,null,null,null,null,null,null,null,null,null,null,null,null,null,null,null,null,null,null,null,null,null,null,null,null,null,null,null,null,null,null,null,null,null,null,null,null,null,null,null,null,null,null,null,null,null,null,null,null,null,null,null,null,null,null,null,null,null,null,null,null,null,null,null,null,null,null,null,null,null,null,null,null,null,null,null,null,null,null,null,null,null,null,null,null,null,null,null,null,null,null,null,null,null,null,null,null,null,null,null,null,null,null,null,null,null,null,null,null,null,null,null,null,null,null,null,null,null,null,null,null,null,null,null,null,null,null,null,null,null,null,null,null,null,null,null,null,null,null,null,null,null,null,null,null,null,null,null,null,null,null,null,null,null,null,null,null,null,null,null,null,null,null,null,null,null,null,null,null,null,null,null,null,null,null,null,null,null,null,null,null,null,null,null,null,null,null,null,null,null,null,null,null,null,null,null,null,null,null,null,null,null,null,null,null,null,null,null,null,null,null,null,null,null,null,null,null,null,null,null,null,null,null,null,null,null,null,null,null,null,null,null,null,null,null,null,null,null,null,null,null,null,null,null,null,null,null,null,null,null,null,null,null,null,null,null,null,null,null,null,null,null,null,null,null,null,null,null,null,null,null,null,null,null,null,null,null,null,null,null,null,null,null,null,null,null,null,null,null,null,null,null,null,null,null,null,null,null,null,null,null,null,null,null,null,null,null,null,null,null,null,null,null,null,null,null,null,null,null,null,null,null,null,null,null,null,null,null,null,null,null,null,null,null,null,null,null,null,null,null,null,null,null,null,null,null,null,null,null,null,null,null,null,null,null,null,null,null,null,null,null,null,null,null,null,null,null,null,null,null,null,null,null,null,null,null,null,null,null,null,null,null,null,null,null,null,null,null,null,null,null,null,null,null,null,null,null,null,null,null,null,null,null,null,null,null,null,null,null,null,null,null,null,null,null,null,null,null,null,null,null,null,null,null,null,null,null,null,null,null,null,null,null,null,null,null,null,null,null,null,null,null,null,null,null,null,null,null,null,null,null,null,null,null,null,null,null,null,null,null,null,null,null,null,null,null,null,null,null,null,null,null,null,null,null,null,null,null,null,null,null,null,null,null,null,null,null,null,null,null,null,null,null,null,null,null,null,null,null,null,null,null,null,null,null,null,null,null,null,null,null,null,null,null,null,null,null,null,null,null,null,null,null,null,null,null,null,null,null,null,null,null,null,null,null,null,null,null,null,null,null,null,null,null,null,null,null,null,null,null,null,null,null,null,null,null,null,null,null,null,null,null,null,null,null,null,null,null,null,null,null,null,null,null,null,null,null,null,null,null,null,null,null,null,null,null,null,null,null,null,null,null,null,null,null,null,null,null,null,null,null,null,null,null,null,null,null,null,null,null,null,null,null,null,null,null,null,null,null,null,null,null,null,null,null,null,null,null,null,null,null,null,null,null,null,null,null,null,null,null,null,null,null,null,null,null,null,null,null,null,null,null,null,null,null,null,null,null,null,null,null,null,null,null,null,null,null,null,null,null,null,null,null,null,null,null,null,null,null,null,null,null,null,null,null,null,null,null,null,null,null,null,null,null,null,null,null,null,null,null,null,null,null,null,null,null,null,null,null,null,null,null,null,null,null,null,null,null,null,null,null,null,null,null,null,null,null,null,null,null,null,null,null,null,null,null,null,null,null,null,null,null,null,null,null,null,null,null,null,null,null,null,null,null,null,null,null,null,null,null,null,null,null,null,null,null,null,null,null,null,null,null,null,null,null,null,null,null,null,null,null,null,null,null,null,null,null,null,null,null,null,null,null,null,null,null,null,null,null,null,null,null,null,null,null,null,null,null,null,null,null,null,null,null,null,null,null,null,null,null,null,null,null,null,null,null,null,null,null,null,null,null,null,null,null,null,null,null,null,null,null,null,null,null,null,null,null,null,null,null,null,null,null,null,null,null,null,null,null,null,null,null,null,null,null,null,null,null,null,null,null,null,null,null,null,null,null,null,null,null,null,null,null,null,null,null,null,null,null,null,null,null,null,null,null,null,null,null,null,null,null,null,null,null,null,null,null,null,null,null,null,null,null,null,null,null,null,null,null,null,null,null,null,null,null,null,null,null,null,null,null,null,null,null,null,null,null,null,null,null,null,null,null,null,null,null,null,null,null,null,null,null,null,null,null,null,null,null,null,null,null,null,null,null,null,null,null,null,null,null,null,null,null,null,null,null,null,null,null,null,null,null,null,null,null,null,null,null,null,null,null,null,null,null,null,null,null,null,null,null,null,null,null,null,null,null,null,null,null,null,null,null,null,null,null,null,null,null,null,null,null,null,null,null,null,null,null,null,null,null,null,null,null,null,null,null,null,null,null,null,null,null,null,null,null,null,null,null,null,null,null,null,null,null,null,null,null,null,null,null,null,null,null,null,null,null,null,null,null,null,null,null,null,null,null,null,null,null,null,null,null,null,null,null,null,null,null,null,null,null,null,null,null,null,null,null,null,null,null,null,null,null,null,null,null,null,null,null,null,null,null,null,null,null,null,null,null,null,null,null,null,null,null,null,null,null,null,null,null,null,null,null,null,null,null,null,null,null,null,null,null,null,null,null,null,null,null,null,null,null,null,null,null,null,null,null,null,null,null,null,null,null,null,null,null,null,null,null,null,null,null,null,null,null,null,null,null,null,null,null,null,null,null,null,null,null,null,null,null,null,null,null,null,null,null,null,null,null,null,null,null,null,null,null,null,null,null,null,null,null,null,null,null,null,null,null,null,null,null,null,null,null,null,null,null,null,null,null,null,null,null,null,null,null,null,null,null,null,null,null,null,null,null,null,null,null,null,null,null,null,null,null,null,null,null,null,null,null,null,null,null,null,null,null,null,null,null,null,null,null,null,null,null,null,null,null,null,null,null,null,null,null,null,null,null,null,null,null,null,null,null,null,null,null,null,null,null,null,null,null,null,null,null,null,null,null,null,null,null,null,null,null,null,null,null,null,null,null,null,null,null,null,null,null,null,null,null,null,null,null,null,null,null,null,null,null,null,null,null,null,null,null,null,null,null,null,null,null,null,null,null,null,null,null,null,null,null,null,null,null,null,null,null,null,null,null,null,null,null,null,null,null,null,null,null,null,null,null,null,null,null,null,null,null,null,null,null,null,null,null,null,null,null,null,null,null,null,null,null,null,null,null,null,null,null,null,null,null,null,null,null,null,null,null,null,null,null,null,null,null,null,null,null,null,null,null,null,null,null,null,null,null,null,null,null,null,null,null,null,null,null,null,null,null,null,null,null,null,null,null,null,null,null,null,null,null,null,null,null,null,null,null,null,null,null,null,null,null,null,null,null,null,null,null,null,null,null,null,null,null,null,null,null,null,null,null,null,null,null,null,null,null,null,null,null,null,null,null,null,null,null,null,null,null,null,null,null,null,null,null,null,null,null,null,null,null,null,null,null,null,null,null,null,null,null,null,null,null,null,null,null,null,null,null,null,null,null,null,null,null,null,null,null,null,null,null,null,null,null,null,null,null,null,null,null,null,null,null,null,null,null,null,null,null,null,null,null,null,null,null,null,null,null,null,null,null,null,null,null,null,null,null,null,null,null,null,null,null,null,null,null,null,null,null,null,null,null,null,null,null,null,null,null,null,null,null,null,null,null,null,null,null,null,null,null,null,null,null,null,null,null,null,null,null,null,null,null,null,null,null,null,null,null,null,null,null,null,null,null,null,null,null,null,null,null,null,null,null,null,null,null,null,null,null,null,null,null,null,null,null,null,null,null,null,null,null,null,null,null,null,null,null,null,null,null,null,null,null,null,null,null,null,null,null,null,null,null,null,null,null,null,null,null,null,null,null,null,null,null,null,null,null,null,null,null,null,null,null,null,null,null,null,null,null,null,null,null,null,null,null,null,null,null,null,null,null,null,null,null,null,null,null,null,null,null,null,null,null,null,null,null,null,null,null,null,null,null,null,null,null,null,null,null,null,null,null,null,null,null,null,null,null,null,null,null,null,null,null,null,null,null,null,null,null,null,null,null,null,null,null,null,null,null,null,null,null,null,null,null,null,null,null,null,null,null,null,null,null,null,null,null,null,null,null,null,null,null,null,null,null,null,null,null,null,null,null,null,null,null,null,null,null,null,null,null,null,null,null,null,null,null,null,null,null,null,null,null,null,null,null,null,null,null,null,null,null,null,null,null,null,null,null,null,null,null,null,null,null,null,null,null,null,null,null,null,null,null,null,null,null,null,null,null,null,null,null,null,null,null,null,null,null,null,null,null,null,null,null,null,null,null,null,null,null,null,null,null,null,null,null,null,null,null,null,null,null,null,null,null,null,null,null,null,null,null,null,null,null,null,null,null,null,null,null,null,null,null,null,null,null,null,null,null,null,null,null,null,null,null,null,null,null,null,null,null,null,null,null,null,null,null,null,null,null,null,null,null,null,null,null,null,null,null,null,null,null,null,null,null,null,null,null,null,null,null,null,null,null,null,null,null,null,null,null,null,null,null,null,null,null,null,null,null,null,null,null,null,null,null,null,null,null,null,null,null,null,null,null,null,null,null,null,null,null,null,null,null,null,null,null,null,null,null,null,null,null,null,null,null,null,null,null,null,null,null,null,null,null,null,null,null,null,null,null,null,null,null,null,null,null,null,null,null,null,null,null,null,null,null,null,null,null,null,null,null,null,null,null,null,null,null,null,null,null,null,null,null,null,null,null,null,null,null,null,null,null,null,null,null,null,null,null,null,null,null,null,null,null,null,null,null,null,null,null,null,null,null,null,null,null,null,null,null,null,null,null,null,null,null,null,null,null,null,null,null,null,null,null,null,null,null,null,null,null,null,null,null,null,null,null,null,null,null,null,null,null,null,null,null,null,null,null,null,null,null,null,null,null,null,null,null,null,null,null,null,null,null,null,null,null,null,null,null,null,null,null,null,null,null,null,null,null,null,null,null,null,null,null,null,null,null,null,null,null,null,null,null,null,null,null,null,null,null,null,null,null,null,null,null,null,null,null,null,null,null,null,null,null,null,null,null,null,null,null,null,null,null,null,null,null,null,null,null,null,null,null,null,null,null,null,null,null,null,null,null,null,null,null,null,null,null,null,null,null,null,null,null,null,null,null,null,null,null,null,null,null,null,null,null,null,null,null,null,null,null,null,null,null,null,null,null,null,null,null,null,null,null,null,null,null,null,null,null,null,null,null,null,null,null,null,null,null,null,null,null,null,null,null,null,null,null,null,null,null,null,null,null,null,null,null,null,null,null,null,null,null,null,null,null,null,null,null,null,null,null,null,null,null,null,null,null,null,null,null,null,null,null,null,null,null,null,null,null,null,null,null,null,null,null,null,null,null,null,null,null,null,null,null,null,null,null,null,null,null,null,null,null,null,null,null,null,null,null,null,null,null,null,null,null,null,null,null,null,null,null,null,null,null,null,null,null,null,null,null,null,null,null,null,null,null,null,null,null,null,null,null,null,null,null,null,null,null,null,null,null,null,null,null,null,null,null,null,null,null,null,null,null,null,null,null,null,null,null,null,null,null,null,null,null,null,null,null,null,null,null,null,null,null,null,null,null,null,null,null,null,null,null,null,null,null,null,null,null,null,null,null,null,null,null,null,null,null,null,null,null,null,null,null,null,null,null,null,null,null,null,null,null,null,null,null,null,null,null,null,null,null,null,null,null,null,null,null,null,null,null,null,null,null,null,null,null,null,null,null,null,null,null,null,null,null,null,null,null,null,null,null,null,null,null,null,null,null,null,null,null,null,null,null,null,null,null,null,null,null,null,null,null,null,null,null,null,null,null,null,null,null,null,null,null,null,null,null,null,null,null,null,null,null,null,null,null,null,null,null,null,null,null,null,null,null,null,null,null,null,null,null,null,null,null,null,null,null,null,null,null,null,null,null,null,null,null,null,null,null,null,null,null,null,null,null,null,null,null,null,null,null,null,null,null,null,null,null,null,null,null,null,null,null,null,null,null,null,null,null,null,null,null,null,null,null,null,null,null,null,null,null,null,null,null,null,null,null,null,null,null,null,null,null,null,null,null,null,null,null,null,null,null,null,null,null,null,null,null,null,null,null,null,null,null,null,null,null,null,null,null,null,null,null,null,null,null,null,null,null,null,null,null,null,null,null,null,null,null,null,null,null,null,null,null,null,null,null,null,null,null,null,null,null,null,null,null,null,null,null,null,null,null,null,null,null,null,null,null,null,null,null,null,null,null,null,null,null,null,null,null,null,null,null,null,null,null,null,null,null,null,null,null,null,null,null,null,null,null,null,null,null,null,null,null,null,null,null,null,null,null,null,null,null,null,null,null,null,null,null,null,null,null,null,null,null,null,null,null,null,null,null,null,null,null,null,null,null,null,null,null,null,null,null,null,null,null,null,null,null,null,null,null,null,null,null,null,null,null,null,null,null,null,null,null,null,null,null,null,null,null,null,null,null,null,null,null,null,null,null,null,null,null,null,null,null,null,null,null,null,null,null,null,null,null,null,null,null,null,null,null,null,null,null,null,null,null,null,null,null,null,null,null,null,null,null,null,null,null,null,null,null,null,null,null,null,null,null,null,null,null,null,null,null,null,null,null,null,null,null,null,null,null,null,null,null,null,null,null,null,null,null,null,null,null,null,null,null,null,null,null,null,null,null,null,null,null,null,null,null,null,null,null,null,null,null,null,null,null,null,null,null,null,null,null,null,null,null,null,null,null,null,null,null,null,null,null,null,null,null,null,null,null,null,null,null,null,null,null,null,null,null,null,null,null,null,null,null,null,null,null,null,null,null,null,null,null,null,null,null,null,null,null,null,null,null,null,null,null,null,null,null,null,null,null,null,null,null,null,null,null,null,null,null,null,null,null,null,null,null,null,null,null,null,null,null,null,null,null,null,null,null,null,null,null,null,null,null,null,null,null,null,null,null,null,null,null,null,null,null,null,null,null,null,null,null,null,null,null,null,null,null,null,null,null,null,null,null,null,null,null,null,null,null,null,null,null,null,null,null,null,null,null,null,null,null,null,null,null,null,null,null,null,null,null,null,null,null,null,null,null,null,null,null,null,null,null,null,null,null,null,null,null,null,null,null,null,null,null,null,null,null,null,null,null,null,null,null,null,null,null,null,null,null,null,null,null,null,null,null,null,null,null,null,null,null,null,null,null,null,null,null,null,null,null,null,null,null,null,null,null,null,null,null,null,null,null,null,null,null,null,null,null,null,null,null,null,null,null,null,null,null,null,null,null,null,null,null,null,null,null,null,null,null,null,null,null,null,null,null,null,null,null,null,null,null,null,null,null,null,null,null,null,null,null,null,null,null,null,null,null,null,null,null,null,null,null,null,null,null,null,null,null,null,null,null,null,null,null,null,null,null,null,null,null,null,null,null,null,null,null,null,null,null,null,null,null,null,null,null,null,null,null,null,null,null,null,null,null,null,null,null,null,null,null,null,null,null,null,null,null,null,null,null,null,null,null,null,null,null,null,null,null,null,null,null,null,null,null,null,null,null,null,null,null,null,null,null,null,null,null,null,null,null,null,null,null,null,null,null,null,null,null,null,null,null,null,null,null,null,null,null,null,null,null,null,null,null,null,null,null,null,null,null,null,null,null,null,null,null,null,null,null,null,null,null,null,null,null,null,null,null,null,null,null,null,null,null,null,null,null,null,null,null,null,null,null,null,null,null,null,null,null,null,null,null,null,null,null,null,null,null,null,null,null,null,null,null,null,null,null,null,null,null,null,null,null,null,null,null,null,null,null,null,null,null,null,null,null,null,null,null,null,null,null,null,null,null,null,null,null,null,null,null,null,null,null,null,null,null,null,null,null,null,null,null,null,null,null,null,null,null,null,null,null,null,null,null,null,null,null,null,null,null,null,null,null,null,null,null,null,null,null,null,null,null,null,null,null,null,null,null,null,null,null,null,null,null,null,null,null,null,null,null,null,null,null,null,null,null,null,null,null,null,null,null,null,null,null,null,null,null,null,null,null,null,null,null,null,null,null,null,null,null,null,null,null,null,null,null,null,null,null,null,null,null,null,null,null,null,null,null,null,null,null,null,null,null,null,null,null,null,null,null,null,null,null,null,null,null,null,null,null,null,null,null,null,null,null,null,null,null,null,null,null,null,null,null,null,null,null,null,null,null,null,null,null,null,null,null,null,null,null,null,null,null,null,null,null,null,null,null,null,null,null,null,null,null,null,null,null,null,null,null,null,null,null,null,null,null,null,null,null,null,null,null,null,null,null,null,null,null,null,null,null,null,null,null,null,null,null,null,null,null,null,null,null,null,null,null,null,null,null,null,null,null,null,null,null,null,null,null,null,null,null,null,null,null,null,null,null,null,null,null,null,null,null,null,null,null,null,null,null,null,null,null,null,null,null,null,null,null,null,null,null,null,null,null,null,null,null,null,null,null,null,null,null,null,null,null,null,null,null,null,null,null,null,null,null,null,null,null,null,null,null,null,null,null,null,null,null,null,null,null,null,null,null,null,null,null,null,null,null,null,null,null,null,null,null,null,null,null,null,null,null,null,null,null,null,null,null,null,null,null,null,null,null,null,null,null,null,null,null,null,null,null,null,null,null,null,null,null,null,null,null,null,null,null,null,null,null,null,null,null,null,null,null,null,null,null,null,null,null,null,null,null,null,null,null,null,null,null,null,null,null,null,null,null,null,null,null,null,null,null,null,null,null,null,null,null,null,null,null,null,null,null,null,null,null,null,null,null,null,null,null,null,null,null,null,null,null,null,null,null,null,null,null,null,null,null,null,null,null,null,null,null,null,null,null,null,null,null,null,null,null,null,null,null,null,null,null,null,null,null,null,null,null,null,null,null,null,null,null,null,null,null,null,null,null,null,null,null,null,null,null,null,null,null,null,null,null,null,null,null,null,null,null,null,null,null,null,null,null,null,null,null,null,null,null,null,null,null,null,null,null,null,null,null,null,null,null,null,null,null,null,null,null,null,null,null,null,null,null,null,null,null,null,null,null,null,null,null,null,null,null,null,null,null,null,null,null,null,null,null,null,null,null,null,null,null,null,null,null,null,null,null,null,null,null,null,null,null,null,null,null,null,null,null,null,null,null,null,null,null,null,null,null,null,null,null,null,null,null,null,null,null,null,null,null,null,null,null,null,null,null,null,null,null,null,null,null,null,null,null,null,null,null,null,null,null,null,null,null,null,null,null,null,null,null,null,null,null,null,null,null,null,null,null,null,null,null,null,null,null,null,null,null,null,null,null,null,null,null,null,null,null,null,null,null,null,null,null,null,null,null,null,null,null,null,null,null,null,null,null,null,null,null,null,null,null,null,null,null,null,null,null,null,null,null,null,null,null,null,null,null,null,null,null,null,null,null,null,null,null,null,null,null,null,null,null,null,null,null,null,null,null,null,null,null,null,null,null,null,null,null,null,null,null,null,null,null,null,null,null,null,null,null,null,null,null,null,null,null,null,null,null,null,null,null,null,null,null,null,null,null,null,null,null,null,null,null,null,null,null,null,null,null,null,null,null,null,null,null,null,null,null,null,null,null,null,null,null,null,null,null,null,null,null,null,null,null,null,null,null,null,null,null,null,null,null,null,null,null,null,null,null,null,null,null,null,null,null,null,null,null,null,null,null,null,null,null,null,null,null,null,null,null,null,null,null,null,null,null,null,null,null,null,null,null,null,null,null,null,null,null,null,null,null,null,null,null,null,null,null,null,null,null,null,null,null,null,null,null,null,null,null,null,null,null,null,null,null,null,null,null,null,null,null,null,null,null,null,null,null,null,null,null,null,null,null,null,null,null,null,null,null,null,null,null,null,null,null,null,null,null,null,null,null,null,null,null,null,null,null,null,null,null,null,null,null,null,null,null,null,null,null,null,null,null,null,null,null,null,null,null,null,null,null,null,null,null,null,null,null,null,null,null,null,null,null,null,null,null,null,null,null,null,null,null,null,null,null,null,null,null,null,null,null,null,null,null,null,null,null,null,null,null,null,null,null,null,null,null,null,null,null,null,null,null,null,null,null,null,null,null,null,null,null,null,null,null,null,null,null,null,null,null,null,null,null,null,null,null,null,null,null,null,null,null,null,null,null,null,null,null,null,null,null,null,null,null,null,null,null,null,null,null,null,null,null,null,null,null,null,null,null,null,null,null,null,null,null,null,null,null,null,null,null,null,null,null,null,null,null,null,null,null,null,null,null,null,null,null,null,null,null,null,null,null,null,null,null,null,null,null,null,null,null,null,null,null,null,null,null,null,null,null,null,null,null,null,null,null,null,null,null,null,null,null,null,null,null,null,null,null,null,null,null,null,null,null,null,null,null,null,null,null,null,null,null,null,null,null,null,null,null,null,null,null,null,null,null,null,null,null,null,null,null,null,null,null,null,null,null,null,null,null,null,null,null,null,null,null,null,null,null,null,null,null,null,null,null,null,null,null,null,null,null,null,null,null,null,null,null,null,null,null,null,null,null,null,null,null,null,null,null,null,null,null,null,null,null,null,null,null,null,null,null,null,null,null,null,null,null,null,null,null,null,null,null,null,null,null,null,null,null,null,null,null,null,null,null,null,null,null,null,null,null,null,null,null,null,null,null,null,null,null,null,null,null,null,null,null,null,null,null,null,null,null,null,null,null,null,null,null,null,null,null,null,null,null,null,null,null,null,null,null,null,null,null,null,null,null,null,null,null,null,null,null,null,null,null,null,null,null,null,null,null,null,null,null,null,null,null,null,null,null,null,null,null,null,null,null,null,null,null,null,null,null,null,null,null,null,null,null,null,null,null,null,null,null,null,null,null,null,null,null,null,null,null,null,null,null,null,null,null,null,null,null,null,null,null,null,null,null,null,null,null,null,null,null,null,null,null,null,null,null,null,null,null,null,null,null,null,null,null,null,null,null,null,null,null,null,null,null,null,null,null,null,null,null,null,null,null,null,null,null,null,null,null,null,null,null,null,null,null,null,null,null,null,null,null,null,null,null,null,null,null,null,null,null,null,null,null,null,null,null,null,null,null,null,null,null,null,null,null,null,null,null,null,null,null,null,null,null,null,null,null,null,null,null,null,null,null,null,null,null,null,null,null,null,null,null,null,null,null,null,null,null,null,null,null,null,null,null,null,null,null,null,null,null,null,null,null,null,null,null,null,null,null,null,null,null,null,null,null,null,null,null,null,null,null,null,null,null,null,null,null,null,null,null,null,null,null,null,null,null,null,null,null,null,null,null,null,null,null,null,null,null,null,null,null,null,null,null,null,null,null,null,null,null,null,null,null,null,null,null,null,null,null,null,null,null,null,null,null,null,null,null,null,null,null,null,null,null,null,null,null,null,null,null,null,null,null,null,null,null,null,null,null,null,null,null,null,null,null,null,null,null,null,null,null,null,null,null,null,null,null,null,null,null,null,null,null,null,null,null,null,null,null,null,null,null,null,null,null,null,null,null,null,null,null,null,null,null,null,null,null,null,null,null,null,null,null,null,null,null,null,null,null,null,null,null,null,null,null,null,null,null,null,null,null,null,null,null,null,null,null,null,null,null,null,null,null,null,null,null,null,null,null,null,null,null,null,null,null,null,null,null,null,null,null,null,null,null,null,null,null,null,null,null,null,null,null,null,null,null,null,null,null,null,null,null,null,null,null,null,null,null,null,null,null,null,null,null,null,null,null,null,null,null,null,null,null,null,null,null,null,null,null,null,null,null,null,null,null,null,null,null,null,null,null,null,null,null,null,null,null,null,null,null,null,null,null,null,null,null,null,null,null,null,null,null,null,null,null,null,null,null,null,null,null,null,null,null,null,null,null,null,null,null,null,null,null,null,null,null,null,null,null,null,null,null,null,null,null,null,null,null,null,null,null,null,null,null,null,null,null,null,null,null,null,null,null,null,null,null,null,null,null,null,null,null,null,null,null,null,null,null,null,null,null,null,null,null,null,null,null,null,null,null,null,null,null,null,null,null,null,null,null,null,null,null,null,null,null,null,null,null,null,null,null,null,null,null,null,null,null,null,null,null,null,null,null,null,null,null,null,null,null,null,null,null,null,null,null,null,null,null,null,null,null,null,null,null,null,null,null,null,null,null,null,null,null,null,null,null,null,null,null,null,null,null,null,null,null,null,null,null,null,null,null,null,null,null,null,null,null,null,null,null,null,null,null,null,null,null,null,null,null,null,null,null,null,null,null,null,null,null,null,null,null,null,null,null,null,null,null,null,null,null,null,null,null,null,null,null,null,null,null,null,null,null,null,null,null,null,null,null,null,null,null,null,null,null,null,null,null,null,null,null,null,null,null,null,null,null,null,null,null,null,null,null,null,null,null,null,null,null,null,null,null,null,null,null,null,null,null,null,null,null,null,null,null,null,null,null,null,null,null,null,null,null,null,null,null,null,null,null,null,null,null,null,null,null,null,null,null,null,null,null,null,null,null,null,null,null,null,null,null,null,null,null,null,null,null,null,null,null,null,null,null,null,null,null,null,null,null,null,null,null,null,null,null,null,null,null,null,null,null,null,null,null,null,null,null,null,null,null,null,null,null,null,null,null,null,null,null,null,null,null,null,null,null,null,null,null,null,null,null,null,null,null,null,null,null,null,null,null,null,null,null,null,null,null,null,null,null,null,null,null,null,null,null,null,null,null,null,null,null,null,null,null,null,null,null,null,null,null,null,null,null,null,null,null,null,null,null,null,null,null,null,null,null,null,null,null,null,null,null,null,null,null,null,null,null,null,null,null,null,null,null,null,null,null,null,null,null,null,null,null,null,null,null,null,null,null,null,null,null,null,null,null,null,null,null,null,null,null,null,null,null,null,null,null,null,null,null,null,null,null,null,null,null,null,null,null,null,null,null,null,null,null,null,null,null,null,null,null,null,null,null,null,null,null,null,null,null,null,null,null,null,null,null,null,null,null,null,null,null,null,null,null,null,null,null,null,null,null,null,null,null,null,null,null,null,null,null,null,null,null,null,null,null,null,null,null,null,null,null,null,null,null,null,null,null,null,null,null,null,null,null,null,null,null,null,null,null,null,null,null,null,null,null,null,null,null,null,null,null,null,null,null,null,null,null,null,null,null,null,null,null,null,null,null,null,null,null,null,null,null,null,null,null,null,null,null,null,null,null,null,null,null,null,null,null,null,null,null,null,null,null,null,null,null,null,null,null,null,null,null,null,null,null,null,null,null,null,null,null,null,null,null,null,null,null,null,null,null,null,null,null,null,null,null,null,null,null,null,null,null,null,null,null,null,null,null,null,null,null,null,null,null,null,null,null,null,null,null,null,null,null,null,null,null,null,null,null,null,null,null,null,null,null,null,null,null,null,null,null,null,null,null,null,null,null,null,null,null,null,null,null,null,null,null,null,null,null,null,null,null,null,null,null,null,null,null,null,null,null,null,null,null,null,null,null,null,null,null,null,null,null,null,null,null,null,null,null,null,null,null,null,null,null,null,null,null,null,null,null,null,null,null,null,null,null,null,null,null,null,null,null,null,null,null,null,null,null,null,null,null,null,null,null,null,null,null,null,null,null,null,null,null,null,null,null,null,null,null,null,null,null,null,null,null,null,null,null,null,null,null,null,null,null,null,null,null,null,null,null,null,null,null,null,null,null,null,null,null,null,null,null,null,null,null,null,null,null,null,null,null,null,null,null,null,null,null,null,null,null,null,null,null,null,null,null,null,null,null,null,null,null,null,null,null,null,null,null,null,null,null,null,null,null,null,null,null,null,null,null,null,null,null,null,null,null,null,null,null,null,null,null,null,null,null,null,null,null,null,null,null,null,null,null,null,null,null,null,null,null,null,null,null,null,null,null,null,null,null,null,null,null,null,null,null,null,null,null,null,null,null,null,null,null,null,null,null,null,null,null,null,null,null,null,null,null,null,null,null,null,null,null,null,null,null,null,null,null,null,null,null,null,null,null,null,null,null,null,null,null,null,null,null,null,null,null,null,null,null,null,null,null,null,null,null,null,null,null,null,null,null,null,null,null,null,null,null,null,null,null,null,null,null,null,null,null,null,null,null,null,null,null,null,null,null,null,null,null,null,null,null,null,null,null,null,null,null,null,null,null,null,null,null,null,null,null,null,null,null,null,null,null,null,null,null,null,null,null,null,null,null,null,null,null,null,null,null,null,null,null,null,null,null,null,null,null,null,null,null,null,null,null,null,null,null,null,null,null,null,null,null,null,null,null,null,null,null,null,null,null,null,null,null,null,null,null,null,null,null,null,null,null,null,null,null,null,null,null,null,null,null,null,null,null,null,null,null,null,null,null,null,null,null,null,null,null,null,null,null,null,null,null,null,null,null,null,null,null,null,null,null,null,null,null,null,null,null,null,null,null,null,null,null,null,null,null,null,null,null,null,null,null,null,null,null,null,null,null,null,null,null,null,null,null,null,null,null,null,null,null,null,null,null,null,null,null,null,null,null,null,null,null,null,null,null,null,null,null,null,null,null,null,null,null,null,null,null,null,null,null,null,null,null,null,null,null,null,null,null,null,null,null,null,null,null,null,null,null,null,null,null,null,null,null,null,null,null,null,null,null,null,null,null,null,null,null,null,null,null,null,null,null,null,null,null,null,null,null,null,null,null,null,null,null,null,null,null,null,null,null,null,null,null,null,null,null,null,null,null,null,null,null,null,null,null,null,null,null,null,null,null,null,null,null,null,null,null,null,null,null,null,null,null,null,null,null,null,null,null,null,null,null,null,null,null,null,null,null,null,null,null,null,null,null,null,null,null,null,null,null,null,null,null,null,null,null,null,null,null,null,null,null,null,null,null,null,null,null,null,null,null,null,null,null,null,null,null,null,null,null,null,null,null,null,null,null,null,null,null,null,null,null,null,null,null,null,null,null,null,null,null,null,null,null,null,null,null,null,null,null,null,null,null,null,null,null,null,null,null,null,null,null,null,null,null,null,null,null,null,null,null,null,null,null,null,null,null,null,null,null,null,null,null,null,null,null,null,null,null,null,null,null,null,null,null,null,null,null,null,null,null,null,null,null,null,null,null,null,null,null,null,null,null,null,null,null,null,null,null,null,null,null,null,null,null,null,null,null,null,null,null,null,null,null,null,null,null,null,null,null,null,null,null,null,null,null,null,null,null,null,null,null,null,null,null,null,null,null,null,null,null,null,null,null,null,null,null,null,null,null,null,null,null,null,null,null,null,null,null,null,null,null,null,null,null,null,null,null,null,null,null,null,null,null,null,null,null,null,null,null,null,null,null,null,null,null,null,null,null,null,null,null,null,null,null,null,null,null,null,null,null,null,null,null,null,null,null,null,null,null,null,null,null,null,null,null,null,null,null,null,null,null,null,null,null,null,null,null,null,null,null,null,null,null,null,null,null,null,null,null,null,null,null,null,null,null,null,null,null,null,null,null,null,null,null,null,null,null,null,null,null,null,null,null,null,null,null,null,null,null,null,null,null,null,null,null,null,null,null,null,null,null,null,null,null,null,null,null,null,null,null,null,null,null,null,null,null,null,null,null,null,null,null,null,null,null,null,null,null,null,null,null,null,null,null,null,null,null,null,null,null,null,null,null,null,null,null,null,null,null,null,null,null,null,null,null,null,null,null,null,null,null,null,null,null,null,null,null,null,null,null,null,null,null,null,null,null,null,null,null,null,null,null,null,null,null,null,null,null,null,null,null,null,null,null,null,null,null,null,null,null,null,null,null,null,null,null,null,null,null,null,null,null,null,null,null,null,null,null,null,null,null,null,null,null,null,null,null,null,null,null,null,null,null,null,null,null,null,null,null,null,null,null,null,null,null,null,null,null,null,null,null,null,null,null,null,null,null,null,null,null,null,null,null,null,null,null,null,null,null,null,null,null,null,null,null,null,null,null,null,null,null,null,null,null,null,null,null,null,null,null,null,null,null,null,null,null,null,null,null,null,null,null,null,null,null,null,null,null,null,null,null,null,null,null,null,null,null,null,null,null,null,null,null,null,null,null,null,null,null,null,null,null,null,null,null,null,null,null,null,null,null,null,null,null,null,null,null,null,null,null,null,null,null,null,null,null,null,null,null,null,null,null,null,null,null,null,null,null,null,null,null,null,null,null,null,null,null,null,null,null,null,null,null,null,null,null,null,null,null,null,null,null,null,null,null,null,null,null,null,null,null,null,null,null,null,null,null,null,null,null,null,null,null,null,null,null,null,null,null,null,null,null,null,null,null,null,null,null,null,null,null,null,null,null,null,null,null,null,null,null,null,null,null,null,null,null,null,null,null,null,null,null,null,null,null,null,null,null,null,null,null,null,null,null,null,null,null,null,null,null,null,null,null,null,null,null,null,null,null,null,null,null,null,null,null,null,null,null,null,null,null,null,null,null,null,null,null,null,null,null,null,null,null,null,null,null,null,null,null,null,null,null,null,null,null,null,null,null,null,null,null,null,null,null,null,null,null,null,null,null,null,null,null,null,null,null,null,null,null,null,null,null,null,null,null,null,null,null,null,null,null,null,null,null,null,null,null,null,null,null,null,null,null,null,null,null,null,null,null,null,null,null,null,null,null,null,null,null,null,null,null,null,null,null,null,null,null,null,null,null,null,null,null,null,null,null,null,null,null,null,null,null,null,null,null,null,null,null,null,null,null,null,null,null,null,null,null,null,null,null,null,null,null,null,null,null,null,null,null,null,null,null,null,null,null,null,null,null,null,null,null,null,null,null,null,null,null,null,null,null,null,null,null,null,null,null,null,null,null,null,null,null,null,null,null,null,null,null,null,null,null,null,null,null,null,null,null,null,null,null,null,null,null,null,null,null,null,null,null,null,null,null,null,null,null,null,null,null,null,null,null,null,null,null,null,null,null,null,null,null,null,null,null,null,null,null,null,null,null,null,null,null,null,null,null,null,null,null,null,null,null,null,null,null,null,null,null,null,null,null,null,null,null,null,null,null,null,null,null,null,null,null,null,null,null,null,null,null,null,null,null,null,null,null,null,null,null,null,null,null,null,null,null,null,null,null,null,null,null,null,null,null,null,null,null,null,null,null,null,null,null,null,null,null,null,null,null,null,null,null,null,null,null,null,null,null,null,null,null,null,null,null,null,null,null,null,null,null,null,null,null,null,null,null,null,null,null,null,null,null,null,null,null,null,null,null,null,null,null,null,null,null,null,null,null,null,null,null,null,null,null,null,null,null,null,null,null,null,null,null,null,null,null,null,null,null,null,null,null,null,null,null,null,null,null,null,null,null,null,null,null,null,null,null,null,null,null,null,null,null,null,null,null,null,null,null,null,null,null,null,null,null,null,null,null,null,null,null,null,null,null,null,null,null,null,null,null,null,null,null,null,null,null,null,null,null,null,null,null,null,null,null,null,null,null,null,null,null,null,null,null,null,null,null,null,null,null,null,null,null,null,null,null,null,null,null,null,null,null,null,null,null,null,null,null,null,null,null,null,null,null,null,null,null,null,null,null,null,null,null,null,null,null,null,null,null,null,null,null,null,null,null,null,null,null,null,null,null,null,null,null,null,null,null,null,null,null,null,null,null,null,null,null,null,null,null,null,null,null,null,null,null,null,null,null,null,null,null,null,null,null,null,null,null,null,null,null,null,null,null,null,null,null,null,null,null,null,null,null,null,null,null,null,null,null,null,null,null,null,null,null,null,null,null,null,null,null,null,null,null,null,null,null,null,null,null,null,null,null,null,null,null,null,null,null,null,null,null,null,null,null,null,null,null,null,null,null,null,null,null,null,null,null,null,null,null,null,null,null,null,null,null,null,null,null,null,null,null,null,null,null,null,null,null,null,null,null,null,null,null,null,null,null,null,null,null,null,null,null,null,null,null,null,null,null,null,null,null,null,null,null,null,null,null,null,null,null,null,null,null,null,null,null,null,null,null,null,null,null,null,null,null,null,null,null,null,null,null,null,null,null,null,null,null,null,null,null,null,null,null,null,null,null,null,null,null,null,null,null,null,null,null,null,null,null,null,null,null,null,null,null,null,null,null,null,null,null,null,null,null,null,null,null,null,null,null,null,null,null,null,null,null,null,null,null,null,null,null,null,null,null,null,null,null,null,null,null,null,null,null,null,null,null,null,null,null,null,null,null,null,null,null,null,null,null,null,null,null,null,null,null,null,null,null,null,null,null,null,null,null,null,null,null,null,null,null,null,null,null,null,null,null,null,null,null,null,null,null,null,null,null,null,null,null,null,null,null,null,null,null,null,null,null,null,null,null,null,null,null,null,null,null,null,null,null,null,null,null,null,null,null,null,null,null,null,null,null,null,null,null,null,null,null,null,null,null,null,null,null,null,null,null,null,null,null,null,null,null,null,null,null,null,null,null,null,null,null,null,null,null,null,null,null,null,null,null,null,null,null,null,null,null,null,null,null,null,null,null,null,null,null,null,null,null,null,null,null,null,null,null,null,null,null,null,null,null,null,null,null,null,null,null,null,null,null,null,null,null,null,null,null,null,null,null,null,null,null,null,null,null,null,null,null,null,null,null,null,null,null,null,null,null,null,null,null,null,null,null,null,null,null,null,null,null,null,null,null,null,null,null,null,null,null,null,null,null,null,null,null,null,null,null,null,null,null,null,null,null,null,null,null,null,null,null,null,null,null,null,null,null,null,null,null,null,null,null,null,null,null,null,null,null,null,null,null,null,null,null,null,null,null,null,null,null,null,null,null,null,null,null,null,null,null,null,null,null,null,null,null,null,null,null,null,null,null,null,null,null,null,null,null,null,null,null,null,null,null,null,null,null,null,null,null,null,null,null,null,null,null,null,null,null,null,null,null,null,null,null,null,null,null,null,null,null,null,null,null,null,null,null,null,null,null,null,null,null,null,null,null,null,null,null,null,null,null,null,null,null,null,null,null,null,null,null,null,null,null,null,null,null,null,null,null,null,null,null,null,null,null,null,null,null,null,null,null,null,null,null,null,null,null,null,null,null,null,null,null,null,null,null,null,null,null,null,null,null,null,null,null,null,null,null,null,null,null,null,null,null,null,null,null,null,null,null,null,null,null,null,null,null,null,null,null,null,null,null,null,null,null,null,null,null,null,null,null,null,null,null,null,null,null,null,null,null,null,null,null,null,null,null,null,null,null,null,null,null,null,null,null,null,null,null,null,null,null,null,null,null,null,null,null,null,null,null,null,null,null,null,null,null,null,null,null,null,null,null,null,null,null,null,null,null,null,null,null,null,null,null,null,null,null,null,null,null,null,null,null,null,null,null,null,null,null,null,null,null,null,null,null,null,null,null,null,null,null,null,null,null,null,null,null,null,null,null,null,null,null,null,null,null,null,null,null,null,null,null,null,null,null,null,null,null,null,null,null,null,null,null,null,null,null,null,null,null,null,null,null,null,null,null,null,null,null,null,null,null,null,null,null,null,null,null,null,null,null,null,null,null,null,null,null,null,null,null,null,null,null,null,null,null,null,null,null,null,null,null,null,null,null,null,null,null,null,null,null,null,null,null,null,null,null,null,null,null,null,null,null,null,null,null,null,null,null,null,null,null,null,null,null,null,null,null,null,null,null,null,null,null,null,null,null,null,null,null,null,null,null,null,null,null,null,null,null,null,null,null,null,null,null,null,null,null,null,null,null,null,null,null,null,null,null,null,null,null,null,null,null,null,null,null,null,null,null,null,null,null,null,null,null,null,null,null,null,null,null,null,null,null,null,null,null,null,null,null,null,null,null,null,null,null,null,null,null,null,null,null,null,null,null,null,null,null,null,null,null,null,null,null,null,null,null,null,null,null,null,null,null,null,null,null,null,null,null,null,null,null,null,null,null,null,null,null,null,null,null,null,null,null,null,null,null,null,null,null,null,null,null,null,null,null,null,null,null,null,null,null,null,null,null,null,null,null,null,null,null,null,null,null,null,null,null,null,null,null,null,null,null,null,null,null,null,null,null,null,null,null,null,null,null,null,null,null,null,null,null,null,null,null,null,null,null,null,null,null,null,null,null,null,null,null,null,null,null,null,null,null,null,null,null,null,null,null,null,null,null,null,null,null,null,null,null,null,null,null,null,null,null,null,null,null,null,null,null,null,null,null,null,null,null,null,null,null,null,null,null,null,null,null,null,null,null,null,null,null,null,null,null,null,null,null,null,null,null,null,null,null,null,null,null,null,null,null,null,null,null,null,null,null,null,null,null,null,null,null,null,null,null,null,null,null,null,null,null,null,null,null,null,null,null,null,null,null,null,null,null,null,null,null,null,null,null,null,null,null,null,null,null,null,null,null,null,null,null,null,null,null,null,null,null,null,null,null,null,null,null,null,null,null,null,null,null,null,null,null,null,null,null,null,null,null,null,null,null,null,null,null,null,null,null,null,null,null,null,null,null,null,null,null,null,null,null,null,null,null,null,null,null,null,null,null,null,null,null,null,null,null,null,null,null,null,null,null,null,null,null,null,null,null,null,null,null,null,null,null,null,null,null,null,null,null,null,null,null,null,null,null,null,null,null,null,null,null,null,null,null,null,null,null,null,null,null,null,null,null,null,null,null,null,null,null,null,null,null,null,null,null,null,null,null,null,null,null,null,null,null,null,null,null,null,null,null,null,null,null,null,null,null,null,null,null,null,null,null,null,null,null,null,null,null,null,null,null,null,null,null,null,null,null,null,null,null,null,null,null,null,null,null,null,null,null,null,null,null,null,null,null,null,null,null,null,null,null,null,null,null,null,null,null,null,null,null,null,null,null,null,null,null,null,null,null,null,null,null,null,null,null,null,null,null,null,null,null,null,null,null,null,null,null,null,null,null,null,null,null,null,null,null,null,null,null,null,null,null,null,null,null,null,null,null,null,null,null,null,null,null,null,null,null,null,null,null,null,null,null,null,null,null,null,null,null,null,null,null,null,null,null,null,null,null,null,null,null,null,null,null,null,null,null,null,null,null,null,null,null,null,null,null,null,null,null,null,null,null,null,null,null,null,null,null,null,null,null,null,null,null,null,null,null,null,null,null,null,null,null,null,null,null,null,null,null,null,null,null,null,null,null,null,null,null,null,null,null,null,null,null,null,null,null,null,null,null,null,null,null,null,null,null,null,null,null,null,null,null,null,null,null,null,null,null,null,null,null,null,null,null,null,null,null,null,null,null,null,null,null,null,null,null,null,null,null,null,null,null,null,null,null,null,null,null,null,null,null,null,null,null,null,null,null,null,null,null,null,null,null,null,null,null,null,null,null,null,null,null,null,null,null,null,null,null,null,null,null,null,null,null,null,null,null,null,null,null,null,null,null,null,null,null,null,null,null,null,null,null,null,null,null,null,null,null,null,null,null,null,null,null,null,null,null,null,null,null,null,null,null,null,null,null,null,null,null,null,null,null,null,null,null,null,null,null,null,null,null,null,null,null,null,null,null,null,null,null,null,null,null,null,null,null,null,null,null,null,null,null,null,null,null,null,null,null,null,null,null,null,null,null,null,null,null,null,null,null,null,null,null,null,null,null,null,null,null,null,null,null,null,null,null,null,null,null,null,null,null,null,null,null,null,null,null,null,null,null,null,null,null,null,null,null,null,null,null,null,null,null,null,null,null,null,null,null,null,null,null,null,null,null,null,null,null,null,null,null,null,null,null,null,null,null,null,null,null,null,null,null,null,null,null,null,null,null,null,null,null,null,null,null,null,null,null,null,null,null,null,null,null,null,null,null,null,null,null,null,null,null,null,null,null,null,null,null,null,null,null,null,null,null,null,null,null,null,null,null,null,null,null,null,null,null,null,null,null,null,null,null,null,null,null,null,null,null,null,null,null,null,null,null,null,null,null,null,null,null,null,null,null,null,null,null,null,null,null,null,null,null,null,null,null,null,null,null,null,null,null,null,null,null,null,null,null,null,null,null,null,null,null,null,null,null,null,null,null,null,null,null,null,null,null,null,null,null,null,null,null,null,null,null,null,null,null,null,null,null,null,null,null,null,null,null,null,null,null,null,null,null,null,null,null,null,null,null,null,null,null,null,null,null,null,null,null,null,null,null,null,null,null,null,null,null,null,null,null,null,null,null,null,null,null,null,null,null,null,null,null,null,null,null,null,null,null,null,null,null,null,null,null,null,null,null,null,null,null,null,null,null,null,null,null,null,null,null,null,null,null,null,null,null,null,null,null,null,null,null,null,null,null,null,null,null,null,null,null,null,null,null,null,null,null,null,null,null,null,null,null,null,null,null,null,null,null,null,null,null,null,null,null,null,null,null,null,null,null,null,null,null,null,null,null,null,null,null,null,null,null,null,null,null,null,null,null,null,null,null,null,null,null,null,null,null,null,null,null,null,null,null,null,null,null,null,null,null,null,null,null,null,null,null,null,null,null,null,null,null,null,null,null,null,null,null,null,null,null,null,null,null,null,null,null,null,null,null,null,null,null,null,null,null,null,null,null,null,null,null,null,null,null,null,null,null,null,null,null,null,null,null,null,null,null,null,null,null,null,null,null,null,null,null,null,null,null,null,null,null,null,null,null,null,null,null,null,null,null,null,null,null,null,null,null,null,null,null,null,null,null,null,null,null,null,null,null,null,null,null,null,null,null,null,null,null,null,null,null,null,null,null,null,null,null,null,null,null,null,null,null,null,null,null,null,null,null,null,null,null,null,null,null,null,null,null,null,null,null,null,null,null,null,null,null,null,null,null,null,null,null,null,null,null,null,null,null,null,null,null,null,null,null,null,null,null,null,null,null,null,null,null,null,null,null,null,null,null,null,null,null,null,null,null,null,null,null,null,null,null,null,null,null,null,null,null,null,null,null,null,null,null,null,null,null,null,null,null,null,null,null,null,null,null,null,null,null,null,null,null,null,null,null,null,null,null,null,null,null,null,null,null,null,null,null,null,null,null,null,null,null,null,null,null,null,null,null,null,null,null,null,null,null,null,null,null,null,null,null,null,null,null,null,null,null,null,null,null,null,null,null,null,null,null,null,null,null,null,null,null,null,null,null,null,null,null,null,null,null,null,null,null,null,null,null,null,null,null,null,null,null,null,null,null,null,null,null,null,null,null,null,null,null,null,null,null,null,null,null,null,null,null,null,null,null,null,null,null,null,null,null,null,null,null,null,null,null,null,null,null,null,"Pass"]
[null,"PERIOD END",null,null,"Lease Section/Pg",null,null,null,null,null,null,null,null,null,null,null,null,null,null,null,null,null,null,null,null,null,null,null,null,null,null,null,null,null,null,null,null,null,null,null,null,null,null,null,null,null,null,null,null,null,null,null,null,null,null,null,null,null,null,null,null,null,null,null,null,null,null,null,null,null,null,null,null,null,null,null,null,null,null,null,null,null,null,null,null,null,null,null,null,null,null,null,null,null,null,null,null,null,null,null,null,null,null,null,null,null,null,null,null,null,null,null,null,null,null,null,null,null,null,null,null,null,null,null,null,null,null,null,null,null,null,null,null,null,null,null,null,null,null,null,null,null,null,null,null,null,null,null,null,null,null,null,null,null,null,null,null,null,null,null,null,null,null,null,null,null,null,null,null,null,null,null,null,null,null,null,null,null,null,null,null,null,null,null,null,null,null,null,null,null,null,null,null,null,null,null,null,null,null,null,null,null,null,null,null,null,null,null,null,null,null,null,null,null,null,null,null,null,null,null,null,null,null,null,null,null,null,null,null,null,null,null,null,null,null,null,null,null,null,null,null,null,null,null,null,null,null,null,null,null,null,null,null,null,null,null,null,null,null,null,null,null,null,null,null,null,null,null,null,null,null,null,null,null,null,null,null,null,null,null,null,null,null,null,null,null,null,null,null,null,null,null,null,null,null,null,null,null,null,null,null,null,null,null,null,null,null,null,null,null,null,null,null,null,null,null,null,null,null,null,null,null,null,null,null,null,null,null,null,null,null,null,null,null,null,null,null,null,null,null,null,null,null,null,null,null,null,null,null,null,null,null,null,null,null,null,null,null,null,null,null,null,null,null,null,null,null,null,null,null,null,null,null,null,null,null,null,null,null,null,null,null,null,null,null,null,null,null,null,null,null,null,null,null,null,null,null,null,null,null,null,null,null,null,null,null,null,null,null,null,null,null,null,null,null,null,null,null,null,null,null,null,null,null,null,null,null,null,null,null,null,null,null,null,null,null,null,null,null,null,null,null,null,null,null,null,null,null,null,null,null,null,null,null,null,null,null,null,null,null,null,null,null,null,null,null,null,null,null,null,null,null,null,null,null,null,null,null,null,null,null,null,null,null,null,null,null,null,null,null,null,null,null,null,null,null,null,null,null,null,null,null,null,null,null,null,null,null,null,null,null,null,null,null,null,null,null,null,null,null,null,null,null,null,null,null,null,null,null,null,null,null,null,null,null,null,null,null,null,null,null,null,null,null,null,null,null,null,null,null,null,null,null,null,null,null,null,null,null,null,null,null,null,null,null,null,null,null,null,null,null,null,null,null,null,null,null,null,null,null,null,null,null,null,null,null,null,null,null,null,null,null,null,null,null,null,null,null,null,null,null,null,null,null,null,null,null,null,null,null,null,null,null,null,null,null,null,null,null,null,null,null,null,null,null,null,null,null,null,null,null,null,null,null,null,null,null,null,null,null,null,null,null,null,null,null,null,null,null,null,null,null,null,null,null,null,null,null,null,null,null,null,null,null,null,null,null,null,null,null,null,null,null,null,null,null,null,null,null,null,null,null,null,null,null,null,null,null,null,null,null,null,null,null,null,null,null,null,null,null,null,null,null,null,null,null,null,null,null,null,null,null,null,null,null,null,null,null,null,null,null,null,null,null,null,null,null,null,null,null,null,null,null,null,null,null,null,null,null,null,null,null,null,null,null,null,null,null,null,null,null,null,null,null,null,null,null,null,null,null,null,null,null,null,null,null,null,null,null,null,null,null,null,null,null,null,null,null,null,null,null,null,null,null,null,null,null,null,null,null,null,null,null,null,null,null,null,null,null,null,null,null,null,null,null,null,null,null,null,null,null,null,null,null,null,null,null,null,null,null,null,null,null,null,null,null,null,null,null,null,null,null,null,null,null,null,null,null,null,null,null,null,null,null,null,null,null,null,null,null,null,null,null,null,null,null,null,null,null,null,null,null,null,null,null,null,null,null,null,null,null,null,null,null,null,null,null,null,null,null,null,null,null,null,null,null,null,null,null,null,null,null,null,null,null,null,null,null,null,null,null,null,null,null,null,null,null,null,null,null,null,null,null,null,null,null,null,null,null,null,null,null,null,null,null,null,null,null,null,null,null,null,null,null,null,null,null,null,null,null,null,null,null,null,null,null,null,null,null,null,null,null,null,null,null,null,null,null,null,null,null,null,null,null,null,null,null,null,null,null,null,null,null,null,null,null,null,null,null,null,null,null,null,null,null,null,null,null,null,null,null,null,null,null,null,null,null,null,null,null,null,null,null,null,null,null,null,null,null,null,null,null,null,null,null,null,null,null,null,null,null,null,null,null,null,null,null,null,null,null,null,null,null,null,null,null,null,null,null,null,null,null,null,null,null,null,null,null,null,null,null,null,null,null,null,null,null,null,null,null,null,null,null,null,null,null,null,null,null,null,null,null,null,null,null,null,null,null,null,null,null,null,null,null,null,null,null,null,null,null,null,null,null,null,null,null,null,null,null,null,null,null,null,null,null,null,null,null,null,null,null,null,null,null,null,null,null,null,null,null,null,null,null,null,null,null,null,null,null,null,null,null,null,null,null,null,null,null,null,null,null,null,null,null,null,null,null,null,null,null,null,null,null,null,null,null,null,null,null,null,null,null,null,null,null,null,null,null,null,null,null,null,null,null,null,null,null,null,null,null,null,null,null,null,null,null,null,null,null,null,null,null,null,null,null,null,null,null,null,null,null,null,null,null,null,null,null,null,null,null,null,null,null,null,null,null,null,null,null,null,null,null,null,null,null,null,null,null,null,null,null,null,null,null,null,null,null,null,null,null,null,null,null,null,null,null,null,null,null,null,null,null,null,null,null,null,null,null,null,null,null,null,null,null,null,null,null,null,null,null,null,null,null,null,null,null,null,null,null,null,null,null,null,null,null,null,null,null,null,null,null,null,null,null,null,null,null,null,null,null,null,null,null,null,null,null,null,null,null,null,null,null,null,null,null,null,null,null,null,null,null,null,null,null,null,null,null,null,null,null,null,null,null,null,null,null,null,null,null,null,null,null,null,null,null,null,null,null,null,null,null,null,null,null,null,null,null,null,null,null,null,null,null,null,null,null,null,null,null,null,null,null,null,null,null,null,null,null,null,null,null,null,null,null,null,null,null,null,null,null,null,null,null,null,null,null,null,null,null,null,null,null,null,null,null,null,null,null,null,null,null,null,null,null,null,null,null,null,null,null,null,null,null,null,null,null,null,null,null,null,null,null,null,null,null,null,null,null,null,null,null,null,null,null,null,null,null,null,null,null,null,null,null,null,null,null,null,null,null,null,null,null,null,null,null,null,null,null,null,null,null,null,null,null,null,null,null,null,null,null,null,null,null,null,null,null,null,null,null,null,null,null,null,null,null,null,null,null,null,null,null,null,null,null,null,null,null,null,null,null,null,null,null,null,null,null,null,null,null,null,null,null,null,null,null,null,null,null,null,null,null,null,null,null,null,null,null,null,null,null,null,null,null,null,null,null,null,null,null,null,null,null,null,null,null,null,null,null,null,null,null,null,null,null,null,null,null,null,null,null,null,null,null,null,null,null,null,null,null,null,null,null,null,null,null,null,null,null,null,null,null,null,null,null,null,null,null,null,null,null,null,null,null,null,null,null,null,null,null,null,null,null,null,null,null,null,null,null,null,null,null,null,null,null,null,null,null,null,null,null,null,null,null,null,null,null,null,null,null,null,null,null,null,null,null,null,null,null,null,null,null,null,null,null,null,null,null,null,null,null,null,null,null,null,null,null,null,null,null,null,null,null,null,null,null,null,null,null,null,null,null,null,null,null,null,null,null,null,null,null,null,null,null,null,null,null,null,null,null,null,null,null,null,null,null,null,null,null,null,null,null,null,null,null,null,null,null,null,null,null,null,null,null,null,null,null,null,null,null,null,null,null,null,null,null,null,null,null,null,null,null,null,null,null,null,null,null,null,null,null,null,null,null,null,null,null,null,null,null,null,null,null,null,null,null,null,null,null,null,null,null,null,null,null,null,null,null,null,null,null,null,null,null,null,null,null,null,null,null,null,null,null,null,null,null,null,null,null,null,null,null,null,null,null,null,null,null,null,null,null,null,null,null,null,null,null,null,null,null,null,null,null,null,null,null,null,null,null,null,null,null,null,null,null,null,null,null,null,null,null,null,null,null,null,null,null,null,null,null,null,null,null,null,null,null,null,null,null,null,null,null,null,null,null,null,null,null,null,null,null,null,null,null,null,null,null,null,null,null,null,null,null,null,null,null,null,null,null,null,null,null,null,null,null,null,null,null,null,null,null,null,null,null,null,null,null,null,null,null,null,null,null,null,null,null,null,null,null,null,null,null,null,null,null,null,null,null,null,null,null,null,null,null,null,null,null,null,null,null,null,null,null,null,null,null,null,null,null,null,null,null,null,null,null,null,null,null,null,null,null,null,null,null,null,null,null,null,null,null,null,null,null,null,null,null,null,null,null,null,null,null,null,null,null,null,null,null,null,null,null,null,null,null,null,null,null,null,null,null,null,null,null,null,null,null,null,null,null,null,null,null,null,null,null,null,null,null,null,null,null,null,null,null,null,null,null,null,null,null,null,null,null,null,null,null,null,null,null,null,null,null,null,null,null,null,null,null,null,null,null,null,null,null,null,null,null,null,null,null,null,null,null,null,null,null,null,null,null,null,null,null,null,null,null,null,null,null,null,null,null,null,null,null,null,null,null,null,null,null,null,null,null,null,null,null,null,null,null,null,null,null,null,null,null,null,null,null,null,null,null,null,null,null,null,null,null,null,null,null,null,null,null,null,null,null,null,null,null,null,null,null,null,null,null,null,null,null,null,null,null,null,null,null,null,null,null,null,null,null,null,null,null,null,null,null,null,null,null,null,null,null,null,null,null,null,null,null,null,null,null,null,null,null,null,null,null,null,null,null,null,null,null,null,null,null,null,null,null,null,null,null,null,null,null,null,null,null,null,null,null,null,null,null,null,null,null,null,null,null,null,null,null,null,null,null,null,null,null,null,null,null,null,null,null,null,null,null,null,null,null,null,null,null,null,null,null,null,null,null,null,null,null,null,null,null,null,null,null,null,null,null,null,null,null,null,null,null,null,null,null,null,null,null,null,null,null,null,null,null,null,null,null,null,null,null,null,null,null,null,null,null,null,null,null,null,null,null,null,null,null,null,null,null,null,null,null,null,null,null,null,null,null,null,null,null,null,null,null,null,null,null,null,null,null,null,null,null,null,null,null,null,null,null,null,null,null,null,null,null,null,null,null,null,null,null,null,null,null,null,null,null,null,null,null,null,null,null,null,null,null,null,null,null,null,null,null,null,null,null,null,null,null,null,null,null,null,null,null,null,null,null,null,null,null,null,null,null,null,null,null,null,null,null,null,null,null,null,null,null,null,null,null,null,null,null,null,null,null,null,null,null,null,null,null,null,null,null,null,null,null,null,null,null,null,null,null,null,null,null,null,null,null,null,null,null,null,null,null,null,null,null,null,null,null,null,null,null,null,null,null,null,null,null,null,null,null,null,null,null,null,null,null,null,null,null,null,null,null,null,null,null,null,null,null,null,null,null,null,null,null,null,null,null,null,null,null,null,null,null,null,null,null,null,null,null,null,null,null,null,null,null,null,null,null,null,null,null,null,null,null,null,null,null,null,null,null,null,null,null,null,null,null,null,null,null,null,null,null,null,null,null,null,null,null,null,null,null,null,null,null,null,null,null,null,null,null,null,null,null,null,null,null,null,null,null,null,null,null,null,null,null,null,null,null,null,null,null,null,null,null,null,null,null,null,null,null,null,null,null,null,null,null,null,null,null,null,null,null,null,null,null,null,null,null,null,null,null,null,null,null,null,null,null,null,null,null,null,null,null,null,null,null,null,null,null,null,null,null,null,null,null,null,null,null,null,null,null,null,null,null,null,null,null,null,null,null,null,null,null,null,null,null,null,null,null,null,null,null,null,null,null,null,null,null,null,null,null,null,null,null,null,null,null,null,null,null,null,null,null,null,null,null,null,null,null,null,null,null,null,null,null,null,null,null,null,null,null,null,null,null,null,null,null,null,null,null,null,null,null,null,null,null,null,null,null,null,null,null,null,null,null,null,null,null,null,null,null,null,null,null,null,null,null,null,null,null,null,null,null,null,null,null,null,null,null,null,null,null,null,null,null,null,null,null,null,null,null,null,null,null,null,null,null,null,null,null,null,null,null,null,null,null,null,null,null,null,null,null,null,null,null,null,null,null,null,null,null,null,null,null,null,null,null,null,null,null,null,null,null,null,null,null,null,null,null,null,null,null,null,null,null,null,null,null,null,null,null,null,null,null,null,null,null,null,null,null,null,null,null,null,null,null,null,null,null,null,null,null,null,null,null,null,null,null,null,null,null,null,null,null,null,null,null,null,null,null,null,null,null,null,null,null,null,null,null,null,null,null,null,null,null,null,null,null,null,null,null,null,null,null,null,null,null,null,null,null,null,null,null,null,null,null,null,null,null,null,null,null,null,null,null,null,null,null,null,null,null,null,null,null,null,null,null,null,null,null,null,null,null,null,null,null,null,null,null,null,null,null,null,null,null,null,null,null,null,null,null,null,null,null,null,null,null,null,null,null,null,null,null,null,null,null,null,null,null,null,null,null,null,null,null,null,null,null,null,null,null,null,null,null,null,null,null,null,null,null,null,null,null,null,null,null,null,null,null,null,null,null,null,null,null,null,null,null,null,null,null,null,null,null,null,null,null,null,null,null,null,null,null,null,null,null,null,null,null,null,null,null,null,null,null,null,null,null,null,null,null,null,null,null,null,null,null,null,null,null,null,null,null,null,null,null,null,null,null,null,null,null,null,null,null,null,null,null,null,null,null,null,null,null,null,null,null,null,null,null,null,null,null,null,null,null,null,null,null,null,null,null,null,null,null,null,null,null,null,null,null,null,null,null,null,null,null,null,null,null,null,null,null,null,null,null,null,null,null,null,null,null,null,null,null,null,null,null,null,null,null,null,null,null,null,null,null,null,null,null,null,null,null,null,null,null,null,null,null,null,null,null,null,null,null,null,null,null,null,null,null,null,null,null,null,null,null,null,null,null,null,null,null,null,null,null,null,null,null,null,null,null,null,null,null,null,null,null,null,null,null,null,null,null,null,null,null,null,null,null,null,null,null,null,null,null,null,null,null,null,null,null,null,null,null,null,null,null,null,null,null,null,null,null,null,null,null,null,null,null,null,null,null,null,null,null,null,null,null,null,null,null,null,null,null,null,null,null,null,null,null,null,null,null,null,null,null,null,null,null,null,null,null,null,null,null,null,null,null,null,null,null,null,null,null,null,null,null,null,null,null,null,null,null,null,null,null,null,null,null,null,null,null,null,null,null,null,null,null,null,null,null,null,null,null,null,null,null,null,null,null,null,null,null,null,null,null,null,null,null,null,null,null,null,null,null,null,null,null,null,null,null,null,null,null,null,null,null,null,null,null,null,null,null,null,null,null,null,null,null,null,null,null,null,null,null,null,null,null,null,null,null,null,null,null,null,null,null,null,null,null,null,null,null,null,null,null,null,null,null,null,null,null,null,null,null,null,null,null,null,null,null,null,null,null,null,null,null,null,null,null,null,null,null,null,null,null,null,null,null,null,null,null,null,null,null,null,null,null,null,null,null,null,null,null,null,null,null,null,null,null,null,null,null,null,null,null,null,null,null,null,null,null,null,null,null,null,null,null,null,null,null,null,null,null,null,null,null,null,null,null,null,null,null,null,null,null,null,null,null,null,null,null,null,null,null,null,null,null,null,null,null,null,null,null,null,null,null,null,null,null,null,null,null,null,null,null,null,null,null,null,null,null,null,null,null,null,null,null,null,null,null,null,null,null,null,null,null,null,null,null,null,null,null,null,null,null,null,null,null,null,null,null,null,null,null,null,null,null,null,null,null,null,null,null,null,null,null,null,null,null,null,null,null,null,null,null,null,null,null,null,null,null,null,null,null,null,null,null,null,null,null,null,null,null,null,null,null,null,null,null,null,null,null,null,null,null,null,null,null,null,null,null,null,null,null,null,null,null,null,null,null,null,null,null,null,null,null,null,null,null,null,null,null,null,null,null,null,null,null,null,null,null,null,null,null,null,null,null,null,null,null,null,null,null,null,null,null,null,null,null,null,null,null,null,null,null,null,null,null,null,null,null,null,null,null,null,null,null,null,null,null,null,null,null,null,null,null,null,null,null,null,null,null,null,null,null,null,null,null,null,null,null,null,null,null,null,null,null,null,null,null,null,null,null,null,null,null,null,null,null,null,null,null,null,null,null,null,null,null,null,null,null,null,null,null,null,null,null,null,null,null,null,null,null,null,null,null,null,null,null,null,null,null,null,null,null,null,null,null,null,null,null,null,null,null,null,null,null,null,null,null,null,null,null,null,null,null,null,null,null,null,null,null,null,null,null,null,null,null,null,null,null,null,null,null,null,null,null,null,null,null,null,null,null,null,null,null,null,null,null,null,null,null,null,null,null,null,null,null,null,null,null,null,null,null,null,null,null,null,null,null,null,null,null,null,null,null,null,null,null,null,null,null,null,null,null,null,null,null,null,null,null,null,null,null,null,null,null,null,null,null,null,null,null,null,null,null,null,null,null,null,null,null,null,null,null,null,null,null,null,null,null,null,null,null,null,null,null,null,null,null,null,null,null,null,null,null,null,null,null,null,null,null,null,null,null,null,null,null,null,null,null,null,null,null,null,null,null,null,null,null,null,null,null,null,null,null,null,null,null,null,null,null,null,null,null,null,null,null,null,null,null,null,null,null,null,null,null,null,null,null,null,null,null,null,null,null,null,null,null,null,null,null,null,null,null,null,null,null,null,null,null,null,null,null,null,null,null,null,null,null,null,null,null,null,null,null,null,null,null,null,null,null,null,null,null,null,null,null,null,null,null,null,null,null,null,null,null,null,null,null,null,null,null,null,null,null,null,null,null,null,null,null,null,null,null,null,null,null,null,null,null,null,null,null,null,null,null,null,null,null,null,null,null,null,null,null,null,null,null,null,null,null,null,null,null,null,null,null,null,null,null,null,null,null,null,null,null,null,null,null,null,null,null,null,null,null,null,null,null,null,null,null,null,null,null,null,null,null,null,null,null,null,null,null,null,null,null,null,null,null,null,null,null,null,null,null,null,null,null,null,null,null,null,null,null,null,null,null,null,null,null,null,null,null,null,null,null,null,null,null,null,null,null,null,null,null,null,null,null,null,null,null,null,null,null,null,null,null,null,null,null,null,null,null,null,null,null,null,null,null,null,null,null,null,null,null,null,null,null,null,null,null,null,null,null,null,null,null,null,null,null,null,null,null,null,null,null,null,null,null,null,null,null,null,null,null,null,null,null,null,null,null,null,null,null,null,null,null,null,null,null,null,null,null,null,null,null,null,null,null,null,null,null,null,null,null,null,null,null,null,null,null,null,null,null,null,null,null,null,null,null,null,null,null,null,null,null,null,null,null,null,null,null,null,null,null,null,null,null,null,null,null,null,null,null,null,null,null,null,null,null,null,null,null,null,null,null,null,null,null,null,null,null,null,null,null,null,null,null,null,null,null,null,null,null,null,null,null,null,null,null,null,null,null,null,null,null,null,null,null,null,null,null,null,null,null,null,null,null,null,null,null,null,null,null,null,null,null,null,null,null,null,null,null,null,null,null,null,null,null,null,null,null,null,null,null,null,null,null,null,null,null,null,null,null,null,null,null,null,null,null,null,null,null,null,null,null,null,null,null,null,null,null,null,null,null,null,null,null,null,null,null,null,null,null,null,null,null,null,null,null,null,null,null,null,null,null,null,null,null,null,null,null,null,null,null,null,null,null,null,null,null,null,null,null,null,null,null,null,null,null,null,null,null,null,null,null,null,null,null,null,null,null,null,null,null,null,null,null,null,null,null,null,null,null,null,null,null,null,null,null,null,null,null,null,null,null,null,null,null,null,null,null,null,null,null,null,null,null,null,null,null,null,null,null,null,null,null,null,null,null,null,null,null,null,null,null,null,null,null,null,null,null,null,null,null,null,null,null,null,null,null,null,null,null,null,null,null,null,null,null,null,null,null,null,null,null,null,null,null,null,null,null,null,null,null,null,null,null,null,null,null,null,null,null,null,null,null,null,null,null,null,null,null,null,null,null,null,null,null,null,null,null,null,null,null,null,null,null,null,null,null,null,null,null,null,null,null,null,null,null,null,null,null,null,null,null,null,null,null,null,null,null,null,null,null,null,null,null,null,null,null,null,null,null,null,null,null,null,null,null,null,null,null,null,null,null,null,null,null,null,null,null,null,null,null,null,null,null,null,null,null,null,null,null,null,null,null,null,null,null,null,null,null,null,null,null,null,null,null,null,null,null,null,null,null,null,null,null,null,null,null,null,null,null,null,null,null,null,null,null,null,null,null,null,null,null,null,null,null,null,null,null,null,null,null,null,null,null,null,null,null,null,null,null,null,null,null,null,null,null,null,null,null,null,null,null,null,null,null,null,null,null,null,null,null,null,null,null,null,null,null,null,null,null,null,null,null,null,null,null,null,null,null,null,null,null,null,null,null,null,null,null,null,null,null,null,null,null,null,null,null,null,null,null,null,null,null,null,null,null,null,null,null,null,null,null,null,null,null,null,null,null,null,null,null,null,null,null,null,null,null,null,null,null,null,null,null,null,null,null,null,null,null,null,null,null,null,null,null,null,null,null,null,null,null,null,null,null,null,null,null,null,null,null,null,null,null,null,null,null,null,null,null,null,null,null,null,null,null,null,null,null,null,null,null,null,null,null,null,null,null,null,null,null,null,null,null,null,null,null,null,null,null,null,null,null,null,null,null,null,null,null,null,null,null,null,null,null,null,null,null,null,null,null,null,null,null,null,null,null,null,null,null,null,null,null,null,null,null,null,null,null,null,null,null,null,null,null,null,null,null,null,null,null,null,null,null,null,null,null,null,null,null,null,null,null,null,null,null,null,null,null,null,null,null,null,null,null,null,null,null,null,null,null,null,null,null,null,null,null,null,null,null,null,null,null,null,null,null,null,null,null,null,null,null,null,null,null,null,null,null,null,null,null,null,null,null,null,null,null,null,null,null,null,null,null,null,null,null,null,null,null,null,null,null,null,null,null,null,null,null,null,null,null,null,null,null,null,null,null,null,null,null,null,null,null,null,null,null,null,null,null,null,null,null,null,null,null,null,null,null,null,null,null,null,null,null,null,null,null,null,null,null,null,null,null,null,null,null,null,null,null,null,null,null,null,null,null,null,null,null,null,null,null,null,null,null,null,null,null,null,null,null,null,null,null,null,null,null,null,null,null,null,null,null,null,null,null,null,null,null,null,null,null,null,null,null,null,null,null,null,null,null,null,null,null,null,null,null,null,null,null,null,null,null,null,null,null,null,null,null,null,null,null,null,null,null,null,null,null,null,null,null,null,null,null,null,null,null,null,null,null,null,null,null,null,null,null,null,null,null,null,null,null,null,null,null,null,null,null,null,null,null,null,null,null,null,null,null,null,null,null,null,null,null,null,null,null,null,null,null,null,null,null,null,null,null,null,null,null,null,null,null,null,null,null,null,null,null,null,null,null,null,null,null,null,null,null,null,null,null,null,null,null,null,null,null,null,null,null,null,null,null,null,null,null,null,null,null,null,null,null,null,null,null,null,null,null,null,null,null,null,null,null,null,null,null,null,null,null,null,null,null,null,null,null,null,null,null,null,null,null,null,null,null,null,null,null,null,null,null,null,null,null,null,null,null,null,null,null,null,null,null,null,null,null,null,null,null,null,null,null,null,null,null,null,null,null,null,null,null,null,null,null,null,null,null,null,null,null,null,null,null,null,null,null,null,null,null,null,null,null,null,null,null,null,null,null,null,null,null,null,null,null,null,null,null,null,null,null,null,null,null,null,null,null,null,null,null,null,null,null,null,null,null,null,null,null,null,null,null,null,null,null,null,null,null,null,null,null,null,null,null,null,null,null,null,null,null,null,null,null,null,null,null,null,null,null,null,null,null,null,null,null,null,null,null,null,null,null,null,null,null,null,null,null,null,null,null,null,null,null,null,null,null,null,null,null,null,null,null,null,null,null,null,null,null,null,null,null,null,null,null,null,null,null,null,null,null,null,null,null,null,null,null,null,null,null,null,null,null,null,null,null,null,null,null,null,null,null,null,null,null,null,null,null,null,null,null,null,null,null,null,null,null,null,null,null,null,null,null,null,null,null,null,null,null,null,null,null,null,null,null,null,null,null,null,null,null,null,null,null,null,null,null,null,null,null,null,null,null,null,null,null,null,null,null,null,null,null,null,null,null,null,null,null,null,null,null,null,null,null,null,null,null,null,null,null,null,null,null,null,null,null,null,null,null,null,null,null,null,null,null,null,null,null,null,null,null,null,null,null,null,null,null,null,null,null,null,null,null,null,null,null,null,null,null,null,null,null,null,null,null,null,null,null,null,null,null,null,null,null,null,null,null,null,null,null,null,null,null,null,null,null,null,null,null,null,null,null,null,null,null,null,null,null,null,null,null,null,null,null,null,null,null,null,null,null,null,null,null,null,null,null,null,null,null,null,null,null,null,null,null,null,null,null,null,null,null,null,null,null,null,null,null,null,null,null,null,null,null,null,null,null,null,null,null,null,null,null,null,null,null,null,null,null,null,null,null,null,null,null,null,null,null,null,null,null,null,null,null,null,null,null,null,null,null,null,null,null,null,null,null,null,null,null,null,null,null,null,null,null,null,null,null,null,null,null,null,null,null,null,null,null,null,null,null,null,null,null,null,null,null,null,null,null,null,null,null,null,null,null,null,null,null,null,null,null,null,null,null,null,null,null,null,null,null,null,null,null,null,null,null,null,null,null,null,null,null,null,null,null,null,null,null,null,null,null,null,null,null,null,null,null,null,null,null,null,null,null,null,null,null,null,null,null,null,null,null,null,null,null,null,null,null,null,null,null,null,null,null,null,null,null,null,null,null,null,null,null,null,null,null,null,null,null,null,null,null,null,null,null,null,null,null,null,null,null,null,null,null,null,null,null,null,null,null,null,null,null,null,null,null,null,null,null,null,null,null,null,null,null,null,null,null,null,null,null,null,null,null,null,null,null,null,null,null,null,null,null,null,null,null,null,null,null,null,null,null,null,null,null,null,null,null,null,null,null,null,null,null,null,null,null,null,null,null,null,null,null,null,null,null,null,null,null,null,null,null,null,null,null,null,null,null,null,null,null,null,null,null,null,null,null,null,null,null,null,null,null,null,null,null,null,null,null,null,null,null,null,null,null,null,null,null,null,null,null,null,null,null,null,null,null,null,null,null,null,null,null,null,null,null,null,null,null,null,null,null,null,null,null,null,null,null,null,null,null,null,null,null,null,null,null,null,null,null,null,null,null,null,null,null,null,null,null,null,null,null,null,null,null,null,null,null,null,null,null,null,null,null,null,null,null,null,null,null,null,null,null,null,null,null,null,null,null,null,null,null,null,null,null,null,null,null,null,null,null,null,null,null,null,null,null,null,null,null,null,null,null,null,null,null,null,null,null,null,null,null,null,null,null,null,null,null,null,null,null,null,null,null,null,null,null,null,null,null,null,null,null,null,null,null,null,null,null,null,null,null,null,null,null,null,null,null,null,null,null,null,null,null,null,null,null,null,null,null,null,null,null,null,null,null,null,null,null,null,null,null,null,null,null,null,null,null,null,null,null,null,null,null,null,null,null,null,null,null,null,null,null,null,null,null,null,null,null,null,null,null,null,null,null,null,null,null,null,null,null,null,null,null,null,null,null,null,null,null,null,null,null,null,null,null,null,null,null,null,null,null,null,null,null,null,null,null,null,null,null,null,null,null,null,null,null,null,null,null,null,null,null,null,null,null,null,null,null,null,null,null,null,null,null,null,null,null,null,null,null,null,null,null,null,null,null,null,null,null,null,null,null,null,null,null,null,null,null,null,null,null,null,null,null,null,null,null,null,null,null,null,null,null,null,null,null,null,null,null,null,null,null,null,null,null,null,null,null,null,null,null,null,null,null,null,null,null,null,null,null,null,null,null,null,null,null,null,null,null,null,null,null,null,null,null,null,null,null,null,null,null,null,null,null,null,null,null,null,null,null,null,null,null,null,null,null,null,null,null,null,null,null,null,null,null,null,null,null,null,null,null,null,null,null,null,null,null,null,null,null,null,null,null,null,null,null,null,null,null,null,null,null,null,null,null,null,null,null,null,null,null,null,null,null,null,null,null,null,null,null,null,null,null,null,null,null,null,null,null,null,null,null,null,null,null,null,null,null,null,null,null,null,null,null,null,null,null,null,null,null,null,null,null,null,null,null,null,null,null,null,null,null,null,null,null,null,null,null,null,null,null,null,null,null,null,null,null,null,null,null,null,null,null,null,null,null,null,null,null,null,null,null,null,null,null,null,null,null,null,null,null,null,null,null,null,null,null,null,null,null,null,null,null,null,null,null,null,null,null,null,null,null,null,null,null,null,null,null,null,null,null,null,null,null,null,null,null,null,null,null,null,null,null,null,null,null,null,null,null,null,null,null,null,null,null,null,null,null,null,null,null,null,null,null,null,null,null,null,null,null,null,null,null,null,null,null,null,null,null,null,null,null,null,null,null,null,null,null,null,null,null,null,null,null,null,null,null,null,null,null,null,null,null,null,null,null,null,null,null,null,null,null,null,null,null,null,null,null,null,null,null,null,null,null,null,null,null,null,null,null,null,null,null,null,null,null,null,null,null,null,null,null,null,null,null,null,null,null,null,null,null,null,null,null,null,null,null,null,null,null,null,null,null,null,null,null,null,null,null,null,null,null,null,null,null,null,null,null,null,null,null,null,null,null,null,null,null,null,null,null,null,null,null,null,null,null,null,null,null,null,null,null,null,null,null,null,null,null,null,null,null,null,null,null,null,null,null,null,null,null,null,null,null,null,null,null,null,null,null,null,null,null,null,null,null,null,null,null,null,null,null,null,null,null,null,null,null,null,null,null,null,null,null,null,null,null,null,null,null,null,null,null,null,null,null,null,null,null,null,null,null,null,null,null,null,null,null,null,null,null,null,null,null,null,null,null,null,null,null,null,null,null,null,null,null,null,null,null,null,null,null,null,null,null,null,null,null,null,null,null,null,null,null,null,null,null,null,null,null,null,null,null,null,null,null,null,null,null,null,null,null,null,null,null,null,null,null,null,null,null,null,null,null,null,null,null,null,null,null,null,null,null,null,null,null,null,null,null,null,null,null,null,null,null,null,null,null,null,null,null,null,null,null,null,null,null,null,null,null,null,null,null,null,null,null,null,null,null,null,null,null,null,null,null,null,null,null,null,null,null,null,null,null,null,null,null,null,null,null,null,null,null,null,null,null,null,null,null,null,null,null,null,null,null,null,null,null,null,null,null,null,null,null,null,null,null,null,null,null,null,null,null,null,null,null,null,null,null,null,null,null,null,null,null,null,null,null,null,null,null,null,null,null,null,null,null,null,null,null,null,null,null,null,null,null,null,null,null,null,null,null,null,null,null,null,null,null,null,null,null,null,null,null,null,null,null,null,null,null,null,null,null,null,null,null,null,null,null,null,null,null,null,null,null,null,null,null,null,null,null,null,null,null,null,null,null,null,null,null,null,null,null,null,null,null,null,null,null,null,null,null,null,null,null,null,null,null,null,null,null,null,null,null,null,null,null,null,null,null,null,null,null,null,null,null,null,null,null,null,null,null,null,null,null,null,null,null,null,null,null,null,null,null,null,null,null,null,null,null,null,null,null,null,null,null,null,null,null,null,null,null,null,null,null,null,null,null,null,null,null,null,null,null,null,null,null,null,null,null,null,null,null,null,null,null,null,null,null,null,null,null,null,null,null,null,null,null,null,null,null,null,null,null,null,null,null,null,null,null,null,null,null,null,null,null,null,null,null,null,null,null,null,null,null,null,null,null,null,null,null,null,null,null,null,null,null,null,null,null,null,null,null,null,null,null,null,null,null,null,null,null,null,null,null,null,null,null,null,null,null,null,null,null,null,null,null,null,null,null,null,null,null,null,null,null,null,null,null,null,null,null,null,null,null,null,null,null,null,null,null,null,null,null,null,null,null,null,null,null,null,null,null,null,null,null,null,null,null,null,null,null,null,null,null,null,null,null,null,null,null,null,null,null,null,null,null,null,null,null,null,null,null,null,null,null,null,null,null,null,null,null,null,null,null,null,null,null,null,null,null,null,null,null,null,null,null,null,null,null,null,null,null,null,null,null,null,null,null,null,null,null,null,null,null,null,null,null,null,null,null,null,null,null,null,null,null,null,null,null,null,null,null,null,null,null,null,null,null,null,null,null,null,null,null,null,null,null,null,null,null,null,null,null,null,null,null,null,null,null,null,null,null,null,null,null,null,null,null,null,null,null,null,null,null,null,null,null,null,null,null,null,null,null,null,null,null,null,null,null,null,null,null,null,null,null,null,null,null,null,null,null,null,null,null,null,null,null,null,null,null,null,null,null,null,null,null,null,null,null,null,null,null,null,null,null,null,null,null,null,null,null,null,null,null,null,null,null,null,null,null,null,null,null,null,null,null,null,null,null,null,null,null,null,null,null,null,null,null,null,null,null,null,null,null,null,null,null,null,null,null,null,null,null,null,null,null,null,null,null,null,null,null,null,null,null,null,null,null,null,null,null,null,null,null,null,null,null,null,null,null,null,null,null,null,null,null,null,null,null,null,null,null,null,null,null,null,null,null,null,null,null,null,null,null,null,null,null,null,null,null,null,null,null,null,null,null,null,null,null,null,null,null,null,null,null,null,null,null,null,null,null,null,null,null,null,null,null,null,null,null,null,null,null,null,null,null,null,null,null,null,null,null,null,null,null,null,null,null,null,null,null,null,null,null,null,null,null,null,null,null,null,null,null,null,null,null,null,null,null,null,null,null,null,null,null,null,null,null,null,null,null,null,null,null,null,null,null,null,null,null,null,null,null,null,null,null,null,null,null,null,null,null,null,null,null,null,null,null,null,null,null,null,null,null,null,null,null,null,null,null,null,null,null,null,null,null,null,null,null,null,null,null,null,null,null,null,null,null,null,null,null,null,null,null,null,null,null,null,null,null,null,null,null,null,null,null,null,null,null,null,null,null,null,null,null,null,null,null,null,null,null,null,null,null,null,null,null,null,null,null,null,null,null,null,null,null,null,null,null,null,null,null,null,null,null,null,null,null,null,null,null,null,null,null,null,null,null,null,null,null,null,null,null,null,null,null,null,null,null,null,null,null,null,null,null,null,null,null,null,null,null,null,null,null,null,null,null,null,null,null,null,null,null,null,null,null,null,null,null,null,null,null,null,null,null,null,null,null,null,null,null,null,null,null,null,null,null,null,null,null,null,null,null,null,null,null,null,null,null,null,null,null,null,null,null,null,null,null,null,null,null,null,null,null,null,null,null,null,null,null,null,null,null,null,null,null,null,null,null,null,null,null,null,null,null,null,null,null,null,null,null,null,null,null,null,null,null,null,null,null,null,null,null,null,null,null,null,null,null,null,null,null,null,null,null,null,null,null,null,null,null,null,null,null,null,null,null,null,null,null,null,null,null,null,null,null,null,null,null,null,null,null,null,null,null,null,null,null,null,null,null,null,null,null,null,null,null,null,null,null,null,null,null,null,null,null,null,null,null,null,null,null,null,null,null,null,null,null,null,null,null,null,null,null,null,null,null,null,null,null,null,null,null,null,null,null,null,null,null,null,null,null,null,null,null,null,null,null,null,null,null,null,null,null,null,null,null,null,null,null,null,null,null,null,null,null,null,null,null,null,null,null,null,null,null,null,null,null,null,null,null,null,null,null,null,null,null,null,null,null,null,null,null,null,null,null,null,null,null,null,null,null,null,null,null,null,null,null,null,null,null,null,null,null,null,null,null,null,null,null,null,null,null,null,null,null,null,null,null,null,null,null,null,null,null,null,null,null,null,null,null,null,null,null,null,null,null,null,null,null,null,null,null,null,null,null,null,null,null,null,null,null,null,null,null,null,null,null,null,null,null,null,null,null,null,null,null,null,null,null,null,null,null,null,null,null,null,null,null,null,null,null,null,null,null,null,null,null,null,null,null,null,null,null,null,null,null,null,null,null,null,null,null,null,null,null,null,null,null,null,null,null,null,null,null,null,null,null,null,null,null,null,null,null,null,null,null,null,null,null,null,null,null,null,null,null,null,null,null,null,null,null,null,null,null,null,null,null,null,null,null,null,null,null,null,null,null,null,null,null,null,null,null,null,null,null,null,null,null,null,null,null,null,null,null,null,null,null,null,null,null,null,null,null,null,null,null,null,null,null,null,null,null,null,null,null,null,null,null,null,null,null,null,null,null,null,null,null,null,null,null,null,null,null,null,null,null,null,null,null,null,null,null,null,null,null,null,null,null,null,null,null,null,null,null,null,null,null,null,null,null,null,null,null,null,null,null,null,null,null,null,null,null,null,null,null,null,null,null,null,null,null,null,null,null,null,null,null,null,null,null,null,null,null,null,null,null,null,null,null,null,null,null,null,null,null,null,null,null,null,null,null,null,null,null,null,null,null,null,null,null,null,null,null,null,null,null,null,null,null,null,null,null,null,null,null,null,null,null,null,null,null,null,null,null,null,null,null,null,null,null,null,null,null,null,null,null,null,null,null,null,null,null,null,null,null,null,null,null,null,null,null,null,null,null,null,null,null,null,null,null,null,null,null,null,null,null,null,null,null,null,null,null,null,null,null,null,null,null,null,null,null,null,null,null,null,null,null,null,null,null,null,null,null,null,null,null,null,null,null,null,null,null,null,null,null,null,null,null,null,null,null,null,null,null,null,null,null,null,null,null,null,null,null,null,null,null,null,null,null,null,null,null,null,null,null,null,null,null,null,null,null,null,null,null,null,null,null,null,null,null,null,null,null,null,null,null,null,null,null,null,null,null,null,null,null,null,null,null,null,null,null,null,null,null,null,null,null,null,null,null,null,null,null,null,null,null,null,null,null,null,null,null,null,null,null,null,null,null,null,null,null,null,null,null,null,null,null,null,null,null,null,null,null,null,null,null,null,null,null,null,null,null,null,null,null,null,null,null,null,null,null,null,null,null,null,null,null,null,null,null,null,null,null,null,null,null,null,null,null,null,null,null,null,null,null,null,null,null,null,null,null,null,null,null,null,null,null,null,null,null,null,null,null,null,null,null,null,null,null,null,null,null,null,null,null,null,null,null,null,null,null,null,null,null,null,null,null,null,null,null,null,null,null,null,null,null,null,null,null,null,null,null,null,null,null,null,null,null,null,null,null,null,null,null,null,null,null,null,null,null,null,null,null,null,null,null,null,null,null,null,null,null,null,null,null,null,null,null,null,null,null,null,null,null,null,null,null,null,null,null,null,null,null,null,null,null,null,null,null,null,null,null,null,null,null,null,null,null,null,null,null,null,null,null,null,null,null,null,null,null,null,null,null,null,null,null,null,null,null,null,null,null,null,null,null,null,null,null,null,null,null,null,null,null,null,null,null,null,null,null,null,null,null,null,null,null,null,null,null,null,null,null,null,null,null,null,null,null,null,null,null,null,null,null,null,null,null,null,null,null,null,null,null,null,null,null,null,null,null,null,null,null,null,null,null,null,null,null,null,null,null,null,null,null,null,null,null,null,null,null,null,null,null,null,null,null,null,null,null,null,null,null,null,null,null,null,null,null,null,null,null,null,null,null,null,null,null,null,null,null,null,null,null,null,null,null,null,null,null,null,null,null,null,null,null,null,null,null,null,null,null,null,null,null,null,null,null,null,null,null,null,null,null,null,null,null,null,null,null,null,null,null,null,null,null,null,null,null,null,null,null,null,null,null,null,null,null,null,null,null,null,null,null,null,null,null,null,null,null,null,null,null,null,null,null,null,null,null,null,null,null,null,null,null,null,null,null,null,null,null,null,null,null,null,null,null,null,null,null,null,null,null,null,null,null,null,null,null,null,null,null,null,null,null,null,null,null,null,null,null,null,null,null,null,null,null,null,null,null,null,null,null,null,null,null,null,null,null,null,null,null,null,null,null,null,null,null,null,null,null,null,null,null,null,null,null,null,null,null,null,null,null,null,null,null,null,null,null,null,null,null,null,null,null,null,null,null,null,null,null,null,null,null,null,null,null,null,null,null,null,null,null,null,null,null,null,null,null,null,null,null,null,null,null,null,null,null,null,null,null,null,null,null,null,null,null,null,null,null,null,null,null,null,null,null,null,null,null,null,null,null,null,null,null,null,null,null,null,null,null,null,null,null,null,null,null,null,null,null,null,null,null,null,null,null,null,null,null,null,null,null,null,null,null,null,null,null,null,null,null,null,null,null,null,null,null,null,null,null,null,null,null,null,null,null,null,null,null,null,null,null,null,null,null,null,null,null,null,null,null,null,null,null,null,null,null,null,null,null,null,null,null,null,null,null,null,null,null,null,null,null,null,null,null,null,null,null,null,null,null,null,null,null,null,null,null,null,null,null,null,null,null,null,null,null,null,null,null,null,null,null,null,null,null,null,null,null,null,null,null,null,null,null,null,null,null,null,null,null,null,null,null,null,null,null,null,null,null,null,null,null,null,null,null,null,null,null,null,null,null,null,null,null,null,null,null,null,null,null,null,null,null,null,null,null,null,null,null,null,null,null,null,null,null,null,null,null,null,null,null,null,null,null,null,null,null,null,null,null,null,null,null,null,null,null,null,null,null,null,null,null,null,null,null,null,null,null,null,null,null,null,null,null,null,null,null,null,null,null,null,null,null,null,null,null,null,null,null,null,null,null,null,null,null,null,null,null,null,null,null,null,null,null,null,null,null,null,null,null,null,null,null,null,null,null,null,null,null,null,null,null,null,null,null,null,null,null,null,null,null,null,null,null,null,null,null,null,null,null,null,null,null,null,null,null,null,null,null,null,null,null,null,null,null,null,null,null,null,null,null,null,null,null,null,null,null,null,null,null,null,null,null,null,null,null,null,null,null,null,null,null,null,null,null,null,null,null,null,null,null,null,null,null,null,null,null,null,null,null,null,null,null,null,null,null,null,null,null,null,null,null,null,null,null,null,null,null,null,null,null,null,null,null,null,null,null,null,null,null,null,null,null,null,null,null,null,null,null,null,null,null,null,null,null,null,null,null,null,null,null,null,null,null,null,null,null,null,null,null,null,null,null,null,null,null,null,null,null,null,null,null,null,null,null,null,null,null,null,null,null,null,null,null,null,null,null,null,null,null,null,null,null,null,null,null,null,null,null,null,null,null,null,null,null,null,null,null,null,null,null,null,null,null,null,null,null,null,null,null,null,null,null,null,null,null,null,null,null,null,null,null,null,null,null,null,null,null,null,null,null,null,null,null,null,null,null,null,null,null,null,null,null,null,null,null,null,null,null,null,null,null,null,null,null,null,null,null,null,null,null,null,null,null,null,null,null,null,null,null,null,null,null,null,null,null,null,null,null,null,null,null,null,null,null,null,null,null,null,null,null,null,null,null,null,null,null,null,null,null,null,null,null,null,null,null,null,null,null,null,null,null,null,null,null,null,null,null,null,null,null,null,null,null,null,null,null,null,null,null,null,null,null,null,null,null,null,null,null,null,null,null,null,null,null,null,null,null,null,null,null,null,null,null,null,null,null,null,null,null,null,null,null,null,null,null,null,null,null,null,null,null,null,null,null,null,null,null,null,null,null,null,null,null,null,null,null,null,null,null,null,null,null,null,null,null,null,null,null,null,null,null,null,null,null,null,null,null,null,null,null,null,null,null,null,null,null,null,null,null,null,null,null,null,null,null,null,null,null,null,null,null,null,null,null,null,null,null,null,null,null,null,null,null,null,null,null,null,null,null,null,null,null,null,null,null,null,null,null,null,null,null,null,null,null,null,null,null,null,null,null,null,null,null,null,null,null,null,null,null,null,null,null,null,null,null,null,null,null,null,null,null,null,null,null,null,null,null,null,null,null,null,null,null,null,null,null,null,null,null,null,null,null,null,null,null,null,null,null,null,null,null,null,null,null,null,null,null,null,null,null,null,null,null,null,null,null,null,null,null,null,null,null,null,null,null,null,null,null,null,null,null,null,null,null,null,null,null,null,null,null,null,null,null,null,null,null,null,null,null,null,null,null,null,null,null,null,null,null,null,null,null,null,null,null,null,null,null,null,null,null,null,null,null,null,null,null,null,null,null,null,null,null,null,null,null,null,null,null,null,null,null,null,null,null,null,null,null,null,null,null,null,null,null,null,null,null,null,null,null,null,null,null,null,null,null,null,null,null,null,null,null,null,null,null,null,null,null,null,null,null,null,null,null,null,null,null,null,null,null,null,null,null,null,null,null,null,null,null,null,null,null,null,null,null,null,null,null,null,null,null,null,null,null,null,null,null,null,null,null,null,null,null,null,null,null,null,null,null,null,null,null,null,null,null,null,null,null,null,null,null,null,null,null,null,null,null,null,null,null,null,null,null,null,null,null,null,null,null,null,null,null,null,null,null,null,null,null,null,null,null,null,null,null,null,null,null,null,null,null,null,null,null,null,null,null,null,null,null,null,null,null,null,null,null,null,null,null,null,null,null,null,null,null,null,null,null,null,null,null,null,null,null,null,null,null,null,null,null,null,null,null,null,null,null,null,null,null,null,null,null,null,null,null,null,null,null,null,null,null,null,null,null,null,null,null,null,null,null,null,null,null,null,null,null,null,null,null,null,null,null,null,null,null,null,null,null,null,null,null,null,null,null,null,null,null,null,null,null,null,null,null,null,null,null,null,null,null,null,null,null,null,null,null,null,null,null,null,null,null,null,null,null,null,null,null,null,null,null,null,null,null,null,null,null,null,null,null,null,null,null,null,null,null,null,null,null,null,null,null,null,null,null,null,null,null,null,null,null,null,null,null,null,null,null,null,null,null,null,null,null,null,null,null,null,null,null,null,null,null,null,null,null,null,null,null,null,null,null,null,null,null,null,null,null,null,null,null,null,null,null,null,null,null,null,null,null,null,null,null,null,null,null,null,null,null,null,null,null,null,null,null,null,null,null,null,null,null,null,null,null,null,null,null,null,null,null,null,null,null,null,null,null,null,null,null,null,null,null,null,null,null,null,null,null,null,null,null,null,null,null,null,null,null,null,null,null,null,null,null,null,null,null,null,null,null,null,null,null,null,null,null,null,null,null,null,null,null,null,null,null,null,null,null,null,null,null,null,null,null,null,null,null,null,null,null,null,null,null,null,null,null,null,null,null,null,null,null,null,null,null,null,null,null,null,null,null,null,null,null,null,null,null,null,null,null,null,null,null,null,null,null,null,null,null,null,null,null,null,null,null,null,null,null,null,null,null,null,null,null,null,null,null,null,null,null,null,null,null,null,null,null,null,null,null,null,null,null,null,null,null,null,null,null,null,null,null,null,null,null,null,null,null,null,null,null,null,null,null,null,null,null,null,null,null,null,null,null,null,null,null,null,null,null,null,null,null,null,null,null,null,null,null,null,null,null,null,null,null,null,null,null,null,null,null,null,null,null,null,null,null,null,null,null,null,null,null,null,null,null,null,null,null,null,null,null,null,null,null,null,null,null,null,null,null,null,null,null,null,null,null,null,null,null,null,null,null,null,null,null,null,null,null,null,null,null,null,null,null,null,null,null,null,null,null,null,null,null,null,null,null,null,null,null,null,null,null,null,null,null,null,null,null,null,null,null,null,null,null,null,null,null,null,null,null,null,null,null,null,null,null,null,null,null,null,null,null,null,null,null,null,null,null,null,null,null,null,null,null,null,null,null,null,null,null,null,null,null,null,null,null,null,null,null,null,null,null,null,null,null,null,null,null,null,null,null,null,null,null,null,null,null,null,null,null,null,null,null,null,null,null,null,null,null,null,null,null,null,null,null,null,null,null,null,null,null,null,null,null,null,null,null,null,null,null,null,null,null,null,null,null,null,null,null,null,null,null,null,null,null,null,null,null,null,null,null,null,null,null,null,null,null,null,null,null,null,null,null,null,null,null,null,null,null,null,null,null,null,null,null,null,null,null,null,null,null,null,null,null,null,null,null,null,null,null,null,null,null,null,null,null,null,null,null,null,null,null,null,null,null,null,null,null,null,null,null,null,null,null,null,null,null,null,null,null,null,null,null,null,null,null,null,null,null,null,null,null,null,null,null,null,null,null,null,null,null,null,null,null,null,null,null,null,null,null,null,null,null,null,null,null,null,null,null,null,null,null,null,null,null,null,null,null,null,null,null,null,null,null,null,null,null,null,null,null,null,null,null,null,null,null,null,null,null,null,null,null,null,null,null,null,null,null,null,null,null,null,null,null,null,null,null,null,null,null,null,null,null,null,null,null,null,null,null,null,null,null,null,null,null,null,null,null,null,null,null,null,null,null,null,null,null,null,null,null,null,null,null,null,null,null,null,null,null,null,null,null,null,null,null,null,null,null,null,null,null,null,null,null,null,null,null,null,null,null,null,null,null,null,null,null,null,null,null,null,null,null,null,null,null,null,null,null,null,null,null,null,null,null,null,null,null,null,null,null,null,null,null,null,null,null,null,null,null,null,null,null,null,null,null,null,null,null,null,null,null,null,null,null,null,null,null,null,null,null,null,null,null,null,null,null,null,null,null,null,null,null,null,null,null,null,null,null,null,null,null,null,null,null,null,null,null,null,null,null,null,null,null,null,null,null,null,null,null,null,null,null,null,null,null,null,null,null,null,null,null,null,null,null,null,null,null,null,null,null,null,null,null,null,null,null,null,null,null,null,null,null,null,null,null,null,null,null,null,null,null,null,null,null,null,null,null,null,null,null,null,null,null,null,null,null,null,null,null,null,null,null,null,null,null,null,null,null,null,null,null,null,null,null,null,null,null,null,null,null,null,null,null,null,null,null,null,null,null,null,null,null,null,null,null,null,null,null,null,null,null,null,null,null,null,null,null,null,null,null,null,null,null,null,null,null,null,null,null,null,null,null,null,null,null,null,null,null,null,null,null,null,null,null,null,null,null,null,null,null,null,null,null,null,null,null,null,null,null,null,null,null,null,null,null,null,null,null,null,null,null,null,null,null,null,null,null,null,null,null,null,null,null,null,null,null,null,null,null,null,null,null,null,null,null,null,null,null,null,null,null,null,null,null,null,null,null,null,null,null,null,null,null,null,null,null,null,null,null,null,null,null,null,null,null,null,null,null,null,null,null,null,null,null,null,null,null,null,null,null,null,null,null,null,null,null,null,null,null,null,null,null,null,null,null,null,null,null,null,null,null,null,null,null,null,null,null,null,null,null,null,null,null,null,null,null,null,null,null,null,null,null,null,null,null,null,null,null,null,null,null,null,null,null,null,null,null,null,null,null,null,null,null,null,null,null,null,null,null,null,null,null,null,null,null,null,null,null,null,null,null,null,null,null,null,null,null,null,null,null,null,null,null,null,null,null,null,null,null,null,null,null,null,null,null,null,null,null,null,null,null,null,null,null,null,null,null,null,null,null,null,null,null,null,null,null,null,null,null,null,null,null,null,null,null,null,null,null,null,null,null,null,null,null,null,null,null,null,null,null,null,null,null,null,null,null,null,null,null,null,null,null,null,null,null,null,null,null,null,null,null,null,null,null,null,null,null,null,null,null,null,null,null,null,null,null,null,null,null,null,null,null,null,null,null,null,null,null,null,null,null,null,null,null,null,null,null,null,null,null,null,null,null,null,null,null,null,null,null,null,null,null,null,null,null,null,null,null,null,null,null,null,null,null,null,null,null,null,null,null,null,null,null,null,null,null,null,null,null,null,null,null,null,null,null,null,null,null,null,null,null,null,null,null,null,null,null,null,null,null,null,null,null,null,null,null,null,null,null,null,null,null,null,null,null,null,null,null,null,null,null,null,null,null,null,null,null,null,null,null,null,null,null,null,null,null,null,null,null,null,null,null,null,null,null,null,null,null,null,null,null,null,null,null,null,null,null,null,null,null,null,null,null,null,null,null,null,null,null,null,null,null,null,null,null,null,null,null,null,null,null,null,null,null,null,null,null,null,null,null,null,null,null,null,null,null,null,null,null,null,null,null,null,null,null,null,null,null,null,null,null,null,null,null,null,null,null,null,null,null,null,null,null,null,null,null,null,null,null,null,null,null,null,null,null,null,null,null,null,null,null,null,null,null,null,null,null,null,null,null,null,null,null,null,null,null,null,null,null,null,null,null,null,null,null,null,null,null,null,null,null,null,null,null,null,null,null,null,null,null,null,null,null,null,null,null,null,null,null,null,null,null,null,null,null,null,null,null,null,null,null,null,null,null,null,null,null,null,null,null,null,null,null,null,null,null,null,null,null,null,null,null,null,null,null,null,null,null,null,null,null,null,null,null,null,null,null,null,null,null,null,null,null,null,null,null,null,null,null,null,null,null,null,null,null,null,null,null,null,null,null,null,null,null,null,null,null,null,null,null,null,null,null,null,null,null,null,null,null,null,null,null,null,null,null,null,null,null,null,null,null,null,null,null,null,null,null,null,null,null,null,null,null,null,null,null,null,null,null,null,null,null,null,null,null,null,null,null,null,null,null,null,null,null,null,null,null,null,null,null,null,null,null,null,null,null,null,null,null,null,null,null,null,null,null,null,null,null,null,null,null,null,null,null,null,null,null,null,null,null,null,null,null,null,null,null,null,null,null,null,null,null,null,null,null,null,null,null,null,null,null,null,null,null,null,null,null,null,null,null,null,null,null,null,null,null,null,null,null,null,null,null,null,null,null,null,null,null,null,null,null,null,null,null,null,null,null,null,null,null,null,null,null,null,null,null,null,null,null,null,null,null,null,null,null,null,null,null,null,null,null,null,null,null,null,null,null,null,null,null,null,null,null,null,null,null,null,null,null,null,null,null,null,null,null,null,null,null,null,null,null,null,null,null,null,null,null,null,null,null,null,null,null,null,null,null,null,null,null,null,null,null,null,null,null,null,null,null,null,null,null,null,null,null,null,null,null,null,null,null,null,null,null,null,null,null,null,null,null,null,null,null,null,null,null,null,null,null,null,null,null,null,null,null,null,null,null,null,null,null,null,null,null,null,null,null,null,null,null,null,null,null,null,null,null,null,null,null,null,null,null,null,null,null,null,null,null,null,null,null,null,null,null,null,null,null,null,null,null,null,null,null,null,null,null,null,null,null,null,null,null,null,null,null,null,null,null,null,null,null,null,null,null,null,null,null,null,null,null,null,null,null,null,null,null,null,null,null,null,null,null,null,null,null,null,null,null,null,null,null,null,null,null,null,null,null,null,null,null,null,null,null,null,null,null,null,null,null,null,null,null,null,null,null,null,null,null,null,null,null,null,null,null,null,null,null,null,null,null,null,null,null,null,null,null,null,null,null,null,null,null,null,null,null,null,null,null,null,null,null,null,null,null,null,null,null,null,null,null,null,null,null,null,null,null,null,null,null,null,null,null,null,null,null,null,null,null,null,null,null,null,null,null,null,null,null,null,null,null,null,null,null,null,null,null,null,null,null,null,null,null,null,null,null,null,null,null,null,null,null,null,null,null,null,null,null,null,null,null,null,null,null,null,null,null,null,null,null,null,null,null,null,null,null,null,null,null,null,null,null,null,null,null,null,null,null,null,null,null,null,null,null,null,null,null,null,null,null,null,null,null,null,null,null,null,null,null,null,null,null,null,null,null,null,null,null,null,null,null,null,null,null,null,null,null,null,null,null,null,null,null,null,null,null,null,null,null,null,null,null,null,null,null,null,null,null,null,null,null,null,null,null,null,null,null,null,null,null,null,null,null,null,null,null,null,null,null,null,null,null,null,null,null,null,null,null,null,null,null,null,null,null,null,null,null,null,null,null,null,null,null,null,null,null,null,null,null,null,null,null,null,null,null,null,null,null,null,null,null,null,null,null,null,null,null,null,null,null,null,null,null,null,null,null,null,null,null,null,null,null,null,null,null,null,null,null,null,null,null,null,null,null,null,null,null,null,null,null,null,null,null,null,null,null,null,null,null,null,null,null,null,null,null,null,null,null,null,null,null,null,null,null,null,null,null,null,null,null,null,null,null,null,null,null,null,null,null,null,null,null,null,null,null,null,null,null,null,null,null,null,null,null,null,null,null,null,null,null,null,null,null,null,null,null,null,null,null,null,null,null,null,null,null,null,null,null,null,null,null,null,null,null,null,null,null,null,null,null,null,null,null,null,null,null,null,null,null,null,null,null,null,null,null,null,null,null,null,null,null,null,null,null,null,null,null,null,null,null,null,null,null,null,null,null,null,null,null,null,null,null,null,null,null,null,null,null,null,null,null,null,null,null,null,null,null,null,null,null,null,null,null,null,null,null,null,null,null,null,null,null,null,null,null,null,null,null,null,null,null,null,null,null,null,null,null,null,null,null,null,null,null,null,null,null,null,null,null,null,null,null,null,null,null,null,null,null,null,null,null,null,null,null,null,null,null,null,null,null,null,null,null,null,null,null,null,null,null,null,null,null,null,null,null,null,null,null,null,null,null,null,null,null,null,null,null,null,null,null,null,null,null,null,null,null,null,null,null,null,null,null,null,null,null,null,null,null,null,null,null,null,null,null,null,null,null,null,null,null,null,null,null,null,null,null,null,null,null,null,null,null,null,null,null,null,null,null,null,null,null,null,null,null,null,null,null,null,null,null,null,null,null,null,null,null,null,null,null,null,null,null,null,null,null,null,null,null,null,null,null,null,null,null,null,null,null,null,null,null,null,null,null,null,null,null,null,null,null,null,null,null,null,null,null,null,null,null,null,null,null,null,null,null,null,null,null,null,null,null,null,null,null,null,null,null,null,null,null,null,null,null,null,null,null,null,null,null,null,null,null,null,null,null,null,null,null,null,null,null,null,null,null,null,null,null,null,null,null,null,null,null,null,null,null,null,null,null,null,null,null,null,null,null,null,null,null,null,null,null,null,null,null,null,null,null,null,null,null,null,null,null,null,null,null,null,null,null,null,null,null,null,null,null,null,null,null,null,null,null,null,null,null,null,null,null,null,null,null,null,null,null,null,null,null,null,null,null,null,null,null,null,null,null,null,null,null,null,null,null,null,null,null,null,null,null,null,null,null,null,null,null,null,null,null,null,null,null,null,null,null,null,null,null,null,null,null,null,null,null,null,null,null,null,null,null,null,null,null,null,null,null,null,null,null,null,null,null,null,null,null,null,null,null,null,null,null,null,null,null,null,null,null,null,null,null,null,null,null,null,null,null,null,null,null,null,null,null,null,null,null,null,null,null,null,null,null,null,null,null,null,null,null,null,null,null,null,null,null,null,null,null,null,null,null,null,null,null,null,null,null,null,null,null,null,null,null,null,null,null,null,null,null,null,null,null,null,null,null,null,null,null,null,null,null,null,null,null,null,null,null,null,null,null,null,null,null,null,null,null,null,null,null,null,null,null,null,null,null,null,null,null,null,null,null,null,null,null,null,null,null,null,null,null,null,null,null,null,null,null,null,null,null,null,null,null,null,null,null,null,null,null,null,null,null,null,null,null,null,null,null,null,null,null,null,null,null,null,null,null,null,null,null,null,null,null,null,null,null,null,null,null,null,null,null,null,null,null,null,null,null,null,null,null,null,null,null,null,null,null,null,null,null,null,null,null,null,null,null,null,null,null,null,null,null,null,null,null,null,null,null,null,null,null,null,null,null,null,null,null,null,null,null,null,null,null,null,null,null,null,null,null,null,null,null,null,null,null,null,null,null,null,null,null,null,null,null,null,null,null,null,null,null,null,null,null,null,null,null,null,null,null,null,null,null,null,null,null,null,null,null,null,null,null,null,null,null,null,null,null,null,null,null,null,null,null,null,null,null,null,null,null,null,null,null,null,null,null,null,null,null,null,null,null,null,null,null,null,null,null,null,null,null,null,null,null,null,null,null,null,null,null,null,null,null,null,null,null,null,null,null,null,null,null,null,null,null,null,null,null,null,null,null,null,null,null,null,null,null,null,null,null,null,null,null,null,null,null,null,null,null,null,null,null,null,null,null,null,null,null,null,null,null,null,null,null,null,null,null,null,null,null,null,null,null,null,null,null,null,null,null,null,null,null,null,null,null,null,null,null,null,null,null,null,null,null,null,null,null,null,null,null,null,null,null,null,null,null,null,null,null,null,null,null,null,null,null,null,null,null,null,null,null,null,null,null,null,null,null,null,null,null,null,null,null,null,null,null,null,null,null,null,null,null,null,null,null,null,null,null,null,null,null,null,null,null,null,null,null,null,null,null,null,null,null,null,null,null,null,null,null,null,null,null,null,null,null,null,null,null,null,null,null,null,null,null,null,null,null,null,null,null,null,null,null,null,null,null,null,null,null,null,null,null,null,null,null,null,null,null,null,null,null,null,null,null,null,null,null,null,null,null,null,null,null,null,null,null,null,null,null,null,null,null,null,null,null,null,null,null,null,null,null,null,null,null,null,null,null,null,null,null,null,null,null,null,null,null,null,null,null,null,null,null,null,null,null,null,null,null,null,null,null,null,null,null,null,null,null,null,null,null,null,null,null,null,null,null,null,null,null,null,null,null,null,null,null,null,null,null,null,null,null,null,null,null,null,null,null,null,null,null,null,null,null,null,null,null,null,null,null,null,null,null,null,null,null,null,null,null,null,null,null,null,null,null,null,null,null,null,null,null,null,null,null,null,null,null,null,null,null,null,null,null,null,null,null,null,null,null,null,null,null,null,null,null,null,null,null,null,null,null,null,null,null,null,null,null,null,null,null,null,null,null,null,null,null,null,null,null,null,null,null,null,null,null,null,null,null,null,null,null,null,null,null,null,null,null,null,null,null,null,null,null,null,null,null,null,null,null,null,null,null,null,null,null,null,null,null,null,null,null,null,null,null,null,null,null,null,null,null,null,null,null,null,null,null,null,null,null,null,null,null,null,null,null,null,null,null,null,null,null,null,null,null,null,null,null,null,null,null,null,null,null,null,null,null,null,null,null,null,null,null,null,null,null,null,null,null,null,null,null,null,null,null,null,null,null,null,null,null,null,null,null,null,null,null,null,null,null,null,null,null,null,null,null,null,null,null,null,null,null,null,null,null,null,null,null,null,null,null,null,null,null,null,null,null,null,null,null,null,null,null,null,null,null,null,null,null,null,null,null,null,null,null,null,null,null,null,null,null,null,null,null,null,null,null,null,null,null,null,null,null,null,null,null,null,null,null,null,null,null,null,null,null,null,null,null,null,null,null,null,null,null,null,null,null,null,null,null,null,null,null,null,null,null,null,null,null,null,null,null,null,null,null,null,null,null,null,null,null,null,null,null,null,null,null,null,null,null,null,null,null,null,null,null,null,null,null,null,null,null,null,null,null,null,null,null,null,null,null,null,null,null,null,null,null,null,null,null,null,null,null,null,null,null,null,null,null,null,null,null,null,null,null,null,null,null,null,null,null,null,null,null,null,null,null,null,null,null,null,null,null,null,null,null,null,null,null,null,null,null,null,null,null,null,null,null,null,null,null,null,null,null,null,null,null,null,null,null,null,null,null,null,null,null,null,null,null,null,null,null,null,null,null,null,null,null,null,null,null,null,null,null,null,null,null,null,null,null,null,null,null,null,null,null,null,null,null,null,null,null,null,null,null,null,null,null,null,null,null,null,null,null,null,null,null,null,null,null,null,null,null,null,null,null,null,null,null,null,null,null,null,null,null,null,null,null,null,null,null,null,null,null,null,null,null,null,null,null,null,null,null,null,null,null,null,null,null,null,null,null,null,null,null,null,null,null,null,null,null,null,null,null,null,null,null,null,null,null,null,null,null,null,null,null,null,null,null,null,null,null,null,null,null,null,null,null,null,null,null,null,null,null,null,null,null,null,null,null,null,null,null,null,null,null,null,null,null,null,null,null,null,null,null,null,null,null,null,null,null,null,null,null,null,null,null,null,null,null,null,null,null,null,null,null,null,null,null,null,null,null,null,null,null,null,null,null,null,null,null,null,null,null,null,null,null,null,null,null,null,null,null,null,null,null,null,null,null,null,null,null,null,null,null,null,null,null,null,null,null,null,null,null,null,null,null,null,null,null,null,null,null,null,null,null,null,null,null,null,null,null,null,null,null,null,null,null,null,null,null,null,null,null,null,null,null,null,null,null,null,null,null,null,null,null,null,null,null,null,null,null,null,null,null,null,null,null,null,null,null,null,null,null,null,null,null,null,null,null,null,null,null,null,null,null,null,null,null,null,null,null,null,null,null,null,null,null,null,null,null,null,null,null,null,null,null,null,null,null,null,null,null,null,null,null,null,null,null,null,null,null,null,null,null,null,null,null,null,null,null,null,null,null,null,null,null,null,null,null,null,null,null,null,null,null,null,null,null,null,null,null,null,null,null,null,null,null,null,null,null,null,null,null,null,null,null,null,null,null,null,null,null,null,null,null,null,null,null,null,null,null,null,null,null,null,null,null,null,null,null,null,null,null,null,null,null,null,null,null,null,null,null,null,null,null,null,null,null,null,null,null,null,null,null,null,null,null,null,null,null,null,null,null,null,null,null,null,null,null,null,null,null,null,null,null,null,null,null,null,null,null,null,null,null,null,null,null,null,null,null,null,null,null,null,null,null,null,null,null,null,null,null,null,null,null,null,null,null,null,null,null,null,null,null,null,null,null,null,null,null,null,null,null,null,null,null,null,null,null,null,null,null,null,null,null,null,null,null,null,null,null,null,null,null,null,null,null,null,null,null,null,null,null,null,null,null,null,null,null,null,null,null,null,null,null,null,null,null,null,null,null,null,null,null,null,null,null,null,null,null,null,null,null,null,null,null,null,null,null,null,null,null,null,null,null,null,null,null,null,null,null,null,null,null,null,null,null,null,null,null,null,null,null,null,null,null,null,null,null,null,null,null,null,null,null,null,null,null,null,null,null,null,null,null,null,null,null,null,null,null,null,null,null,null,null,null,null,null,null,null,null,null,null,null,null,null,null,null,null,null,null,null,null,null,null,null,null,null,null,null,null,null,null,null,null,null,null,null,null,null,null,null,null,null,null,null,null,null,null,null,null,null,null,null,null,null,null,null,null,null,null,null,null,null,null,null,null,null,null,null,null,null,null,null,null,null,null,null,null,null,null,null,null,null,null,null,null,null,null,null,null,null,null,null,null,null,null,null,null,null,null,null,null,null,null,null,null,null,null,null,null,null,null,null,null,null,null,null,null,null,null,null,null,null,null,null,null,null,null,null,null,null,null,null,null,null,null,null,null,null,null,null,null,null,null,null,null,null,null,null,null,null,null,null,null,null,null,null,null,null,null,null,null,null,null,null,null,null,null,null,null,null,null,null,null,null,null,null,null,null,null,null,null,null,null,null,null,null,null,null,null,null,null,null,null,null,null,null,null,null,null,null,null,null,null,null,null,null,null,null,null,null,null,null,null,null,null,null,null,null,null,null,null,null,null,null,null,null,null,null,null,null,null,null,null,null,null,null,null,null,null,null,null,null,null,null,null,null,null,null,null,null,null,null,null,null,null,null,null,null,null,null,null,null,null,null,null,null,null,null,null,null,null,null,null,null,null,null,null,null,null,null,null,null,null,null,null,null,null,null,null,null,null,null,null,null,null,null,null,null,null,null,null,null,null,null,null,null,null,null,null,null,null,null,null,null,null,null,null,null,null,null,null,null,null,null,null,null,null,null,null,null,null,null,null,null,null,null,null,null,null,null,null,null,null,null,null,null,null,null,null,null,null,null,null,null,null,null,null,null,null,null,null,null,null,null,null,null,null,null,null,null,null,null,null,null,null,null,null,null,null,null,null,null,null,null,null,null,null,null,null,null,null,null,null,null,null,null,null,null,null,null,null,null,null,null,null,null,null,null,null,null,null,null,null,null,null,null,null,null,null,null,null,null,null,null,null,null,null,null,null,null,null,null,null,null,null,null,null,null,null,null,null,null,null,null,null,null,null,null,null,null,null,null,null,null,null,null,null,null,null,null,null,null,null,null,null,null,null,null,null,null,null,null,null,null,null,null,null,null,null,null,null,null,null,null,null,null,null,null,null,null,null,null,null,null,null,null,null,null,null,null,null,null,null,null,null,null,null,null,null,null,null,null,null,null,null,null,null,null,null,null,null,null,null,null,null,null,null,null,null,null,null,null,null,null,null,null,null,null,null,null,null,null,null,null,null,null,null,null,null,null,null,null,null,null,null,null,null,null,null,null,null,null,null,null,null,null,null,null,null,null,null,null,null,null,null,null,null,null,null,null,null,null,null,null,null,null,null,null,null,null,null,null,null,null,null,null,null,null,null,null,null,null,null,null,null,null,null,null,null,null,null,null,null,null,null,null,null,null,null,null,null,null,null,null,null,null,null,null,null,null,null,null,null,null,null,null,null,null,null,null,null,null,null,null,null,null,null,null,null,null,null,null,null,null,null,null,null,null,null,null,null,null,null,null,null,null,null,null,null,null,null,null,null,null,null,null,null,null,null,null,null,null,null,null,null,null,null,null,null,null,null,null,null,null,null,null,null,null,null,null,null,null,null,null,null,null,null,null,null,null,null,null,null,null,null,null,null,null,null,null,null,null,null,null,null,null,null,null,null,null,null,null,null,null,null,null,null,null,null,null,null,null,null,null,null,null,null,null,null,null,null,null,null,null,null,null,null,null,null,null,null,null,null,null,null,null,null,null,null,null,null,null,null,null,null,null,null,null,null,null,null,null,null,null,null,null,null,null,null,null,null,null,null,null,null,null,null,null,null,null,null,null,null,null,null,null,null,null,null,null,null,null,null,null,null,null,null,null,null,null,null,null,null,null,null,null,null,null,null,null,null,null,null,null,null,null,null,null,null,null,null,null,null,null,null,null,null,null,null,null,null,null,null,null,null,null,null,null,null,null,null,null,null,null,null,null,null,null,null,null,null,null,null,null,null,null,null,null,null,null,null,null,null,null,null,null,null,null,null,null,null,null,null,null,null,null,null,null,null,null,null,null,null,null,null,null,null,null,null,null,null,null,null,null,null,null,null,null,null,null,null,null,null,null,null,null,null,null,null,null,null,null,null,null,null,null,null,null,null,null,null,null,null,null,null,null,null,null,null,null,null,null,null,null,null,null,null,null,null,null,null,null,null,null,null,null,null,null,null,null,null,null,null,null,null,null,null,null,null,null,null,null,null,null,null,null,null,null,null,null,null,null,null,null,null,null,null,null,null,null,null,null,null,null,null,null,null,null,null,null,null,null,null,null,null,null,null,null,null,null,null,null,null,null,null,null,null,null,null,null,null,null,null,null,null,null,null,null,null,null,null,null,null,null,null,null,null,null,null,null,null,null,null,null,null,null,null,null,null,null,null,null,null,null,null,null,null,null,null,null,null,null,null,null,null,null,null,null,null,null,null,null,null,null,null,null,null,null,null,null,null,null,null,null,null,null,null,null,null,null,null,null,null,null,null,null,null,null,null,null,null,null,null,null,null,null,null,null,null,null,null,null,null,null,null,null,null,null,null,null,null,null,null,null,null,null,null,null,null,null,null,null,null,null,null,null,null,null,null,null,null,null,null,null,null,null,null,null,null,null,null,null,null,null,null,null,null,null,null,null,null,null,null,null,null,null,null,null,null,null,null,null,null,null,null,null,null,null,null,null,null,null,null,null,null,null,null,null,null,null,null,null,null,null,null,null,null,null,null,null,null,null,null,null,null,null,null,null,null,null,null,null,null,null,null,null,null,null,null,null,null,null,null,null,null,null,null,null,null,null,null,null,null,null,null,null,null,null,null,null,null,null,null,null,null,null,null,null,null,null,null,null,null,null,null,null,null,null,null,null,null,null,null,null,null,null,null,null,null,null,null,null,null,null,null,null,null,null,null,null,null,null,null,null,null,null,null,null,null,null,null,null,null,null,null,null,null,null,null,null,null,null,null,null,null,null,null,null,null,null,null,null,null,null,null,null,null,null,null,null,null,null,null,null,null,null,null,null,null,null,null,null,null,null,null,null,null,null,null,null,null,null,null,null,null,null,null,null,null,null,null,null,null,null,null,null,null,null,null,null,null,null,null,null,null,null,null,null,null,null,null,null,null,null,null,null,null,null,null,null,null,null,null,null,null,null,null,null,null,null,null,null,null,null,null,null,null,null,null,null,null,null,null,null,null,null,null,null,null,null,null,null,null,null,null,null,null,null,null,null,null,null,null,null,null,null,null,null,null,null,null,null,null,null,null,null,null,null,null,null,null,null,null,null,null,null,null,null,null,null,null,null,null,null,null,null,null,null,null,null,null,null,null,null,null,null,null,null,null,null,null,null,null,null,null,null,null,null,null,null,null,null,null,null,null,null,null,null,null,null,null,null,null,null,null,null,null,null,null,null,null,null,null,null,null,null,null,null,null,null,null,null,null,null,null,null,null,null,null,null,null,null,null,null,null,null,null,null,null,null,null,null,null,null,null,null,null,null,null,null,null,null,null,null,null,null,null,null,null,null,null,null,null,null,null,null,null,null,null,null,null,null,null,null,null,null,null,null,null,null,null,null,null,null,null,null,null,null,null,null,null,null,null,null,null,null,null,null,null,null,null,null,null,null,null,null,null,null,null,null,null,null,null,null,null,null,null,null,null,null,null,null,null,null,null,null,null,null,null,null,null,null,null,null,null,null,null,null,null,null,null,null,null,null,null,null,null,null,null,null,null,null,null,null,null,null,null,null,null,null,null,null,null,null,null,null,null,null,null,null,null,null,null,null,null,null,null,null,null,null,null,null,null,null,null,null,null,null,null,null,null,null,null,null,null,null,null,null,null,null,null,null,null,null,null,null,null,null,null,null,null,null,null,null,null,null,null,null,null,null,null,null,null,null,null,null,null,null,null,null,null,null,null,null,null,null,null,null,null,null,null,null,null,null,null,null,null,"Fail"]
[]
[null,"This sheet is used to document the individual lease (or an aggregation of leases with same set of terms and conditions) that the engagement team subjected to audit procedures.  A copy of this workbook template can be used for multiple leases."]
[]
[null,"Scoping Questions"]
[null,"Questions",null,null,"Response","Lease Section/Page Ref "]
[null,"Identification of the Lease or Lease Name"]
[null,"Nature of the Lease"]
[null,"Does the lease arrangement include:"]
[null,"(a) Intangible assets subject to ASC 350"]
[null,"(b) Explore for or use minerals, oil, natural gas, and similar resources"]
[null,"(c) Biological assets"]
[null,"(d) Inventory"]
[null,"(e) Assets under construction"]
[null,null,null,null,{"$f":"IF(COUNTIF(E14:E18,\"Yes\")>0,\"LEASE ACCOUNTING DOES NOT APPLY \nSTOP AND SEE OTHER GAAP\",\"\")","v":""}]
[]
[]
[null,"Short-term lease exemption:"]
[null,"Is lease term 12 months or less?"]
[null,{"$f":"IF(E23=\"YES\",\"Is there an option to purchase asset that lessee is reasonably certain to exercise?\",\"\")","v":""}]
[null,null,null,null,{"$f":"IF(COUNTIF(Exemption,\"No\")>0,\"\",IF(COUNTIF(E24,\"Yes\")>0,\"NO FURTHER ANALYSIS USING THIS TEMPLATE REQUIRED. LEASE PAYMENTS RELATED TO THESE SHORT TERM LEASES ARE RECOGNIZED ON A STRAIGHT LINE BASIS OVER THE LEASE TERM\",\"\"))","v":""}]
[]
[null,"Specified Assets / Substitution Rights:"]
[null,"Does the lease agreement explicitly or implicitly specify the asset under lease?"]
[null,{"$f":"IF(Specified=\"Yes\",\"Does the lessor have ability to subsititute alternative assets and derive economic benefit from substitution?\",\"\")","v":""}]
[null,null,null,null,{"$f":"IF(E28=\"No\",\"NO FURTHER ANALYSIS REQUIRED. LEASE ACCOUNTING DOES NOT APPLY\",IF(E29=\"Yes\",\"NO FURTHER ANALYSIS REQUIRED. LEASE ACCOUNTING DOES NOT APPLY\",\"\"))","v":""}]
[]
[null,"Additional Comments, if any:"]
[]
[null,null,null,null,"Proceed >>"]
[]
[]
[]
[]
[]
[]
[]
[]
[]
[]
[]
[]
[]
[]
[]
[]
[]
[]
[]
[]
[]
[]
[]
[]
[]
[]
[]
[]
[]
[]
[]
[]
[]
[]
[]
[]
[]
[]
[]
[]
[]
[]
[]
[]
[]
[]
[]
[]
[]
[]
[]
[]
[]
[]
[]
[]
[]
[]
[]
[]
[]
[]
[]
[]
[]
[]
[]
[]
[]
[]
[]
[]
[]
[]
[]
[]
[]
[]
[]
[]
[]
[]
[]
[]
[]
[]
[]
[]
[]
[]
[]
[]
[]
[]
[]
[]
[]
[]
[]
[]
[]
[]
[]
[]
[]
[]
[]
[]
[]
[]
[]
[]
[]
[]
[]
[]
[]
[]
[]
[]
[]
[]
[]
[]
[]
[]
[]
[]
[]
[]
[]
[]
[]
[]
[]
[]
[]
[]
[]
[]
[]
[]
[]
[]
[]
[]
[]
[]
[]
[]
[]
[]
[]
[]
[]
[]
[]
[]
[]
[]
[]
[]
[]
[]
[]
[]
[]
[]
[]
[]
[]
[]
[]
[]
[]
[]
[]
[]
[]
[]
[]
[]
[]
[]
[]
[]
[]
[]
[]
[]
[]
[]
[]
[]
[]
[]
[]
[]
[]
[]
[]
[]
[]
[]
[]
[]
[]
[]
[]
[]
[]
[]
[]
[]
[]
[]
[]
[]
[]
[]
[]
[]
[]
[]
[]
[]
[]
[]
[]
[]
[]
[]
[]
[]
[]
[]
[]
[]
[]
[]
[]
[]
[]
[]
[]
[]
[]
[]
[]
[]
[]
[]
[]
[]
[]
[]
[]
[]
[]
[]
[]
[]
[]
[]
[]
[]
[]
[]
[]
[]
[]
[]
[]
[]
[]
[]
[]
[]
[]
[]
[]
[]
[]
[]
[]
[]
[]
[]
[]
[]
[]
[]
[]
[]
[]
[]
[]
[]
[]
[]
[]
[]
[]
[]
[]
[]
[]
[]
[]
[]
[]
[]
[]
[]
[]
[]
[]
[]
[]
[]
[]
[]
[]
[]
[]
[]
[]
[]
[]
[]
[]
[]
[]
[]
[]
[]
[]
[]
[]
[]
[]
[]
[]
[]
[]
[]
[]
[]
[]
[]
[]
[]
[]
[]
[]
[]
[]
[]
[]
[]
[]
[]
[]
[]
[]
[]
[]
[]
[]
[]
[]
[]
[]
[]
[]
[]
[]
[]
[]
[]
[]
[]
[]
[]
[]
[]
[]
[]
[]
[]
[]
[]
[]
[]
[]
[]
[]
[]
[]
[]
[]
[]
[]
[]
[]
[]
[]
[]
[]
[]
[]
[]
[]
[]
[]
[]
[]
[]
[]
[]
[]
[]
[]
[]
[]
[]
[]
[]
[]
[]
[]
[]
[]
[]
[]
[]
[]
[]
[]
[]
[]
[]
[]
[]
[]
[]
[]
[]
[]
[]
[]
[]
[]
[]
[]
[]
[]
[]
[]
[]
[]
[]
[]
[]
[]
[]
[]
[]
[]
[]
[]
[]
[]
[]
[]
[]
[]
[]
[]
[]
[]
[]
[]
[]
[]
[]
[]
[]
[]
[]
[]
[]
[]
[]
[]
[]
[]
[]
[]
[]
[]
[]
[]
[]
[]
[]
[]
[]
[]
[]
[]
[]
[]
[]
[]
[]
[]
[]
[]
[]
[]
[]
[]
[]
[]
[]
[]
[]
[]
[]
[]
[]
[]
[]
[]
[]
[]
[]
[]
[]
[]
[]
[]
[]
[]
[]
[]
[]
[]
[]
[]
[]
[]
[]
[]
[]
[]
[]
[]
[]
[]
[]
[]
[]
[]
[]
[]
[]
[]
[]
[]
[]
[]
[]
[]
[]
[]
[]
[]
[]
[]
[]
[]
[]
[]
[]
[]
[]
[]
[]
[]
[]
[]
[]
[]
[]
[]
[]
[]
[]
[]
[]
[]
[]
[]
[]
[]
[]
[]
[]
[]
[]
[]
[]
[]
[]
[]
[]
[]
[]
[]
[]
[]
[]
[]
[]
[]
[]
[]
[]
[]
[]
[]
[]
[]
[]
[]
[]
[]
[]
[]
[]
[]
[]
[]
[]
[]
[]
[]
[]
[]
[]
[]
[]
[]
[]
[]
[]
[]
[]
[]
[]
[]
[]
[]
[]
[]
[]
[]
[]
[]
[]
[]
[]
[]
[]
[]
[]
[]
[]
[]
[]
[]
[]
[]
[]
[]
[]
[]
[]
[]
[]
[]
[]
[]
[]
[]
[]
[]
[]
[]
[]
[]
[]
[]
[]
[]
[]
[]
[]
[]
[]
[]
[]
[]
[]
[]
[]
[]
[]
[]
[]
[]
[]
[]
[]
[]
[]
[]
[]
[]
[]
[]
[]
[]
[]
[]
[]
[]
[]
[]
[]
[]
[]
[]
[]
[]
[]
[]
[]
[]
[]
[]
[]
[]
[]
[]
[]
[]
[]
[]
[]
[]
[]
[]
[]
[]
[]
[]
[]
[]
[]
[]
[]
[]
[]
[]
[]
[]
[]
[]
[]
[]
[]
[]
[]
[]
[]
[]
[]
[]
[]
[]
[]
[]
[]
[]
[]
[]
[]
[]
[]
[]
[]
[]
[]
[]
[]
[]
[]
[]
[]
[]
[]
[]
[]
[]
[]
[]
[]
[]
[]
[]
[]
[]
[]
[]
[]
[]
[]
[]
[]
[]
[]
[]
[]
[]
[]
[]
[]
[]
[]
[]
[]
[]
[]
[]
[]
[]
[]
[]
[]
[]
[]
[]
[]
[]
[]
[]
[]
[]
[]
[]
[]
[]
[]
[]
[]
[]
[]
[]
[]
[]
[]
[]
[]
[]
[]
[]
[]
[]
[]
[]
[]
[]
[]
[]
[]
[null,null,null,null,null,null,null,null,null,null,null,null,null,null,null,null,null,null,null,null,null,null,null,null,null,null,null,null,null,null,null,null,null,null,null,null,null,null,null,null,null,null,null,null,null,null,null,null,null,null,null,null,null,null,null,null,null,null,null,null,null,null,null,null,null,null,null,null,null,null,null,null,null,null,null,null,null,null,null,null,null,null,null,null,null,null,null,null,null,null,null,null,null,null,null,null,null,null,null,null,null,null,null,null,null,null,null,null,null,null,null,null,null,null,null,null,null,null,null,null,null,null,null,null,null,null,null,null,null,null,null,null,null,null,null,null,null,null,null,null,null,null,null,null,null,null,null,null,null,null,null,null,null,null,null,null,null,null,null,null,null,null,null,null,null,null,null,null,null,null,null,null,null,null,null,null,null,null,null,null,null,null,null,null,null,null,null,null,null,null,null,null,null,null,null,null,null,null,null,null,null,null,null,null,null,null,null,null,null,null,null,null,null,null,null,null,null,null,null,null,null,null,null,null,null,null,null,null,null,null,null,null,null,null,null,null,null,null,null,null,null,null,null,null,null,null,null,null,null,null,null,null,null,null,null,null,null,null,null,null,null,null,null,null,null,null,null,null,null,null,null,null,null,null,null,null,null,null,null,null,null,null,null,null,null,null,null,null,null,null,null,null,null,null,null,null,null,null,null,null,null,null,null,null,null,null,null,null,null,null,null,null,null,null,null,null,null,null,null,null,null,null,null,null,null,null,null,null,null,null,null,null,null,null,null,null,null,null,null,null,null,null,null,null,null,null,null,null,null,null,null,null,null,null,null,null,null,null,null,null,null,null,null,null,null,null,null,null,null,null,null,null,null,null,null,null,null,null,null,null,null,null,null,null,null,null,null,null,null,null,null,null,null,null,null,null,null,null,null,null,null,null,null,null,null,null,null,null,null,null,null,null,null,null,null,null,null,null,null,null,null,null,null,null,null,null,null,null,null,null,null,null,null,null,null,null,null,null,null,null,null,null,null,null,null,null,null,null,null,null,null,null,null,null,null,null,null,null,null,null,null,null,null,null,null,null,null,null,null,null,null,null,null,null,null,null,null,null,null,null,null,null,null,null,null,null,null,null,null,null,null,null,null,null,null,null,null,null,null,null,null,null,null,null,null,null,null,null,null,null,null,null,null,null,null,null,null,null,null,null,null,null,null,null,null,null,null,null,null,null,null,null,null,null,null,null,null,null,null,null,null,null,null,null,null,null,null,null,null,null,null,null,null,null,null,null,null,null,null,null,null,null,null,null,null,null,null,null,null,null,null,null,null,null,null,null,null,null,null,null,null,null,null,null,null,null,null,null,null,null,null,null,null,null,null,null,null,null,null,null,null,null,null,null,null,null,null,null,null,null,null,null,null,null,null,null,null,null,null,null,null,null,null,null,null,null,null,null,null,null,null,null,null,null,null,null,null,null,null,null,null,null,null,null,null,null,null,null,null,null,null,null,null,null,null,null,null,null,null,null,null,null,null,null,null,null,null,null,null,null,null,null,null,null,null,null,null,null,null,null,null,null,null,null,null,null,null,null,null,null,null,null,null,null,null,null,null,null,null,null,null,null,null,null,null,null,null,null,null,null,null,null,null,null,null,null,null,null,null,null,null,null,null,null,null,null,null,null,null,null,null,null,null,null,null,null,null,null,null,null,null,null,null,null,null,null,null,null,null,null,null,null,null,null,null,null,null,null,null,null,null,null,null,null,null,null,null,null,null,null,null,null,null,null,null,null,null,null,null,null,null,null,null,null,null,null,null,null,null,null,null,null,null,null,null,null,null,null,null,null,null,null,null,null,null,null,null,null,null,null,null,null,null,null,null,null,null,null,null,null,null,null,null,null,null,null,null,null,null,null,null,null,null,null,null,null,null,null,null,null,null,null,null,null,null,null,null,null,null,null,null,null,null,null,null,null,null,null,null,null,null,null,null,null,null,null,null,null,null,null,null,null,null,null,null,null,null,null,null,null,null,null,null,null,null,null,null,null,null,null,null,null,null,null,null,null,null,null,null,null,null,null,null,null,null,null,null,null,null,null,null,null,null,null,null,null,null,null,null,null,null,null,null,null,null,null,null,null,null,null,null,null,null,null,null,null,null,null,null,null,null,null,null,null,null,null,null,null,null,null,null,null,null,null,null,null,null,null,null,null,null,null,null,null,null,null,null,null,null,null,null,null,null,null,null,null,null,null,null,null,null,null,null,null,null,null,null,null,null,null,null,null,null,null,null,null,null,null,null,null,null,null,null,null,null,null,null,null,null,null,null,null,null,null,null,null,null,null,null,null,null,null,null,null,null,null,null,null,null,null,null,null,null,null,null,null,null,null,null,null,null,null,null,null,null,null,null,null,null,null,null,null,null,null,null,null,null,null,null,null,null,null,null,null,null,null,null,null,null,null,null,null,null,null,null,null,null,null,null,null,null,null,null,null,null,null,null,null,null,null,null,null,null,null,null,null,null,null,null,null,null,null,null,null,null,null,null,null,null,null,null,null,null,null,null,null,null,null,null,null,null,null,null,null,null,null,null,null,null,null,null,null,null,null,null,null,null,null,null,null,null,null,null,null,null,null,null,null,null,null,null,null,null,null,null,null,null,null,null,null,null,null,null,null,null,null,null,null,null,null,null,null,null,null,null,null,null,null,null,null,null,null,null,null,null,null,null,null,null,null,null,null,null,null,null,null,null,null,null,null,null,null,null,null,null,null,null,null,null,null,null,null,null,null,null,null,null,null,null,null,null,null,null,null,null,null,null,null,null,null,null,null,null,null,null,null,null,null,null,null,null,null,null,null,null,null,null,null,null,null,null,null,null,null,null,null,null,null,null,null,null,null,null,null,null,null,null,null,null,null,null,null,null,null,null,null,null,null,null,null,null,null,null,null,null,null,null,null,null,null,null,null,null,null,null,null,null,null,null,null,null,null,null,null,null,null,null,null,null,null,null,null,null,null,null,null,null,null,null,null,null,null,null,null,null,null,null,null,null,null,null,null,null,null,null,null,null,null,null,null,null,null,null,null,null,null,null,null,null,null,null,null,null,null,null,null,null,null,null,null,null,null,null,null,null,null,null,null,null,null,null,null,null,null,null,null,null,null,null,null,null,null,null,null,null,null,null,null,null,null,null,null,null,null,null,null,null,null,null,null,null,null,null,null,null,null,null,null,null,null,null,null,null,null,null,null,null,null,null,null,null,null,null,null,null,null,null,null,null,null,null,null,"X"]

{"sheet":"Step 2. Basic Info","index":2,"n_rows":932,"n_cols":16301,"rows_kept":932,"cut":false,"hidden":true,"merged":[[34,1,34,2],[35,1,35,2],[39,1,39,2],[41,1,41,6],[11,6,12,6],[25,6,27,6],[18,1,18,2],[12,1,12,2],[25,1,27,2],[19,4,19,5]]}
[null,null,null,null,null,null,null,null,null,null,null,null,null,null,null,null,null,null,null,null,null,null,null,null,null,null,null,null,null,null,null,null,null,null,null,null,null,null,null,null,null,null,null,null,null,null,null,null,null,null,null,null,null,null,null,null,null,null,null,null,null,null,null,null,null,null,null,null,null,null,null,null,null,null,null,null,null,null,null,null,null,null,null,null,null,null,null,null,null,null,null,null,null,null,null,null,null,null,null,null,null,null,null,null,null,null,null,null,null,null,null,null,null,null,null,null,null,null,null,null,null,null,null,null,null,null,null,null,null,null,null,null,null,null,null,null,null,null,null,null,null,null,null,null,null,null,null,null,null,null,null,null,null,null,null,null,null,null,null,null,null,null,null,null,null,null,null,null,null,null,null,null,null,null,null,null,null,null,null,null,null,null,null,null,null,null,null,null,null,null,null,null,null,null,null,null,null,null,null,null,null,null,null,null,null,null,null,null,null,null,null,null,null,null,null,null,null,null,null,null,null,null,null,null,null,null,null,null,null,null,null,null,null,null,null,null,null,null,null,null,null,null,null,null,null,null,null,null,null,null,null,null,null,null,null,null,null,null,null,null,null,null,null,null,null,null,null,null,null,null,null,null,null,null,null,null,null,null,null,null,null,null,null,null,null,null,null,null,null,null,null,null,null,null,null,null,null,null,null,null,null,null,null,null,null,null,null,null,null,null,null,null,null,null,null,null,null,null,null,null,null,null,null,null,null,null,null,null,null,null,null,null,null,null,null,null,null,null,null,null,null,null,null,null,null,null,null,null,null,null,null,null,null,null,null,null,null,null,null,null,null,null,null,null,null,null,null,null,null,null,null,null,null,null,null,null,null,null,null,null,null,null,null,null,null,null,null,null,null,null,null,null,null,null,null,null,null,null,null,null,null,null,null,null,null,null,null,null,null,null,null,null,null,null,null,null,null,null,null,null,null,null,null,null,null,null,null,null,null,null,null,null,null,null,null,null,null,null,null,null,null,null,null,null,null,null,null,null,null,null,null,null,null,null,null,null,null,null,null,null,null,null,null,null,null,null,null,null,null,null,null,null,null,null,null,null,null,null,null,null,null,null,null,null,null,null,null,null,null,null,null,null,null,null,null,null,null,null,null,null,null,null,null,null,null,null,null,null,null,null,null,null,null,null,null,null,null,null,null,null,null,null,null,null,null,null,null,null,null,null,null,null,null,null,null,null,null,null,null,null,null,null,null,null,null,null,null,null,null,null,null,null,null,null,null,null,null,null,null,null,null,null,null,null,null,null,null,null,null,null,null,null,null,null,null,null,null,null,null,null,null,null,null,null,null,null,null,null,null,null,null,null,null,null,null,null,null,null,null,null,null,null,null,null,null,null,null,null,null,null,null,null,null,null,null,null,null,null,null,null,null,null,null,null,null,null,null,null,null,null,null,null,null,null,null,null,null,null,null,null,null,null,null,null,null,null,null,null,null,null,null,null,null,null,null,null,null,null,null,null,null,null,null,null,null,null,null,null,null,null,null,null,null,null,null,null,null,null,null,null,null,null,null,null,null,null,null,null,null,null,null,null,null,null,null,null,null,null,null,null,null,null,null,null,null,null,null,null,null,null,null,null,null,null,null,null,null,null,null,null,null,null,null,null,null,null,null,null,null,null,null,null,null,null,null,null,null,null,null,null,null,null,null,null,null,null,null,null,null,null,null,null,null,null,null,null,null,null,null,null,null,null,null,null,null,null,null,null,null,null,null,null,null,null,null,null,null,null,null,null,null,null,null,null,null,null,null,null,null,null,null,null,null,null,null,null,null,null,null,null,null,null,null,null,null,null,null,null,null,null,null,null,null,null,null,null,null,null,null,null,null,null,null,null,null,null,null,null,null,null,null,null,null,null,null,null,null,null,null,null,null,null,null,null,null,null,null,null,null,null,null,null,null,null,null,null,null,null,null,null,null,null,null,null,null,null,null,null,null,null,null,null,null,null,null,null,null,null,null,null,null,null,null,null,null,null,null,null,null,null,null,null,null,null,null,null,null,null,null,null,null,null,null,null,null,null,null,null,null,null,null,null,null,null,null,null,null,null,null,null,null,null,null,null,null,null,null,null,null,null,null,null,null,null,null,null,null,null,null,null,null,null,null,null,null,null,null,null,null,null,null,null,null,null,null,null,null,null,null,null,null,null,null,null,null,null,null,null,null,null,null,null,null,null,null,null,null,null,null,null,null,null,null,null,null,null,null,null,null,null,null,null,null,null,null,null,null,null,null,null,null,null,null,null,null,null,null,null,null,null,null,null,null,null,null,null,null,null,null,null,null,null,null,null,null,null,null,null,null,null,null,null,null,null,null,null,null,null,null,null,null,null,null,null,null,null,null,null,null,null,null,null,null,null,null,null,null,null,null,null,null,null,null,null,null,null,null,null,null,null,null,null,null,null,null,null,null,null,null,null,null,null,null,null,null,null,null,null,null,null,null,null,null,null,null,null,null,null,null,null,null,null,null,null,null,null,null,null,null,null,null,null,null,null,null,null,null,null,null,null,null,null,null,null,null,null,null,null,null,null,null,null,null,null,null,null,null,null,null,null,null,null,null,null,null,null,null,null,null,null,null,null,null,null,null,null,null,null,null,null,null,null,null,null,null,null,null,null,null,null,null,null,null,null,null,null,null,null,null,null,null,null,null,null,null,null,null,null,null,null,null,null,null,null,null,null,null,null,null,null,null,null,null,null,null,null,null,null,null,null,null,null,null,null,null,null,null,null,null,null,null,null,null,null,null,null,null,null,null,null,null,null,null,null,null,null,null,null,null,null,null,null,null,null,null,null,null,null,null,null,null,null,null,null,null,null,null,null,null,null,null,null,null,null,null,null,null,null,null,null,null,null,null,null,null,null,null,null,null,null,null,null,null,null,null,null,null,null,null,null,null,null,null,null,null,null,null,null,null,null,null,null,null,null,null,null,null,null,null,null,null,null,null,null,null,null,null,null,null,null,null,null,null,null,null,null,null,null,null,null,null,null,null,null,null,null,null,null,null,null,null,null,null,null,null,null,null,null,null,null,null,null,null,null,null,null,null,null,null,null,null,null,null,null,null,null,null,null,null,null,null,null,null,null,null,null,null,null,null,null,null,null,null,null,null,null,null,null,null,null,null,null,null,null,null,null,null,null,null,null,null,null,null,null,null,null,null,null,null,null,null,null,null,null,null,null,null,null,null,null,null,null,null,null,null,null,null,null,null,null,null,null,"X"]
[null,"BDO"]
[null,"ENTITY NAME",{"$f":"IF(ISBLANK('Step 1. Scoping'!C3)=TRUE,\"\",'Step 1. Scoping'!C3)","v":""},null,"User Input Cells",null,null,null,null,null,null,null,null,null,null,null,null,null,null,null,null,null,null,null,null,null,null,null,null,null,null,null,null,null,null,null,null,null,null,null,null,null,null,null,null,null,null,null,null,null,null,null,null,null,null,null,null,null,null,null,null,null,null,null,null,null,null,null,null,null,null,null,null,null,null,null,null,null,null,null,null,null,null,null,null,null,null,null,null,null,null,null,null,null,null,null,null,null,null,null,null,null,null,null,null,null,null,null,null,null,null,null,null,null,null,null,null,null,null,null,null,null,null,null,null,null,null,null,null,null,null,null,null,null,null,null,null,null,null,null,null,null,null,null,null,null,null,null,null,null,null,null,null,null,null,null,null,null,null,null,null,null,null,null,null,null,null,null,null,null,null,null,null,null,null,null,null,null,null,null,null,null,null,null,null,null,null,null,null,null,null,null,null,null,null,null,null,null,null,null,null,null,null,null,null,null,null,null,null,null,null,null,null,null,null,null,null,null,null,null,null,null,null,null,null,null,null,null,null,null,null,null,null,null,null,null,null,null,null,null,null,null,null,null,null,null,null,null,null,null,null,null,null,null,null,null,null,null,null,null,null,null,null,null,null,null,null,null,null,null,null,null,null,null,null,null,null,null,null,null,null,null,null,null,null,null,null,null,null,null,null,null,null,null,null,null,null,null,null,null,null,null,null,null,null,null,null,null,null,null,null,null,null,null,null,null,null,null,null,null,null,null,null,null,null,null,null,null,null,null,null,null,null,null,null,null,null,null,null,null,null,null,null,null,null,null,null,null,null,null,null,null,null,null,null,null,null,null,null,null,null,null,null,null,null,null,null,null,null,null,null,null,null,null,null,null,null,null,null,null,null,null,null,null,null,null,null,null,null,null,null,null,null,null,null,null,null,null,null,null,null,null,null,null,null,null,null,null,null,null,null,null,null,null,null,null,null,null,null,null,null,null,null,null,null,null,null,null,null,null,null,null,null,null,null,null,null,null,null,null,null,null,null,null,null,null,null,null,null,null,null,null,null,null,null,null,null,null,null,null,null,null,null,null,null,null,null,null,null,null,null,null,null,null,null,null,null,null,null,null,null,null,null,null,null,null,null,null,null,null,null,null,null,null,null,null,null,null,null,null,null,null,null,null,null,null,null,null,null,null,null,null,null,null,null,null,null,null,null,null,null,null,null,null,null,null,null,null,null,null,null,null,null,null,null,null,null,null,null,null,null,null,null,null,null,null,null,null,null,null,null,null,null,null,null,null,null,null,null,null,null,null,null,null,null,null,null,null,null,null,null,null,null,null,null,null,null,null,null,null,null,null,null,null,null,null,null,null,null,null,null,null,null,null,null,null,null,null,null,null,null,null,null,null,null,null,null,null,null,null,null,null,null,null,null,null,null,null,null,null,null,null,null,null,null,null,null,null,null,null,null,null,null,null,null,null,null,null,null,null,null,null,null,null,null,null,null,null,null,null,null,null,null,null,null,null,null,null,null,null,null,null,null,null,null,null,null,null,null,null,null,null,null,null,null,null,null,null,null,null,null,null,null,null,null,null,null,null,null,null,null,null,null,null,null,null,null,null,null,null,null,null,null,null,null,null,null,null,null,null,null,null,null,null,null,null,null,null,null,null,null,null,null,null,null,null,null,null,null,null,null,null,null,null,null,null,null,null,null,null,null,null,null,null,null,null,null,null,null,null,null,null,null,null,null,null,null,null,null,null,null,null,null,null,null,null,null,null,null,null,null,null,null,null,null,null,null,null,null,null,null,null,null,null,null,null,null,null,null,null,null,null,null,null,null,null,null,null,null,null,null,null,null,null,null,null,null,null,null,null,null,null,null,null,null,null,null,null,null,null,null,null,null,null,null,null,null,null,null,null,null,null,null,null,null,null,null,null,null,null,null,null,null,null,null,null,null,null,null,null,null,null,null,null,null,null,null,null,null,null,null,null,null,null,null,null,null,null,null,null,null,null,null,null,null,null,null,null,null,null,null,null,null,null,null,null,null,null,null,null,null,null,null,null,null,null,null,null,null,null,null,null,null,null,null,null,null,null,null,null,null,null,null,null,null,null,null,null,null,null,null,null,null,null,null,null,null,null,null,null,null,null,null,null,null,null,null,null,null,null,null,null,null,null,null,null,null,null,null,null,null,null,null,null,null,null,null,null,null,null,null,null,null,null,null,null,null,null,null,null,null,null,null,null,null,null,null,null,null,null,null,null,null,null,null,null,null,null,null,null,null,null,null,null,null,null,null,null,null,null,null,null,null,null,null,null,null,null,null,null,null,null,null,null,null,null,null,null,null,null,null,null,null,null,null,null,null,null,null,null,null,null,null,null,null,null,null,null,null,null,null,null,null,null,null,null,null,null,null,null,null,null,null,null,null,null,null,null,null,null,null,null,null,null,null,null,null,null,null,null,null,null,null,null,null,null,null,null,null,null,null,null,null,null,null,null,null,null,null,null,null,null,null,null,null,null,null,null,null,null,null,null,null,null,null,null,null,null,null,null,null,null,null,null,null,null,null,null,null,null,null,null,null,null,null,null,null,null,null,null,null,null,null,null,null,null,null,null,null,null,null,null,null,null,null,null,null,null,null,null,null,null,null,null,null,null,null,null,null,null,null,null,null,null,null,null,null,null,null,null,null,null,null,null,null,null,null,null,null,null,null,null,null,null,null,null,null,null,null,null,null,null,null,null,null,null,null,null,null,null,null,null,null,null,null,null,null,null,null,null,null,null,null,null,null,null,null,null,null,null,null,null,null,null,null,null,null,null,null,null,null,null,null,null,null,null,null,null,null,null,null,null,null,null,null,null,null,null,null,null,null,null,null,null,null,null,null,null,null,null,null,null,null,null,null,null,null,null,null,null,null,null,null,null,null,null,null,null,null,null,null,null,null,null,null,null,null,null,null,null,null,null,null,null,null,null,null,null,null,null,null,null,null,null,null,null,null,null,null,null,null,null,null,null,null,null,null,null,null,null,null,null,null,null,null,null,null,null,null,null,null,null,null,null,null,null,null,null,null,null,null,null,null,null,null,null,null,null,null,null,null,null,null,null,null,null,null,null,null,null,null,null,null,null,null,null,null,null,null,null,null,null,null,null,null,null,null,null,null,null,null,null,null,null,null,null,null,null,null,null,null,null,null,null,null,null,null,null,null,null,null,null,null,null,null,null,null,null,null,null,null,null,null,null,null,null,null,null,null,null,null,null,null,null,null,null,null,null,null,null,null,null,null,null,null,null,null,null,null,null,null,null,null,null,null,null,null,null,null,null,null,null,null,null,null,null,null,null,null,null,null,null,null,null,null,null,null,null,null,null,null,null,null,null,null,null,null,null,null,null,null,null,null,null,null,null,null,null,null,null,null,null,null,null,null,null,null,null,null,null,null,null,null,null,null,null,null,null,null,null,null,null,null,null,null,null,null,null,null,null,null,null,null,null,null,null,null,null,null,null,null,null,null,null,null,null,null,null,null,null,null,null,null,null,null,null,null,null,null,null,null,null,null,null,null,null,null,null,null,null,null,null,null,null,null,null,null,null,null,null,null,null,null,null,null,null,null,null,null,null,null,null,null,null,null,null,null,null,null,null,null,null,null,null,null,null,null,null,null,null,null,null,null,null,null,null,null,null,null,null,null,null,null,null,null,null,null,null,null,null,null,null,null,null,null,null,null,null,null,null,null,null,null,null,null,null,null,null,null,null,null,null,null,null,null,null,null,null,null,null,null,null,null,null,null,null,null,null,null,null,null,null,null,null,null,null,null,null,null,null,null,null,null,null,null,null,null,null,null,null,null,null,null,null,null,null,null,null,null,null,null,null,null,null,null,null,null,null,null,null,null,null,null,null,null,null,null,null,null,null,null,null,null,null,null,null,null,null,null,null,null,null,null,null,null,null,null,null,null,null,null,null,null,null,null,null,null,null,null,null,null,null,null,null,null,null,null,null,null,null,null,null,null,null,null,null,null,null,null,null,null,null,null,null,null,null,null,null,null,null,null,null,null,null,null,null,null,null,null,null,null,null,null,null,null,null,null,null,null,null,null,null,null,null,null,null,null,null,null,null,null,null,null,null,null,null,null,null,null,null,null,null,null,null,null,null,null,null,null,null,null,null,null,null,null,null,null,null,null,null,null,null,null,null,null,null,null,null,null,null,null,null,null,null,null,null,null,null,null,null,null,null,null,null,null,null,null,null,null,null,null,null,null,null,null,null,null,null,null,null,null,null,null,null,null,null,null,null,null,null,null,null,null,null,null,null,null,null,null,null,null,null,null,null,null,null,null,null,null,null,null,null,null,null,null,null,null,null,null,null,null,null,null,null,null,null,null,null,null,null,null,null,null,null,null,null,null,null,null,null,null,null,null,null,null,null,null,null,null,null,null,null,null,null,null,null,null,null,null,null,null,null,null,null,null,null,null,null,null,null,null,null,null,null,null,null,null,null,null,null,null,null,null,null,null,null,null,null,null,null,null,null,null,null,null,null,null,null,null,null,null,null,null,null,null,null,null,null,null,null,null,null,null,null,null,null,null,null,null,null,null,null,null,null,null,null,null,null,null,null,null,null,null,null,null,null,null,null,null,null,null,null,null,null,null,null,null,null,null,null,null,null,null,null,null,null,null,null,null,null,null,null,null,null,null,null,null,null,null,null,null,null,null,null,null,null,null,null,null,null,null,null,null,null,null,null,null,null,null,null,null,null,null,null,null,null,null,null,null,null,null,null,null,null,null,null,null,null,null,null,null,null,null,null,null,null,null,null,null,null,null,null,null,null,null,null,null,null,null,null,null,null,null,null,null,null,null,null,null,null,null,null,null,null,null,null,null,null,null,null,null,null,null,null,null,null,null,null,null,null,null,null,null,null,null,null,null,null,null,null,null,null,null,null,null,null,null,null,null,null,null,null,null,null,null,null,null,null,null,null,null,null,null,null,null,null,null,null,null,null,null,null,null,null,null,null,null,null,null,null,null,null,null,null,null,null,null,null,null,null,null,null,null,null,null,null,null,null,null,null,null,null,null,null,null,null,null,null,null,null,null,null,null,null,null,null,null,null,null,null,null,null,null,null,null,null,null,null,null,null,null,null,null,null,null,null,null,null,null,null,null,null,null,null,null,null,null,null,null,null,null,null,null,null,null,null,null,null,null,null,null,null,null,null,null,null,null,null,null,null,null,null,null,null,null,null,null,null,null,null,null,null,null,null,null,null,null,null,null,null,null,null,null,null,null,null,null,null,null,null,null,null,null,null,null,null,null,null,null,null,null,null,null,null,null,null,null,null,null,null,null,null,null,null,null,null,null,null,null,null,null,null,null,null,null,null,null,null,null,null,null,null,null,null,null,null,null,null,null,null,null,null,null,null,null,null,null,null,null,null,null,null,null,null,null,null,null,null,null,null,null,null,null,null,null,null,null,null,null,null,null,null,null,null,null,null,null,null,null,null,null,null,null,null,null,null,null,null,null,null,null,null,null,null,null,null,null,null,null,null,null,null,null,null,null,null,null,null,null,null,null,null,null,null,null,null,null,null,null,null,null,null,null,null,null,null,null,null,null,null,null,null,null,null,null,null,null,null,null,null,null,null,null,null,null,null,null,null,null,null,null,null,null,null,null,null,null,null,null,null,null,null,null,null,null,null,null,null,null,null,null,null,null,null,null,null,null,null,null,null,null,null,null,null,null,null,null,null,null,null,null,null,null,null,null,null,null,null,null,null,null,null,null,null,null,null,null,null,null,null,null,null,null,null,null,null,null,null,null,null,null,null,null,null,null,null,null,null,null,null,null,null,null,null,null,null,null,null,null,null,null,null,null,null,null,null,null,null,null,null,null,null,null,null,null,null,null,null,null,null,null,null,null,null,null,null,null,null,null,null,null,null,null,null,null,null,null,null,null,null,null,null,null,null,null,null,null,null,null,null,null,null,null,null,null,null,null,null,null,null,null,null,null,null,null,null,null,null,null,null,null,null,null,null,null,null,null,null,null,null,null,null,null,null,null,null,null,null,null,null,null,null,null,null,null,null,null,null,null,null,null,null,null,null,null,null,null,null,null,null,null,null,null,null,null,null,null,null,null,null,null,null,null,null,null,null,null,null,null,null,null,null,null,null,null,null,null,null,null,null,null,null,null,null,null,null,null,null,null,null,null,null,null,null,null,null,null,null,null,null,null,null,null,null,null,null,null,null,null,null,null,null,null,null,null,null,null,null,null,null,null,null,null,null,null,null,null,null,null,null,null,null,null,null,null,null,null,null,null,null,null,null,null,null,null,null,null,null,null,null,null,null,null,null,null,null,null,null,null,null,null,null,null,null,null,null,null,null,null,null,null,null,null,null,null,null,null,null,null,null,null,null,null,null,null,null,null,null,null,null,null,null,null,null,null,null,null,null,null,null,null,null,null,null,null,null,null,null,null,null,null,null,null,null,null,null,null,null,null,null,null,null,null,null,null,null,null,null,null,null,null,null,null,null,null,null,null,null,null,null,null,null,null,null,null,null,null,null,null,null,null,null,null,null,null,null,null,null,null,null,null,null,null,null,null,null,null,null,null,null,null,null,null,null,null,null,null,null,null,null,null,null,null,null,null,null,null,null,null,null,null,null,null,null,null,null,null,null,null,null,null,null,null,null,null,null,null,null,null,null,null,null,null,null,null,null,null,null,null,null,null,null,null,null,null,null,null,null,null,null,null,null,null,null,null,null,null,null,null,null,null,null,null,null,null,null,null,null,null,null,null,null,null,null,null,null,null,null,null,null,null,null,null,null,null,null,null,null,null,null,null,null,null,null,null,null,null,null,null,null,null,null,null,null,null,null,null,null,null,null,null,null,null,null,null,null,null,null,null,null,null,null,null,null,null,null,null,null,null,null,null,null,null,null,null,null,null,null,null,null,null,null,null,null,null,null,null,null,null,null,null,null,null,null,null,null,null,null,null,null,null,null,null,null,null,null,null,null,null,null,null,null,null,null,null,null,null,null,null,null,null,null,null,null,null,null,null,null,null,null,null,null,null,null,null,null,null,null,null,null,null,null,null,null,null,null,null,null,null,null,null,null,null,null,null,null,null,null,null,null,null,null,null,null,null,null,null,null,null,null,null,null,null,null,null,null,null,null,null,null,null,null,null,null,null,null,null,null,null,null,null,null,null,null,null,null,null,null,null,null,null,null,null,null,null,null,null,null,null,null,null,null,null,null,null,null,null,null,null,null,null,null,null,null,null,null,null,null,null,null,null,null,null,null,null,null,null,null,null,null,null,null,null,null,null,null,null,null,null,null,null,null,null,null,null,null,null,null,null,null,null,null,null,null,null,null,null,null,null,null,null,null,null,null,null,null,null,null,null,null,null,null,null,null,null,null,null,null,null,null,null,null,null,null,null,null,null,null,null,null,null,null,null,null,null,null,null,null,null,null,null,null,null,null,null,null,null,null,null,null,null,null,null,null,null,null,null,null,null,null,null,null,null,null,null,null,null,null,null,null,null,null,null,null,null,null,null,null,null,null,null,null,null,null,null,null,null,null,null,null,null,null,null,null,null,null,null,null,null,null,null,null,null,null,null,null,null,null,null,null,null,null,null,null,null,null,null,null,null,null,null,null,null,null,null,null,null,null,null,null,null,null,null,null,null,null,null,null,null,null,null,null,null,null,null,null,null,null,null,null,null,null,null,null,null,null,null,null,null,null,null,null,null,null,null,null,null,null,null,null,null,null,null,null,null,null,null,null,null,null,null,null,null,null,null,null,null,null,null,null,null,null,null,null,null,null,null,null,null,null,null,null,null,null,null,null,null,null,null,null,null,null,null,null,null,null,null,null,null,null,null,null,null,null,null,null,null,null,null,null,null,null,null,null,null,null,null,null,null,null,null,null,null,null,null,null,null,null,null,null,null,null,null,null,null,null,null,null,null,null,null,null,null,null,null,null,null,null,null,null,null,null,null,null,null,null,null,null,null,null,null,null,null,null,null,null,null,null,null,null,null,null,null,null,null,null,null,null,null,null,null,null,null,null,null,null,null,null,null,null,null,null,null,null,null,null,null,null,null,null,null,null,null,null,null,null,null,null,null,null,null,null,null,null,null,null,null,null,null,null,null,null,null,null,null,null,null,null,null,null,null,null,null,null,null,null,null,null,null,null,null,null,null,null,null,null,null,null,null,null,null,null,null,null,null,null,null,null,null,null,null,null,null,null,null,null,null,null,null,null,null,null,null,null,null,null,null,null,null,null,null,null,null,null,null,null,null,null,null,null,null,null,null,null,null,null,null,null,null,null,null,null,null,null,null,null,null,null,null,null,null,null,null,null,null,null,null,null,null,null,null,null,null,null,null,null,null,null,null,null,null,null,null,null,null,null,null,null,null,null,null,null,null,null,null,null,null,null,null,null,null,null,null,null,null,null,null,null,null,null,null,null,null,null,null,null,null,null,null,null,null,null,null,null,null,null,null,null,null,null,null,null,null,null,null,null,null,null,null,null,null,null,null,null,null,null,null,null,null,null,null,null,null,null,null,null,null,null,null,null,null,null,null,null,null,null,null,null,null,null,null,null,null,null,null,null,null,null,null,null,null,null,null,null,null,null,null,null,null,null,null,null,null,null,null,null,null,null,null,null,null,null,null,null,null,null,null,null,null,null,null,null,null,null,null,null,null,null,null,null,null,null,null,null,null,null,null,null,null,null,null,null,null,null,null,null,null,null,null,null,null,null,null,null,null,null,null,null,null,null,null,null,null,null,null,null,null,null,null,null,null,null,null,null,null,null,null,null,null,null,null,null,null,null,null,null,null,null,null,null,null,null,null,null,null,null,null,null,null,null,null,null,null,null,null,null,null,null,null,null,null,null,null,null,null,null,null,null,null,null,null,null,null,null,null,null,null,null,null,null,null,null,null,null,null,null,null,null,null,null,null,null,null,null,null,null,null,null,null,null,null,null,null,null,null,null,null,null,null,null,null,null,null,null,null,null,null,null,null,null,null,null,null,null,null,null,null,null,null,null,null,null,null,null,null,null,null,null,null,null,null,null,null,null,null,null,null,null,null,null,null,null,null,null,null,null,null,null,null,null,null,null,null,null,null,null,null,null,null,null,null,null,null,null,null,null,null,null,null,null,null,null,null,null,null,null,null,null,null,null,null,null,null,null,null,null,null,null,null,null,null,null,null,null,null,null,null,null,null,null,null,null,null,null,null,null,null,null,null,null,null,null,null,null,null,null,null,null,null,null,null,null,null,null,null,null,null,null,null,null,null,null,null,null,null,null,null,null,null,null,null,null,null,null,null,null,null,null,null,null,null,null,null,null,null,null,null,null,null,null,null,null,null,null,null,null,null,null,null,null,null,null,null,null,null,null,null,null,null,null,null,null,null,null,null,null,null,null,null,null,null,null,null,null,null,null,null,null,null,null,null,null,null,null,null,null,null,null,null,null,null,null,null,null,null,null,null,null,null,null,null,null,null,null,null,null,null,null,null,null,null,null,null,null,null,null,null,null,null,null,null,null,null,null,null,null,null,null,null,null,null,null,null,null,null,null,null,null,null,null,null,null,null,null,null,null,null,null,null,null,null,null,null,null,null,null,null,null,null,null,null,null,null,null,null,null,null,null,null,null,null,null,null,null,null,null,null,null,null,null,null,null,null,null,null,null,null,null,null,null,null,null,null,null,null,null,null,null,null,null,null,null,null,null,null,null,null,null,null,null,null,null,null,null,null,null,null,null,null,null,null,null,null,null,null,null,null,null,null,null,null,null,null,null,null,null,null,null,null,null,null,null,null,null,null,null,null,null,null,null,null,null,null,null,null,null,null,null,null,null,null,null,null,null,null,null,null,null,null,null,null,null,null,null,null,null,null,null,null,null,null,null,null,null,null,null,null,null,null,null,null,null,null,null,null,null,null,null,null,null,null,null,null,null,null,null,null,null,null,null,null,null,null,null,null,null,null,null,null,null,null,null,null,null,null,null,null,null,null,null,null,null,null,null,null,null,null,null,null,null,null,null,null,null,null,null,null,null,null,null,null,null,null,null,null,null,null,null,null,null,null,null,null,null,null,null,null,null,null,null,null,null,null,null,null,null,null,null,null,null,null,null,null,null,null,null,null,null,null,null,null,null,null,null,null,null,null,null,null,null,null,null,null,null,null,null,null,null,null,null,null,null,null,null,null,null,null,null,null,null,null,null,null,null,null,null,null,null,null,null,null,null,null,null,null,null,null,null,null,null,null,null,null,null,null,null,null,null,null,null,null,null,null,null,null,null,null,null,null,null,null,null,null,null,null,null,null,null,null,null,null,null,null,null,null,null,null,null,null,null,null,null,null,null,null,null,null,null,null,null,null,null,null,null,null,null,null,null,null,null,null,null,null,null,null,null,null,null,null,null,null,null,null,null,null,null,null,null,null,null,null,null,null,null,null,null,null,null,null,null,null,null,null,null,null,null,null,null,null,null,null,null,null,null,null,null,null,null,null,null,null,null,null,null,null,null,null,null,null,null,null,null,null,null,null,null,null,null,null,null,null,null,null,null,null,null,null,null,null,null,null,null,null,null,null,null,null,null,null,null,null,null,null,null,null,null,null,null,null,null,null,null,null,null,null,null,null,null,null,null,null,null,null,null,null,null,null,null,null,null,null,null,null,null,null,null,null,null,null,null,null,null,null,null,null,null,null,null,null,null,null,null,null,null,null,null,null,null,null,null,null,null,null,null,null,null,null,null,null,null,null,null,null,null,null,null,null,null,null,null,null,null,null,null,null,null,null,null,null,null,null,null,null,null,null,null,null,null,null,null,null,null,null,null,null,null,null,null,null,null,null,null,null,null,null,null,null,null,null,null,null,null,null,null,null,null,null,null,null,null,null,null,null,null,null,null,null,null,null,null,null,null,null,null,null,null,null,null,null,null,null,null,null,null,null,null,null,null,null,null,null,null,null,null,null,null,null,null,null,null,null,null,null,null,null,null,null,null,null,null,null,null,null,null,null,null,null,null,null,null,null,null,null,null,null,null,null,null,null,null,null,null,null,null,null,null,null,null,null,null,null,null,null,null,null,null,null,null,null,null,null,null,null,null,null,null,null,null,null,null,null,null,null,null,null,null,null,null,null,null,null,null,null,null,null,null,null,null,null,null,null,null,null,null,null,null,null,null,null,null,null,null,null,null,null,null,null,null,null,null,null,null,null,null,null,null,null,null,null,null,null,null,null,null,null,null,null,null,null,null,null,null,null,null,null,null,null,null,null,null,null,null,null,null,null,null,null,null,null,null,null,null,null,null,null,null,null,null,null,null,null,null,null,null,null,null,null,null,null,null,null,null,null,null,null,null,null,null,null,null,null,null,null,null,null,null,null,null,null,null,null,null,null,null,null,null,null,null,null,null,null,null,null,null,null,null,null,null,null,null,null,null,null,null,null,null,null,null,null,null,null,null,null,null,null,null,null,null,null,null,null,null,null,null,null,null,null,null,null,null,null,null,null,null,null,null,null,null,null,null,null,null,null,null,null,null,null,null,null,null,null,null,null,null,null,null,null,null,null,null,null,null,null,null,null,null,null,null,null,null,null,null,null,null,null,null,null,null,null,null,null,null,null,null,null,null,null,null,null,null,null,null,null,null,null,null,null,null,null,null,null,null,null,null,null,null,null,null,null,null,null,null,null,null,null,null,null,null,null,null,null,null,null,null,null,null,null,null,null,null,null,null,null,null,null,null,null,null,null,null,null,null,null,null,null,null,null,null,null,null,null,null,null,null,null,null,null,null,null,null,null,null,null,null,null,null,null,null,null,null,null,null,null,null,null,null,null,null,null,null,null,null,null,null,null,null,null,null,null,null,null,null,null,null,null,null,null,null,null,null,null,null,null,null,null,null,null,null,null,null,null,null,null,null,null,null,null,null,null,null,null,null,null,null,null,null,null,null,null,null,null,null,null,null,null,null,null,null,null,null,null,null,null,null,null,null,null,null,null,null,null,null,null,null,null,null,null,null,null,null,null,null,null,null,null,null,null,null,null,null,null,null,null,null,null,null,null,null,null,null,null,null,null,null,null,null,null,null,null,null,null,null,null,null,null,null,null,null,null,null,null,null,null,null,null,null,null,null,null,null,null,null,null,null,null,null,null,null,null,null,null,null,null,null,null,null,null,null,null,null,null,null,null,null,null,null,null,null,null,null,null,null,null,null,null,null,null,null,null,null,null,null,null,null,null,null,null,null,null,null,null,null,null,null,null,null,null,null,null,null,null,null,null,null,null,null,null,null,null,null,null,null,null,null,null,null,null,null,null,null,null,null,null,null,null,null,null,null,null,null,null,null,null,null,null,null,null,null,null,null,null,null,null,null,null,null,null,null,null,null,null,null,null,null,null,null,null,null,null,null,null,null,null,null,null,null,null,null,null,null,null,null,null,null,null,null,null,null,null,null,null,null,null,null,null,null,null,null,null,null,null,null,null,null,null,null,null,null,null,null,null,null,null,null,null,null,null,null,null,null,null,null,null,null,null,null,null,null,null,null,null,null,null,null,null,null,null,null,null,null,null,null,null,null,null,null,null,null,null,null,null,null,null,null,null,null,null,null,null,null,null,null,null,null,null,null,null,null,null,null,null,null,null,null,null,null,null,null,null,null,null,null,null,null,null,null,null,null,null,null,null,null,null,null,null,null,null,null,null,null,null,null,null,null,null,null,null,null,null,null,null,null,null,null,null,null,null,null,null,null,null,null,null,null,null,null,null,null,null,null,null,null,null,null,null,null,null,null,null,null,null,null,null,null,null,null,null,null,null,null,null,null,null,null,null,null,null,null,null,null,null,null,null,null,null,null,null,null,null,null,null,null,null,null,null,null,null,null,null,null,null,null,null,null,null,null,null,null,null,null,null,null,null,null,null,null,null,null,null,null,null,null,null,null,null,null,null,null,null,null,null,null,null,null,null,null,null,null,null,null,null,null,null,null,null,null,null,null,null,null,null,null,null,null,null,null,null,null,null,null,null,null,null,null,null,null,null,null,null,null,null,null,null,null,null,null,null,null,null,null,null,null,null,null,null,null,null,null,null,null,null,null,null,null,null,null,null,null,null,null,null,null,null,null,null,null,null,null,null,null,null,null,null,null,null,null,null,null,null,null,null,null,null,null,null,null,null,null,null,null,null,null,null,null,null,null,null,null,null,null,null,null,null,null,null,null,null,null,null,null,null,null,null,null,null,null,null,null,null,null,null,null,null,null,null,null,null,null,null,null,null,null,null,null,null,null,null,null,null,null,null,null,null,null,null,null,null,null,null,null,null,null,null,null,null,null,null,null,null,null,null,null,null,null,null,null,null,null,null,null,null,null,null,null,null,null,null,null,null,null,null,null,null,null,null,null,null,null,null,null,null,null,null,null,null,null,null,null,null,null,null,null,null,null,null,null,null,null,null,null,null,null,null,null,null,null,null,null,null,null,null,null,null,null,null,null,null,null,null,null,null,null,null,null,null,null,null,null,null,null,null,null,null,null,null,null,null,null,null,null,null,null,null,null,null,null,null,null,null,null,null,null,null,null,null,null,null,null,null,null,null,null,null,null,null,null,null,null,null,null,null,null,null,null,null,null,null,null,null,null,null,null,null,null,null,null,null,null,null,null,null,null,null,null,null,null,null,null,null,null,null,null,null,null,null,null,null,null,null,null,null,null,null,null,null,null,null,null,null,null,null,null,null,null,null,null,null,null,null,null,null,null,null,null,null,null,null,null,null,null,null,null,null,null,null,null,null,null,null,null,null,null,null,null,null,null,null,null,null,null,null,null,null,null,null,null,null,null,null,null,null,null,null,null,null,null,null,null,null,null,null,null,null,null,null,null,null,null,null,null,null,null,null,null,null,null,null,null,null,null,null,null,null,null,null,null,null,null,null,null,null,null,null,null,null,null,null,null,null,null,null,null,null,null,null,null,null,null,null,null,null,null,null,null,null,null,null,null,null,null,null,null,null,null,null,null,null,null,null,null,null,null,null,null,null,null,null,null,null,null,null,null,null,null,null,null,null,null,null,null,null,null,null,null,null,null,null,null,null,null,null,null,null,null,null,null,null,null,null,null,null,null,null,null,null,null,null,null,null,null,null,null,null,null,null,null,null,null,null,null,null,null,null,null,null,null,null,null,null,null,null,null,null,null,null,null,null,null,null,null,null,null,null,null,null,null,null,null,null,null,null,null,null,null,null,null,null,null,null,null,null,null,null,null,null,null,null,null,null,null,null,null,null,null,null,null,null,null,null,null,null,null,null,null,null,null,null,null,null,null,null,null,null,null,null,null,null,null,null,null,null,null,null,null,null,null,null,null,null,null,null,null,null,null,null,null,null,null,null,null,null,null,null,null,null,null,null,null,null,null,null,null,null,null,null,null,null,null,null,null,null,null,null,null,null,null,null,null,null,null,null,null,null,null,null,null,null,null,null,null,null,null,null,null,null,null,null,null,null,null,null,null,null,null,null,null,null,null,null,null,null,null,null,null,null,null,null,null,null,null,null,null,null,null,null,null,null,null,null,null,null,null,null,null,null,null,null,null,null,null,null,null,null,null,null,null,null,null,null,null,null,null,null,null,null,null,null,null,null,null,null,null,null,null,null,null,null,null,null,null,null,null,null,null,null,null,null,null,null,null,null,null,null,null,null,null,null,null,null,null,null,null,null,null,null,null,null,null,null,null,null,null,null,null,null,null,null,null,null,null,null,null,null,null,null,null,null,null,null,null,null,null,null,null,null,null,null,null,null,null,null,null,null,null,null,null,null,null,null,null,null,null,null,null,null,null,null,null,null,null,null,null,null,null,null,null,null,null,null,null,null,null,null,null,null,null,null,null,null,null,null,null,null,null,null,null,null,null,null,null,null,null,null,null,null,null,null,null,null,null,null,null,null,null,null,null,null,null,null,null,null,null,null,null,null,null,null,null,null,null,null,null,null,null,null,null,null,null,null,null,null,null,null,null,null,null,null,null,null,null,null,null,null,null,null,null,null,null,null,null,null,null,null,null,null,null,null,null,null,null,null,null,null,null,null,null,null,null,null,null,null,null,null,null,null,null,null,null,null,null,null,null,null,null,null,null,null,null,null,null,null,null,null,null,null,null,null,null,null,null,null,null,null,null,null,null,null,null,null,null,null,null,null,null,null,null,null,null,null,null,null,null,null,null,null,null,null,null,null,null,null,null,null,null,null,null,null,null,null,null,null,null,null,null,null,null,null,null,null,null,null,null,null,null,null,null,null,null,null,null,null,null,null,null,null,null,null,null,null,null,null,null,null,null,null,null,null,null,null,null,null,null,null,null,null,null,null,null,null,null,null,null,null,null,null,null,null,null,null,null,null,null,null,null,null,null,null,null,null,null,null,null,null,null,null,null,null,null,null,null,null,null,null,null,null,null,null,null,null,null,null,null,null,null,null,null,null,null,null,null,null,null,null,null,null,null,null,null,null,null,null,null,null,null,null,null,null,null,null,null,null,null,null,null,null,null,null,null,null,null,null,null,null,null,null,null,null,null,null,null,null,null,null,null,null,null,null,null,null,null,null,null,null,null,null,null,null,null,null,null,null,null,null,null,null,null,null,null,null,null,null,null,null,null,null,null,null,null,null,null,null,null,null,null,null,null,null,null,null,null,null,null,null,null,null,null,null,null,null,null,null,null,null,null,null,null,null,null,null,null,null,null,null,null,null,null,null,null,null,null,null,null,null,null,null,null,null,null,null,null,null,null,null,null,null,null,null,null,null,null,null,null,null,null,null,null,null,null,null,null,null,null,null,null,null,null,null,null,null,null,null,null,null,null,null,null,null,null,null,null,null,null,null,null,null,null,null,null,null,null,null,null,null,null,null,null,null,null,null,null,null,null,null,null,null,null,null,null,null,null,null,null,null,null,null,null,null,null,null,null,null,null,null,null,null,null,null,null,null,null,null,null,null,null,null,null,null,null,null,null,null,null,null,null,null,null,null,null,null,null,null,null,null,null,null,null,null,null,null,null,null,null,null,null,null,null,null,null,null,null,null,null,null,null,null,null,null,null,null,null,null,null,null,null,null,null,null,null,null,null,null,null,null,null,null,null,null,null,null,null,null,null,null,null,null,null,null,null,null,null,null,null,null,null,null,null,null,null,null,null,null,null,null,null,null,null,null,null,null,null,null,null,null,null,null,null,null,null,null,null,null,null,null,null,null,null,null,null,null,null,null,null,null,null,null,null,null,null,null,null,null,null,null,null,null,null,null,null,null,null,null,null,null,null,null,null,null,null,null,null,null,null,null,null,null,null,null,null,null,null,null,null,null,null,null,null,null,null,null,null,null,null,null,null,null,null,null,null,null,null,null,null,null,null,null,null,null,null,null,null,null,null,null,null,null,null,null,null,null,null,null,null,null,null,null,null,null,null,null,null,null,null,null,null,null,null,null,null,null,null,null,null,null,null,null,null,null,null,null,null,null,null,null,null,null,null,null,null,null,null,null,null,null,null,null,null,null,null,null,null,null,null,null,null,null,null,null,null,null,null,null,null,null,null,null,null,null,null,null,null,null,null,null,null,null,null,null,null,null,null,null,null,null,null,null,null,null,null,null,null,null,null,null,null,null,null,null,null,null,null,null,null,null,null,null,null,null,null,null,null,null,null,null,null,null,null,null,null,null,null,null,null,null,null,null,null,null,null,null,null,null,null,null,null,null,null,null,null,null,null,null,null,null,null,null,null,null,null,null,null,null,null,null,null,null,null,null,null,null,null,null,null,null,null,null,null,null,null,null,null,null,null,null,null,null,null,null,null,null,null,null,null,null,null,null,null,null,null,null,null,null,null,null,null,null,null,null,null,null,null,null,null,null,null,null,null,null,null,null,null,null,null,null,null,null,null,null,null,null,null,null,null,null,null,null,null,null,null,null,null,null,null,null,null,null,null,null,null,null,null,null,null,null,null,null,null,null,null,null,null,null,null,null,null,null,null,null,null,null,null,null,null,null,null,null,null,null,null,null,null,null,null,null,null,null,null,null,null,null,null,null,null,null,null,null,null,null,null,null,null,null,null,null,null,null,null,null,null,null,null,null,null,null,null,null,null,null,null,null,null,null,null,null,null,null,null,null,null,null,null,null,null,null,null,null,null,null,null,null,null,null,null,null,null,null,null,null,null,null,null,null,null,null,null,null,null,null,null,null,null,null,null,null,null,null,null,null,null,null,null,null,null,null,null,null,null,null,null,null,null,null,null,null,null,null,null,null,null,null,null,null,null,null,null,null,null,null,null,null,null,null,null,null,null,null,null,null,null,null,null,null,null,null,null,null,null,null,null,null,null,null,null,null,null,null,null,null,null,null,null,null,null,null,null,null,null,null,null,null,null,null,null,null,null,null,null,null,null,null,null,null,null,null,null,null,null,null,null,null,null,null,null,null,null,null,null,null,null,null,null,null,null,null,null,null,null,null,null,null,null,null,null,null,null,null,null,null,null,null,null,null,null,null,null,null,null,null,null,null,null,null,null,null,null,null,null,null,null,null,null,null,null,null,null,null,null,null,null,null,null,null,null,null,null,null,null,null,null,null,null,null,null,null,null,null,null,null,null,null,null,null,null,null,null,null,null,null,null,null,null,null,null,null,null,null,null,null,null,null,null,null,null,null,null,null,null,null,null,null,null,null,null,null,null,null,null,null,null,null,null,null,null,null,null,null,null,null,null,null,null,null,null,null,null,null,null,null,null,null,null,null,null,null,null,null,null,null,null,null,null,null,null,null,null,null,null,null,null,null,null,null,null,null,null,null,null,null,null,null,null,null,null,null,null,null,null,null,null,null,null,null,null,null,null,null,null,null,null,null,null,null,null,null,null,null,null,null,null,null,null,null,null,null,null,null,null,null,null,null,null,null,null,null,null,null,null,null,null,null,null,null,null,null,null,null,null,null,null,null,null,null,null,null,null,null,null,null,null,null,null,null,null,null,null,null,null,null,null,null,null,null,null,null,null,null,null,null,null,null,null,null,null,null,null,null,null,null,null,null,null,null,null,null,null,null,null,null,null,null,null,null,null,null,null,null,null,null,null,null,null,null,null,null,null,null,null,null,null,null,null,null,null,null,null,null,null,null,null,null,null,null,null,null,null,null,null,null,null,null,null,null,null,null,null,null,null,null,null,null,null,null,null,null,null,null,null,null,null,null,null,null,null,null,null,null,null,null,null,null,null,null,null,null,null,null,null,null,null,null,null,null,null,null,null,null,null,null,null,null,null,null,null,null,null,null,null,null,null,null,null,null,null,null,null,null,null,null,null,null,null,null,null,null,null,null,null,null,null,null,null,null,null,null,null,null,null,null,null,null,null,null,null,null,null,null,null,null,null,null,null,null,null,null,null,null,null,null,null,null,null,null,null,null,null,null,null,null,null,null,null,null,null,null,null,null,null,null,null,null,null,null,null,null,null,null,null,null,null,null,null,null,null,null,null,null,null,null,null,null,null,null,null,null,null,null,null,null,null,null,null,null,null,null,null,null,null,null,null,null,null,null,null,null,null,null,null,null,null,null,null,null,null,null,null,null,null,null,null,null,null,null,null,null,null,null,null,null,null,null,null,null,null,null,null,null,null,null,null,null,null,null,null,null,null,null,null,null,null,null,null,null,null,null,null,null,null,null,null,null,null,null,null,null,null,null,null,null,null,null,null,null,null,null,null,null,null,null,null,null,null,null,null,null,null,null,null,null,null,null,null,null,null,null,null,null,null,null,null,null,null,null,null,null,null,null,null,null,null,null,null,null,null,null,null,null,null,null,null,null,null,null,null,null,null,null,null,null,null,null,null,null,null,null,null,null,null,null,null,null,null,null,null,null,null,null,null,null,null,null,null,null,null,null,null,null,null,null,null,null,null,null,null,null,null,null,null,null,null,null,null,null,null,null,null,null,null,null,null,null,null,null,null,null,null,null,null,null,null,null,null,null,null,null,null,null,null,null,null,null,null,null,null,null,null,null,null,null,null,null,null,null,null,null,null,null,null,null,null,null,null,null,null,null,null,null,null,null,null,null,null,null,null,null,null,null,null,null,null,null,null,null,null,null,null,null,null,null,null,null,null,null,null,null,null,null,null,null,null,null,null,null,null,null,null,null,null,null,null,null,null,null,null,null,null,null,null,null,null,null,null,null,null,null,null,null,null,null,null,null,null,null,null,null,null,null,null,null,null,null,null,null,null,null,null,null,null,null,null,null,null,null,null,null,null,null,null,null,null,null,null,null,null,null,null,null,null,null,null,null,null,null,null,null,null,null,null,null,null,null,null,null,null,null,null,null,null,null,null,null,null,null,null,null,null,null,null,null,null,null,null,null,null,null,null,null,null,null,null,null,null,null,null,null,null,null,null,null,null,null,null,null,null,null,null,null,null,null,null,null,null,null,null,null,null,null,null,null,null,null,null,null,null,null,null,null,null,null,null,null,null,null,null,null,null,null,null,null,null,null,null,null,null,null,null,null,null,null,null,null,null,null,null,null,null,null,null,null,null,null,null,null,null,null,null,null,null,null,null,null,null,null,null,null,null,null,null,null,null,null,null,null,null,null,null,null,null,null,null,null,null,null,null,null,null,null,null,null,null,null,null,null,null,null,null,null,null,null,null,null,null,null,null,null,null,null,null,null,null,null,null,null,null,null,null,null,null,null,null,null,null,null,null,null,null,null,null,null,null,null,null,null,null,null,null,null,null,null,null,null,null,null,null,null,null,null,null,null,null,null,null,null,null,null,null,null,null,null,null,null,null,null,null,null,null,null,null,null,null,null,null,null,null,null,null,null,null,null,null,null,null,null,null,null,null,null,null,null,null,null,null,null,null,null,null,null,null,null,null,null,null,null,null,null,null,null,null,null,null,null,null,null,null,null,null,null,null,null,null,null,null,null,null,null,null,null,null,null,null,null,null,null,null,null,null,null,null,null,null,null,null,null,null,null,null,null,null,null,null,null,null,null,null,null,null,null,null,null,null,null,null,null,null,null,null,null,null,null,null,null,null,null,null,null,null,null,null,null,null,null,null,null,null,null,null,null,null,null,null,null,null,null,null,null,null,null,null,null,null,null,null,null,null,null,null,null,null,null,null,null,null,null,null,null,null,null,null,null,null,null,null,null,null,null,null,null,null,null,null,null,null,null,null,null,null,null,null,null,null,null,null,null,null,null,null,null,null,null,null,null,null,null,null,null,null,null,null,null,null,null,null,null,null,null,null,null,null,null,null,null,null,null,null,null,null,null,null,null,null,null,null,null,null,null,null,null,null,null,null,null,null,null,null,null,null,null,null,null,null,null,null,null,null,null,null,null,null,null,null,null,null,null,null,null,null,null,null,null,null,null,null,null,null,null,null,null,null,null,null,null,null,null,null,null,null,null,null,null,null,null,null,null,null,null,null,null,null,null,null,null,null,null,null,null,null,null,null,null,null,null,null,null,null,null,null,null,null,null,null,null,null,null,null,null,null,null,null,null,null,null,null,null,null,null,null,null,null,null,null,null,null,null,null,null,null,null,null,null,null,null,null,null,null,null,null,null,null,null,null,null,null,null,null,null,null,null,null,null,null,null,null,null,null,null,null,null,null,null,null,null,null,null,null,null,null,null,null,null,null,null,null,null,null,null,null,null,null,null,null,null,null,null,null,null,null,null,null,null,null,null,null,null,null,null,null,null,null,null,null,null,null,null,null,null,null,null,null,null,null,null,null,null,null,null,null,null,null,null,null,null,null,null,null,null,null,null,null,null,null,null,null,null,null,null,null,null,null,null,null,null,null,null,null,null,null,null,null,null,null,null,null,null,null,null,null,null,null,null,null,null,null,null,null,null,null,null,null,null,null,null,null,null,null,null,null,null,null,null,null,null,null,null,null,null,null,null,null,null,null,null,null,null,null,null,null,null,null,null,null,null,null,null,null,null,null,null,null,null,null,null,null,null,null,null,null,null,null,null,null,null,null,null,null,null,null,null,null,null,null,null,null,null,null,null,null,null,null,null,null,null,null,null,null,null,null,null,null,null,null,null,null,null,null,null,null,null,null,null,null,null,null,null,null,null,null,null,null,null,null,null,null,null,null,null,null,null,null,null,null,null,null,null,null,null,null,null,null,null,null,null,null,null,null,null,null,null,null,null,null,null,null,null,null,null,null,null,null,null,null,null,null,null,null,null,null,null,null,null,null,null,null,null,null,null,null,null,null,null,null,null,null,null,null,null,null,null,null,null,null,null,null,null,null,null,null,null,null,null,null,null,null,null,null,null,null,null,null,null,null,null,null,null,null,null,null,null,null,null,null,null,null,null,null,null,null,null,null,null,null,null,null,null,null,null,null,null,null,null,null,null,null,null,null,null,null,null,null,null,null,null,null,null,null,null,null,null,null,null,null,null,null,null,null,null,null,null,null,null,null,null,null,null,null,null,null,null,null,null,null,null,null,null,null,null,null,null,null,null,null,null,null,null,null,null,null,null,null,null,null,null,null,null,null,null,null,null,null,null,null,null,null,null,null,null,null,null,null,null,null,null,null,null,null,null,null,null,null,null,null,null,null,null,null,null,null,null,null,null,null,null,null,null,null,null,null,null,null,null,null,null,null,null,null,null,null,null,null,null,null,null,null,null,null,null,null,null,null,null,null,null,null,null,null,null,null,null,null,null,null,null,null,null,null,null,null,null,null,null,null,null,null,null,null,null,null,null,null,null,null,null,null,null,null,null,null,null,null,null,null,null,null,null,null,null,null,null,null,null,null,null,null,null,null,null,null,null,null,null,null,null,null,null,null,null,null,null,null,null,null,null,null,null,null,null,null,null,null,null,null,null,null,null,null,null,null,null,null,null,null,null,null,null,null,null,null,null,null,null,null,null,null,null,null,null,null,null,null,null,null,null,null,null,null,null,null,null,null,null,null,null,null,null,null,null,null,null,null,null,null,null,null,null,null,null,null,null,null,null,null,null,null,null,null,null,null,null,null,null,null,null,null,null,null,null,null,null,null,null,null,null,null,null,null,null,null,null,null,null,null,null,null,null,null,null,null,null,null,null,null,null,null,null,null,null,null,null,null,null,null,null,null,null,null,null,null,null,null,null,null,null,null,null,null,null,null,null,null,null,null,null,null,null,null,null,null,null,null,null,null,null,null,null,null,null,null,null,null,null,null,null,null,null,null,null,null,null,null,null,null,null,null,null,null,null,null,null,null,null,null,null,null,null,null,null,null,null,null,null,null,null,null,null,null,null,null,null,null,null,null,null,null,null,null,null,null,null,null,null,null,null,null,null,null,null,null,null,null,null,null,null,null,null,null,null,null,null,null,null,null,null,null,null,null,null,null,null,null,null,null,null,null,null,null,null,null,null,null,null,null,null,null,null,null,null,null,null,null,null,null,null,null,null,null,null,null,null,null,null,null,null,null,null,null,null,null,null,null,null,null,null,null,null,null,null,null,null,null,null,null,null,null,null,null,null,null,null,null,null,null,null,null,null,null,null,null,null,null,null,null,null,null,null,null,null,null,null,null,null,null,null,null,null,null,null,null,null,null,null,null,null,null,null,null,null,null,null,null,null,null,null,null,null,null,null,null,null,null,null,null,null,null,null,null,null,null,null,null,null,null,null,null,null,null,null,null,null,null,null,null,null,null,null,null,null,null,null,null,null,null,null,null,null,null,null,null,null,null,null,null,null,null,null,null,null,null,null,null,null,null,null,null,null,null,null,null,null,null,null,null,null,null,null,null,null,null,null,null,null,null,null,null,null,null,null,null,null,null,null,null,null,null,null,null,null,null,null,null,null,null,null,null,null,null,null,null,null,null,null,null,null,null,null,null,null,null,null,null,null,null,null,null,null,null,null,null,null,null,null,null,null,null,null,null,null,null,null,null,null,null,null,null,null,null,null,null,null,null,null,null,null,null,null,null,null,null,null,null,null,null,null,null,null,null,null,null,null,null,null,null,null,null,null,null,null,null,null,null,null,null,null,null,null,null,null,null,null,null,null,null,null,null,null,null,null,null,null,null,null,null,null,null,null,null,null,null,null,null,null,null,null,null,null,null,null,null,null,null,null,null,null,null,null,null,null,null,null,null,null,null,null,null,null,null,null,null,null,null,null,null,null,null,null,null,null,null,null,null,null,null,null,null,null,null,null,null,null,null,null,null,null,null,null,null,null,null,null,null,null,null,null,null,null,null,null,null,null,null,null,null,null,null,null,null,null,null,null,null,null,null,null,null,null,null,null,null,null,null,null,null,null,null,null,null,null,null,null,null,null,null,null,null,null,null,null,null,null,null,null,null,null,null,null,null,null,null,null,null,null,null,null,null,null,null,null,null,null,null,null,null,null,null,null,null,null,null,null,null,null,null,null,null,null,null,null,null,null,null,null,null,null,null,null,null,null,null,null,null,null,null,null,null,null,null,null,null,null,null,null,null,null,null,null,null,null,null,null,null,null,null,null,null,null,null,null,null,null,null,null,null,null,null,null,null,null,null,null,null,null,null,null,null,null,null,null,null,null,null,null,null,null,null,null,null,null,null,null,null,null,null,null,null,null,null,null,null,null,null,null,null,null,null,null,null,null,null,null,null,null,null,null,null,null,null,null,null,null,null,null,null,null,null,null,null,null,null,null,null,null,null,null,null,null,null,null,null,null,null,null,null,null,null,null,null,null,null,null,null,null,null,null,null,null,null,null,null,null,null,null,null,null,null,null,null,null,null,null,null,null,null,null,null,null,null,null,null,null,null,null,null,null,null,null,null,null,null,null,null,null,null,null,null,null,null,null,null,null,null,null,null,null,null,null,null,null,null,null,null,null,null,null,null,null,null,null,null,null,null,null,null,null,null,null,null,null,null,null,null,null,null,null,null,null,null,null,null,null,null,null,null,null,null,null,null,null,null,null,null,null,null,null,null,null,null,null,null,null,null,null,null,null,null,null,null,null,null,null,null,null,null,null,null,null,null,null,null,null,null,null,null,null,null,null,null,null,null,null,null,null,null,null,null,null,null,null,null,null,null,null,null,null,null,null,null,null,null,null,null,null,null,null,null,null,null,null,null,null,null,null,null,null,null,null,null,null,null,null,null,null,null,null,null,null,null,null,null,null,null,null,null,null,null,null,null,null,null,null,null,null,null,null,null,null,null,null,null,null,null,null,null,null,null,null,null,null,null,null,null,null,null,null,null,null,null,null,null,null,null,null,null,null,null,null,null,null,null,null,null,null,null,null,null,null,null,null,null,null,null,null,null,null,null,null,null,null,null,null,null,null,null,null,null,null,null,null,null,null,null,null,null,null,null,null,null,null,null,null,null,null,null,null,null,null,null,null,null,null,null,null,null,null,null,null,null,null,null,null,null,null,null,null,null,null,null,null,null,null,null,null,null,null,null,null,null,null,null,null,null,null,null,null,null,null,null,null,null,null,null,null,null,null,null,null,null,null,null,null,null,null,null,null,null,null,null,null,null,null,null,null,null,null,null,null,null,null,null,null,null,null,null,null,null,null,null,null,null,null,null,null,null,null,null,null,null,null,null,null,null,null,null,null,null,null,null,null,null,null,null,null,null,null,null,null,null,null,null,null,null,null,null,null,null,null,null,null,null,null,null,null,null,null,null,null,null,null,null,null,null,null,null,null,null,null,null,null,null,null,null,null,null,null,null,null,null,null,null,null,null,null,null,null,null,null,null,null,null,null,null,null,null,null,null,null,null,null,null,null,null,null,null,null,null,null,null,null,null,null,null,null,null,null,null,null,null,null,null,null,null,null,null,null,null,null,null,null,null,null,null,null,null,null,null,null,null,null,null,null,null,null,null,null,null,null,null,null,null,null,null,null,null,null,null,null,null,null,null,null,null,null,null,null,null,null,null,null,null,null,null,null,null,null,null,null,null,null,null,null,null,null,null,null,null,null,null,null,null,null,null,null,null,null,null,null,null,null,null,null,null,null,null,null,null,null,null,null,null,null,null,null,null,null,null,null,null,null,null,null,null,null,null,null,null,null,null,null,null,null,null,null,null,null,null,null,null,null,null,null,null,null,null,null,null,null,null,null,null,null,null,null,null,null,null,null,null,null,null,null,null,null,null,null,null,null,null,null,null,null,null,null,null,null,null,null,null,null,null,null,null,null,null,null,null,null,null,null,null,null,null,null,null,null,null,null,null,null,null,null,null,null,null,null,null,null,null,null,null,null,null,null,null,null,null,null,null,null,null,null,null,null,null,null,null,null,null,null,null,null,null,null,null,null,null,null,null,null,null,null,null,null,null,null,null,null,null,null,null,null,null,null,null,null,null,null,null,null,null,null,null,null,null,null,null,null,null,null,null,null,null,null,null,null,null,null,null,null,null,null,null,null,null,null,null,null,null,null,null,null,null,null,null,null,null,null,null,null,null,null,null,null,null,null,null,null,null,null,null,null,null,null,null,null,null,null,null,null,null,null,null,null,null,null,null,null,null,null,null,null,null,null,null,null,null,null,null,null,null,null,null,null,null,null,null,null,null,null,null,null,null,null,null,null,null,null,null,null,null,null,null,null,null,null,null,null,null,null,null,null,null,null,null,null,null,null,null,null,null,null,null,null,null,null,null,null,null,null,null,null,null,null,null,null,null,null,null,null,null,null,null,null,null,null,null,null,null,null,null,null,null,null,null,null,null,null,null,null,null,null,null,null,null,null,null,null,null,null,null,null,null,null,null,null,null,null,null,null,null,null,null,null,null,null,null,null,null,null,null,null,null,null,null,null,null,null,null,null,null,null,null,null,null,null,null,null,null,null,null,null,null,null,null,null,null,null,null,null,null,null,null,null,null,null,null,null,null,null,null,null,null,null,null,null,null,null,null,null,null,null,null,null,null,null,null,null,null,null,null,null,null,null,null,null,null,null,null,null,null,null,null,null,null,null,null,null,null,null,null,null,null,null,null,null,null,null,null,null,null,null,null,null,null,null,null,null,null,null,null,null,null,null,null,null,null,null,null,null,null,null,null,null,null,null,null,null,null,null,null,null,null,null,null,null,null,null,null,null,null,null,null,null,null,null,null,null,null,null,null,null,null,null,null,null,null,null,null,null,null,null,null,null,null,null,null,null,null,null,null,null,null,null,null,null,null,null,null,null,null,null,null,null,null,null,null,null,null,null,null,null,null,null,null,null,null,null,null,null,null,null,null,null,null,null,null,null,null,null,null,null,null,null,null,null,null,null,null,null,null,null,null,null,null,null,null,null,null,null,null,null,null,null,null,null,null,null,null,null,null,null,null,null,null,null,null,null,null,null,null,null,null,null,null,null,null,null,null,null,null,null,null,null,null,null,null,null,null,null,null,null,null,null,null,null,null,null,null,null,null,null,null,null,null,null,null,null,null,null,null,null,null,null,null,null,null,null,null,null,null,null,null,null,null,null,null,null,null,null,null,null,null,null,null,null,null,null,null,null,null,null,null,null,null,null,null,null,null,null,null,null,null,null,null,null,null,null,null,null,null,null,null,null,null,null,null,null,null,null,null,null,null,null,null,null,null,null,null,null,null,null,null,null,null,null,null,null,null,null,null,null,null,null,null,null,null,null,null,null,null,null,null,null,null,null,null,null,null,null,null,null,null,null,null,null,null,null,null,null,null,null,null,null,null,null,null,null,null,null,null,null,null,null,null,null,null,null,null,null,null,null,null,null,null,null,null,null,null,null,null,null,null,null,null,null,null,null,null,null,null,null,null,null,null,null,null,null,null,null,null,null,null,null,null,null,null,null,null,null,null,null,null,null,null,null,null,null,null,null,null,null,null,null,null,null,null,null,null,null,null,null,null,null,null,null,null,null,null,null,null,null,null,null,null,null,null,null,null,null,null,null,null,null,null,null,null,null,null,null,null,null,null,null,null,null,null,null,null,null,null,null,null,null,null,null,null,null,null,null,null,null,null,null,null,null,null,null,null,null,null,null,null,null,null,null,null,null,null,null,null,null,null,null,null,null,null,null,null,null,null,null,null,null,null,null,null,null,null,null,null,null,null,null,null,null,null,null,null,null,null,null,null,null,null,null,null,null,null,null,null,null,null,null,null,null,null,null,null,null,null,null,null,null,null,null,null,null,null,null,null,null,null,null,null,null,null,null,null,null,null,null,null,null,null,null,null,null,null,null,null,null,null,null,null,null,null,null,null,null,null,null,null,null,null,null,null,null,null,null,null,null,null,null,null,null,null,null,null,null,null,null,null,null,null,null,null,null,null,null,null,null,null,null,null,null,null,null,null,null,null,null,null,null,null,null,null,null,null,null,null,null,null,null,null,null,null,null,null,null,null,null,null,null,null,null,null,null,null,null,null,null,null,null,null,null,null,null,null,null,null,null,null,null,null,null,null,null,null,null,null,null,null,null,null,null,null,null,null,null,null,null,null,null,null,null,null,null,null,null,null,null,null,null,null,null,null,null,null,null,null,null,null,null,null,null,null,null,null,null,null,null,null,null,null,null,null,null,null,null,null,null,null,null,null,null,null,null,null,null,null,null,null,null,null,null,null,null,null,null,null,null,null,null,null,null,null,null,null,null,null,null,null,null,null,null,null,null,null,null,null,null,null,null,null,null,null,null,null,null,null,null,null,null,null,null,null,null,null,null,null,null,null,null,null,null,null,null,null,null,null,null,null,null,null,null,null,null,null,null,null,null,null,null,null,null,null,null,null,null,null,null,null,null,null,null,null,null,null,null,null,null,null,null,null,null,null,null,null,null,null,null,null,null,null,null,null,null,null,null,null,null,null,null,null,null,null,null,null,null,null,null,null,null,null,null,null,null,null,null,null,null,null,null,null,null,null,null,null,null,null,null,null,null,null,null,null,null,null,null,null,null,null,null,null,null,null,null,null,null,null,null,null,null,null,null,null,null,null,null,null,null,null,null,null,null,null,null,null,null,null,null,null,null,null,null,null,null,null,null,null,null,null,null,null,null,null,null,null,null,null,null,null,null,null,null,null,null,null,null,null,null,null,null,null,null,null,null,null,null,null,null,null,null,null,null,null,null,null,null,null,null,null,null,null,null,null,null,null,null,null,null,null,null,null,null,null,null,null,null,null,null,null,null,null,null,null,null,null,null,null,null,null,null,null,null,null,null,null,null,null,null,null,null,null,null,null,null,null,null,null,null,null,null,null,null,null,null,null,null,null,null,null,null,null,null,null,null,null,null,null,null,null,null,null,null,null,null,null,null,null,null,null,null,null,null,null,null,null,null,null,null,null,null,null,null,null,null,null,null,null,null,null,null,null,null,null,null,null,null,null,null,null,null,null,null,null,null,null,null,null,null,null,null,null,null,null,null,null,null,null,null,null,null,null,null,null,null,null,null,null,null,null,null,null,null,null,null,null,null,null,null,null,null,null,null,null,null,null,null,null,null,null,null,null,null,null,null,null,null,null,null,null,null,null,null,null,null,null,null,null,null,null,null,null,null,null,null,null,null,null,null,null,null,null,null,null,null,null,null,null,null,null,null,null,null,null,null,null,null,null,null,null,null,null,null,null,null,null,null,null,null,null,null,null,null,null,null,null,null,null,null,null,null,null,null,null,null,null,null,null,null,null,null,null,null,null,null,null,null,null,null,null,null,null,null,null,null,null,null,null,null,null,null,null,null,null,null,null,null,null,null,null,null,null,null,null,null,null,null,null,null,null,null,null,null,null,null,null,null,null,null,null,null,null,null,null,null,null,null,null,null,null,null,null,null,null,null,null,null,null,null,null,null,null,null,null,null,null,null,null,null,null,null,null,null,null,null,null,null,null,null,null,null,null,null,null,null,null,null,null,null,null,null,null,null,null,null,null,null,null,null,null,null,null,null,null,null,null,null,null,null,null,null,null,null,null,null,null,null,null,null,null,null,null,null,null,null,null,null,null,null,null,null,null,null,null,null,null,null,null,null,null,null,null,null,null,null,null,null,null,null,null,null,null,null,null,null,null,null,null,null,null,null,null,null,null,null,null,null,null,null,null,null,null,null,null,null,null,null,null,null,null,null,null,null,null,null,null,null,null,null,null,null,null,null,null,null,null,null,null,null,null,null,null,null,null,null,null,null,null,null,null,null,null,null,null,null,null,null,null,null,null,null,null,null,null,null,null,null,null,null,null,null,null,null,null,null,null,null,null,null,null,null,null,null,null,null,null,null,null,null,null,null,null,null,null,null,null,null,null,null,null,null,null,null,null,null,null,null,null,null,null,null,null,null,null,null,null,null,null,null,null,null,null,null,null,null,null,null,null,null,null,null,null,null,null,null,null,null,null,null,null,null,null,null,null,null,null,null,null,null,null,null,null,null,null,null,null,null,null,null,null,null,null,null,null,null,null,null,null,null,null,null,null,null,null,null,null,null,null,null,null,null,null,null,null,null,null,null,null,null,null,null,null,null,null,null,null,null,null,null,null,null,null,null,null,null,null,null,null,null,null,null,null,null,null,null,null,null,null,null,null,null,null,null,null,null,null,null,null,null,null,null,null,null,null,null,null,null,null,null,null,null,null,null,null,null,null,null,null,null,null,null,null,null,null,null,null,null,null,null,null,null,null,null,null,null,null,null,null,null,null,null,null,null,null,null,null,null,null,null,null,null,null,null,null,null,null,null,null,null,null,null,null,null,null,null,null,null,null,null,null,null,null,null,null,null,null,null,null,null,null,null,null,null,null,null,null,null,null,null,null,null,null,null,null,null,null,null,null,null,null,null,null,null,null,null,null,null,null,null,null,null,null,null,null,null,null,null,null,null,null,null,null,null,null,null,null,null,null,null,null,null,null,null,null,null,null,null,null,null,null,null,null,null,null,null,null,null,null,null,null,null,null,null,null,null,null,null,null,null,null,null,null,null,null,null,null,null,null,null,null,null,null,null,null,null,null,null,null,null,null,null,null,null,null,null,null,null,null,null,null,null,null,null,null,null,null,null,null,null,null,null,null,null,null,null,null,null,null,null,null,null,null,null,null,null,null,null,null,null,null,null,null,null,null,null,null,null,null,null,null,null,null,null,null,null,null,null,null,null,null,null,null,null,null,null,null,null,null,null,null,null,null,null,null,null,null,null,null,null,null,null,null,null,null,null,null,null,null,null,null,null,null,null,null,null,null,null,null,null,null,null,null,null,null,null,null,null,null,null,null,null,null,null,null,null,null,null,null,null,null,null,null,null,null,null,null,null,null,null,null,null,null,null,null,null,null,null,null,null,null,null,null,null,null,null,null,null,null,null,null,null,null,null,null,null,null,null,null,null,null,null,null,null,null,null,null,null,null,null,null,null,null,null,null,null,null,null,null,null,null,null,null,null,null,null,null,null,null,null,null,null,null,null,null,null,null,null,null,null,null,null,null,null,null,null,null,null,null,null,null,null,null,null,null,null,null,null,null,null,null,null,null,null,null,null,null,null,null,null,null,null,null,null,null,null,null,null,null,null,null,null,null,null,null,null,null,null,null,null,null,null,null,null,null,null,null,null,null,null,null,null,null,null,null,null,null,null,null,null,null,null,null,null,null,null,null,null,null,null,null,null,null,null,null,null,null,null,null,null,null,null,null,null,null,null,null,null,null,null,null,null,null,null,null,null,null,null,null,null,null,null,null,null,null,null,null,null,null,null,null,null,null,null,null,null,null,null,null,null,null,null,null,null,null,null,null,null,null,null,null,null,null,null,null,null,null,null,null,null,null,null,null,null,null,null,null,null,null,null,null,null,null,null,null,null,null,null,null,null,null,null,null,null,null,null,null,null,null,null,null,null,null,null,null,null,null,null,null,null,null,null,null,null,null,null,null,null,null,null,null,null,null,null,null,null,null,null,null,null,null,null,null,null,null,null,null,null,null,null,null,null,null,null,null,null,null,null,null,null,null,null,null,null,null,null,null,null,null,null,null,null,null,null,null,null,null,null,null,null,null,null,null,null,null,null,null,null,null,null,null,null,null,null,null,null,null,null,null,null,null,null,null,null,null,null,null,null,null,null,null,null,null,null,null,null,null,null,null,null,null,null,null,null,null,null,null,null,null,null,null,null,null,null,null,null,null,null,null,null,null,null,null,null,null,null,null,null,null,null,null,null,null,null,null,null,null,null,null,null,null,null,null,null,null,null,null,null,null,null,null,null,null,null,null,null,null,null,null,null,null,null,null,null,null,null,null,null,null,null,null,null,null,null,null,null,null,null,null,null,null,null,null,null,null,null,null,null,null,null,null,null,null,null,null,null,null,null,null,null,null,null,null,null,null,null,null,null,null,null,null,null,null,null,null,null,null,null,null,null,null,null,null,null,null,null,null,null,null,null,null,null,null,null,null,null,null,null,null,null,null,null,null,null,null,null,null,null,null,null,null,null,null,null,null,null,null,null,null,null,null,null,null,null,null,null,null,null,null,null,null,null,null,null,null,null,null,null,null,null,null,null,null,null,null,null,null,null,null,null,null,null,null,null,null,null,null,null,null,null,null,null,null,null,null,null,null,null,null,null,null,null,null,null,null,null,null,null,null,null,null,null,null,null,null,null,null,null,null,null,null,null,null,null,null,null,null,null,null,null,null,null,null,null,null,null,null,null,null,null,null,null,null,null,null,null,null,null,null,null,null,null,null,null,null,null,null,null,null,null,null,null,null,null,null,null,null,null,null,null,null,null,null,null,null,null,null,null,null,null,null,null,null,null,null,null,null,null,null,null,null,null,null,null,null,null,null,null,null,null,null,null,null,null,null,null,null,null,null,null,null,null,null,null,null,null,null,null,null,null,null,null,null,null,null,null,null,null,null,null,null,null,null,null,null,null,null,null,null,null,null,null,null,null,null,null,null,null,null,null,null,null,null,null,null,null,null,null,null,null,null,null,null,null,null,null,null,null,null,null,null,null,null,null,null,null,null,null,null,null,null,null,null,null,null,null,null,null,null,null,null,null,null,null,null,null,null,null,null,null,null,null,null,null,null,null,null,null,null,null,null,null,null,null,null,null,null,null,null,null,null,null,null,null,null,null,null,null,null,null,null,null,null,null,null,null,null,null,null,null,null,null,null,null,null,null,null,null,null,null,null,null,null,null,null,null,null,null,null,null,null,null,null,null,null,null,null,null,null,null,null,null,null,null,null,null,null,null,null,null,null,null,null,null,null,null,null,null,null,null,null,null,null,null,null,null,null,null,null,null,null,null,null,null,null,null,null,null,null,null,null,null,null,null,null,null,null,null,null,null,null,null,null,null,null,null,null,null,null,null,null,null,null,null,null,null,null,null,null,null,null,null,null,null,null,null,null,null,null,null,null,null,null,null,null,null,null,null,null,null,null,null,null,null,null,null,null,null,null,null,null,null,null,null,null,null,null,null,null,null,null,null,null,null,null,null,null,null,null,null,null,null,null,null,null,null,null,null,null,null,null,null,null,null,null,null,null,null,null,null,null,null,null,null,null,null,null,null,null,null,null,null,null,null,null,null,null,null,null,null,null,null,null,null,null,null,null,null,null,null,null,null,null,null,null,null,null,null,null,null,null,null,null,null,null,null,null,null,null,null,null,null,null,null,null,null,null,null,null,null,null,null,null,null,null,null,null,null,null,null,null,null,null,null,null,null,null,null,null,null,null,null,null,null,null,null,null,null,null,null,null,null,null,null,null,null,null,null,null,null,null,null,null,null,null,null,null,null,null,null,null,null,null,null,null,null,null,null,null,null,null,null,null,null,null,null,null,null,null,null,null,null,null,null,null,null,null,null,null,null,null,null,null,null,null,null,null,null,null,null,null,null,null,null,null,null,null,null,null,null,null,null,null,null,null,null,null,null,null,null,null,null,null,null,null,null,null,null,null,null,null,null,null,null,null,null,null,null,null,null,null,null,null,null,null,null,null,null,null,null,null,null,null,null,null,null,null,null,null,null,null,null,null,null,null,null,null,null,null,null,null,null,null,null,null,null,null,null,null,null,null,null,null,null,null,null,null,null,null,null,null,null,null,null,null,null,null,null,null,null,null,null,null,null,null,null,null,null,null,null,null,null,null,null,null,null,null,null,null,null,null,null,null,null,null,null,null,null,null,null,null,null,null,null,null,null,null,null,null,null,null,null,null,null,null,null,null,null,null,null,null,null,null,null,null,null,null,null,null,null,null,null,null,null,null,null,null,null,null,null,null,null,null,null,null,null,null,null,null,null,null,null,null,null,null,null,null,null,null,null,null,null,null,null,null,null,null,null,null,null,null,null,null,null,null,null,null,null,null,null,null,null,null,null,null,null,null,null,null,null,null,null,null,null,null,null,null,null,null,null,null,null,null,null,null,null,null,null,null,null,null,null,null,null,null,null,null,null,null,null,null,null,null,null,null,null,null,null,null,null,null,null,null,null,null,null,null,null,null,null,null,null,null,null,null,null,null,null,null,null,null,null,null,null,null,null,null,null,null,null,null,null,null,null,null,null,null,null,null,null,null,null,null,null,null,null,null,null,null,null,null,null,null,null,null,null,null,null,null,null,null,null,null,null,null,null,null,null,null,null,null,null,null,null,null,null,null,null,null,null,null,null,null,null,null,null,null,null,null,null,null,null,null,null,null,null,null,null,null,null,null,null,null,null,null,null,null,null,null,null,null,null,null,null,null,null,null,null,null,null,null,null,null,null,null,null,null,null,null,null,null,null,null,null,null,null,null,null,null,null,null,null,null,null,null,null,null,null,null,null,null,null,null,null,null,null,null,null,null,null,null,null,null,null,null,null,null,null,null,null,null,null,null,null,null,null,null,null,null,null,null,null,null,null,null,null,null,null,null,null,null,null,null,null,null,null,null,null,null,null,null,null,null,null,null,null,null,null,null,null,null,null,null,null,null,null,null,null,null,null,null,null,null,null,null,null,null,null,null,null,null,null,null,null,null,null,null,null,null,null,null,null,null,null,null,null,null,null,null,null,null,null,null,null,null,null,null,null,null,null,null,null,null,null,null,null,null,null,null,null,null,null,null,null,null,null,null,null,null,null,null,null,null,null,null,null,null,null,null,null,null,null,null,null,null,null,null,null,null,null,null,null,null,null,null,null,null,null,null,null,null,null,null,null,null,null,null,null,null,null,null,null,null,null,null,null,null,null,null,null,null,null,null,null,null,null,null,null,null,null,null,null,null,null,null,null,null,null,null,null,null,null,null,null,null,null,null,null,null,null,null,null,null,null,null,null,null,null,null,null,null,null,null,null,null,null,null,null,null,null,null,null,null,null,null,null,null,null,null,null,null,null,null,null,null,null,null,null,null,null,null,null,null,null,null,null,null,null,null,null,null,null,null,null,null,null,null,null,null,null,null,null,null,null,null,null,null,null,null,null,null,null,null,null,null,null,null,null,null,null,null,null,null,null,null,null,null,null,null,null,null,null,null,null,null,null,null,null,null,null,null,null,null,null,null,null,null,null,null,null,null,null,null,null,null,null,null,null,null,null,null,null,null,null,null,null,null,null,null,null,null,null,null,null,null,null,null,null,null,null,null,null,null,null,null,null,null,null,null,null,null,null,null,null,null,null,null,null,null,null,null,null,null,null,null,null,null,null,null,null,null,null,null,null,null,null,null,null,null,null,null,null,null,null,null,null,null,null,null,null,null,null,null,null,null,null,null,null,null,null,null,null,null,null,null,null,null,null,null,null,null,null,null,null,null,null,null,null,null,null,null,null,null,null,null,null,null,null,null,null,null,null,null,null,null,null,null,null,null,null,null,null,null,null,null,null,null,null,null,null,null,null,null,null,null,null,null,null,null,null,null,null,null,null,null,null,null,null,null,null,null,null,null,null,null,null,null,null,null,null,null,null,null,null,null,null,null,null,null,null,null,null,null,null,null,null,null,null,null,null,null,null,null,null,null,null,null,null,null,null,null,null,null,null,null,null,null,null,null,null,null,null,null,null,null,null,null,null,null,null,null,null,null,null,null,null,null,null,null,null,null,null,null,null,null,null,null,null,null,null,null,null,null,null,null,null,null,null,null,null,null,null,null,null,null,null,null,null,null,null,null,null,null,null,null,null,null,null,null,null,null,null,null,null,null,null,null,null,null,null,null,null,null,null,null,null,null,null,null,null,null,null,null,null,null,null,null,null,null,null,null,null,null,null,null,null,null,null,null,null,null,null,null,null,null,null,null,null,null,null,null,null,null,null,null,null,null,null,null,null,null,null,null,null,null,null,null,null,null,null,null,null,null,null,null,null,null,null,null,null,null,null,null,null,null,null,null,null,null,null,null,null,null,null,null,null,null,null,null,null,null,null,null,null,null,null,null,null,null,null,null,null,null,null,null,null,null,null,null,null,null,null,null,null,null,null,null,null,null,null,null,null,null,null,null,null,null,null,null,null,null,null,null,null,null,null,null,null,null,null,null,null,null,null,null,null,null,null,null,null,null,null,null,null,null,null,null,null,null,null,null,null,null,null,null,null,null,null,null,null,null,null,null,null,null,null,null,null,null,null,null,null,null,null,null,null,null,null,null,null,null,null,null,null,null,null,null,null,null,null,null,null,null,null,null,null,null,null,null,null,null,null,null,null,null,null,null,null,null,null,null,null,null,null,null,null,null,null,null,null,null,null,null,null,null,null,null,null,null,null,null,null,null,null,null,null,null,null,null,null,null,null,null,null,null,null,null,null,null,null,null,null,null,null,null,null,null,null,null,null,null,null,null,null,null,null,null,null,null,null,null,null,null,null,null,null,null,null,null,null,null,null,null,null,null,null,null,null,null,null,null,null,null,null,null,null,null,null,null,null,null,null,null,null,null,null,null,null,null,null,null,null,null,null,null,null,null,null,null,null,null,null,null,null,null,null,null,null,null,null,null,null,null,null,null,null,null,null,null,null,null,null,null,null,null,null,null,null,null,null,null,null,null,null,null,null,null,null,null,null,null,null,null,null,null,null,null,null,null,null,null,null,null,null,null,null,null,null,null,null,null,null,null,null,null,null,null,null,null,null,null,null,null,null,null,null,null,null,null,null,null,null,null,null,null,null,null,null,null,null,null,null,null,null,null,null,null,null,null,null,null,null,null,null,null,null,null,null,null,null,null,null,null,null,null,null,null,null,null,null,null,null,null,null,null,null,null,null,null,null,null,null,null,null,null,null,null,null,null,null,null,null,null,null,null,null,null,null,null,null,null,null,null,null,null,null,null,null,null,null,null,null,null,null,null,null,null,null,null,null,null,null,null,null,null,null,null,null,null,null,null,null,null,null,null,null,null,null,null,null,null,null,null,null,null,null,null,null,null,null,null,null,null,null,null,null,null,null,null,null,null,null,null,null,null,null,null,null,null,null,null,null,null,null,null,null,null,null,null,null,null,null,null,null,null,null,null,null,null,null,null,null,null,null,null,null,null,null,null,null,null,null,null,null,null,null,null,null,null,null,null,null,null,null,null,null,null,null,null,null,null,null,null,null,null,null,null,null,null,null,null,null,null,null,null,null,null,null,null,null,null,null,null,null,null,null,null,null,null,null,null,null,null,null,null,null,null,null,null,null,null,null,null,null,null,null,null,null,null,null,null,null,null,null,null,null,null,null,null,null,null,null,null,null,null,null,null,null,null,null,null,null,null,null,null,null,null,null,null,null,null,null,null,null,null,null,null,null,null,null,null,null,null,null,null,null,null,null,null,null,null,null,null,null,null,null,null,null,null,null,null,null,null,null,null,null,null,null,null,null,null,null,null,null,null,null,null,null,null,null,null,null,null,null,null,null,null,null,null,null,null,null,null,null,null,null,null,null,null,null,null,null,null,null,null,null,null,null,null,null,null,null,null,null,null,null,null,null,null,null,null,null,null,null,null,null,null,null,null,null,null,null,null,null,null,null,null,null,null,null,null,null,null,null,null,null,null,null,null,null,null,null,null,null,null,null,null,null,null,null,null,null,null,null,null,null,null,null,null,null,null,null,null,null,null,null,null,null,null,null,null,null,null,null,null,"Conclusion Drop Downs"]
[null,"DOCUMENT NAME","ASC 842 - Leases - Template",null,"WP References",null,null,null,null,null,null,null,null,null,null,null,null,null,null,null,null,null,null,null,null,null,null,null,null,null,null,null,null,null,null,null,null,null,null,null,null,null,null,null,null,null,null,null,null,null,null,null,null,null,null,null,null,null,null,null,null,null,null,null,null,null,null,null,null,null,null,null,null,null,null,null,null,null,null,null,null,null,null,null,null,null,null,null,null,null,null,null,null,null,null,null,null,null,null,null,null,null,null,null,null,null,null,null,null,null,null,null,null,null,null,null,null,null,null,null,null,null,null,null,null,null,null,null,null,null,null,null,null,null,null,null,null,null,null,null,null,null,null,null,null,null,null,null,null,null,null,null,null,null,null,null,null,null,null,null,null,null,null,null,null,null,null,null,null,null,null,null,null,null,null,null,null,null,null,null,null,null,null,null,null,null,null,null,null,null,null,null,null,null,null,null,null,null,null,null,null,null,null,null,null,null,null,null,null,null,null,null,null,null,null,null,null,null,null,null,null,null,null,null,null,null,null,null,null,null,null,null,null,null,null,null,null,null,null,null,null,null,null,null,null,null,null,null,null,null,null,null,null,null,null,null,null,null,null,null,null,null,null,null,null,null,null,null,null,null,null,null,null,null,null,null,null,null,null,null,null,null,null,null,null,null,null,null,null,null,null,null,null,null,null,null,null,null,null,null,null,null,null,null,null,null,null,null,null,null,null,null,null,null,null,null,null,null,null,null,null,null,null,null,null,null,null,null,null,null,null,null,null,null,null,null,null,null,null,null,null,null,null,null,null,null,null,null,null,null,null,null,null,null,null,null,null,null,null,null,null,null,null,null,null,null,null,null,null,null,null,null,null,null,null,null,null,null,null,null,null,null,null,null,null,null,null,null,null,null,null,null,null,null,null,null,null,null,null,null,null,null,null,null,null,null,null,null,null,null,null,null,null,null,null,null,null,null,null,null,null,null,null,null,null,null,null,null,null,null,null,null,null,null,null,null,null,null,null,null,null,null,null,null,null,null,null,null,null,null,null,null,null,null,null,null,null,null,null,null,null,null,null,null,null,null,null,null,null,null,null,null,null,null,null,null,null,null,null,null,null,null,null,null,null,null,null,null,null,null,null,null,null,null,null,null,null,null,null,null,null,null,null,null,null,null,null,null,null,null,null,null,null,null,null,null,null,null,null,null,null,null,null,null,null,null,null,null,null,null,null,null,null,null,null,null,null,null,null,null,null,null,null,null,null,null,null,null,null,null,null,null,null,null,null,null,null,null,null,null,null,null,null,null,null,null,null,null,null,null,null,null,null,null,null,null,null,null,null,null,null,null,null,null,null,null,null,null,null,null,null,null,null,null,null,null,null,null,null,null,null,null,null,null,null,null,null,null,null,null,null,null,null,null,null,null,null,null,null,null,null,null,null,null,null,null,null,null,null,null,null,null,null,null,null,null,null,null,null,null,null,null,null,null,null,null,null,null,null,null,null,null,null,null,null,null,null,null,null,null,null,null,null,null,null,null,null,null,null,null,null,null,null,null,null,null,null,null,null,null,null,null,null,null,null,null,null,null,null,null,null,null,null,null,null,null,null,null,null,null,null,null,null,null,null,null,null,null,null,null,null,null,null,null,null,null,null,null,null,null,null,null,null,null,null,null,null,null,null,null,null,null,null,null,null,null,null,null,null,null,null,null,null,null,null,null,null,null,null,null,null,null,null,null,null,null,null,null,null,null,null,null,null,null,null,null,null,null,null,null,null,null,null,null,null,null,null,null,null,null,null,null,null,null,null,null,null,null,null,null,null,null,null,null,null,null,null,null,null,null,null,null,null,null,null,null,null,null,null,null,null,null,null,null,null,null,null,null,null,null,null,null,null,null,null,null,null,null,null,null,null,null,null,null,null,null,null,null,null,null,null,null,null,null,null,null,null,null,null,null,null,null,null,null,null,null,null,null,null,null,null,null,null,null,null,null,null,null,null,null,null,null,null,null,null,null,null,null,null,null,null,null,null,null,null,null,null,null,null,null,null,null,null,null,null,null,null,null,null,null,null,null,null,null,null,null,null,null,null,null,null,null,null,null,null,null,null,null,null,null,null,null,null,null,null,null,null,null,null,null,null,null,null,null,null,null,null,null,null,null,null,null,null,null,null,null,null,null,null,null,null,null,null,null,null,null,null,null,null,null,null,null,null,null,null,null,null,null,null,null,null,null,null,null,null,null,null,null,null,null,null,null,null,null,null,null,null,null,null,null,null,null,null,null,null,null,null,null,null,null,null,null,null,null,null,null,null,null,null,null,null,null,null,null,null,null,null,null,null,null,null,null,null,null,null,null,null,null,null,null,null,null,null,null,null,null,null,null,null,null,null,null,null,null,null,null,null,null,null,null,null,null,null,null,null,null,null,null,null,null,null,null,null,null,null,null,null,null,null,null,null,null,null,null,null,null,null,null,null,null,null,null,null,null,null,null,null,null,null,null,null,null,null,null,null,null,null,null,null,null,null,null,null,null,null,null,null,null,null,null,null,null,null,null,null,null,null,null,null,null,null,null,null,null,null,null,null,null,null,null,null,null,null,null,null,null,null,null,null,null,null,null,null,null,null,null,null,null,null,null,null,null,null,null,null,null,null,null,null,null,null,null,null,null,null,null,null,null,null,null,null,null,null,null,null,null,null,null,null,null,null,null,null,null,null,null,null,null,null,null,null,null,null,null,null,null,null,null,null,null,null,null,null,null,null,null,null,null,null,null,null,null,null,null,null,null,null,null,null,null,null,null,null,null,null,null,null,null,null,null,null,null,null,null,null,null,null,null,null,null,null,null,null,null,null,null,null,null,null,null,null,null,null,null,null,null,null,null,null,null,null,null,null,null,null,null,null,null,null,null,null,null,null,null,null,null,null,null,null,null,null,null,null,null,null,null,null,null,null,null,null,null,null,null,null,null,null,null,null,null,null,null,null,null,null,null,null,null,null,null,null,null,null,null,null,null,null,null,null,null,null,null,null,null,null,null,null,null,null,null,null,null,null,null,null,null,null,null,null,null,null,null,null,null,null,null,null,null,null,null,null,null,null,null,null,null,null,null,null,null,null,null,null,null,null,null,null,null,null,null,null,null,null,null,null,null,null,null,null,null,null,null,null,null,null,null,null,null,null,null,null,null,null,null,null,null,null,null,null,null,null,null,null,null,null,null,null,null,null,null,null,null,null,null,null,null,null,null,null,null,null,null,null,null,null,null,null,null,null,null,null,null,null,null,null,null,null,null,null,null,null,null,null,null,null,null,null,null,null,null,null,null,null,null,null,null,null,null,null,null,null,null,null,null,null,null,null,null,null,null,null,null,null,null,null,null,null,null,null,null,null,null,null,null,null,null,null,null,null,null,null,null,null,null,null,null,null,null,null,null,null,null,null,null,null,null,null,null,null,null,null,null,null,null,null,null,null,null,null,null,null,null,null,null,null,null,null,null,null,null,null,null,null,null,null,null,null,null,null,null,null,null,null,null,null,null,null,null,null,null,null,null,null,null,null,null,null,null,null,null,null,null,null,null,null,null,null,null,null,null,null,null,null,null,null,null,null,null,null,null,null,null,null,null,null,null,null,null,null,null,null,null,null,null,null,null,null,null,null,null,null,null,null,null,null,null,null,null,null,null,null,null,null,null,null,null,null,null,null,null,null,null,null,null,null,null,null,null,null,null,null,null,null,null,null,null,null,null,null,null,null,null,null,null,null,null,null,null,null,null,null,null,null,null,null,null,null,null,null,null,null,null,null,null,null,null,null,null,null,null,null,null,null,null,null,null,null,null,null,null,null,null,null,null,null,null,null,null,null,null,null,null,null,null,null,null,null,null,null,null,null,null,null,null,null,null,null,null,null,null,null,null,null,null,null,null,null,null,null,null,null,null,null,null,null,null,null,null,null,null,null,null,null,null,null,null,null,null,null,null,null,null,null,null,null,null,null,null,null,null,null,null,null,null,null,null,null,null,null,null,null,null,null,null,null,null,null,null,null,null,null,null,null,null,null,null,null,null,null,null,null,null,null,null,null,null,null,null,null,null,null,null,null,null,null,null,null,null,null,null,null,null,null,null,null,null,null,null,null,null,null,null,null,null,null,null,null,null,null,null,null,null,null,null,null,null,null,null,null,null,null,null,null,null,null,null,null,null,null,null,null,null,null,null,null,null,null,null,null,null,null,null,null,null,null,null,null,null,null,null,null,null,null,null,null,null,null,null,null,null,null,null,null,null,null,null,null,null,null,null,null,null,null,null,null,null,null,null,null,null,null,null,null,null,null,null,null,null,null,null,null,null,null,null,null,null,null,null,null,null,null,null,null,null,null,null,null,null,null,null,null,null,null,null,null,null,null,null,null,null,null,null,null,null,null,null,null,null,null,null,null,null,null,null,null,null,null,null,null,null,null,null,null,null,null,null,null,null,null,null,null,null,null,null,null,null,null,null,null,null,null,null,null,null,null,null,null,null,null,null,null,null,null,null,null,null,null,null,null,null,null,null,null,null,null,null,null,null,null,null,null,null,null,null,null,null,null,null,null,null,null,null,null,null,null,null,null,null,null,null,null,null,null,null,null,null,null,null,null,null,null,null,null,null,null,null,null,null,null,null,null,null,null,null,null,null,null,null,null,null,null,null,null,null,null,null,null,null,null,null,null,null,null,null,null,null,null,null,null,null,null,null,null,null,null,null,null,null,null,null,null,null,null,null,null,null,null,null,null,null,null,null,null,null,null,null,null,null,null,null,null,null,null,null,null,null,null,null,null,null,null,null,null,null,null,null,null,null,null,null,null,null,null,null,null,null,null,null,null,null,null,null,null,null,null,null,null,null,null,null,null,null,null,null,null,null,null,null,null,null,null,null,null,null,null,null,null,null,null,null,null,null,null,null,null,null,null,null,null,null,null,null,null,null,null,null,null,null,null,null,null,null,null,null,null,null,null,null,null,null,null,null,null,null,null,null,null,null,null,null,null,null,null,null,null,null,null,null,null,null,null,null,null,null,null,null,null,null,null,null,null,null,null,null,null,null,null,null,null,null,null,null,null,null,null,null,null,null,null,null,null,null,null,null,null,null,null,null,null,null,null,null,null,null,null,null,null,null,null,null,null,null,null,null,null,null,null,null,null,null,null,null,null,null,null,null,null,null,null,null,null,null,null,null,null,null,null,null,null,null,null,null,null,null,null,null,null,null,null,null,null,null,null,null,null,null,null,null,null,null,null,null,null,null,null,null,null,null,null,null,null,null,null,null,null,null,null,null,null,null,null,null,null,null,null,null,null,null,null,null,null,null,null,null,null,null,null,null,null,null,null,null,null,null,null,null,null,null,null,null,null,null,null,null,null,null,null,null,null,null,null,null,null,null,null,null,null,null,null,null,null,null,null,null,null,null,null,null,null,null,null,null,null,null,null,null,null,null,null,null,null,null,null,null,null,null,null,null,null,null,null,null,null,null,null,null,null,null,null,null,null,null,null,null,null,null,null,null,null,null,null,null,null,null,null,null,null,null,null,null,null,null,null,null,null,null,null,null,null,null,null,null,null,null,null,null,null,null,null,null,null,null,null,null,null,null,null,null,null,null,null,null,null,null,null,null,null,null,null,null,null,null,null,null,null,null,null,null,null,null,null,null,null,null,null,null,null,null,null,null,null,null,null,null,null,null,null,null,null,null,null,null,null,null,null,null,null,null,null,null,null,null,null,null,null,null,null,null,null,null,null,null,null,null,null,null,null,null,null,null,null,null,null,null,null,null,null,null,null,null,null,null,null,null,null,null,null,null,null,null,null,null,null,null,null,null,null,null,null,null,null,null,null,null,null,null,null,null,null,null,null,null,null,null,null,null,null,null,null,null,null,null,null,null,null,null,null,null,null,null,null,null,null,null,null,null,null,null,null,null,null,null,null,null,null,null,null,null,null,null,null,null,null,null,null,null,null,null,null,null,null,null,null,null,null,null,null,null,null,null,null,null,null,null,null,null,null,null,null,null,null,null,null,null,null,null,null,null,null,null,null,null,null,null,null,null,null,null,null,null,null,null,null,null,null,null,null,null,null,null,null,null,null,null,null,null,null,null,null,null,null,null,null,null,null,null,null,null,null,null,null,null,null,null,null,null,null,null,null,null,null,null,null,null,null,null,null,null,null,null,null,null,null,null,null,null,null,null,null,null,null,null,null,null,null,null,null,null,null,null,null,null,null,null,null,null,null,null,null,null,null,null,null,null,null,null,null,null,null,null,null,null,null,null,null,null,null,null,null,null,null,null,null,null,null,null,null,null,null,null,null,null,null,null,null,null,null,null,null,null,null,null,null,null,null,null,null,null,null,null,null,null,null,null,null,null,null,null,null,null,null,null,null,null,null,null,null,null,null,null,null,null,null,null,null,null,null,null,null,null,null,null,null,null,null,null,null,null,null,null,null,null,null,null,null,null,null,null,null,null,null,null,null,null,null,null,null,null,null,null,null,null,null,null,null,null,null,null,null,null,null,null,null,null,null,null,null,null,null,null,null,null,null,null,null,null,null,null,null,null,null,null,null,null,null,null,null,null,null,null,null,null,null,null,null,null,null,null,null,null,null,null,null,null,null,null,null,null,null,null,null,null,null,null,null,null,null,null,null,null,null,null,null,null,null,null,null,null,null,null,null,null,null,null,null,null,null,null,null,null,null,null,null,null,null,null,null,null,null,null,null,null,null,null,null,null,null,null,null,null,null,null,null,null,null,null,null,null,null,null,null,null,null,null,null,null,null,null,null,null,null,null,null,null,null,null,null,null,null,null,null,null,null,null,null,null,null,null,null,null,null,null,null,null,null,null,null,null,null,null,null,null,null,null,null,null,null,null,null,null,null,null,null,null,null,null,null,null,null,null,null,null,null,null,null,null,null,null,null,null,null,null,null,null,null,null,null,null,null,null,null,null,null,null,null,null,null,null,null,null,null,null,null,null,null,null,null,null,null,null,null,null,null,null,null,null,null,null,null,null,null,null,null,null,null,null,null,null,null,null,null,null,null,null,null,null,null,null,null,null,null,null,null,null,null,null,null,null,null,null,null,null,null,null,null,null,null,null,null,null,null,null,null,null,null,null,null,null,null,null,null,null,null,null,null,null,null,null,null,null,null,null,null,null,null,null,null,null,null,null,null,null,null,null,null,null,null,null,null,null,null,null,null,null,null,null,null,null,null,null,null,null,null,null,null,null,null,null,null,null,null,null,null,null,null,null,null,null,null,null,null,null,null,null,null,null,null,null,null,null,null,null,null,null,null,null,null,null,null,null,null,null,null,null,null,null,null,null,null,null,null,null,null,null,null,null,null,null,null,null,null,null,null,null,null,null,null,null,null,null,null,null,null,null,null,null,null,null,null,null,null,null,null,null,null,null,null,null,null,null,null,null,null,null,null,null,null,null,null,null,null,null,null,null,null,null,null,null,null,null,null,null,null,null,null,null,null,null,null,null,null,null,null,null,null,null,null,null,null,null,null,null,null,null,null,null,null,null,null,null,null,null,null,null,null,null,null,null,null,null,null,null,null,null,null,null,null,null,null,null,null,null,null,null,null,null,null,null,null,null,null,null,null,null,null,null,null,null,null,null,null,null,null,null,null,null,null,null,null,null,null,null,null,null,null,null,null,null,null,null,null,null,null,null,null,null,null,null,null,null,null,null,null,null,null,null,null,null,null,null,null,null,null,null,null,null,null,null,null,null,null,null,null,null,null,null,null,null,null,null,null,null,null,null,null,null,null,null,null,null,null,null,null,null,null,null,null,null,null,null,null,null,null,null,null,null,null,null,null,null,null,null,null,null,null,null,null,null,null,null,null,null,null,null,null,null,null,null,null,null,null,null,null,null,null,null,null,null,null,null,null,null,null,null,null,null,null,null,null,null,null,null,null,null,null,null,null,null,null,null,null,null,null,null,null,null,null,null,null,null,null,null,null,null,null,null,null,null,null,null,null,null,null,null,null,null,null,null,null,null,null,null,null,null,null,null,null,null,null,null,null,null,null,null,null,null,null,null,null,null,null,null,null,null,null,null,null,null,null,null,null,null,null,null,null,null,null,null,null,null,null,null,null,null,null,null,null,null,null,null,null,null,null,null,null,null,null,null,null,null,null,null,null,null,null,null,null,null,null,null,null,null,null,null,null,null,null,null,null,null,null,null,null,null,null,null,null,null,null,null,null,null,null,null,null,null,null,null,null,null,null,null,null,null,null,null,null,null,null,null,null,null,null,null,null,null,null,null,null,null,null,null,null,null,null,null,null,null,null,null,null,null,null,null,null,null,null,null,null,null,null,null,null,null,null,null,null,null,null,null,null,null,null,null,null,null,null,null,null,null,null,null,null,null,null,null,null,null,null,null,null,null,null,null,null,null,null,null,null,null,null,null,null,null,null,null,null,null,null,null,null,null,null,null,null,null,null,null,null,null,null,null,null,null,null,null,null,null,null,null,null,null,null,null,null,null,null,null,null,null,null,null,null,null,null,null,null,null,null,null,null,null,null,null,null,null,null,null,null,null,null,null,null,null,null,null,null,null,null,null,null,null,null,null,null,null,null,null,null,null,null,null,null,null,null,null,null,null,null,null,null,null,null,null,null,null,null,null,null,null,null,null,null,null,null,null,null,null,null,null,null,null,null,null,null,null,null,null,null,null,null,null,null,null,null,null,null,null,null,null,null,null,null,null,null,null,null,null,null,null,null,null,null,null,null,null,null,null,null,null,null,null,null,null,null,null,null,null,null,null,null,null,null,null,null,null,null,null,null,null,null,null,null,null,null,null,null,null,null,null,null,null,null,null,null,null,null,null,null,null,null,null,null,null,null,null,null,null,null,null,null,null,null,null,null,null,null,null,null,null,null,null,null,null,null,null,null,null,null,null,null,null,null,null,null,null,null,null,null,null,null,null,null,null,null,null,null,null,null,null,null,null,null,null,null,null,null,null,null,null,null,null,null,null,null,null,null,null,null,null,null,null,null,null,null,null,null,null,null,null,null,null,null,null,null,null,null,null,null,null,null,null,null,null,null,null,null,null,null,null,null,null,null,null,null,null,null,null,null,null,null,null,null,null,null,null,null,null,null,null,null,null,null,null,null,null,null,null,null,null,null,null,null,null,null,null,null,null,null,null,null,null,null,null,null,null,null,null,null,null,null,null,null,null,null,null,null,null,null,null,null,null,null,null,null,null,null,null,null,null,null,null,null,null,null,null,null,null,null,null,null,null,null,null,null,null,null,null,null,null,null,null,null,null,null,null,null,null,null,null,null,null,null,null,null,null,null,null,null,null,null,null,null,null,null,null,null,null,null,null,null,null,null,null,null,null,null,null,null,null,null,null,null,null,null,null,null,null,null,null,null,null,null,null,null,null,null,null,null,null,null,null,null,null,null,null,null,null,null,null,null,null,null,null,null,null,null,null,null,null,null,null,null,null,null,null,null,null,null,null,null,null,null,null,null,null,null,null,null,null,null,null,null,null,null,null,null,null,null,null,null,null,null,null,null,null,null,null,null,null,null,null,null,null,null,null,null,null,null,null,null,null,null,null,null,null,null,null,null,null,null,null,null,null,null,null,null,null,null,null,null,null,null,null,null,null,null,null,null,null,null,null,null,null,null,null,null,null,null,null,null,null,null,null,null,null,null,null,null,null,null,null,null,null,null,null,null,null,null,null,null,null,null,null,null,null,null,null,null,null,null,null,null,null,null,null,null,null,null,null,null,null,null,null,null,null,null,null,null,null,null,null,null,null,null,null,null,null,null,null,null,null,null,null,null,null,null,null,null,null,null,null,null,null,null,null,null,null,null,null,null,null,null,null,null,null,null,null,null,null,null,null,null,null,null,null,null,null,null,null,null,null,null,null,null,null,null,null,null,null,null,null,null,null,null,null,null,null,null,null,null,null,null,null,null,null,null,null,null,null,null,null,null,null,null,null,null,null,null,null,null,null,null,null,null,null,null,null,null,null,null,null,null,null,null,null,null,null,null,null,null,null,null,null,null,null,null,null,null,null,null,null,null,null,null,null,null,null,null,null,null,null,null,null,null,null,null,null,null,null,null,null,null,null,null,null,null,null,null,null,null,null,null,null,null,null,null,null,null,null,null,null,null,null,null,null,null,null,null,null,null,null,null,null,null,null,null,null,null,null,null,null,null,null,null,null,null,null,null,null,null,null,null,null,null,null,null,null,null,null,null,null,null,null,null,null,null,null,null,null,null,null,null,null,null,null,null,null,null,null,null,null,null,null,null,null,null,null,null,null,null,null,null,null,null,null,null,null,null,null,null,null,null,null,null,null,null,null,null,null,null,null,null,null,null,null,null,null,null,null,null,null,null,null,null,null,null,null,null,null,null,null,null,null,null,null,null,null,null,null,null,null,null,null,null,null,null,null,null,null,null,null,null,null,null,null,null,null,null,null,null,null,null,null,null,null,null,null,null,null,null,null,null,null,null,null,null,null,null,null,null,null,null,null,null,null,null,null,null,null,null,null,null,null,null,null,null,null,null,null,null,null,null,null,null,null,null,null,null,null,null,null,null,null,null,null,null,null,null,null,null,null,null,null,null,null,null,null,null,null,null,null,null,null,null,null,null,null,null,null,null,null,null,null,null,null,null,null,null,null,null,null,null,null,null,null,null,null,null,null,null,null,null,null,null,null,null,null,null,null,null,null,null,null,null,null,null,null,null,null,null,null,null,null,null,null,null,null,null,null,null,null,null,null,null,null,null,null,null,null,null,null,null,null,null,null,null,null,null,null,null,null,null,null,null,null,null,null,null,null,null,null,null,null,null,null,null,null,null,null,null,null,null,null,null,null,null,null,null,null,null,null,null,null,null,null,null,null,null,null,null,null,null,null,null,null,null,null,null,null,null,null,null,null,null,null,null,null,null,null,null,null,null,null,null,null,null,null,null,null,null,null,null,null,null,null,null,null,null,null,null,null,null,null,null,null,null,null,null,null,null,null,null,null,null,null,null,null,null,null,null,null,null,null,null,null,null,null,null,null,null,null,null,null,null,null,null,null,null,null,null,null,null,null,null,null,null,null,null,null,null,null,null,null,null,null,null,null,null,null,null,null,null,null,null,null,null,null,null,null,null,null,null,null,null,null,null,null,null,null,null,null,null,null,null,null,null,null,null,null,null,null,null,null,null,null,null,null,null,null,null,null,null,null,null,null,null,null,null,null,null,null,null,null,null,null,null,null,null,null,null,null,null,null,null,null,null,null,null,null,null,null,null,null,null,null,null,null,null,null,null,null,null,null,null,null,null,null,null,null,null,null,null,null,null,null,null,null,null,null,null,null,null,null,null,null,null,null,null,null,null,null,null,null,null,null,null,null,null,null,null,null,null,null,null,null,null,null,null,null,null,null,null,null,null,null,null,null,null,null,null,null,null,null,null,null,null,null,null,null,null,null,null,null,null,null,null,null,null,null,null,null,null,null,null,null,null,null,null,null,null,null,null,null,null,null,null,null,null,null,null,null,null,null,null,null,null,null,null,null,null,null,null,null,null,null,null,null,null,null,null,null,null,null,null,null,null,null,null,null,null,null,null,null,null,null,null,null,null,null,null,null,null,null,null,null,null,null,null,null,null,null,null,null,null,null,null,null,null,null,null,null,null,null,null,null,null,null,null,null,null,null,null,null,null,null,null,null,null,null,null,null,null,null,null,null,null,null,null,null,null,null,null,null,null,null,null,null,null,null,null,null,null,null,null,null,null,null,null,null,null,null,null,null,null,null,null,null,null,null,null,null,null,null,null,null,null,null,null,null,null,null,null,null,null,null,null,null,null,null,null,null,null,null,null,null,null,null,null,null,null,null,null,null,null,null,null,null,null,null,null,null,null,null,null,null,null,null,null,null,null,null,null,null,null,null,null,null,null,null,null,null,null,null,null,null,null,null,null,null,null,null,null,null,null,null,null,null,null,null,null,null,null,null,null,null,null,null,null,null,null,null,null,null,null,null,null,null,null,null,null,null,null,null,null,null,null,null,null,null,null,null,null,null,null,null,null,null,null,null,null,null,null,null,null,null,null,null,null,null,null,null,null,null,null,null,null,null,null,null,null,null,null,null,null,null,null,null,null,null,null,null,null,null,null,null,null,null,null,null,null,null,null,null,null,null,null,null,null,null,null,null,null,null,null,null,null,null,null,null,null,null,null,null,null,null,null,null,null,null,null,null,null,null,null,null,null,null,null,null,null,null,null,null,null,null,null,null,null,null,null,null,null,null,null,null,null,null,null,null,null,null,null,null,null,null,null,null,null,null,null,null,null,null,null,null,null,null,null,null,null,null,null,null,null,null,null,null,null,null,null,null,null,null,null,null,null,null,null,null,null,null,null,null,null,null,null,null,null,null,null,null,null,null,null,null,null,null,null,null,null,null,null,null,null,null,null,null,null,null,null,null,null,null,null,null,null,null,null,null,null,null,null,null,null,null,null,null,null,null,null,null,null,null,null,null,null,null,null,null,null,null,null,null,null,null,null,null,null,null,null,null,null,null,null,null,null,null,null,null,null,null,null,null,null,null,null,null,null,null,null,null,null,null,null,null,null,null,null,null,null,null,null,null,null,null,null,null,null,null,null,null,null,null,null,null,null,null,null,null,null,null,null,null,null,null,null,null,null,null,null,null,null,null,null,null,null,null,null,null,null,null,null,null,null,null,null,null,null,null,null,null,null,null,null,null,null,null,null,null,null,null,null,null,null,null,null,null,null,null,null,null,null,null,null,null,null,null,null,null,null,null,null,null,null,null,null,null,null,null,null,null,null,null,null,null,null,null,null,null,null,null,null,null,null,null,null,null,null,null,null,null,null,null,null,null,null,null,null,null,null,null,null,null,null,null,null,null,null,null,null,null,null,null,null,null,null,null,null,null,null,null,null,null,null,null,null,null,null,null,null,null,null,null,null,null,null,null,null,null,null,null,null,null,null,null,null,null,null,null,null,null,null,null,null,null,null,null,null,null,null,null,null,null,null,null,null,null,null,null,null,null,null,null,null,null,null,null,null,null,null,null,null,null,null,null,null,null,null,null,null,null,null,null,null,null,null,null,null,null,null,null,null,null,null,null,null,null,null,null,null,null,null,null,null,null,null,null,null,null,null,null,null,null,null,null,null,null,null,null,null,null,null,null,null,null,null,null,null,null,null,null,null,null,null,null,null,null,null,null,null,null,null,null,null,null,null,null,null,null,null,null,null,null,null,null,null,null,null,null,null,null,null,null,null,null,null,null,null,null,null,null,null,null,null,null,null,null,null,null,null,null,null,null,null,null,null,null,null,null,null,null,null,null,null,null,null,null,null,null,null,null,null,null,null,null,null,null,null,null,null,null,null,null,null,null,null,null,null,null,null,null,null,null,null,null,null,null,null,null,null,null,null,null,null,null,null,null,null,null,null,null,null,null,null,null,null,null,null,null,null,null,null,null,null,null,null,null,null,null,null,null,null,null,null,null,null,null,null,null,null,null,null,null,null,null,null,null,null,null,null,null,null,null,null,null,null,null,null,null,null,null,null,null,null,null,null,null,null,null,null,null,null,null,null,null,null,null,null,null,null,null,null,null,null,null,null,null,null,null,null,null,null,null,null,null,null,null,null,null,null,null,null,null,null,null,null,null,null,null,null,null,null,null,null,null,null,null,null,null,null,null,null,null,null,null,null,null,null,null,null,null,null,null,null,null,null,null,null,null,null,null,null,null,null,null,null,null,null,null,null,null,null,null,null,null,null,null,null,null,null,null,null,null,null,null,null,null,null,null,null,null,null,null,null,null,null,null,null,null,null,null,null,null,null,null,null,null,null,null,null,null,null,null,null,null,null,null,null,null,null,null,null,null,null,null,null,null,null,null,null,null,null,null,null,null,null,null,null,null,null,null,null,null,null,null,null,null,null,null,null,null,null,null,null,null,null,null,null,null,null,null,null,null,null,null,null,null,null,null,null,null,null,null,null,null,null,null,null,null,null,null,null,null,null,null,null,null,null,null,null,null,null,null,null,null,null,null,null,null,null,null,null,null,null,null,null,null,null,null,null,null,null,null,null,null,null,null,null,null,null,null,null,null,null,null,null,null,null,null,null,null,null,null,null,null,null,null,null,null,null,null,null,null,null,null,null,null,null,null,null,null,null,null,null,null,null,null,null,null,null,null,null,null,null,null,null,null,null,null,null,null,null,null,null,null,null,null,null,null,null,null,null,null,null,null,null,null,null,null,null,null,null,null,null,null,null,null,null,null,null,null,null,null,null,null,null,null,null,null,null,null,null,null,null,null,null,null,null,null,null,null,null,null,null,null,null,null,null,null,null,null,null,null,null,null,null,null,null,null,null,null,null,null,null,null,null,null,null,null,null,null,null,null,null,null,null,null,null,null,null,null,null,null,null,null,null,null,null,null,null,null,null,null,null,null,null,null,null,null,null,null,null,null,null,null,null,null,null,null,null,null,null,null,null,null,null,null,null,null,null,null,null,null,null,null,null,null,null,null,null,null,null,null,null,null,null,null,null,null,null,null,null,null,null,null,null,null,null,null,null,null,null,null,null,null,null,null,null,null,null,null,null,null,null,null,null,null,null,null,null,null,null,null,null,null,null,null,null,null,null,null,null,null,null,null,null,null,null,null,null,null,null,null,null,null,null,null,null,null,null,null,null,null,null,null,null,null,null,null,null,null,null,null,null,null,null,null,null,null,null,null,null,null,null,null,null,null,null,null,null,null,null,null,null,null,null,null,null,null,null,null,null,null,null,null,null,null,null,null,null,null,null,null,null,null,null,null,null,null,null,null,null,null,null,null,null,null,null,null,null,null,null,null,null,null,null,null,null,null,null,null,null,null,null,null,null,null,null,null,null,null,null,null,null,null,null,null,null,null,null,null,null,null,null,null,null,null,null,null,null,null,null,null,null,null,null,null,null,null,null,null,null,null,null,null,null,null,null,null,null,null,null,null,null,null,null,null,null,null,null,null,null,null,null,null,null,null,null,null,null,null,null,null,null,null,null,null,null,null,null,null,null,null,null,null,null,null,null,null,null,null,null,null,null,null,null,null,null,null,null,null,null,null,null,null,null,null,null,null,null,null,null,null,null,null,null,null,null,null,null,null,null,null,null,null,null,null,null,null,null,null,null,null,null,null,null,null,null,null,null,null,null,null,null,null,null,null,null,null,null,null,null,null,null,null,null,null,null,null,null,null,null,null,null,null,null,null,null,null,null,null,null,null,null,null,null,null,null,null,null,null,null,null,null,null,null,null,null,null,null,null,null,null,null,null,null,null,null,null,null,null,null,null,null,null,null,null,null,null,null,null,null,null,null,null,null,null,null,null,null,null,null,null,null,null,null,null,null,null,null,null,null,null,null,null,null,null,null,null,null,null,null,null,null,null,null,null,null,null,null,null,null,null,null,null,null,null,null,null,null,null,null,null,null,null,null,null,null,null,null,null,null,null,null,null,null,null,null,null,null,null,null,null,null,null,null,null,null,null,null,null,null,null,null,null,null,null,null,null,null,null,null,null,null,null,null,null,null,null,null,null,null,null,null,null,null,null,null,null,null,null,null,null,null,null,null,null,null,null,null,null,null,null,null,null,null,null,null,null,null,null,null,null,null,null,null,null,null,null,null,null,null,null,null,null,null,null,null,null,null,null,null,null,null,null,null,null,null,null,null,null,null,null,null,null,null,null,null,null,null,null,null,null,null,null,null,null,null,null,null,null,null,null,null,null,null,null,null,null,null,null,null,null,null,null,null,null,null,null,null,null,null,null,null,null,null,null,null,null,null,null,null,null,null,null,null,null,null,null,null,null,null,null,null,null,null,null,null,null,null,null,null,null,null,null,null,null,null,null,null,null,null,null,null,null,null,null,null,null,null,null,null,null,null,null,null,null,null,null,null,null,null,null,null,null,null,null,null,null,null,null,null,null,null,null,null,null,null,null,null,null,null,null,null,null,null,null,null,null,null,null,null,null,null,null,null,null,null,null,null,null,null,null,null,null,null,null,null,null,null,null,null,null,null,null,null,null,null,null,null,null,null,null,null,null,null,null,null,null,null,null,null,null,null,null,null,null,null,null,null,null,null,null,null,null,null,null,null,null,null,null,null,null,null,null,null,null,null,null,null,null,null,null,null,null,null,null,null,null,null,null,null,null,null,null,null,null,null,null,null,null,null,null,null,null,null,null,null,null,null,null,null,null,null,null,null,null,null,null,null,null,null,null,null,null,null,null,null,null,null,null,null,null,null,null,null,null,null,null,null,null,null,null,null,null,null,null,null,null,null,null,null,null,null,null,null,null,null,null,null,null,null,null,null,null,null,null,null,null,null,null,null,null,null,null,null,null,null,null,null,null,null,null,null,null,null,null,null,null,null,null,null,null,null,null,null,null,null,null,null,null,null,null,null,null,null,null,null,null,null,null,null,null,null,null,null,null,null,null,null,null,null,null,null,null,null,null,null,null,null,null,null,null,null,null,null,null,null,null,null,null,null,null,null,null,null,null,null,null,null,null,null,null,null,null,null,null,null,null,null,null,null,null,null,null,null,null,null,null,null,null,null,null,null,null,null,null,null,null,null,null,null,null,null,null,null,null,null,null,null,null,null,null,null,null,null,null,null,null,null,null,null,null,null,null,null,null,null,null,null,null,null,null,null,null,null,null,null,null,null,null,null,null,null,null,null,null,null,null,null,null,null,null,null,null,null,null,null,null,null,null,null,null,null,null,null,null,null,null,null,null,null,null,null,null,null,null,null,null,null,null,null,null,null,null,null,null,null,null,null,null,null,null,null,null,null,null,null,null,null,null,null,null,null,null,null,null,null,null,null,null,null,null,null,null,null,null,null,null,null,null,null,null,null,null,null,null,null,null,null,null,null,null,null,null,null,null,null,null,null,null,null,null,null,null,null,null,null,null,null,null,null,null,null,null,null,null,null,null,null,null,null,null,null,null,null,null,null,null,null,null,null,null,null,null,null,null,null,null,null,null,null,null,null,null,null,null,null,null,null,null,null,null,null,null,null,null,null,null,null,null,null,null,null,null,null,null,null,null,null,null,null,null,null,null,null,null,null,null,null,null,null,null,null,null,null,null,null,null,null,null,null,null,null,null,null,null,null,null,null,null,null,null,null,null,null,null,null,null,null,null,null,null,null,null,null,null,null,null,null,null,null,null,null,null,null,null,null,null,null,null,null,null,null,null,null,null,null,null,null,null,null,null,null,null,null,null,null,null,null,null,null,null,null,null,null,null,null,null,null,null,null,null,null,null,null,null,null,null,null,null,null,null,null,null,null,null,null,null,null,null,null,null,null,null,null,null,null,null,null,null,null,null,null,null,null,null,null,null,null,null,null,null,null,null,null,null,null,null,null,null,null,null,null,null,null,null,null,null,null,null,null,null,null,null,null,null,null,null,null,null,null,null,null,null,null,null,null,null,null,null,null,null,null,null,null,null,null,null,null,null,null,null,null,null,null,null,null,null,null,null,null,null,null,null,null,null,null,null,null,null,null,null,null,null,null,null,null,null,null,null,null,null,null,null,null,null,null,null,null,null,null,null,null,null,null,null,null,null,null,null,null,null,null,null,null,null,null,null,null,null,null,null,null,null,null,null,null,null,null,null,null,null,null,null,null,null,null,null,null,null,null,null,null,null,null,null,null,null,null,null,null,null,null,null,null,null,null,null,null,null,null,null,null,null,null,null,null,null,null,null,null,null,null,null,null,null,null,null,null,null,null,null,null,null,null,null,null,null,null,null,null,null,null,null,null,null,null,null,null,null,null,null,null,null,null,null,null,null,null,null,null,null,null,null,null,null,null,null,null,null,null,null,null,null,null,null,null,null,null,null,null,null,null,null,null,null,null,null,null,null,null,null,null,null,null,null,null,null,null,null,null,null,null,null,null,null,null,null,null,null,null,null,null,null,null,null,null,null,null,null,null,null,null,null,null,null,null,null,null,null,null,null,null,null,null,null,null,null,null,null,null,null,null,null,null,null,null,null,null,null,null,null,null,null,null,null,null,null,null,null,null,null,null,null,null,null,null,null,null,null,null,null,null,null,null,null,null,null,null,null,null,null,null,null,null,null,null,null,null,null,null,null,null,null,null,null,null,null,null,null,null,null,null,null,null,null,null,null,null,null,null,null,null,null,null,null,null,null,null,null,null,null,null,null,null,null,null,null,null,null,null,null,null,null,null,null,null,null,null,null,null,null,null,null,null,null,null,null,null,null,null,null,null,null,null,null,null,null,null,null,null,null,null,null,null,null,null,null,null,null,null,null,null,null,null,null,null,null,null,null,null,null,null,null,null,null,null,null,null,null,null,null,null,null,null,null,null,null,null,null,null,null,null,null,null,null,null,null,null,null,null,null,null,null,null,null,null,null,null,null,null,null,null,null,null,null,null,null,null,null,null,null,null,null,null,null,null,null,null,null,null,null,null,null,null,null,null,null,null,null,null,null,null,null,null,null,null,null,null,null,null,null,null,null,null,null,null,null,null,null,null,null,null,null,null,null,null,null,null,null,null,null,null,null,null,null,null,null,null,null,null,null,null,null,null,null,null,null,null,null,null,null,null,null,null,null,null,null,null,null,null,null,null,null,null,null,null,null,null,null,null,null,null,null,null,null,null,null,null,null,null,null,null,null,null,null,null,null,null,null,null,null,null,null,null,null,null,null,null,null,null,null,null,null,null,null,null,null,null,null,null,null,null,null,null,null,null,null,null,null,null,null,null,null,null,null,null,null,null,null,null,null,null,null,null,null,null,null,null,null,null,null,null,null,null,null,null,null,null,null,null,null,null,null,null,null,null,null,null,null,null,null,null,null,null,null,null,null,null,null,null,null,null,null,null,null,null,null,null,null,null,null,null,null,null,null,null,null,null,null,null,null,null,null,null,null,null,null,null,null,null,null,null,null,null,null,null,null,null,null,null,null,null,null,null,null,null,null,null,null,null,null,null,null,null,null,null,null,null,null,null,null,null,null,null,null,null,null,null,null,null,null,null,null,null,null,null,null,null,null,null,null,null,null,null,null,null,null,null,null,null,null,null,null,null,null,null,null,null,null,null,null,null,null,null,null,null,null,null,null,null,null,null,null,null,null,null,null,null,null,null,null,null,null,null,null,null,null,null,null,null,null,null,null,null,null,null,null,null,null,null,null,null,null,null,null,null,null,null,null,null,null,null,null,null,null,null,null,null,null,null,null,null,null,null,null,null,null,null,null,null,null,null,null,null,null,null,null,null,null,null,null,null,null,null,null,null,null,null,null,null,null,null,null,null,null,null,null,null,null,null,null,null,null,null,null,null,null,null,null,null,null,null,null,null,null,null,null,null,null,null,null,null,null,null,null,null,null,null,null,null,null,null,null,null,null,null,null,null,null,null,null,null,null,null,null,null,null,null,null,null,null,null,null,null,null,null,null,null,null,null,null,null,null,null,null,null,null,null,null,null,null,null,null,null,null,null,null,null,null,null,null,null,null,null,null,null,null,null,null,null,null,null,null,null,null,null,null,null,null,null,null,null,null,null,null,null,null,null,null,null,null,null,null,null,null,null,null,null,null,null,null,null,null,null,null,null,null,null,null,null,null,null,null,null,null,null,null,null,null,null,null,null,null,null,null,null,null,null,null,null,null,null,null,null,null,null,null,null,null,null,null,null,null,null,null,null,null,null,null,null,null,null,null,null,null,null,null,null,null,null,null,null,null,null,null,null,null,null,null,null,null,null,null,null,null,null,null,null,null,null,null,null,null,null,null,null,null,null,null,null,null,null,null,null,null,null,null,null,null,null,null,null,null,null,null,null,null,null,null,null,null,null,null,null,null,null,null,null,null,null,null,null,null,null,null,null,null,null,null,null,null,null,null,null,null,null,null,null,null,null,null,null,null,null,null,null,null,null,null,null,null,null,null,null,null,null,null,null,null,null,null,null,null,null,null,null,null,null,null,null,null,null,null,null,null,null,null,null,null,null,null,null,null,null,null,null,null,null,null,null,null,null,null,null,null,null,null,null,null,null,null,null,null,null,null,null,null,null,null,null,null,null,null,null,null,null,null,null,null,null,null,null,null,null,null,null,null,null,null,null,null,null,null,null,null,null,null,null,null,null,null,null,null,null,null,null,null,null,null,null,null,null,null,null,null,null,null,null,null,null,null,null,null,null,null,null,null,null,null,null,null,null,null,null,null,null,null,null,null,null,null,null,null,null,null,null,null,null,null,null,null,null,null,null,null,null,null,null,null,null,null,null,null,null,null,null,null,null,null,null,null,null,null,null,null,null,null,null,null,null,null,null,null,null,null,null,null,null,null,null,null,null,null,null,null,null,null,null,null,null,null,null,null,null,null,null,null,null,null,null,null,null,null,null,null,null,null,null,null,null,null,null,null,null,null,null,null,null,null,null,null,null,null,null,null,null,null,null,null,null,null,null,null,null,null,null,null,null,null,null,null,null,null,null,null,null,null,null,null,null,null,null,null,null,null,null,null,null,null,null,null,null,null,null,null,null,null,null,null,null,null,null,null,null,null,null,null,null,null,null,null,null,null,null,null,null,null,null,null,null,null,null,null,null,null,null,null,null,null,null,null,null,null,null,null,null,null,null,null,null,null,null,null,null,null,null,null,null,null,null,null,null,null,null,null,null,null,null,null,null,null,null,null,null,null,null,null,null,null,null,null,null,null,null,null,null,null,null,null,null,null,null,null,null,null,null,null,null,null,null,null,null,null,null,null,null,null,null,null,null,null,null,null,null,null,null,null,null,null,null,null,null,null,null,null,null,null,null,null,null,null,null,null,null,null,null,null,null,null,null,null,null,null,null,null,null,null,null,null,null,null,null,null,null,null,null,null,null,null,null,null,null,null,null,null,null,null,null,null,null,null,null,null,null,null,null,null,null,null,null,null,null,null,null,null,null,null,null,null,null,null,null,null,null,null,null,null,null,null,null,null,null,null,null,null,null,null,null,null,null,null,null,null,null,null,null,null,null,null,null,null,null,null,null,null,null,null,null,null,null,null,null,null,null,null,null,null,null,null,null,null,null,null,null,null,null,null,null,null,null,null,null,null,null,null,null,null,null,null,null,null,null,null,null,null,null,null,null,null,null,null,null,null,null,null,null,null,null,null,null,null,null,null,null,null,null,null,null,null,null,null,null,null,null,null,null,null,null,null,null,null,null,null,null,null,null,null,null,null,null,null,null,null,null,null,null,null,null,null,null,null,null,null,null,null,null,null,null,null,null,null,null,null,null,null,null,null,null,null,null,null,null,null,null,null,null,null,null,null,null,null,null,null,null,null,null,null,null,null,null,null,null,null,null,null,null,null,null,null,null,null,null,null,null,null,null,null,null,null,null,null,null,null,null,null,null,null,null,null,null,null,null,null,null,null,null,null,null,null,null,null,null,null,null,null,null,null,null,null,null,null,null,null,null,null,null,null,null,null,null,null,null,null,null,null,null,null,null,null,null,null,null,null,null,null,null,null,null,null,null,null,null,null,null,null,null,null,null,null,null,null,null,null,null,null,null,null,null,null,null,null,null,null,null,null,null,null,null,null,null,null,null,null,null,null,null,null,null,null,null,null,null,null,null,null,null,null,null,null,null,null,null,null,null,null,null,null,null,null,null,null,null,null,null,null,null,null,null,null,null,null,null,null,null,null,null,null,null,null,null,null,null,null,null,null,null,null,null,null,null,null,null,null,null,null,null,null,null,null,null,null,null,null,null,null,null,null,null,null,null,null,null,null,null,null,null,null,null,null,null,null,null,null,null,null,null,null,null,null,null,null,null,null,null,null,null,null,null,null,null,null,null,null,null,null,null,null,null,null,null,null,null,null,null,null,null,null,null,null,null,null,null,null,null,null,null,null,null,null,null,null,null,null,null,null,null,null,null,null,null,null,null,null,null,null,null,null,null,null,null,null,null,null,null,null,null,null,null,null,null,null,null,null,null,null,null,null,null,null,null,null,null,null,null,null,null,null,null,null,null,null,null,null,null,null,null,null,null,null,null,null,null,null,null,null,null,null,null,null,null,null,null,null,null,null,null,null,null,null,null,null,null,null,null,null,null,null,null,null,null,null,null,null,null,null,null,null,null,null,null,null,null,null,null,null,null,null,null,null,null,null,null,null,null,null,null,null,null,null,null,null,null,null,null,null,null,null,null,null,null,null,null,null,null,null,null,null,null,null,null,null,null,null,null,null,null,null,null,null,null,null,null,null,null,null,null,null,null,null,null,null,null,null,null,null,null,null,null,null,null,null,null,null,null,null,null,null,null,null,null,null,null,null,null,null,null,null,null,null,null,null,null,null,null,null,null,null,null,null,null,null,null,null,null,null,null,null,null,null,null,null,null,null,null,null,null,null,null,null,null,null,null,null,null,null,null,null,null,null,null,null,null,null,null,null,null,null,null,null,null,null,null,null,null,null,null,null,null,null,null,null,null,null,null,null,null,null,null,null,null,null,null,null,null,null,null,null,null,null,null,null,null,null,null,null,null,null,null,null,null,null,null,null,null,null,null,null,null,null,null,null,null,null,null,null,null,null,null,null,null,null,null,null,null,null,null,null,null,null,null,null,null,null,null,null,null,null,null,null,null,null,null,null,null,null,null,null,null,null,null,null,null,null,null,null,null,null,null,null,null,null,null,null,null,null,null,null,null,null,null,null,null,null,null,null,null,null,null,null,null,null,null,null,null,null,null,null,null,null,null,null,null,null,null,null,null,null,null,null,null,null,null,null,null,null,null,null,null,null,null,null,null,null,null,null,null,null,null,null,null,null,null,null,null,null,null,null,null,null,null,null,null,null,null,null,null,null,null,null,null,null,null,null,null,null,null,null,null,null,null,null,null,null,null,null,null,null,null,null,null,null,null,null,null,null,null,null,null,null,null,null,null,null,null,null,null,null,null,null,null,null,null,null,null,null,null,null,null,null,null,null,null,null,null,null,null,null,null,null,null,null,null,null,null,null,null,null,null,null,null,null,null,null,null,null,null,null,null,null,null,null,null,null,null,null,null,null,null,null,null,null,null,null,null,null,null,null,null,null,null,null,null,null,null,null,null,null,null,null,null,null,null,null,null,null,null,null,null,null,null,null,null,null,null,null,null,null,null,null,null,null,null,null,null,null,null,null,null,null,null,null,null,null,null,null,null,null,null,null,null,null,null,null,null,null,null,null,null,null,null,null,null,null,null,null,null,null,null,null,null,null,null,null,null,null,null,null,null,null,null,null,null,null,null,null,null,null,null,null,null,null,null,null,null,null,null,null,null,null,null,null,null,null,null,null,null,null,null,null,null,null,null,null,null,null,null,null,null,null,null,null,null,null,null,null,null,null,null,null,null,null,null,null,null,null,null,null,null,null,null,null,null,null,null,null,null,null,null,null,null,null,null,null,null,null,null,null,null,null,null,null,null,null,null,null,null,null,null,null,null,null,null,null,null,null,null,null,null,null,null,null,null,null,null,null,null,null,null,null,null,null,null,null,null,null,null,null,null,null,null,null,null,null,null,null,null,null,null,null,null,null,null,null,null,null,null,null,null,null,null,null,null,null,null,null,null,null,null,null,null,null,null,null,null,null,null,null,null,null,null,null,null,null,null,null,null,null,null,null,null,null,null,null,null,null,null,null,null,null,null,null,null,null,null,null,null,null,null,null,null,null,null,null,null,null,null,null,null,null,null,null,null,null,null,null,null,null,null,null,null,null,null,null,null,null,null,null,null,null,null,null,null,null,null,null,null,null,null,null,null,null,null,null,null,null,null,null,null,null,null,null,null,null,null,null,null,null,null,null,null,null,null,null,null,null,null,null,null,null,null,null,null,null,null,null,null,null,null,null,null,null,null,null,null,null,null,null,null,null,null,null,null,null,null,null,null,null,null,null,null,null,null,null,null,null,null,null,null,null,null,null,null,null,null,null,null,null,null,null,null,null,null,null,null,null,null,null,null,null,null,null,null,null,null,null,null,null,null,null,null,null,null,null,null,null,null,null,null,null,null,null,null,null,null,null,null,null,null,null,null,null,null,null,null,null,null,null,null,null,null,null,null,null,null,null,null,null,null,null,null,null,null,null,null,null,null,null,null,null,null,null,null,null,null,null,null,null,null,null,null,null,null,null,null,null,null,null,null,null,null,null,null,null,null,null,null,null,null,null,null,null,null,null,null,null,null,null,null,null,null,null,null,null,null,null,null,null,null,null,null,null,null,null,null,null,null,null,null,null,null,null,null,null,null,null,null,null,null,null,null,null,null,null,null,null,null,null,null,null,null,null,null,null,null,null,null,null,null,null,null,null,null,null,null,null,null,null,null,null,null,null,null,null,null,null,null,null,null,null,null,null,null,null,null,null,null,null,null,null,null,null,null,null,null,null,null,null,null,null,null,null,null,null,null,null,null,null,null,null,null,null,null,null,null,null,null,null,null,null,null,null,null,null,null,null,null,null,null,null,null,null,null,null,null,null,null,null,null,null,null,null,null,null,null,null,null,null,null,null,null,null,null,null,null,null,null,null,null,null,null,null,null,null,null,null,null,null,null,null,null,null,null,null,null,null,null,null,null,null,null,null,null,null,null,null,null,null,null,null,null,null,null,null,null,null,null,null,null,null,null,null,null,null,null,null,null,null,null,null,null,null,null,null,null,null,null,null,null,null,null,null,null,null,null,null,null,null,null,null,null,null,null,null,null,null,null,null,null,null,null,null,null,null,null,null,null,null,null,null,null,null,null,null,null,null,null,null,null,null,null,null,null,null,null,null,null,null,null,null,null,null,null,null,null,null,null,null,null,null,null,null,null,null,null,null,null,null,null,null,null,null,null,null,null,null,null,null,null,null,null,null,null,null,null,null,null,null,null,null,null,null,null,null,null,null,null,null,null,null,null,null,null,null,null,null,null,null,null,null,null,null,null,null,null,null,null,null,null,null,null,null,null,null,null,null,null,null,null,null,null,null,null,null,null,null,null,null,null,null,null,null,null,null,null,null,null,null,null,null,null,null,null,null,null,null,null,null,null,null,null,null,null,null,null,null,null,null,null,null,null,null,null,null,null,null,null,null,null,null,null,null,null,null,null,null,null,null,null,null,null,null,null,null,null,null,null,null,null,null,null,null,null,null,null,null,null,null,null,null,null,null,null,null,null,null,null,null,null,null,null,null,null,null,null,null,null,null,null,null,null,null,null,null,null,null,null,null,null,null,null,null,null,null,null,null,null,null,null,null,null,null,null,null,null,null,null,null,null,null,null,null,null,null,null,null,null,null,null,null,null,null,null,null,null,null,null,null,null,null,null,null,null,null,null,null,null,null,null,null,null,null,null,null,null,null,null,null,null,null,null,null,null,null,null,null,null,null,null,null,null,null,null,null,null,null,null,null,null,null,null,null,null,null,null,null,null,null,null,null,null,null,null,null,null,null,null,null,null,null,null,null,null,null,null,null,null,null,null,null,null,null,null,null,null,null,null,null,null,null,null,null,null,null,null,null,null,null,null,null,null,null,null,null,null,null,null,null,null,null,null,null,null,null,null,null,null,null,null,null,null,null,null,null,null,null,null,null,null,null,null,null,null,null,null,null,null,null,null,null,null,null,null,null,null,null,null,null,null,null,null,null,null,null,null,null,null,null,null,null,null,null,null,null,null,null,null,null,null,null,null,null,null,null,null,null,null,null,null,null,null,null,null,null,null,null,null,null,null,null,null,null,null,null,null,null,null,null,null,null,null,null,null,null,null,null,null,null,null,null,null,null,null,null,null,null,null,null,null,null,null,null,null,null,null,null,null,null,null,null,null,null,null,null,null,null,null,null,null,null,null,null,null,null,null,null,null,null,null,null,null,null,null,null,null,null,null,null,null,null,null,null,null,null,null,null,null,null,null,null,null,null,null,null,null,null,null,null,null,null,null,null,null,null,null,null,null,null,null,null,null,null,null,null,null,null,null,null,null,null,null,null,null,null,null,null,null,null,null,null,null,null,null,null,null,null,null,null,null,null,null,null,null,null,null,null,null,null,null,null,null,null,null,null,null,null,null,null,null,null,null,null,null,null,null,null,null,null,null,null,null,null,null,null,null,null,null,null,null,null,null,null,null,null,null,null,null,null,null,null,null,null,null,null,null,null,null,null,null,null,null,null,null,null,null,null,null,null,null,null,null,null,null,null,null,null,null,null,null,null,null,null,null,null,null,null,null,null,null,null,null,null,null,null,null,null,null,null,null,null,null,null,null,null,null,null,null,null,null,null,null,null,null,null,null,null,null,null,null,null,null,null,null,null,null,null,null,null,null,null,null,null,null,null,null,null,null,null,null,null,null,null,null,null,null,null,null,null,null,null,null,null,null,null,null,null,null,null,null,null,null,null,null,null,null,null,null,null,null,null,null,null,null,null,null,null,null,null,null,null,null,null,null,null,null,null,null,null,null,null,null,null,null,null,null,null,null,null,null,null,null,null,null,null,null,null,null,null,null,null,null,null,null,null,null,null,null,null,null,null,null,null,null,null,null,null,null,null,null,null,null,null,null,null,null,null,null,null,null,null,null,null,null,null,null,null,null,null,null,null,null,null,null,null,null,null,null,null,null,null,null,null,null,null,null,null,null,null,null,null,null,null,null,null,null,null,null,null,null,null,null,null,null,null,null,null,null,null,null,null,null,null,null,null,null,null,null,null,null,null,null,null,null,null,null,null,null,null,null,null,null,null,null,null,null,null,null,null,null,null,null,null,null,null,null,null,null,null,null,null,null,null,null,null,null,null,null,null,null,null,null,null,null,null,null,null,null,null,null,null,null,null,null,null,null,null,null,null,null,null,null,null,null,null,null,null,null,null,null,null,null,null,null,null,null,null,null,null,null,null,null,null,null,null,null,null,null,null,null,null,null,null,null,null,null,null,null,null,null,null,null,null,null,null,null,null,null,null,null,null,null,null,null,null,null,null,null,null,null,null,null,null,null,null,null,null,null,null,null,null,null,null,null,null,null,null,null,null,null,null,null,null,null,null,null,null,null,null,null,null,null,null,null,null,null,null,null,null,null,null,null,null,null,null,null,null,null,null,null,null,null,null,null,null,null,null,null,null,null,null,null,null,null,null,null,null,null,null,null,null,null,null,null,null,null,null,null,null,null,null,null,null,null,null,null,null,null,null,null,null,null,null,null,null,null,null,null,null,null,null,null,null,null,null,null,null,null,null,null,null,null,null,null,null,null,null,null,null,null,null,null,null,null,null,null,null,null,null,null,null,null,null,null,null,null,null,null,null,null,null,null,null,null,null,null,null,null,null,null,null,null,null,null,null,null,null,null,null,null,null,null,null,null,null,null,null,null,null,null,null,null,null,null,null,null,null,null,null,null,null,null,null,null,null,null,null,null,null,null,null,null,null,null,null,null,null,null,null,null,null,null,null,null,null,null,null,null,null,null,null,null,null,null,null,null,null,null,null,null,null,null,null,null,null,null,null,null,null,null,null,null,null,null,null,null,null,null,null,null,null,null,null,null,null,null,null,null,null,null,null,null,null,null,null,null,null,null,null,null,null,null,null,null,null,null,null,null,null,null,null,null,null,null,null,null,null,null,null,null,null,null,null,null,null,null,null,null,null,null,null,null,null,null,null,null,null,null,null,null,null,null,null,null,null,null,null,null,null,null,null,null,null,null,null,null,null,null,null,null,null,null,null,null,null,null,null,null,null,null,null,null,null,null,null,null,null,null,null,null,null,null,null,null,null,null,null,null,null,null,null,null,null,null,null,null,null,null,null,null,null,null,null,null,null,null,null,null,null,null,null,null,null,null,null,null,null,null,null,null,null,null,null,null,null,null,null,null,null,null,null,null,null,null,null,null,null,null,null,null,null,null,null,null,null,null,null,null,null,null,null,null,null,null,null,null,null,null,null,null,null,null,null,null,null,null,null,null,null,null,null,null,null,null,null,null,null,null,null,null,null,null,null,null,null,null,null,null,null,null,null,null,null,null,null,null,null,null,null,null,null,null,null,null,null,null,null,null,null,null,null,null,null,null,null,null,null,null,null,null,null,null,null,null,null,null,null,null,null,null,null,null,null,null,null,null,null,null,null,null,null,null,null,null,null,null,null,null,null,null,null,null,null,null,null,null,null,null,null,null,null,null,null,null,null,null,null,null,null,null,null,null,null,null,null,null,null,null,null,null,null,null,null,null,null,null,null,null,null,null,null,null,null,null,null,null,null,null,null,null,null,null,null,null,null,null,null,null,null,null,null,null,null,null,null,null,null,null,null,null,null,null,null,null,null,null,null,null,null,null,null,null,null,null,null,null,null,null,null,null,null,null,null,null,null,null,null,null,null,null,null,null,null,null,null,null,null,null,null,null,null,null,null,null,null,null,null,null,null,null,null,null,null,null,null,null,null,null,null,null,null,null,null,null,null,null,null,null,null,null,null,null,null,null,null,null,null,null,null,null,null,null,null,null,null,null,null,null,null,null,null,null,null,null,null,null,null,null,null,null,null,null,null,null,null,null,null,null,null,null,null,null,null,null,null,null,null,null,null,null,null,null,null,null,null,null,null,null,null,null,null,null,null,null,null,null,null,null,null,null,null,null,null,null,null,null,null,null,null,null,null,null,null,null,null,null,null,null,null,null,null,null,null,null,null,null,null,null,null,null,null,null,null,null,null,null,null,null,null,null,null,null,null,null,null,null,null,null,null,null,null,null,null,null,null,null,null,null,null,null,null,null,null,null,null,null,null,null,null,null,null,null,null,null,null,null,null,null,null,null,null,null,null,null,null,null,null,null,null,null,null,null,null,null,null,null,null,null,null,null,null,null,null,null,null,null,null,null,null,null,null,null,null,null,null,null,null,null,null,null,null,null,null,null,null,null,null,null,null,null,null,null,null,null,null,null,null,null,null,null,null,null,null,null,null,null,null,null,null,null,null,null,null,null,null,null,null,null,null,null,null,null,null,null,null,null,null,null,null,null,null,null,null,null,null,null,null,null,null,null,null,null,null,null,null,null,null,null,null,null,null,null,null,null,null,null,null,null,null,null,null,null,null,null,null,null,null,null,null,null,null,null,null,null,null,null,null,null,null,null,null,null,null,null,null,null,null,null,null,null,null,null,null,null,null,null,null,null,null,null,null,null,null,null,null,null,null,null,null,null,null,null,null,null,null,null,null,null,null,null,null,null,null,null,null,null,null,null,null,null,null,null,null,null,null,null,null,null,null,null,null,null,null,null,null,null,null,null,null,null,null,null,null,null,null,null,null,null,null,null,null,null,null,null,null,null,null,null,null,null,null,null,null,null,null,null,null,null,null,null,null,null,null,null,null,null,null,null,null,null,null,null,null,null,null,null,null,null,null,null,null,null,null,null,null,null,null,null,null,null,null,null,null,null,null,null,null,null,null,null,null,null,null,null,null,null,null,null,null,null,null,null,null,null,null,null,null,null,null,null,null,null,null,null,null,null,null,null,null,null,null,null,null,null,null,null,null,null,null,null,null,null,null,null,null,null,null,null,null,null,null,null,null,null,null,null,null,null,null,null,null,null,null,null,null,null,null,null,null,null,null,null,null,null,null,null,null,null,null,null,null,null,null,null,null,null,null,null,null,null,null,null,null,null,null,null,null,null,null,null,null,null,null,null,null,null,null,null,null,null,null,null,null,null,null,null,null,null,null,null,null,null,null,null,null,null,null,null,null,null,null,null,null,null,null,null,null,null,null,null,null,null,null,null,null,null,null,null,null,null,null,null,null,null,null,null,null,null,null,null,null,null,null,null,null,null,null,null,null,null,null,null,null,null,null,null,null,null,null,null,null,null,null,null,null,null,null,null,null,null,null,null,null,null,null,null,null,null,null,null,null,null,null,null,null,null,null,null,null,null,null,null,null,null,null,null,null,null,null,null,null,null,null,null,null,null,null,null,null,null,null,null,null,null,null,null,null,null,null,null,null,null,null,null,null,null,null,null,null,null,null,null,null,null,null,null,null,null,null,null,null,null,null,null,null,null,null,null,null,null,null,null,null,null,null,null,null,null,null,null,null,null,null,null,null,null,null,null,null,null,null,null,null,null,null,null,null,null,null,null,null,null,null,null,null,null,null,null,null,null,null,null,null,null,null,null,null,null,null,null,null,null,null,null,null,null,null,null,null,null,null,null,null,null,null,null,null,null,null,null,null,null,null,null,null,null,null,null,null,null,null,null,null,null,null,null,null,null,null,null,null,null,null,null,null,null,null,null,null,null,null,null,null,null,null,null,null,null,null,null,null,null,null,null,null,null,null,null,null,null,null,null,null,null,null,null,null,null,null,null,null,null,null,null,null,null,null,null,null,null,null,null,null,null,null,null,null,null,null,null,null,null,null,null,null,null,null,null,null,null,null,null,null,null,null,null,null,null,null,null,null,null,null,null,null,null,null,null,null,null,null,null,null,null,null,null,null,null,null,null,null,null,null,null,null,null,null,null,null,null,null,null,null,null,null,null,null,null,null,null,null,null,null,null,null,null,null,null,null,null,null,null,null,null,null,null,null,null,null,null,null,null,null,null,null,null,null,null,null,null,null,null,null,null,null,null,null,null,null,null,null,null,null,null,null,null,null,null,null,null,null,null,null,null,null,null,null,null,null,null,null,null,null,null,null,null,null,null,null,null,null,null,null,null,null,null,null,null,null,null,null,null,null,null,null,null,null,null,null,null,null,null,null,null,null,null,null,null,null,null,null,null,null,null,null,null,null,null,null,null,null,null,null,null,null,null,null,null,null,null,null,null,null,null,null,null,null,null,null,null,null,null,null,null,null,null,null,null,null,null,null,null,null,null,null,null,null,null,null,null,null,null,null,null,null,null,null,null,null,null,null,null,null,null,null,null,null,null,null,null,null,null,null,null,null,null,null,null,null,null,null,null,null,null,null,null,null,null,null,null,null,null,null,null,null,null,null,null,null,null,null,null,null,null,null,null,null,null,null,null,null,null,null,null,null,null,null,null,null,null,null,null,null,null,null,null,null,null,null,null,null,null,null,null,null,null,null,null,null,null,null,null,null,null,null,null,null,null,null,null,null,null,null,null,null,null,null,null,null,null,null,null,null,null,null,null,null,null,null,null,null,null,null,null,null,null,null,null,null,null,null,null,null,null,null,null,null,null,null,null,null,null,null,null,null,null,null,null,null,null,null,null,null,null,null,null,null,null,null,null,null,null,null,null,null,null,null,null,null,null,null,null,null,null,null,null,null,null,null,null,null,null,null,null,null,null,null,null,null,null,null,null,null,null,null,null,null,null,null,null,null,null,null,null,null,null,null,null,null,null,null,null,null,null,null,null,null,null,null,null,null,null,null,null,null,null,null,null,null,null,null,null,null,null,null,null,null,null,null,null,null,null,null,null,null,null,null,null,null,null,null,null,null,null,null,null,null,null,null,null,null,null,null,null,null,null,null,null,null,null,null,null,null,null,null,null,null,null,null,null,null,null,null,null,null,null,null,null,null,null,null,null,null,null,null,null,null,null,null,null,null,null,null,null,null,null,null,null,null,null,null,null,null,null,null,null,null,null,null,null,null,null,null,null,null,null,null,null,null,null,null,null,null,null,null,null,null,null,null,null,null,null,null,null,null,null,null,null,null,null,null,null,null,null,null,null,null,null,null,null,null,null,null,null,null,null,null,null,null,null,null,null,null,null,null,null,null,null,null,null,null,null,null,null,null,null,null,null,null,null,null,null,null,null,null,null,null,null,null,null,null,null,null,null,null,null,null,null,null,null,null,null,null,null,null,null,null,null,null,null,null,null,null,null,null,null,null,null,null,null,null,null,null,null,null,null,null,null,null,null,null,null,null,null,null,null,null,null,null,null,null,null,null,null,null,null,null,null,null,null,null,null,null,null,null,null,null,null,null,null,null,null,null,null,null,null,null,null,null,null,null,null,null,null,null,null,null,null,null,null,null,null,null,null,null,null,null,null,null,null,null,null,null,null,null,null,null,null,null,null,null,null,null,null,null,null,null,null,null,null,null,null,null,null,null,null,null,null,null,null,null,null,null,null,null,null,null,null,null,null,null,null,null,null,null,null,null,null,null,null,null,null,null,null,null,null,null,null,null,null,null,null,null,null,null,null,null,null,null,null,null,null,null,null,null,null,null,null,null,null,null,null,null,null,null,null,null,null,null,null,null,null,null,null,null,null,null,null,null,null,null,null,null,null,null,null,null,null,null,null,null,null,null,null,null,null,null,null,null,null,null,null,null,null,null,null,null,null,null,null,null,null,null,null,null,null,null,null,null,null,null,null,null,null,null,null,null,null,null,null,null,null,null,null,null,null,null,null,null,null,null,null,null,null,null,null,null,null,null,null,null,null,null,null,null,null,null,null,null,null,null,null,null,null,null,null,null,null,null,null,null,null,null,null,null,null,null,null,null,null,null,null,null,null,null,null,null,null,null,null,null,null,null,null,null,null,null,null,null,null,null,null,null,null,null,null,null,null,null,null,null,null,null,null,null,null,null,null,null,null,null,null,null,null,null,null,null,null,null,null,null,null,null,null,null,null,null,null,null,null,null,null,null,null,null,null,null,null,null,null,null,null,null,null,null,null,null,null,null,null,null,null,null,null,null,null,null,null,null,null,null,null,null,null,null,null,null,null,null,null,null,null,null,null,null,null,null,null,null,null,null,null,null,null,null,null,null,null,null,null,null,null,null,null,null,null,null,null,null,null,null,null,null,null,null,null,null,null,null,null,null,null,null,null,null,null,null,null,null,null,null,null,null,null,null,null,null,null,null,null,null,null,null,null,null,null,null,null,null,null,null,null,null,null,null,null,null,null,null,null,null,null,null,null,null,null,null,null,null,null,null,null,null,null,null,null,null,null,null,null,null,null,null,null,null,null,null,null,null,null,null,null,null,null,null,null,null,null,null,null,null,null,null,null,null,null,null,null,null,null,null,null,null,null,null,null,null,null,null,null,null,null,null,null,null,null,null,null,null,null,null,null,null,null,null,null,null,null,null,null,null,null,null,null,null,null,null,null,null,null,null,null,null,null,null,null,null,null,null,null,null,null,null,null,null,null,null,null,null,null,null,null,null,null,null,null,null,null,null,null,null,null,null,null,null,null,null,null,null,null,null,null,null,null,null,null,null,null,null,null,null,null,null,null,null,null,null,null,null,null,null,null,null,null,null,null,null,null,null,null,null,null,null,null,null,null,null,null,null,null,null,null,null,null,null,null,null,null,null,null,null,null,null,null,null,null,null,null,null,null,null,null,null,null,null,null,null,null,null,null,null,null,null,null,null,null,null,null,null,null,null,null,null,null,null,null,null,null,null,null,null,null,null,null,null,null,null,null,null,null,null,null,null,null,null,null,null,null,null,null,null,null,null,null,null,null,null,null,null,null,null,null,null,null,null,null,null,null,null,null,null,null,null,null,null,null,null,null,null,null,null,null,null,null,null,null,null,null,null,null,null,null,null,null,null,null,null,null,null,null,null,null,null,null,null,null,null,null,null,null,null,null,null,null,null,null,null,null,null,null,null,null,null,null,null,null,null,null,null,null,null,null,null,null,null,null,null,null,null,null,null,null,null,null,null,null,null,null,null,null,null,null,null,null,null,null,null,null,null,null,null,null,null,null,null,null,null,null,null,null,null,null,null,null,null,null,null,null,null,null,null,null,null,null,null,null,null,null,null,null,null,null,null,null,null,null,null,null,null,null,null,null,null,null,null,null,null,null,null,null,null,null,null,null,null,null,null,null,null,null,null,null,null,null,null,null,null,null,null,null,null,null,null,null,null,null,null,null,null,null,null,null,null,null,null,null,null,null,null,null,null,null,null,null,null,null,null,null,null,null,null,null,null,null,null,null,null,null,null,null,null,null,null,null,null,null,null,null,null,null,null,null,null,null,null,null,null,null,null,null,null,null,null,null,null,null,null,null,null,null,null,null,null,null,null,null,null,null,null,null,null,null,null,null,null,null,null,null,null,null,null,null,null,null,null,null,null,null,null,null,null,null,null,null,null,null,null,null,null,null,null,null,null,null,null,null,null,null,null,null,null,null,null,null,null,null,null,null,null,null,null,null,null,null,null,null,null,null,null,null,null,null,null,null,null,null,null,null,null,null,null,null,null,null,null,null,null,null,null,null,null,null,null,null,null,null,null,null,null,null,null,null,null,null,null,null,null,null,null,null,null,null,null,null,null,null,null,null,null,null,null,null,null,null,null,null,null,null,null,null,null,null,null,null,null,null,null,null,null,null,null,null,null,null,null,null,null,null,null,null,null,null,null,null,null,null,null,null,null,null,null,null,null,null,null,null,null,null,null,null,null,null,null,null,null,null,null,null,null,null,null,null,null,null,null,null,null,null,null,null,null,null,null,null,null,null,null,null,null,null,null,null,null,null,null,null,null,null,null,null,null,null,null,null,null,null,null,null,null,null,null,null,null,null,null,null,null,null,null,null,null,null,null,null,null,null,null,null,null,null,null,null,null,null,null,null,null,null,null,null,null,null,null,null,null,null,null,null,null,null,null,null,null,null,null,null,null,null,null,null,null,null,null,null,null,null,null,null,null,null,null,null,null,null,null,null,null,null,null,null,null,null,null,null,null,null,null,null,null,null,null,null,null,null,null,null,null,null,null,null,null,null,null,null,null,null,null,null,null,null,null,null,null,null,null,null,null,null,null,null,null,null,null,null,null,null,null,null,null,null,null,null,null,null,null,null,null,null,null,null,null,null,null,null,null,null,null,null,null,null,null,null,null,null,null,null,null,null,null,null,null,null,null,null,null,null,null,null,null,null,null,null,null,null,null,null,null,null,null,null,null,null,null,null,null,null,null,null,null,null,null,null,null,null,null,null,null,null,null,null,null,null,null,null,null,null,null,null,null,null,null,null,null,null,null,null,null,null,null,null,null,null,null,null,null,null,null,null,null,null,null,null,null,null,null,null,null,null,null,null,null,null,null,null,null,null,null,null,null,null,null,null,null,null,null,null,null,null,null,null,null,null,null,null,null,null,null,null,null,null,null,null,null,null,null,null,null,null,null,null,null,null,null,null,null,null,null,null,null,null,null,null,null,null,null,null,null,null,null,null,null,null,null,null,null,null,null,null,null,null,null,null,null,null,null,null,null,null,null,null,null,null,null,null,null,null,null,null,null,null,null,null,null,null,null,null,null,null,null,null,null,null,null,null,null,null,null,null,null,null,null,null,null,null,null,null,null,null,null,null,null,null,null,null,null,null,null,null,null,null,null,null,null,null,null,null,null,null,null,null,null,null,null,null,null,null,null,null,null,null,null,null,null,null,null,null,null,null,null,null,null,null,null,null,null,null,null,null,null,null,null,null,null,null,null,null,null,null,null,null,null,null,null,null,null,null,null,null,null,null,null,null,null,null,null,null,null,null,null,null,null,null,null,null,null,null,null,null,null,null,null,null,null,null,null,null,null,null,null,null,null,null,null,null,null,null,null,null,null,null,null,null,null,null,null,null,null,null,null,null,null,null,null,null,null,null,null,null,null,null,null,null,null,null,null,null,null,null,null,null,null,null,null,null,null,null,null,null,null,null,null,null,null,null,null,null,null,null,null,null,null,null,null,null,null,null,null,null,null,null,null,null,null,null,null,null,null,null,null,null,null,null,null,null,null,null,null,null,null,null,null,null,null,null,null,null,null,null,null,null,null,null,null,null,null,null,null,null,null,null,null,null,null,null,null,null,null,null,null,null,null,null,null,null,null,null,null,null,null,null,null,null,null,null,null,null,null,null,null,null,null,null,null,null,null,null,null,null,null,null,null,null,null,null,null,null,null,null,null,null,null,null,null,null,null,null,null,null,null,null,null,null,null,null,null,null,null,null,null,null,null,null,null,null,null,null,null,null,null,null,null,null,null,null,null,null,null,null,null,null,null,null,null,null,null,null,null,null,null,null,null,null,null,null,null,null,null,null,null,null,null,null,null,null,null,null,null,null,null,null,null,null,null,null,null,null,null,null,null,null,null,null,null,null,null,null,null,null,null,null,null,null,null,null,null,null,null,null,null,null,null,null,null,null,null,null,null,null,null,null,null,null,null,null,null,null,null,null,null,null,null,null,null,null,null,null,null,null,null,null,null,null,null,null,null,null,null,null,null,null,null,null,null,null,null,null,null,null,null,null,null,null,null,null,null,null,null,null,null,null,null,null,null,null,null,null,null,null,null,null,null,null,null,null,null,null,null,null,null,null,null,null,null,null,null,null,null,null,null,null,null,null,null,null,null,null,null,null,null,null,null,null,null,null,null,null,null,null,null,null,null,null,null,null,null,null,null,null,null,null,null,null,null,null,null,null,null,null,null,null,null,null,null,null,null,null,null,null,null,null,null,null,null,null,null,null,null,null,null,null,null,null,null,null,null,null,null,null,null,null,null,null,null,null,null,null,null,null,null,null,null,null,null,null,null,null,null,null,null,null,null,null,null,null,null,null,null,null,null,null,null,null,null,null,null,null,null,null,null,null,null,null,null,null,null,null,null,null,null,null,null,null,null,null,null,null,null,null,null,null,null,null,null,null,null,null,null,null,null,null,null,null,null,null,null,null,null,null,null,null,null,null,null,null,null,null,null,null,null,null,null,null,null,null,null,null,null,null,null,null,null,null,null,null,null,null,null,null,null,null,null,null,null,null,null,null,null,null,null,null,null,null,null,null,null,null,null,null,null,null,null,null,null,null,null,null,null,null,null,null,null,null,null,null,null,null,null,null,null,null,null,null,null,null,null,null,null,null,null,null,null,null,null,null,null,null,null,null,null,null,null,null,null,null,null,null,null,null,null,null,null,null,null,null,null,null,null,null,null,null,null,null,null,null,null,null,null,null,null,null,null,null,null,null,null,null,null,null,null,null,null,null,null,null,null,null,null,null,null,"Pass"]
[null,"PERIOD END",{"$f":"IF(ISBLANK('Step 1. Scoping'!C5)=TRUE,\"\",'Step 1. Scoping'!C5)","v":""},null,"Lease Section/Pg",null,null,null,null,null,null,null,null,null,null,null,null,null,null,null,null,null,null,null,null,null,null,null,null,null,null,null,null,null,null,null,null,null,null,null,null,null,null,null,null,null,null,null,null,null,null,null,null,null,null,null,null,null,null,null,null,null,null,null,null,null,null,null,null,null,null,null,null,null,null,null,null,null,null,null,null,null,null,null,null,null,null,null,null,null,null,null,null,null,null,null,null,null,null,null,null,null,null,null,null,null,null,null,null,null,null,null,null,null,null,null,null,null,null,null,null,null,null,null,null,null,null,null,null,null,null,null,null,null,null,null,null,null,null,null,null,null,null,null,null,null,null,null,null,null,null,null,null,null,null,null,null,null,null,null,null,null,null,null,null,null,null,null,null,null,null,null,null,null,null,null,null,null,null,null,null,null,null,null,null,null,null,null,null,null,null,null,null,null,null,null,null,null,null,null,null,null,null,null,null,null,null,null,null,null,null,null,null,null,null,null,null,null,null,null,null,null,null,null,null,null,null,null,null,null,null,null,null,null,null,null,null,null,null,null,null,null,null,null,null,null,null,null,null,null,null,null,null,null,null,null,null,null,null,null,null,null,null,null,null,null,null,null,null,null,null,null,null,null,null,null,null,null,null,null,null,null,null,null,null,null,null,null,null,null,null,null,null,null,null,null,null,null,null,null,null,null,null,null,null,null,null,null,null,null,null,null,null,null,null,null,null,null,null,null,null,null,null,null,null,null,null,null,null,null,null,null,null,null,null,null,null,null,null,null,null,null,null,null,null,null,null,null,null,null,null,null,null,null,null,null,null,null,null,null,null,null,null,null,null,null,null,null,null,null,null,null,null,null,null,null,null,null,null,null,null,null,null,null,null,null,null,null,null,null,null,null,null,null,null,null,null,null,null,null,null,null,null,null,null,null,null,null,null,null,null,null,null,null,null,null,null,null,null,null,null,null,null,null,null,null,null,null,null,null,null,null,null,null,null,null,null,null,null,null,null,null,null,null,null,null,null,null,null,null,null,null,null,null,null,null,null,null,null,null,null,null,null,null,null,null,null,null,null,null,null,null,null,null,null,null,null,null,null,null,null,null,null,null,null,null,null,null,null,null,null,null,null,null,null,null,null,null,null,null,null,null,null,null,null,null,null,null,null,null,null,null,null,null,null,null,null,null,null,null,null,null,null,null,null,null,null,null,null,null,null,null,null,null,null,null,null,null,null,null,null,null,null,null,null,null,null,null,null,null,null,null,null,null,null,null,null,null,null,null,null,null,null,null,null,null,null,null,null,null,null,null,null,null,null,null,null,null,null,null,null,null,null,null,null,null,null,null,null,null,null,null,null,null,null,null,null,null,null,null,null,null,null,null,null,null,null,null,null,null,null,null,null,null,null,null,null,null,null,null,null,null,null,null,null,null,null,null,null,null,null,null,null,null,null,null,null,null,null,null,null,null,null,null,null,null,null,null,null,null,null,null,null,null,null,null,null,null,null,null,null,null,null,null,null,null,null,null,null,null,null,null,null,null,null,null,null,null,null,null,null,null,null,null,null,null,null,null,null,null,null,null,null,null,null,null,null,null,null,null,null,null,null,null,null,null,null,null,null,null,null,null,null,null,null,null,null,null,null,null,null,null,null,null,null,null,null,null,null,null,null,null,null,null,null,null,null,null,null,null,null,null,null,null,null,null,null,null,null,null,null,null,null,null,null,null,null,null,null,null,null,null,null,null,null,null,null,null,null,null,null,null,null,null,null,null,null,null,null,null,null,null,null,null,null,null,null,null,null,null,null,null,null,null,null,null,null,null,null,null,null,null,null,null,null,null,null,null,null,null,null,null,null,null,null,null,null,null,null,null,null,null,null,null,null,null,null,null,null,null,null,null,null,null,null,null,null,null,null,null,null,null,null,null,null,null,null,null,null,null,null,null,null,null,null,null,null,null,null,null,null,null,null,null,null,null,null,null,null,null,null,null,null,null,null,null,null,null,null,null,null,null,null,null,null,null,null,null,null,null,null,null,null,null,null,null,null,null,null,null,null,null,null,null,null,null,null,null,null,null,null,null,null,null,null,null,null,null,null,null,null,null,null,null,null,null,null,null,null,null,null,null,null,null,null,null,null,null,null,null,null,null,null,null,null,null,null,null,null,null,null,null,null,null,null,null,null,null,null,null,null,null,null,null,null,null,null,null,null,null,null,null,null,null,null,null,null,null,null,null,null,null,null,null,null,null,null,null,null,null,null,null,null,null,null,null,null,null,null,null,null,null,null,null,null,null,null,null,null,null,null,null,null,null,null,null,null,null,null,null,null,null,null,null,null,null,null,null,null,null,null,null,null,null,null,null,null,null,null,null,null,null,null,null,null,null,null,null,null,null,null,null,null,null,null,null,null,null,null,null,null,null,null,null,null,null,null,null,null,null,null,null,null,null,null,null,null,null,null,null,null,null,null,null,null,null,null,null,null,null,null,null,null,null,null,null,null,null,null,null,null,null,null,null,null,null,null,null,null,null,null,null,null,null,null,null,null,null,null,null,null,null,null,null,null,null,null,null,null,null,null,null,null,null,null,null,null,null,null,null,null,null,null,null,null,null,null,null,null,null,null,null,null,null,null,null,null,null,null,null,null,null,null,null,null,null,null,null,null,null,null,null,null,null,null,null,null,null,null,null,null,null,null,null,null,null,null,null,null,null,null,null,null,null,null,null,null,null,null,null,null,null,null,null,null,null,null,null,null,null,null,null,null,null,null,null,null,null,null,null,null,null,null,null,null,null,null,null,null,null,null,null,null,null,null,null,null,null,null,null,null,null,null,null,null,null,null,null,null,null,null,null,null,null,null,null,null,null,null,null,null,null,null,null,null,null,null,null,null,null,null,null,null,null,null,null,null,null,null,null,null,null,null,null,null,null,null,null,null,null,null,null,null,null,null,null,null,null,null,null,null,null,null,null,null,null,null,null,null,null,null,null,null,null,null,null,null,null,null,null,null,null,null,null,null,null,null,null,null,null,null,null,null,null,null,null,null,null,null,null,null,null,null,null,null,null,null,null,null,null,null,null,null,null,null,null,null,null,null,null,null,null,null,null,null,null,null,null,null,null,null,null,null,null,null,null,null,null,null,null,null,null,null,null,null,null,null,null,null,null,null,null,null,null,null,null,null,null,null,null,null,null,null,null,null,null,null,null,null,null,null,null,null,null,null,null,null,null,null,null,null,null,null,null,null,null,null,null,null,null,null,null,null,null,null,null,null,null,null,null,null,null,null,null,null,null,null,null,null,null,null,null,null,null,null,null,null,null,null,null,null,null,null,null,null,null,null,null,null,null,null,null,null,null,null,null,null,null,null,null,null,null,null,null,null,null,null,null,null,null,null,null,null,null,null,null,null,null,null,null,null,null,null,null,null,null,null,null,null,null,null,null,null,null,null,null,null,null,null,null,null,null,null,null,null,null,null,null,null,null,null,null,null,null,null,null,null,null,null,null,null,null,null,null,null,null,null,null,null,null,null,null,null,null,null,null,null,null,null,null,null,null,null,null,null,null,null,null,null,null,null,null,null,null,null,null,null,null,null,null,null,null,null,null,null,null,null,null,null,null,null,null,null,null,null,null,null,null,null,null,null,null,null,null,null,null,null,null,null,null,null,null,null,null,null,null,null,null,null,null,null,null,null,null,null,null,null,null,null,null,null,null,null,null,null,null,null,null,null,null,null,null,null,null,null,null,null,null,null,null,null,null,null,null,null,null,null,null,null,null,null,null,null,null,null,null,null,null,null,null,null,null,null,null,null,null,null,null,null,null,null,null,null,null,null,null,null,null,null,null,null,null,null,null,null,null,null,null,null,null,null,null,null,null,null,null,null,null,null,null,null,null,null,null,null,null,null,null,null,null,null,null,null,null,null,null,null,null,null,null,null,null,null,null,null,null,null,null,null,null,null,null,null,null,null,null,null,null,null,null,null,null,null,null,null,null,null,null,null,null,null,null,null,null,null,null,null,null,null,null,null,null,null,null,null,null,null,null,null,null,null,null,null,null,null,null,null,null,null,null,null,null,null,null,null,null,null,null,null,null,null,null,null,null,null,null,null,null,null,null,null,null,null,null,null,null,null,null,null,null,null,null,null,null,null,null,null,null,null,null,null,null,null,null,null,null,null,null,null,null,null,null,null,null,null,null,null,null,null,null,null,null,null,null,null,null,null,null,null,null,null,null,null,null,null,null,null,null,null,null,null,null,null,null,null,null,null,null,null,null,null,null,null,null,null,null,null,null,null,null,null,null,null,null,null,null,null,null,null,null,null,null,null,null,null,null,null,null,null,null,null,null,null,null,null,null,null,null,null,null,null,null,null,null,null,null,null,null,null,null,null,null,null,null,null,null,null,null,null,null,null,null,null,null,null,null,null,null,null,null,null,null,null,null,null,null,null,null,null,null,null,null,null,null,null,null,null,null,null,null,null,null,null,null,null,null,null,null,null,null,null,null,null,null,null,null,null,null,null,null,null,null,null,null,null,null,null,null,null,null,null,null,null,null,null,null,null,null,null,null,null,null,null,null,null,null,null,null,null,null,null,null,null,null,null,null,null,null,null,null,null,null,null,null,null,null,null,null,null,null,null,null,null,null,null,null,null,null,null,null,null,null,null,null,null,null,null,null,null,null,null,null,null,null,null,null,null,null,null,null,null,null,null,null,null,null,null,null,null,null,null,null,null,null,null,null,null,null,null,null,null,null,null,null,null,null,null,null,null,null,null,null,null,null,null,null,null,null,null,null,null,null,null,null,null,null,null,null,null,null,null,null,null,null,null,null,null,null,null,null,null,null,null,null,null,null,null,null,null,null,null,null,null,null,null,null,null,null,null,null,null,null,null,null,null,null,null,null,null,null,null,null,null,null,null,null,null,null,null,null,null,null,null,null,null,null,null,null,null,null,null,null,null,null,null,null,null,null,null,null,null,null,null,null,null,null,null,null,null,null,null,null,null,null,null,null,null,null,null,null,null,null,null,null,null,null,null,null,null,null,null,null,null,null,null,null,null,null,null,null,null,null,null,null,null,null,null,null,null,null,null,null,null,null,null,null,null,null,null,null,null,null,null,null,null,null,null,null,null,null,null,null,null,null,null,null,null,null,null,null,null,null,null,null,null,null,null,null,null,null,null,null,null,null,null,null,null,null,null,null,null,null,null,null,null,null,null,null,null,null,null,null,null,null,null,null,null,null,null,null,null,null,null,null,null,null,null,null,null,null,null,null,null,null,null,null,null,null,null,null,null,null,null,null,null,null,null,null,null,null,null,null,null,null,null,null,null,null,null,null,null,null,null,null,null,null,null,null,null,null,null,null,null,null,null,null,null,null,null,null,null,null,null,null,null,null,null,null,null,null,null,null,null,null,null,null,null,null,null,null,null,null,null,null,null,null,null,null,null,null,null,null,null,null,null,null,null,null,null,null,null,null,null,null,null,null,null,null,null,null,null,null,null,null,null,null,null,null,null,null,null,null,null,null,null,null,null,null,null,null,null,null,null,null,null,null,null,null,null,null,null,null,null,null,null,null,null,null,null,null,null,null,null,null,null,null,null,null,null,null,null,null,null,null,null,null,null,null,null,null,null,null,null,null,null,null,null,null,null,null,null,null,null,null,null,null,null,null,null,null,null,null,null,null,null,null,null,null,null,null,null,null,null,null,null,null,null,null,null,null,null,null,null,null,null,null,null,null,null,null,null,null,null,null,null,null,null,null,null,null,null,null,null,null,null,null,null,null,null,null,null,null,null,null,null,null,null,null,null,null,null,null,null,null,null,null,null,null,null,null,null,null,null,null,null,null,null,null,null,null,null,null,null,null,null,null,null,null,null,null,null,null,null,null,null,null,null,null,null,null,null,null,null,null,null,null,null,null,null,null,null,null,null,null,null,null,null,null,null,null,null,null,null,null,null,null,null,null,null,null,null,null,null,null,null,null,null,null,null,null,null,null,null,null,null,null,null,null,null,null,null,null,null,null,null,null,null,null,null,null,null,null,null,null,null,null,null,null,null,null,null,null,null,null,null,null,null,null,null,null,null,null,null,null,null,null,null,null,null,null,null,null,null,null,null,null,null,null,null,null,null,null,null,null,null,null,null,null,null,null,null,null,null,null,null,null,null,null,null,null,null,null,null,null,null,null,null,null,null,null,null,null,null,null,null,null,null,null,null,null,null,null,null,null,null,null,null,null,null,null,null,null,null,null,null,null,null,null,null,null,null,null,null,null,null,null,null,null,null,null,null,null,null,null,null,null,null,null,null,null,null,null,null,null,null,null,null,null,null,null,null,null,null,null,null,null,null,null,null,null,null,null,null,null,null,null,null,null,null,null,null,null,null,null,null,null,null,null,null,null,null,null,null,null,null,null,null,null,null,null,null,null,null,null,null,null,null,null,null,null,null,null,null,null,null,null,null,null,null,null,null,null,null,null,null,null,null,null,null,null,null,null,null,null,null,null,null,null,null,null,null,null,null,null,null,null,null,null,null,null,null,null,null,null,null,null,null,null,null,null,null,null,null,null,null,null,null,null,null,null,null,null,null,null,null,null,null,null,null,null,null,null,null,null,null,null,null,null,null,null,null,null,null,null,null,null,null,null,null,null,null,null,null,null,null,null,null,null,null,null,null,null,null,null,null,null,null,null,null,null,null,null,null,null,null,null,null,null,null,null,null,null,null,null,null,null,null,null,null,null,null,null,null,null,null,null,null,null,null,null,null,null,null,null,null,null,null,null,null,null,null,null,null,null,null,null,null,null,null,null,null,null,null,null,null,null,null,null,null,null,null,null,null,null,null,null,null,null,null,null,null,null,null,null,null,null,null,null,null,null,null,null,null,null,null,null,null,null,null,null,null,null,null,null,null,null,null,null,null,null,null,null,null,null,null,null,null,null,null,null,null,null,null,null,null,null,null,null,null,null,null,null,null,null,null,null,null,null,null,null,null,null,null,null,null,null,null,null,null,null,null,null,null,null,null,null,null,null,null,null,null,null,null,null,null,null,null,null,null,null,null,null,null,null,null,null,null,null,null,null,null,null,null,null,null,null,null,null,null,null,null,null,null,null,null,null,null,null,null,null,null,null,null,null,null,null,null,null,null,null,null,null,null,null,null,null,null,null,null,null,null,null,null,null,null,null,null,null,null,null,null,null,null,null,null,null,null,null,null,null,null,null,null,null,null,null,null,null,null,null,null,null,null,null,null,null,null,null,null,null,null,null,null,null,null,null,null,null,null,null,null,null,null,null,null,null,null,null,null,null,null,null,null,null,null,null,null,null,null,null,null,null,null,null,null,null,null,null,null,null,null,null,null,null,null,null,null,null,null,null,null,null,null,null,null,null,null,null,null,null,null,null,null,null,null,null,null,null,null,null,null,null,null,null,null,null,null,null,null,null,null,null,null,null,null,null,null,null,null,null,null,null,null,null,null,null,null,null,null,null,null,null,null,null,null,null,null,null,null,null,null,null,null,null,null,null,null,null,null,null,null,null,null,null,null,null,null,null,null,null,null,null,null,null,null,null,null,null,null,null,null,null,null,null,null,null,null,null,null,null,null,null,null,null,null,null,null,null,null,null,null,null,null,null,null,null,null,null,null,null,null,null,null,null,null,null,null,null,null,null,null,null,null,null,null,null,null,null,null,null,null,null,null,null,null,null,null,null,null,null,null,null,null,null,null,null,null,null,null,null,null,null,null,null,null,null,null,null,null,null,null,null,null,null,null,null,null,null,null,null,null,null,null,null,null,null,null,null,null,null,null,null,null,null,null,null,null,null,null,null,null,null,null,null,null,null,null,null,null,null,null,null,null,null,null,null,null,null,null,null,null,null,null,null,null,null,null,null,null,null,null,null,null,null,null,null,null,null,null,null,null,null,null,null,null,null,null,null,null,null,null,null,null,null,null,null,null,null,null,null,null,null,null,null,null,null,null,null,null,null,null,null,null,null,null,null,null,null,null,null,null,null,null,null,null,null,null,null,null,null,null,null,null,null,null,null,null,null,null,null,null,null,null,null,null,null,null,null,null,null,null,null,null,null,null,null,null,null,null,null,null,null,null,null,null,null,null,null,null,null,null,null,null,null,null,null,null,null,null,null,null,null,null,null,null,null,null,null,null,null,null,null,null,null,null,null,null,null,null,null,null,null,null,null,null,null,null,null,null,null,null,null,null,null,null,null,null,null,null,null,null,null,null,null,null,null,null,null,null,null,null,null,null,null,null,null,null,null,null,null,null,null,null,null,null,null,null,null,null,null,null,null,null,null,null,null,null,null,null,null,null,null,null,null,null,null,null,null,null,null,null,null,null,null,null,null,null,null,null,null,null,null,null,null,null,null,null,null,null,null,null,null,null,null,null,null,null,null,null,null,null,null,null,null,null,null,null,null,null,null,null,null,null,null,null,null,null,null,null,null,null,null,null,null,null,null,null,null,null,null,null,null,null,null,null,null,null,null,null,null,null,null,null,null,null,null,null,null,null,null,null,null,null,null,null,null,null,null,null,null,null,null,null,null,null,null,null,null,null,null,null,null,null,null,null,null,null,null,null,null,null,null,null,null,null,null,null,null,null,null,null,null,null,null,null,null,null,null,null,null,null,null,null,null,null,null,null,null,null,null,null,null,null,null,null,null,null,null,null,null,null,null,null,null,null,null,null,null,null,null,null,null,null,null,null,null,null,null,null,null,null,null,null,null,null,null,null,null,null,null,null,null,null,null,null,null,null,null,null,null,null,null,null,null,null,null,null,null,null,null,null,null,null,null,null,null,null,null,null,null,null,null,null,null,null,null,null,null,null,null,null,null,null,null,null,null,null,null,null,null,null,null,null,null,null,null,null,null,null,null,null,null,null,null,null,null,null,null,null,null,null,null,null,null,null,null,null,null,null,null,null,null,null,null,null,null,null,null,null,null,null,null,null,null,null,null,null,null,null,null,null,null,null,null,null,null,null,null,null,null,null,null,null,null,null,null,null,null,null,null,null,null,null,null,null,null,null,null,null,null,null,null,null,null,null,null,null,null,null,null,null,null,null,null,null,null,null,null,null,null,null,null,null,null,null,null,null,null,null,null,null,null,null,null,null,null,null,null,null,null,null,null,null,null,null,null,null,null,null,null,null,null,null,null,null,null,null,null,null,null,null,null,null,null,null,null,null,null,null,null,null,null,null,null,null,null,null,null,null,null,null,null,null,null,null,null,null,null,null,null,null,null,null,null,null,null,null,null,null,null,null,null,null,null,null,null,null,null,null,null,null,null,null,null,null,null,null,null,null,null,null,null,null,null,null,null,null,null,null,null,null,null,null,null,null,null,null,null,null,null,null,null,null,null,null,null,null,null,null,null,null,null,null,null,null,null,null,null,null,null,null,null,null,null,null,null,null,null,null,null,null,null,null,null,null,null,null,null,null,null,null,null,null,null,null,null,null,null,null,null,null,null,null,null,null,null,null,null,null,null,null,null,null,null,null,null,null,null,null,null,null,null,null,null,null,null,null,null,null,null,null,null,null,null,null,null,null,null,null,null,null,null,null,null,null,null,null,null,null,null,null,null,null,null,null,null,null,null,null,null,null,null,null,null,null,null,null,null,null,null,null,null,null,null,null,null,null,null,null,null,null,null,null,null,null,null,null,null,null,null,null,null,null,null,null,null,null,null,null,null,null,null,null,null,null,null,null,null,null,null,null,null,null,null,null,null,null,null,null,null,null,null,null,null,null,null,null,null,null,null,null,null,null,null,null,null,null,null,null,null,null,null,null,null,null,null,null,null,null,null,null,null,null,null,null,null,null,null,null,null,null,null,null,null,null,null,null,null,null,null,null,null,null,null,null,null,null,null,null,null,null,null,null,null,null,null,null,null,null,null,null,null,null,null,null,null,null,null,null,null,null,null,null,null,null,null,null,null,null,null,null,null,null,null,null,null,null,null,null,null,null,null,null,null,null,null,null,null,null,null,null,null,null,null,null,null,null,null,null,null,null,null,null,null,null,null,null,null,null,null,null,null,null,null,null,null,null,null,null,null,null,null,null,null,null,null,null,null,null,null,null,null,null,null,null,null,null,null,null,null,null,null,null,null,null,null,null,null,null,null,null,null,null,null,null,null,null,null,null,null,null,null,null,null,null,null,null,null,null,null,null,null,null,null,null,null,null,null,null,null,null,null,null,null,null,null,null,null,null,null,null,null,null,null,null,null,null,null,null,null,null,null,null,null,null,null,null,null,null,null,null,null,null,null,null,null,null,null,null,null,null,null,null,null,null,null,null,null,null,null,null,null,null,null,null,null,null,null,null,null,null,null,null,null,null,null,null,null,null,null,null,null,null,null,null,null,null,null,null,null,null,null,null,null,null,null,null,null,null,null,null,null,null,null,null,null,null,null,null,null,null,null,null,null,null,null,null,null,null,null,null,null,null,null,null,null,null,null,null,null,null,null,null,null,null,null,null,null,null,null,null,null,null,null,null,null,null,null,null,null,null,null,null,null,null,null,null,null,null,null,null,null,null,null,null,null,null,null,null,null,null,null,null,null,null,null,null,null,null,null,null,null,null,null,null,null,null,null,null,null,null,null,null,null,null,null,null,null,null,null,null,null,null,null,null,null,null,null,null,null,null,null,null,null,null,null,null,null,null,null,null,null,null,null,null,null,null,null,null,null,null,null,null,null,null,null,null,null,null,null,null,null,null,null,null,null,null,null,null,null,null,null,null,null,null,null,null,null,null,null,null,null,null,null,null,null,null,null,null,null,null,null,null,null,null,null,null,null,null,null,null,null,null,null,null,null,null,null,null,null,null,null,null,null,null,null,null,null,null,null,null,null,null,null,null,null,null,null,null,null,null,null,null,null,null,null,null,null,null,null,null,null,null,null,null,null,null,null,null,null,null,null,null,null,null,null,null,null,null,null,null,null,null,null,null,null,null,null,null,null,null,null,null,null,null,null,null,null,null,null,null,null,null,null,null,null,null,null,null,null,null,null,null,null,null,null,null,null,null,null,null,null,null,null,null,null,null,null,null,null,null,null,null,null,null,null,null,null,null,null,null,null,null,null,null,null,null,null,null,null,null,null,null,null,null,null,null,null,null,null,null,null,null,null,null,null,null,null,null,null,null,null,null,null,null,null,null,null,null,null,null,null,null,null,null,null,null,null,null,null,null,null,null,null,null,null,null,null,null,null,null,null,null,null,null,null,null,null,null,null,null,null,null,null,null,null,null,null,null,null,null,null,null,null,null,null,null,null,null,null,null,null,null,null,null,null,null,null,null,null,null,null,null,null,null,null,null,null,null,null,null,null,null,null,null,null,null,null,null,null,null,null,null,null,null,null,null,null,null,null,null,null,null,null,null,null,null,null,null,null,null,null,null,null,null,null,null,null,null,null,null,null,null,null,null,null,null,null,null,null,null,null,null,null,null,null,null,null,null,null,null,null,null,null,null,null,null,null,null,null,null,null,null,null,null,null,null,null,null,null,null,null,null,null,null,null,null,null,null,null,null,null,null,null,null,null,null,null,null,null,null,null,null,null,null,null,null,null,null,null,null,null,null,null,null,null,null,null,null,null,null,null,null,null,null,null,null,null,null,null,null,null,null,null,null,null,null,null,null,null,null,null,null,null,null,null,null,null,null,null,null,null,null,null,null,null,null,null,null,null,null,null,null,null,null,null,null,null,null,null,null,null,null,null,null,null,null,null,null,null,null,null,null,null,null,null,null,null,null,null,null,null,null,null,null,null,null,null,null,null,null,null,null,null,null,null,null,null,null,null,null,null,null,null,null,null,null,null,null,null,null,null,null,null,null,null,null,null,null,null,null,null,null,null,null,null,null,null,null,null,null,null,null,null,null,null,null,null,null,null,null,null,null,null,null,null,null,null,null,null,null,null,null,null,null,null,null,null,null,null,null,null,null,null,null,null,null,null,null,null,null,null,null,null,null,null,null,null,null,null,null,null,null,null,null,null,null,null,null,null,null,null,null,null,null,null,null,null,null,null,null,null,null,null,null,null,null,null,null,null,null,null,null,null,null,null,null,null,null,null,null,null,null,null,null,null,null,null,null,null,null,null,null,null,null,null,null,null,null,null,null,null,null,null,null,null,null,null,null,null,null,null,null,null,null,null,null,null,null,null,null,null,null,null,null,null,null,null,null,null,null,null,null,null,null,null,null,null,null,null,null,null,null,null,null,null,null,null,null,null,null,null,null,null,null,null,null,null,null,null,null,null,null,null,null,null,null,null,null,null,null,null,null,null,null,null,null,null,null,null,null,null,null,null,null,null,null,null,null,null,null,null,null,null,null,null,null,null,null,null,null,null,null,null,null,null,null,null,null,null,null,null,null,null,null,null,null,null,null,null,null,null,null,null,null,null,null,null,null,null,null,null,null,null,null,null,null,null,null,null,null,null,null,null,null,null,null,null,null,null,null,null,null,null,null,null,null,null,null,null,null,null,null,null,null,null,null,null,null,null,null,null,null,null,null,null,null,null,null,null,null,null,null,null,null,null,null,null,null,null,null,null,null,null,null,null,null,null,null,null,null,null,null,null,null,null,null,null,null,null,null,null,null,null,null,null,null,null,null,null,null,null,null,null,null,null,null,null,null,null,null,null,null,null,null,null,null,null,null,null,null,null,null,null,null,null,null,null,null,null,null,null,null,null,null,null,null,null,null,null,null,null,null,null,null,null,null,null,null,null,null,null,null,null,null,null,null,null,null,null,null,null,null,null,null,null,null,null,null,null,null,null,null,null,null,null,null,null,null,null,null,null,null,null,null,null,null,null,null,null,null,null,null,null,null,null,null,null,null,null,null,null,null,null,null,null,null,null,null,null,null,null,null,null,null,null,null,null,null,null,null,null,null,null,null,null,null,null,null,null,null,null,null,null,null,null,null,null,null,null,null,null,null,null,null,null,null,null,null,null,null,null,null,null,null,null,null,null,null,null,null,null,null,null,null,null,null,null,null,null,null,null,null,null,null,null,null,null,null,null,null,null,null,null,null,null,null,null,null,null,null,null,null,null,null,null,null,null,null,null,null,null,null,null,null,null,null,null,null,null,null,null,null,null,null,null,null,null,null,null,null,null,null,null,null,null,null,null,null,null,null,null,null,null,null,null,null,null,null,null,null,null,null,null,null,null,null,null,null,null,null,null,null,null,null,null,null,null,null,null,null,null,null,null,null,null,null,null,null,null,null,null,null,null,null,null,null,null,null,null,null,null,null,null,null,null,null,null,null,null,null,null,null,null,null,null,null,null,null,null,null,null,null,null,null,null,null,null,null,null,null,null,null,null,null,null,null,null,null,null,null,null,null,null,null,null,null,null,null,null,null,null,null,null,null,null,null,null,null,null,null,null,null,null,null,null,null,null,null,null,null,null,null,null,null,null,null,null,null,null,null,null,null,null,null,null,null,null,null,null,null,null,null,null,null,null,null,null,null,null,null,null,null,null,null,null,null,null,null,null,null,null,null,null,null,null,null,null,null,null,null,null,null,null,null,null,null,null,null,null,null,null,null,null,null,null,null,null,null,null,null,null,null,null,null,null,null,null,null,null,null,null,null,null,null,null,null,null,null,null,null,null,null,null,null,null,null,null,null,null,null,null,null,null,null,null,null,null,null,null,null,null,null,null,null,null,null,null,null,null,null,null,null,null,null,null,null,null,null,null,null,null,null,null,null,null,null,null,null,null,null,null,null,null,null,null,null,null,null,null,null,null,null,null,null,null,null,null,null,null,null,null,null,null,null,null,null,null,null,null,null,null,null,null,null,null,null,null,null,null,null,null,null,null,null,null,null,null,null,null,null,null,null,null,null,null,null,null,null,null,null,null,null,null,null,null,null,null,null,null,null,null,null,null,null,null,null,null,null,null,null,null,null,null,null,null,null,null,null,null,null,null,null,null,null,null,null,null,null,null,null,null,null,null,null,null,null,null,null,null,null,null,null,null,null,null,null,null,null,null,null,null,null,null,null,null,null,null,null,null,null,null,null,null,null,null,null,null,null,null,null,null,null,null,null,null,null,null,null,null,null,null,null,null,null,null,null,null,null,null,null,null,null,null,null,null,null,null,null,null,null,null,null,null,null,null,null,null,null,null,null,null,null,null,null,null,null,null,null,null,null,null,null,null,null,null,null,null,null,null,null,null,null,null,null,null,null,null,null,null,null,null,null,null,null,null,null,null,null,null,null,null,null,null,null,null,null,null,null,null,null,null,null,null,null,null,null,null,null,null,null,null,null,null,null,null,null,null,null,null,null,null,null,null,null,null,null,null,null,null,null,null,null,null,null,null,null,null,null,null,null,null,null,null,null,null,null,null,null,null,null,null,null,null,null,null,null,null,null,null,null,null,null,null,null,null,null,null,null,null,null,null,null,null,null,null,null,null,null,null,null,null,null,null,null,null,null,null,null,null,null,null,null,null,null,null,null,null,null,null,null,null,null,null,null,null,null,null,null,null,null,null,null,null,null,null,null,null,null,null,null,null,null,null,null,null,null,null,null,null,null,null,null,null,null,null,null,null,null,null,null,null,null,null,null,null,null,null,null,null,null,null,null,null,null,null,null,null,null,null,null,null,null,null,null,null,null,null,null,null,null,null,null,null,null,null,null,null,null,null,null,null,null,null,null,null,null,null,null,null,null,null,null,null,null,null,null,null,null,null,null,null,null,null,null,null,null,null,null,null,null,null,null,null,null,null,null,null,null,null,null,null,null,null,null,null,null,null,null,null,null,null,null,null,null,null,null,null,null,null,null,null,null,null,null,null,null,null,null,null,null,null,null,null,null,null,null,null,null,null,null,null,null,null,null,null,null,null,null,null,null,null,null,null,null,null,null,null,null,null,null,null,null,null,null,null,null,null,null,null,null,null,null,null,null,null,null,null,null,null,null,null,null,null,null,null,null,null,null,null,null,null,null,null,null,null,null,null,null,null,null,null,null,null,null,null,null,null,null,null,null,null,null,null,null,null,null,null,null,null,null,null,null,null,null,null,null,null,null,null,null,null,null,null,null,null,null,null,null,null,null,null,null,null,null,null,null,null,null,null,null,null,null,null,null,null,null,null,null,null,null,null,null,null,null,null,null,null,null,null,null,null,null,null,null,null,null,null,null,null,null,null,null,null,null,null,null,null,null,null,null,null,null,null,null,null,null,null,null,null,null,null,null,null,null,null,null,null,null,null,null,null,null,null,null,null,null,null,null,null,null,null,null,null,null,null,null,null,null,null,null,null,null,null,null,null,null,null,null,null,null,null,null,null,null,null,null,null,null,null,null,null,null,null,null,null,null,null,null,null,null,null,null,null,null,null,null,null,null,null,null,null,null,null,null,null,null,null,null,null,null,null,null,null,null,null,null,null,null,null,null,null,null,null,null,null,null,null,null,null,null,null,null,null,null,null,null,null,null,null,null,null,null,null,null,null,null,null,null,null,null,null,null,null,null,null,null,null,null,null,null,null,null,null,null,null,null,null,null,null,null,null,null,null,null,null,null,null,null,null,null,null,null,null,null,null,null,null,null,null,null,null,null,null,null,null,null,null,null,null,null,null,null,null,null,null,null,null,null,null,null,null,null,null,null,null,null,null,null,null,null,null,null,null,null,null,null,null,null,null,null,null,null,null,null,null,null,null,null,null,null,null,null,null,null,null,null,null,null,null,null,null,null,null,null,null,null,null,null,null,null,null,null,null,null,null,null,null,null,null,null,null,null,null,null,null,null,null,null,null,null,null,null,null,null,null,null,null,null,null,null,null,null,null,null,null,null,null,null,null,null,null,null,null,null,null,null,null,null,null,null,null,null,null,null,null,null,null,null,null,null,null,null,null,null,null,null,null,null,null,null,null,null,null,null,null,null,null,null,null,null,null,null,null,null,null,null,null,null,null,null,null,null,null,null,null,null,null,null,null,null,null,null,null,null,null,null,null,null,null,null,null,null,null,null,null,null,null,null,null,null,null,null,null,null,null,null,null,null,null,null,null,null,null,null,null,null,null,null,null,null,null,null,null,null,null,null,null,null,null,null,null,null,null,null,null,null,null,null,null,null,null,null,null,null,null,null,null,null,null,null,null,null,null,null,null,null,null,null,null,null,null,null,null,null,null,null,null,null,null,null,null,null,null,null,null,null,null,null,null,null,null,null,null,null,null,null,null,null,null,null,null,null,null,null,null,null,null,null,null,null,null,null,null,null,null,null,null,null,null,null,null,null,null,null,null,null,null,null,null,null,null,null,null,null,null,null,null,null,null,null,null,null,null,null,null,null,null,null,null,null,null,null,null,null,null,null,null,null,null,null,null,null,null,null,null,null,null,null,null,null,null,null,null,null,null,null,null,null,null,null,null,null,null,null,null,null,null,null,null,null,null,null,null,null,null,null,null,null,null,null,null,null,null,null,null,null,null,null,null,null,null,null,null,null,null,null,null,null,null,null,null,null,null,null,null,null,null,null,null,null,null,null,null,null,null,null,null,null,null,null,null,null,null,null,null,null,null,null,null,null,null,null,null,null,null,null,null,null,null,null,null,null,null,null,null,null,null,null,null,null,null,null,null,null,null,null,null,null,null,null,null,null,null,null,null,null,null,null,null,null,null,null,null,null,null,null,null,null,null,null,null,null,null,null,null,null,null,null,null,null,null,null,null,null,null,null,null,null,null,null,null,null,null,null,null,null,null,null,null,null,null,null,null,null,null,null,null,null,null,null,null,null,null,null,null,null,null,null,null,null,null,null,null,null,null,null,null,null,null,null,null,null,null,null,null,null,null,null,null,null,null,null,null,null,null,null,null,null,null,null,null,null,null,null,null,null,null,null,null,null,null,null,null,null,null,null,null,null,null,null,null,null,null,null,null,null,null,null,null,null,null,null,null,null,null,null,null,null,null,null,null,null,null,null,null,null,null,null,null,null,null,null,null,null,null,null,null,null,null,null,null,null,null,null,null,null,null,null,null,null,null,null,null,null,null,null,null,null,null,null,null,null,null,null,null,null,null,null,null,null,null,null,null,null,null,null,null,null,null,null,null,null,null,null,null,null,null,null,null,null,null,null,null,null,null,null,null,null,null,null,null,null,null,null,null,null,null,null,null,null,null,null,null,null,null,null,null,null,null,null,null,null,null,null,null,null,null,null,null,null,null,null,null,null,null,null,null,null,null,null,null,null,null,null,null,null,null,null,null,null,null,null,null,null,null,null,null,null,null,null,null,null,null,null,null,null,null,null,null,null,null,null,null,null,null,null,null,null,null,null,null,null,null,null,null,null,null,null,null,null,null,null,null,null,null,null,null,null,null,null,null,null,null,null,null,null,null,null,null,null,null,null,null,null,null,null,null,null,null,null,null,null,null,null,null,null,null,null,null,null,null,null,null,null,null,null,null,null,null,null,null,null,null,null,null,null,null,null,null,null,null,null,null,null,null,null,null,null,null,null,null,null,null,null,null,null,null,null,null,null,null,null,null,null,null,null,null,null,null,null,null,null,null,null,null,null,null,null,null,null,null,null,null,null,null,null,null,null,null,null,null,null,null,null,null,null,null,null,null,null,null,null,null,null,null,null,null,null,null,null,null,null,null,null,null,null,null,null,null,null,null,null,null,null,null,null,null,null,null,null,null,null,null,null,null,null,null,null,null,null,null,null,null,null,null,null,null,null,null,null,null,null,null,null,null,null,null,null,null,null,null,null,null,null,null,null,null,null,null,null,null,null,null,null,null,null,null,null,null,null,null,null,null,null,null,null,null,null,null,null,null,null,null,null,null,null,null,null,null,null,null,null,null,null,null,null,null,null,null,null,null,null,null,null,null,null,null,null,null,null,null,null,null,null,null,null,null,null,null,null,null,null,null,null,null,null,null,null,null,null,null,null,null,null,null,null,null,null,null,null,null,null,null,null,null,null,null,null,null,null,null,null,null,null,null,null,null,null,null,null,null,null,null,null,null,null,null,null,null,null,null,null,null,null,null,null,null,null,null,null,null,null,null,null,null,null,null,null,null,null,null,null,null,null,null,null,null,null,null,null,null,null,null,null,null,null,null,null,null,null,null,null,null,null,null,null,null,null,null,null,null,null,null,null,null,null,null,null,null,null,null,null,null,null,null,null,null,null,null,null,null,null,null,null,null,null,null,null,null,null,null,null,null,null,null,null,null,null,null,null,null,null,null,null,null,null,null,null,null,null,null,null,null,null,null,null,null,null,null,null,null,null,null,null,null,null,null,null,null,null,null,null,null,null,null,null,null,null,null,null,null,null,null,null,null,null,null,null,null,null,null,null,null,null,null,null,null,null,null,null,null,null,null,null,null,null,null,null,null,null,null,null,null,null,null,null,null,null,null,null,null,null,null,null,null,null,null,null,null,null,null,null,null,null,null,null,null,null,null,null,null,null,null,null,null,null,null,null,null,null,null,null,null,null,null,null,null,null,null,null,null,null,null,null,null,null,null,null,null,null,null,null,null,null,null,null,null,null,null,null,null,null,null,null,null,null,null,null,null,null,null,null,null,null,null,null,null,null,null,null,null,null,null,null,null,null,null,null,null,null,null,null,null,null,null,null,null,null,null,null,null,null,null,null,null,null,null,null,null,null,null,null,null,null,null,null,null,null,null,null,null,null,null,null,null,null,null,null,null,null,null,null,null,null,null,null,null,null,null,null,null,null,null,null,null,null,null,null,null,null,null,null,null,null,null,null,null,null,null,null,null,null,null,null,null,null,null,null,null,null,null,null,null,null,null,null,null,null,null,null,null,null,null,null,null,null,null,null,null,null,null,null,null,null,null,null,null,null,null,null,null,null,null,null,null,null,null,null,null,null,null,null,null,null,null,null,null,null,null,null,null,null,null,null,null,null,null,null,null,null,null,null,null,null,null,null,null,null,null,null,null,null,null,null,null,null,null,null,null,null,null,null,null,null,null,null,null,null,null,null,null,null,null,null,null,null,null,null,null,null,null,null,null,null,null,null,null,null,null,null,null,null,null,null,null,null,null,null,null,null,null,null,null,null,null,null,null,null,null,null,null,null,null,null,null,null,null,null,null,null,null,null,null,null,null,null,null,null,null,null,null,null,null,null,null,null,null,null,null,null,null,null,null,null,null,null,null,null,null,null,null,null,null,null,null,null,null,null,null,null,null,null,null,null,null,null,null,null,null,null,null,null,null,null,null,null,null,null,null,null,null,null,null,null,null,null,null,null,null,null,null,null,null,null,null,null,null,null,null,null,null,null,null,null,null,null,null,null,null,null,null,null,null,null,null,null,null,null,null,null,null,null,null,null,null,null,null,null,null,null,null,null,null,null,null,null,null,null,null,null,null,null,null,null,null,null,null,null,null,null,null,null,null,null,null,null,null,null,null,null,null,null,null,null,null,null,null,null,null,null,null,null,null,null,null,null,null,null,null,null,null,null,null,null,null,null,null,null,null,null,null,null,null,null,null,null,null,null,null,null,null,null,null,null,null,null,null,null,null,null,null,null,null,null,null,null,null,null,null,null,null,null,null,null,null,null,null,null,null,null,null,null,null,null,null,null,null,null,null,null,null,null,null,null,null,null,null,null,null,null,null,null,null,null,null,null,null,null,null,null,null,null,null,null,null,null,null,null,null,null,null,null,null,null,null,null,null,null,null,null,null,null,null,null,null,null,null,null,null,null,null,null,null,null,null,null,null,null,null,null,null,null,null,null,null,null,null,null,null,null,null,null,null,null,null,null,null,null,null,null,null,null,null,null,null,null,null,null,null,null,null,null,null,null,null,null,null,null,null,null,null,null,null,null,null,null,null,null,null,null,null,null,null,null,null,null,null,null,null,null,null,null,null,null,null,null,null,null,null,null,null,null,null,null,null,null,null,null,null,null,null,null,null,null,null,null,null,null,null,null,null,null,null,null,null,null,null,null,null,null,null,null,null,null,null,null,null,null,null,null,null,null,null,null,null,null,null,null,null,null,null,null,null,null,null,null,null,null,null,null,null,null,null,null,null,null,null,null,null,null,null,null,null,null,null,null,null,null,null,null,null,null,null,null,null,null,null,null,null,null,null,null,null,null,null,null,null,null,null,null,null,null,null,null,null,null,null,null,null,null,null,null,null,null,null,null,null,null,null,null,null,null,null,null,null,null,null,null,null,null,null,null,null,null,null,null,null,null,null,null,null,null,null,null,null,null,null,null,null,null,null,null,null,null,null,null,null,null,null,null,null,null,null,null,null,null,null,null,null,null,null,null,null,null,null,null,null,null,null,null,null,null,null,null,null,null,null,null,null,null,null,null,null,null,null,null,null,null,null,null,null,null,null,null,null,null,null,null,null,null,null,null,null,null,null,null,null,null,null,null,null,null,null,null,null,null,null,null,null,null,null,null,null,null,null,null,null,null,null,null,null,null,null,null,null,null,null,null,null,null,null,null,null,null,null,null,null,null,null,null,null,null,null,null,null,null,null,null,null,null,null,null,null,null,null,null,null,null,null,null,null,null,null,null,null,null,null,null,null,null,null,null,null,null,null,null,null,null,null,null,null,null,null,null,null,null,null,null,null,null,null,null,null,null,null,null,null,null,null,null,null,null,null,null,null,null,null,null,null,null,null,null,null,null,null,null,null,null,null,null,null,null,null,null,null,null,null,null,null,null,null,null,null,null,null,null,null,null,null,null,null,null,null,null,null,null,null,null,null,null,null,null,null,null,null,null,null,null,null,null,null,null,null,null,null,null,null,null,null,null,null,null,null,null,null,null,null,null,null,null,null,null,null,null,null,null,null,null,null,null,null,null,null,null,null,null,null,null,null,null,null,null,null,null,null,null,null,null,null,null,null,null,null,null,null,null,null,null,null,null,null,null,null,null,null,null,null,null,null,null,null,null,null,null,null,null,null,null,null,null,null,null,null,null,null,null,null,null,null,null,null,null,null,null,null,null,null,null,null,null,null,null,null,null,null,null,null,null,null,null,null,null,null,null,null,null,null,null,null,null,null,null,null,null,null,null,null,null,null,null,null,null,null,null,null,null,null,null,null,null,null,null,null,null,null,null,null,null,null,null,null,null,null,null,null,null,null,null,null,null,null,null,null,null,null,null,null,null,null,null,null,null,null,null,null,null,null,null,null,null,null,null,null,null,null,null,null,null,null,null,null,null,null,null,null,null,null,null,null,null,null,null,null,null,null,null,null,null,null,null,null,null,null,null,null,null,null,null,null,null,null,null,null,null,null,null,null,null,null,null,null,null,null,null,null,null,null,null,null,null,null,null,null,null,null,null,null,null,null,null,null,null,null,null,null,null,null,null,null,null,null,null,null,null,null,null,null,null,null,null,null,null,null,null,null,null,null,null,null,null,null,null,null,null,null,null,null,null,null,null,null,null,null,null,null,null,null,null,null,null,null,null,null,null,null,null,null,null,null,null,null,null,null,null,null,null,null,null,null,null,null,null,null,null,null,null,null,null,null,null,null,null,null,null,null,null,null,null,null,null,null,null,null,null,null,null,null,null,null,null,null,null,null,null,null,null,null,null,null,null,null,null,null,null,null,null,null,null,null,null,null,null,null,null,null,null,null,null,null,null,null,null,null,null,null,null,null,null,null,null,null,null,null,null,null,null,null,null,null,null,null,null,null,null,null,null,null,null,null,null,null,null,null,null,null,null,null,null,null,null,null,null,null,null,null,null,null,null,null,null,null,null,null,null,null,null,null,null,null,null,null,null,null,null,null,null,null,null,null,null,null,null,null,null,null,null,null,null,null,null,null,null,null,null,null,null,null,null,null,null,null,null,null,null,null,null,null,null,null,null,null,null,null,null,null,null,null,null,null,null,null,null,null,null,null,null,null,null,null,null,null,null,null,null,null,null,null,null,null,null,null,null,null,null,null,null,null,null,null,null,null,null,null,null,null,null,null,null,null,null,null,null,null,null,null,null,null,null,null,null,null,null,null,null,null,null,null,null,null,null,null,null,null,null,null,null,null,null,null,null,null,null,null,null,null,null,null,null,null,null,null,null,null,null,null,null,null,null,null,null,null,null,null,null,null,null,null,null,null,null,null,null,null,null,null,null,null,null,null,null,null,null,null,null,null,null,null,null,null,null,null,null,null,null,null,null,null,null,null,null,null,null,null,null,null,null,null,null,null,null,null,null,null,null,null,null,null,null,null,null,null,null,null,null,null,null,null,null,null,null,null,null,null,null,null,null,null,null,null,null,null,null,null,null,null,null,null,null,null,null,null,null,null,null,null,null,null,null,null,null,null,null,null,null,null,null,null,null,null,null,null,null,null,null,null,null,null,null,null,null,null,null,null,null,null,null,null,null,null,null,null,null,null,null,null,null,null,null,null,null,null,null,null,null,null,null,null,null,null,null,null,null,null,null,null,null,null,null,null,null,null,null,null,null,null,null,null,null,null,null,null,null,null,null,null,null,null,null,null,null,null,null,null,null,null,null,null,null,null,null,null,null,null,null,null,null,null,null,null,null,null,null,null,null,null,null,null,null,null,null,null,null,null,null,null,null,null,null,null,null,null,null,null,null,null,null,null,null,null,null,null,null,null,null,null,null,null,null,null,null,null,null,null,null,null,null,null,null,null,null,null,null,null,null,null,null,null,null,null,null,null,null,null,null,null,null,null,null,null,null,null,null,null,null,null,null,null,null,null,null,null,null,null,null,null,null,null,null,null,null,null,null,null,null,null,null,null,null,null,null,null,null,null,null,null,null,null,null,null,null,null,null,null,null,null,null,null,null,null,null,null,null,null,null,null,null,null,null,null,null,null,null,null,null,null,null,null,null,null,null,null,null,null,null,null,null,null,null,null,null,null,null,null,null,null,null,null,null,null,null,null,null,null,null,null,null,null,null,null,null,null,null,null,null,null,null,null,null,null,null,null,null,null,null,null,null,null,null,null,null,null,null,null,null,null,null,null,null,null,null,null,null,null,null,null,null,null,null,null,null,null,null,null,null,null,null,null,null,null,null,null,null,null,null,null,null,null,null,null,null,null,null,null,null,null,null,null,null,null,null,null,null,null,null,null,null,null,null,null,null,null,null,null,null,null,null,null,null,null,null,null,null,null,null,null,null,null,null,null,null,null,null,null,null,null,null,null,null,null,null,null,null,null,null,null,null,null,null,null,null,null,null,null,null,null,null,null,null,null,null,null,null,null,null,null,null,null,null,null,null,null,null,null,null,null,null,null,null,null,null,null,null,null,null,null,null,null,null,null,null,null,null,null,null,null,null,null,null,null,null,null,null,null,null,null,null,null,null,null,null,null,null,null,null,null,null,null,null,null,null,null,null,null,null,null,null,null,null,null,null,null,null,null,null,null,null,null,null,null,null,null,null,null,null,null,null,null,null,null,null,null,null,null,null,null,null,null,null,null,null,null,null,null,null,null,null,null,null,null,null,null,null,null,null,null,null,null,null,null,null,null,null,null,null,null,null,null,null,null,null,null,null,null,null,null,null,null,null,null,null,null,null,null,null,null,null,null,null,null,null,null,null,null,null,null,null,null,null,null,null,null,null,null,null,null,null,null,null,null,null,null,null,null,null,null,null,null,null,null,null,null,null,null,null,null,null,null,null,null,null,null,null,null,null,null,null,null,null,null,null,null,null,null,null,null,null,null,null,null,null,null,null,null,null,null,null,null,null,null,null,null,null,null,null,null,null,null,null,null,null,null,null,null,null,null,null,null,null,null,null,null,null,null,null,null,null,null,null,null,null,null,null,null,null,null,null,null,null,null,null,null,null,null,null,null,null,null,null,null,null,null,null,null,null,null,null,null,null,null,null,null,null,null,null,null,null,null,null,null,null,null,null,null,null,null,null,null,null,null,null,null,null,null,null,null,null,null,null,null,null,null,null,null,null,null,null,null,null,null,null,null,null,null,null,null,null,null,null,null,null,null,null,null,null,null,null,null,null,null,null,null,null,null,null,null,null,null,null,null,null,null,null,null,null,null,null,null,null,null,null,null,null,null,null,null,null,null,null,null,null,null,null,null,null,null,null,null,null,null,null,null,null,null,null,null,null,null,null,null,null,null,null,null,null,null,null,null,null,null,null,null,null,null,null,null,null,null,null,null,null,null,null,null,null,null,null,null,null,null,null,null,null,null,null,null,null,null,null,null,null,null,null,null,null,null,null,null,null,null,null,null,null,null,null,null,null,null,null,null,null,null,null,null,null,null,null,null,null,null,null,null,null,null,null,null,null,null,null,null,null,null,null,null,null,null,null,null,null,null,null,null,null,null,null,null,null,null,null,null,null,null,null,null,null,null,null,null,null,null,null,null,null,null,null,null,null,null,null,null,null,null,null,null,null,null,null,null,null,null,null,null,null,null,null,null,null,null,null,null,null,null,null,null,null,null,null,null,null,null,null,null,null,null,null,null,null,null,null,null,null,null,null,null,null,null,null,null,null,null,null,null,null,null,null,null,null,null,null,null,null,null,null,null,null,null,null,null,null,null,null,null,null,null,null,null,null,null,null,null,null,null,null,null,null,null,null,null,null,null,null,null,null,null,null,null,null,null,null,null,null,null,null,null,null,null,null,null,null,null,null,null,null,null,null,null,null,null,null,null,null,null,null,null,null,null,null,null,null,null,null,null,null,null,null,null,null,null,null,null,null,null,null,null,null,null,null,null,null,null,null,null,null,null,null,null,null,null,null,null,null,null,null,null,null,null,null,null,null,null,null,null,null,null,null,null,null,null,null,null,null,null,null,null,null,null,null,null,null,null,null,null,null,null,null,null,null,null,null,null,null,null,null,null,null,null,null,null,null,null,null,null,null,null,null,null,null,null,null,null,null,null,null,null,null,null,null,null,null,null,null,null,null,null,null,null,null,null,null,null,null,null,null,null,null,null,null,null,null,null,null,null,null,null,null,null,null,null,null,null,null,null,null,null,null,null,null,null,null,null,null,null,null,null,null,null,null,null,null,null,null,null,null,null,null,null,null,null,null,null,null,null,null,null,null,null,null,null,null,null,null,null,null,null,null,null,null,null,null,null,null,null,null,null,null,null,null,null,null,null,null,null,null,null,null,null,null,null,null,null,null,null,null,null,null,null,null,null,null,null,null,null,null,null,null,null,null,null,null,null,null,null,null,null,null,null,null,null,null,null,null,null,null,null,null,null,null,null,null,null,null,null,null,null,null,null,null,null,null,null,null,null,null,null,null,null,null,null,null,null,null,null,null,null,null,null,null,null,null,null,null,null,null,null,null,null,null,null,null,null,null,null,null,null,null,null,null,null,null,null,null,null,null,null,null,null,null,null,null,null,null,null,null,null,null,null,null,null,null,null,null,null,null,null,null,null,null,null,null,null,null,null,null,null,null,null,null,null,null,null,null,null,null,null,null,null,null,null,null,null,null,null,null,null,null,null,null,null,null,null,null,null,null,null,null,null,null,null,null,null,null,null,null,null,null,null,null,null,null,null,null,null,null,null,null,null,null,null,null,null,null,null,null,null,null,null,null,null,null,null,null,null,null,null,null,null,null,null,null,null,null,null,null,null,null,null,null,null,null,null,null,null,null,null,null,null,null,null,null,null,null,null,null,null,null,null,null,null,null,null,null,null,null,null,null,null,null,null,null,null,null,null,null,null,null,null,null,null,null,null,null,null,null,null,null,null,null,null,null,null,null,null,null,null,null,null,null,null,null,null,null,null,null,null,null,null,null,null,null,null,null,null,null,null,null,null,null,null,null,null,null,null,null,null,null,null,null,null,null,null,null,null,null,null,null,null,null,null,null,null,null,null,null,null,null,null,null,null,null,null,null,null,null,null,null,null,null,null,null,null,null,null,null,null,null,null,null,null,null,null,null,null,null,null,null,null,null,null,null,null,null,null,null,null,null,null,null,null,null,null,null,null,null,null,null,null,null,null,null,null,null,null,null,null,null,null,null,null,null,null,null,null,null,null,null,null,null,null,null,null,null,null,null,null,null,null,null,null,null,null,null,null,null,null,null,null,null,null,null,null,null,null,null,null,null,null,null,null,null,null,null,null,null,null,null,null,null,null,null,null,null,null,null,null,null,null,null,null,null,null,null,null,null,null,null,null,null,null,null,null,null,null,null,null,null,null,null,null,null,null,null,null,null,null,null,null,null,null,null,null,null,null,null,null,null,null,null,null,null,null,null,null,null,null,null,null,null,null,null,null,null,null,null,null,null,null,null,null,null,null,null,null,null,null,null,null,null,null,null,null,null,null,null,null,null,null,null,null,null,null,null,null,null,null,null,null,null,null,null,null,null,null,null,null,null,null,null,null,null,null,null,null,null,null,null,null,null,null,null,null,null,null,null,null,null,null,null,null,null,null,null,null,null,null,null,null,null,null,null,null,null,null,null,null,null,null,null,null,null,null,null,null,null,null,null,null,null,null,null,null,null,null,null,null,null,null,null,null,null,null,null,null,null,null,null,null,null,null,null,null,null,null,null,null,null,null,null,null,null,null,null,null,null,null,null,null,null,null,null,null,null,null,null,null,null,null,null,null,null,null,null,null,null,null,null,null,null,null,null,null,null,null,null,null,null,null,null,null,null,null,null,null,null,null,null,null,null,null,null,null,null,null,null,null,null,null,null,null,null,null,null,null,null,null,null,null,null,null,null,null,null,null,null,null,null,null,null,null,null,null,null,null,null,null,null,null,null,null,null,null,null,null,null,null,null,null,null,null,null,null,null,null,null,null,null,null,null,null,null,null,null,null,null,null,null,null,null,null,null,null,null,null,null,null,null,null,null,null,null,null,null,null,null,null,null,null,null,null,null,null,null,null,null,null,null,null,null,null,null,null,null,null,null,null,null,null,null,null,null,null,null,null,null,null,null,null,null,null,null,null,null,null,null,null,null,null,null,null,null,null,null,null,null,null,null,null,null,null,null,null,null,null,null,null,null,null,null,null,null,null,null,null,null,null,null,null,null,null,null,null,null,null,null,null,null,null,null,null,null,null,null,null,null,null,null,null,null,null,null,null,null,null,null,null,null,null,null,null,null,null,null,null,null,null,null,null,null,null,null,null,null,null,null,null,null,null,null,null,null,null,null,null,null,null,null,null,null,null,null,null,null,null,null,null,null,null,null,null,null,null,null,null,null,null,null,null,null,null,null,null,null,null,null,null,null,null,null,null,null,null,null,null,null,null,null,null,null,null,null,null,null,null,null,null,null,null,null,null,null,null,null,null,null,null,null,null,null,null,null,null,null,null,null,null,null,null,null,null,null,null,null,null,null,null,null,null,null,null,null,null,null,null,null,null,null,null,null,null,null,null,null,null,null,null,null,null,null,null,null,null,null,null,null,null,null,null,null,null,null,null,null,null,null,null,null,null,null,null,null,null,null,null,null,null,null,null,null,null,null,null,null,null,null,null,null,null,null,null,null,null,null,null,null,null,null,null,null,null,null,null,null,null,null,null,null,null,null,null,null,null,null,null,null,null,null,null,null,null,null,null,null,null,null,null,null,null,null,null,null,null,null,null,null,null,null,null,null,null,null,null,null,null,null,null,null,null,null,null,null,null,null,null,null,null,null,null,null,null,null,null,null,null,null,null,null,null,null,null,null,null,null,null,null,null,null,null,null,null,null,null,null,null,null,null,null,null,null,null,null,null,null,null,null,null,null,null,null,null,null,null,null,null,null,null,null,null,null,null,null,null,null,null,null,null,null,null,null,null,null,null,null,null,null,null,null,null,null,null,null,null,null,null,null,null,null,null,null,null,null,null,null,null,null,null,null,null,null,null,null,null,null,null,null,null,null,null,null,null,null,null,null,null,null,null,null,null,null,null,null,null,null,null,null,null,null,null,null,null,null,null,null,null,null,null,null,null,null,null,null,null,null,null,null,null,null,null,null,null,null,null,null,null,null,null,null,null,null,null,null,null,null,null,null,null,null,null,null,null,null,null,null,null,null,null,null,null,null,null,null,null,null,null,null,null,null,null,null,null,null,null,null,null,null,null,null,null,null,null,null,null,null,null,null,null,null,null,null,null,null,null,null,null,null,null,null,null,null,null,null,null,null,null,null,null,null,null,null,null,null,null,null,null,null,null,null,null,null,null,null,null,null,null,null,null,null,null,null,null,null,null,null,null,null,null,null,null,null,null,null,null,null,null,null,null,null,null,null,null,null,null,null,null,null,null,null,null,null,null,null,null,null,null,null,null,null,null,null,null,null,null,null,null,null,null,null,null,null,null,null,null,null,null,null,null,null,null,null,null,null,null,null,null,null,null,null,null,null,null,null,null,null,null,null,null,null,null,null,null,null,null,null,null,null,null,null,null,null,null,null,null,null,null,null,null,null,null,null,null,null,null,null,null,null,null,null,null,null,null,null,null,null,null,null,null,null,null,null,null,null,null,null,null,null,null,null,null,null,null,null,null,null,null,null,null,null,null,null,null,null,null,null,null,null,null,null,null,null,null,null,null,null,null,null,null,null,null,null,null,null,null,null,null,null,null,null,null,null,null,null,null,null,null,null,null,null,null,null,null,null,null,null,null,null,null,null,null,null,null,null,null,null,null,null,null,null,null,null,null,null,null,null,null,null,null,null,null,null,null,null,null,null,null,null,null,null,null,null,null,null,null,null,null,null,null,null,null,null,null,null,null,null,null,null,null,null,null,null,null,null,null,null,null,null,null,null,null,null,null,null,null,null,null,null,null,null,null,null,null,null,null,null,null,null,null,null,null,null,null,null,null,null,null,null,null,null,null,null,null,null,null,null,null,null,null,null,null,null,null,null,null,null,null,null,null,null,null,null,null,null,null,null,null,null,null,null,null,null,null,null,null,null,null,null,null,null,null,null,null,null,null,null,null,null,null,null,null,null,null,null,null,null,null,null,null,null,null,null,null,null,null,null,null,null,null,null,null,null,null,null,null,null,null,null,null,null,null,null,null,null,null,null,null,null,null,null,null,null,null,null,null,null,null,null,null,null,null,null,null,null,null,null,null,null,null,null,null,null,null,null,null,null,null,null,null,null,null,null,null,null,null,null,null,null,null,null,null,null,null,null,null,null,null,null,null,null,null,null,null,null,null,null,null,null,null,null,null,null,null,null,null,null,null,null,null,null,null,null,null,null,null,null,null,null,null,null,null,null,null,null,null,null,null,null,null,null,null,null,null,null,null,null,null,null,null,null,null,null,null,null,null,null,null,null,null,null,null,null,null,null,null,null,null,null,null,null,null,null,null,null,null,null,null,null,null,null,null,null,null,null,null,null,null,null,null,null,null,null,null,null,null,null,null,null,null,null,null,null,null,null,null,null,null,null,null,null,null,null,null,null,null,null,null,null,null,null,null,null,null,null,null,null,null,null,null,null,null,null,null,null,null,null,null,null,null,null,null,null,null,null,null,null,null,null,null,null,null,null,null,null,null,null,null,null,null,null,null,null,null,null,null,null,null,null,null,null,null,null,null,null,null,null,null,null,null,null,null,null,null,null,null,null,null,null,null,null,null,null,null,null,null,null,null,null,null,null,null,null,null,null,null,null,null,null,null,null,null,null,null,null,null,null,null,null,null,null,null,null,null,null,null,null,null,null,null,null,null,null,null,null,null,null,null,null,null,null,null,null,null,null,null,null,null,null,null,null,null,null,null,null,null,null,null,null,null,null,null,null,null,null,null,null,null,null,null,null,null,null,null,null,null,null,null,null,null,null,null,null,null,null,null,null,null,null,null,null,null,null,null,null,null,null,null,null,null,null,null,null,null,null,null,null,null,null,null,null,null,null,null,null,null,null,null,null,null,null,null,null,null,null,null,null,null,null,null,null,null,null,null,null,null,null,null,null,null,null,null,null,null,null,null,null,null,null,null,null,null,null,null,null,null,null,null,null,null,null,null,null,null,null,null,null,null,null,null,null,null,null,null,null,null,null,null,null,null,null,null,null,null,null,null,null,null,null,null,null,null,null,null,null,null,null,null,null,null,null,null,null,null,null,null,null,null,null,null,null,null,null,null,null,null,null,null,null,null,null,null,null,null,null,null,null,null,null,null,null,null,null,null,null,null,null,null,null,null,null,null,null,null,null,null,null,null,null,null,null,null,null,null,null,null,null,null,null,null,null,null,null,null,null,null,null,null,null,null,null,null,null,null,null,null,null,null,null,null,null,null,null,null,null,null,null,null,null,null,null,null,null,null,null,null,null,null,null,null,null,null,null,null,null,null,null,null,null,null,null,null,null,null,null,null,null,null,null,null,null,null,null,null,null,null,null,null,null,null,null,null,null,null,null,null,null,null,null,null,null,null,null,null,null,null,null,null,null,null,null,null,null,null,null,null,null,null,null,null,null,null,null,null,null,null,null,null,null,null,null,null,null,null,null,null,null,null,null,null,null,null,null,null,null,null,null,null,null,null,null,null,null,null,null,null,null,null,null,null,null,null,null,null,null,null,null,null,null,null,null,null,null,null,null,null,null,null,null,null,null,null,null,null,null,null,null,null,null,null,null,null,null,null,null,null,null,null,null,null,null,null,null,null,null,null,null,null,null,null,null,null,null,null,null,null,null,null,null,null,null,null,null,null,null,null,null,null,null,null,null,null,null,null,null,null,null,null,null,null,null,null,null,null,null,null,null,null,null,null,null,null,null,null,null,null,null,null,null,null,null,null,null,null,null,null,null,null,null,null,null,null,null,null,null,null,null,null,null,null,null,null,null,null,null,null,null,null,null,null,null,null,null,null,null,null,null,null,null,null,null,null,null,null,null,null,null,null,null,null,null,null,null,null,null,null,null,null,null,null,null,null,null,null,null,null,null,null,null,null,null,null,null,null,null,null,null,null,null,null,null,null,null,null,null,null,null,null,null,null,null,null,null,null,null,null,null,null,null,null,null,null,null,null,null,null,null,null,null,null,null,null,null,null,null,null,null,null,null,null,null,null,null,null,null,null,null,null,null,null,null,null,null,null,null,null,null,null,null,null,null,null,null,null,null,null,null,null,null,null,null,null,null,null,null,null,null,null,null,null,null,null,null,null,null,null,null,null,null,null,null,null,null,null,null,null,null,null,null,null,null,null,null,null,null,null,null,null,null,null,null,null,null,null,null,null,null,null,null,null,null,null,null,null,null,null,null,null,null,null,null,null,null,null,null,null,null,null,null,null,null,null,null,null,null,null,null,null,null,null,null,null,null,null,null,null,null,null,null,null,null,null,null,null,null,null,null,null,null,null,null,null,null,null,null,null,null,null,null,null,null,null,null,null,null,null,null,null,null,null,null,null,null,null,null,null,null,null,null,null,null,null,null,null,null,null,null,null,null,null,null,null,null,null,null,null,null,null,null,null,null,null,null,null,null,null,null,null,null,null,null,null,null,null,null,null,null,null,null,null,null,null,null,null,null,null,null,null,null,null,null,null,null,null,null,null,null,null,null,null,null,null,null,null,null,null,null,null,null,null,null,null,null,null,null,null,null,null,null,null,null,null,null,null,null,null,null,null,null,null,null,null,null,null,null,null,null,null,null,null,null,null,null,null,null,null,null,null,null,null,null,null,null,null,null,null,null,null,null,null,null,null,null,null,null,null,null,null,null,null,null,null,null,null,null,null,null,null,null,null,null,null,null,null,null,null,null,null,null,null,null,null,null,null,null,null,null,null,null,null,null,null,null,null,null,null,null,null,null,null,null,null,null,null,null,null,null,null,null,null,null,null,null,null,null,null,null,null,null,null,null,null,null,null,null,null,null,null,null,null,null,null,null,null,null,null,null,null,null,null,null,null,null,null,null,null,null,null,null,null,null,null,null,null,null,null,null,null,null,null,null,null,null,null,null,null,null,null,null,null,null,null,null,null,null,null,null,null,null,null,null,null,null,null,null,null,null,null,null,null,null,null,null,null,null,null,null,null,null,null,null,null,null,null,null,null,null,null,null,null,null,null,null,null,null,null,null,null,null,null,null,null,null,null,null,null,null,null,null,null,null,null,null,null,null,null,null,null,null,null,null,null,null,null,null,null,null,null,null,null,null,null,null,null,null,null,null,null,null,null,null,null,null,null,null,null,null,null,null,null,null,null,null,null,null,null,null,null,null,null,null,null,null,null,null,null,null,null,null,null,null,null,null,null,null,null,null,null,null,null,null,null,null,null,null,null,null,null,null,null,null,null,null,null,null,null,null,null,null,null,null,null,null,null,null,null,null,null,null,null,null,null,null,null,null,null,null,null,null,null,null,null,null,null,null,null,null,null,null,null,null,null,null,null,null,null,null,null,null,null,null,null,null,null,null,null,null,null,null,null,null,null,null,null,null,null,null,null,null,null,null,null,null,null,null,null,null,null,null,null,null,null,null,null,null,null,null,null,null,null,null,null,null,null,null,null,null,null,null,null,null,null,null,null,null,null,null,null,null,null,null,null,null,null,null,null,null,null,null,null,null,null,null,null,null,null,null,null,null,null,null,null,null,null,null,null,null,null,null,null,null,null,null,null,null,null,null,null,null,null,null,null,null,null,null,null,null,null,null,null,null,null,null,null,null,null,null,null,null,null,null,null,null,null,null,null,null,null,null,null,null,null,null,null,null,null,null,null,null,null,null,null,null,null,null,null,null,null,null,null,null,null,null,null,null,null,null,null,null,null,null,null,null,null,null,null,null,null,null,null,null,null,null,null,null,null,null,null,null,null,null,null,null,null,null,null,null,null,null,null,null,null,null,null,null,null,null,null,null,null,null,null,null,null,null,null,null,null,null,null,null,null,null,null,null,null,null,null,null,null,null,null,null,null,null,null,null,null,null,null,null,null,null,null,null,null,null,null,null,null,null,null,null,null,null,null,null,null,null,null,null,null,null,null,null,null,null,null,null,null,null,null,null,null,null,null,null,null,null,null,null,null,null,null,null,null,null,null,null,null,null,null,null,null,null,null,null,null,null,null,null,null,null,null,null,null,null,null,null,null,null,null,null,null,null,null,null,null,null,null,null,null,null,null,null,null,null,null,null,null,null,null,null,null,null,null,null,null,null,null,null,null,null,null,null,null,null,null,null,null,null,null,null,null,null,null,null,null,null,null,null,null,null,null,null,null,null,null,null,null,null,null,null,null,null,null,null,null,null,null,null,null,null,null,null,null,null,null,null,null,null,null,null,null,null,null,null,null,null,null,null,null,null,null,null,null,null,null,null,null,null,null,null,null,null,null,null,null,null,null,null,null,null,null,null,null,null,null,null,null,null,null,null,null,null,null,null,null,null,null,null,null,null,null,null,null,null,null,null,null,null,null,null,null,null,null,null,null,null,null,null,null,null,null,null,null,null,null,null,null,null,null,null,null,null,null,null,null,null,null,null,null,null,null,null,null,null,null,null,null,null,null,null,null,null,null,null,null,null,null,null,null,null,null,null,null,null,null,null,null,null,null,null,null,null,null,null,null,null,null,null,null,null,null,null,null,null,null,null,null,null,null,null,null,null,null,null,null,null,null,null,null,null,null,null,null,null,null,null,null,null,null,null,null,null,null,null,null,null,null,null,null,null,null,null,null,null,null,null,null,null,null,null,null,null,null,null,null,null,null,null,null,null,null,null,null,null,null,null,null,null,null,null,null,null,null,null,null,null,null,null,null,null,null,null,null,null,null,null,null,null,null,null,null,null,null,null,null,null,null,null,null,null,null,null,null,null,null,null,null,null,null,null,null,null,null,null,null,null,null,null,null,null,null,null,null,null,null,null,null,null,null,null,null,null,null,null,null,null,null,null,null,null,null,null,null,null,null,null,null,null,null,null,null,null,null,null,null,null,null,null,null,null,null,null,null,null,null,null,null,null,null,null,null,null,null,null,null,null,null,null,null,null,null,null,null,null,null,null,null,null,null,null,null,null,null,null,null,null,null,null,null,null,null,null,null,null,null,null,null,null,null,null,null,null,null,null,null,null,null,null,null,null,null,null,null,null,null,null,null,null,null,null,null,null,null,null,null,null,null,null,null,null,null,null,null,null,null,null,null,null,null,null,null,null,null,null,null,null,null,null,null,null,null,null,null,null,null,null,null,null,null,null,null,null,null,null,null,null,null,null,null,null,null,null,null,null,null,null,null,null,null,null,null,null,null,null,null,null,null,null,null,null,null,null,null,null,null,null,null,null,null,null,null,null,null,null,null,null,null,null,null,null,null,null,null,null,null,null,null,null,null,null,null,null,null,null,null,null,null,null,null,null,null,null,null,null,null,null,null,null,null,null,null,null,null,null,null,null,null,null,null,null,null,null,null,null,null,null,null,null,null,null,null,null,null,null,null,null,null,null,null,null,null,null,null,null,null,null,null,null,null,null,null,null,null,null,null,null,null,null,null,null,null,null,null,null,null,null,null,null,null,null,null,null,null,null,null,null,null,null,null,null,null,null,null,null,null,null,null,null,null,null,null,null,null,null,null,null,null,null,null,null,null,null,null,null,null,null,null,null,null,null,null,null,null,null,null,null,null,null,null,null,null,null,null,null,null,null,null,null,null,null,null,null,null,null,null,null,null,null,null,null,null,null,null,null,null,null,null,null,null,null,null,null,null,null,null,null,null,null,null,null,null,null,null,null,null,null,null,null,null,null,null,null,null,null,null,null,null,null,null,null,null,null,null,null,null,null,null,null,null,null,null,null,null,null,null,null,null,null,null,null,null,null,null,null,null,null,null,null,null,null,null,null,null,null,null,null,null,null,null,null,null,null,null,null,null,null,null,null,null,null,null,null,null,null,null,null,null,null,null,null,null,null,null,null,null,null,null,null,null,null,null,null,null,null,null,null,null,null,null,null,null,null,null,null,null,null,null,null,null,null,null,null,null,null,null,null,null,null,null,null,null,null,null,null,null,null,null,null,null,null,null,null,null,null,null,null,null,null,null,null,null,null,null,null,null,null,null,null,null,null,null,null,null,null,null,null,null,null,null,null,null,null,null,null,null,null,null,null,null,null,null,null,null,null,null,null,null,null,null,null,null,null,null,null,null,null,null,null,null,null,null,null,null,null,null,null,null,null,null,null,null,null,null,null,null,null,null,null,null,null,null,null,null,null,null,null,null,null,null,null,null,null,null,null,null,null,null,null,null,null,null,null,null,null,null,null,null,null,null,null,null,null,null,null,null,null,null,null,null,null,null,null,null,null,null,null,null,null,null,null,null,null,null,null,null,null,null,null,null,null,null,null,null,null,null,null,null,null,null,null,null,null,null,null,null,null,null,null,null,null,null,null,null,null,null,null,null,null,null,null,null,null,null,null,null,null,null,null,null,null,null,null,null,null,null,null,null,null,null,null,null,null,null,null,null,null,null,null,null,null,null,null,null,null,null,null,null,null,null,null,null,null,null,null,null,null,null,null,null,null,null,null,null,null,null,null,null,null,null,null,null,null,null,null,null,null,null,null,null,null,null,null,null,null,null,null,null,null,null,null,null,null,null,null,null,null,null,null,null,null,null,null,null,null,null,null,null,null,null,null,null,null,null,null,null,null,null,null,null,null,null,null,null,null,null,null,null,null,null,null,null,null,null,null,null,null,null,null,null,null,null,null,null,null,null,null,null,null,null,null,null,null,null,null,null,null,null,null,null,null,null,null,null,null,null,null,null,null,null,null,null,null,null,null,null,null,null,null,null,null,null,null,null,null,null,null,null,null,null,null,null,null,null,null,null,null,null,null,null,null,null,null,null,null,null,null,null,null,null,null,null,null,null,null,null,null,null,null,null,null,null,null,null,null,null,null,null,null,null,null,null,null,null,null,null,null,null,null,null,null,null,null,null,null,null,null,null,null,null,null,null,null,null,null,null,null,null,null,null,null,null,null,null,null,null,null,null,null,null,null,null,null,null,null,null,null,null,null,null,null,null,null,null,null,null,null,null,null,null,null,null,null,null,null,null,null,null,null,null,null,null,null,null,null,null,null,null,null,null,null,null,null,null,null,null,null,null,null,null,null,null,null,null,null,null,null,null,null,null,null,null,null,null,null,null,null,null,null,null,null,null,null,null,null,null,null,null,null,null,null,null,null,null,null,null,null,null,null,null,null,null,null,null,null,null,null,null,null,null,null,null,null,null,null,null,null,null,null,null,null,null,null,null,null,null,null,null,null,null,null,null,null,null,null,null,null,null,null,null,null,null,null,null,null,null,null,null,null,null,null,null,null,null,null,null,null,null,null,null,null,null,null,null,null,null,null,null,null,null,null,null,null,null,null,null,null,null,null,null,null,null,null,null,null,null,null,null,null,null,null,null,null,null,null,null,null,null,null,null,null,null,null,null,null,null,null,null,null,null,null,null,null,null,null,null,null,null,null,null,null,null,null,null,null,null,null,null,null,null,null,null,null,null,null,null,null,null,null,null,null,null,null,null,null,null,null,null,null,null,null,null,null,null,null,null,null,null,null,null,null,null,null,null,null,null,null,null,null,null,null,null,null,null,null,null,null,null,null,null,null,null,null,null,null,null,null,null,null,null,null,null,null,null,null,null,null,null,null,null,null,null,null,null,null,null,null,null,null,null,null,null,null,null,null,null,null,null,null,null,null,null,null,null,null,null,null,null,null,null,null,null,null,null,null,null,null,null,null,null,null,null,null,null,null,null,null,null,null,null,null,null,null,null,null,null,null,null,null,null,null,null,null,null,null,null,null,null,null,null,null,null,null,null,null,null,null,null,null,null,null,null,null,null,null,null,null,null,null,null,null,null,null,null,null,null,null,null,null,null,null,null,null,null,null,null,null,null,null,null,null,null,null,null,null,null,null,null,null,null,null,null,null,null,null,null,null,null,null,null,null,null,null,null,null,null,null,null,null,null,null,null,null,null,null,null,null,null,null,null,null,null,null,null,null,null,null,null,null,null,null,null,null,null,null,null,null,null,null,null,null,null,null,null,null,null,null,null,null,null,null,null,null,null,null,null,null,null,null,null,null,null,null,null,null,null,null,null,null,null,null,null,null,null,"Fail"]
[]
[]
[null,"Basic Information"]
[null,"Information",null,null,"Response","Lease Section/Page Ref\nWP Ref","Comments / Additional Documentation, as applicable"]
[]
[null,"Contractual lease commencement date (mm/dd/yyyy)"]
[null,"End of initial lease term considering below guidance (mm/dd/yyyy)"]
[null,"(a) if there is an option to extend the contractual term, and that option is reasonably certain to be exercised, enter the extended end date\n(b) if there is an option for early termination, and that option is reasonably certain to be exercised, enter the earlier end date\n(c) if none of the above applies, enter the contractual end of the lease term"]
[null,"Frequency of lease payments"]
[null,"Timing of lease payments (beginning or end of period)"]
[]
[null,"Lease Term (Eg., 36)"]
[null,null,null,null,"Check/update the lease term for accuracy"]
[null,"Discount Rate (implicit rate or incremental borrowing rate)\n(Provide WP Reference)"]
[null,"How has the company determined the discount rate?"]
[null,"Is there a rent free period?"]
[null,"Is there any prepaid lease payments?"]
[null,null,null,null,{"$f":"IF(E21=\"No\",IF(E22=\"No\",\"\",\"Include those in the Lease Payments table\"),\"Include those in the Lease Payments table\")","v":"Include those in the Lease Payments table"}]
[null,"Initial Direct Costs "]
[]
[null,"Has the company elected the practical expedient to account for each separate lease component of a contract and its associated non-lease components as a single lease payment (such as common area maintenance, service plan, maintenance plan, etc.)?"]
[]
[]
[null,"Percent allocation of total payments to ROU asset (split between lease and non-lease)",null,null,1]
[]
[null,"Transitional Adjustment"]
[null,"Information",null,null,"Response","WP Reference","Comments / Additional Documentation, as applicable"]
[]
[null,"Has the Company elected the following transitional practical expedients?"]
[null,"o An entity need not reassess whether any expired or existing contracts are or contain leases. "]
[null,"o An entity need not reassess the lease classification for any expired or existing leases. Instead, any leases previously classified as operating leases will continue to be classified as operating leases, while any leases previously classified as capital leases will be classified as finance leases. "]
[null,"o An entity need not reassess initial direct costs for any leases. "]
[null,"Note: the above three practical expedients must be adopted as package."]
[]
[null,"o An entity may use hindsight in determining the lease term, including consideration of renewal, termination and purchase options, and in assessing impairment of ROU assets."]
[]
[null,"Additional Comments, if any:"]
[]
[]
[]
[]
[]
[]
[]
[]
[]
[]
[]
[]
[]
[]
[]
[]
[]
[]
[]
[]
[]
[]
[]
[]
[]
[]
[]
[]
[]
[]
[]
[]
[]
[]
[]
[]
[]
[]
[]
[]
[]
[]
[]
[]
[]
[]
[]
[]
[]
[]
[]
[]
[]
[]
[]
[]
[]
[]
[]
[]
[]
[]
[]
[]
[]
[]
[]
[]
[]
[]
[]
[]
[]
[]
[]
[]
[]
[]
[]
[]
[]
[]
[]
[]
[]
[]
[]
[]
[]
[]
[]
[]
[]
[]
[]
[]
[]
[]
[]
[]
[]
[]
[]
[]
[]
[]
[]
[]
[]
[]
[]
[]
[]
[]
[]
[]
[]
[]
[]
[]
[]
[]
[]
[]
[]
[]
[]
[]
[]
[]
[]
[]
[]
[]
[]
[]
[]
[]
[]
[]
[]
[]
[]
[]
[]
[]
[]
[]
[]
[]
[]
[]
[]
[]
[]
[]
[]
[]
[]
[]
[]
[]
[]
[]
[]
[]
[]
[]
[]
[]
[]
[]
[]
[]
[]
[]
[]
[]
[]
[]
[]
[]
[]
[]
[]
[]
[]
[]
[]
[]
[]
[]
[]
[]
[]
[]
[]
[]
[]
[]
[]
[]
[]
[]
[]
[]
[]
[]
[]
[]
[]
[]
[]
[]
[]
[]
[]
[]
[]
[]
[]
[]
[]
[]
[]
[]
[]
[]
[]
[]
[]
[]
[]
[]
[]
[]
[]
[]
[]
[]
[]
[]
[]
[]
[]
[]
[]
[]
[]
[]
[]
[]
[]
[]
[]
[]
[]
[]
[]
[]
[]
[]
[]
[]
[]
[]
[]
[]
[]
[]
[]
[]
[]
[]
[]
[]
[]
[]
[]
[]
[]
[]
[]
[]
[]
[]
[]
[]
[]
[]
[]
[]
[]
[]
[]
[]
[]
[]
[]
[]
[]
[]
[]
[]
[]
[]
[]
[]
[]
[]
[]
[]
[]
[]
[]
[]
[]
[]
[]
[]
[]
[]
[]
[]
[]
[]
[]
[]
[]
[]
[]
[]
[]
[]
[]
[]
[]
[]
[]
[]
[]
[]
[]
[]
[]
[]
[]
[]
[]
[]
[]
[]
[]
[]
[]
[]
[]
[]
[]
[]
[]
[]
[]
[]
[]
[]
[]
[]
[]
[]
[]
[]
[]
[]
[]
[]
[]
[]
[]
[]
[]
[]
[]
[]
[]
[]
[]
[]
[]
[]
[]
[]
[]
[]
[]
[]
[]
[]
[]
[]
[]
[]
[]
[]
[]
[]
[]
[]
[]
[]
[]
[]
[]
[]
[]
[]
[]
[]
[]
[]
[]
[]
[]
[]
[]
[]
[]
[]
[]
[]
[]
[]
[]
[]
[]
[]
[]
[]
[]
[]
[]
[]
[]
[]
[]
[]
[]
[]
[]
[]
[]
[]
[]
[]
[]
[]
[]
[]
[]
[]
[]
[]
[]
[]
[]
[]
[]
[]
[]
[]
[]
[]
[]
[]
[]
[]
[]
[]
[]
[]
[]
[]
[]
[]
[]
[]
[]
[]
[]
[]
[]
[]
[]
[]
[]
[]
[]
[]
[]
[]
[]
[]
[]
[]
[]
[]
[]
[]
[]
[]
[]
[]
[]
[]
[]
[]
[]
[]
[]
[]
[]
[]
[]
[]
[]
[]
[]
[]
[]
[]
[]
[]
[]
[]
[]
[]
[]
[]
[]
[]
[]
[]
[]
[]
[]
[]
[]
[]
[]
[]
[]
[]
[]
[]
[]
[]
[]
[]
[]
[]
[]
[]
[]
[]
[]
[]
[]
[]
[]
[]
[]
[]
[]
[]
[]
[]
[]
[]
[]
[]
[]
[]
[]
[]
[]
[]
[]
[]
[]
[]
[]
[]
[]
[]
[]
[]
[]
[]
[]
[]
[]
[]
[]
[]
[]
[]
[]
[]
[]
[]
[]
[]
[]
[]
[]
[]
[]
[]
[]
[]
[]
[]
[]
[]
[]
[]
[]
[]
[]
[]
[]
[]
[]
[]
[]
[]
[]
[]
[]
[]
[]
[]
[]
[]
[]
[]
[]
[]
[]
[]
[]
[]
[]
[]
[]
[]
[]
[]
[]
[]
[]
[]
[]
[]
[]
[]
[]
[]
[]
[]
[]
[]
[]
[]
[]
[]
[]
[]
[]
[]
[]
[]
[]
[]
[]
[]
[]
[]
[]
[]
[]
[]
[]
[]
[]
[]
[]
[]
[]
[]
[]
[]
[]
[]
[]
[]
[]
[]
[]
[]
[]
[]
[]
[]
[]
[]
[]
[]
[]
[]
[]
[]
[]
[]
[]
[]
[]
[]
[]
[]
[]
[]
[]
[]
[]
[]
[]
[]
[]
[]
[]
[]
[]
[]
[]
[]
[]
[]
[]
[]
[]
[]
[]
[]
[]
[]
[]
[]
[]
[]
[]
[]
[]
[]
[]
[]
[]
[]
[]
[]
[]
[]
[]
[]
[]
[]
[]
[]
[]
[]
[]
[]
[]
[]
[]
[]
[]
[]
[]
[]
[]
[]
[]
[]
[]
[]
[]
[]
[]
[]
[]
[]
[]
[]
[]
[]
[]
[]
[]
[]
[]
[]
[]
[]
[]
[]
[]
[]
[]
[]
[]
[]
[]
[]
[]
[]
[]
[]
[]
[]
[]
[]
[]
[]
[]
[]
[]
[]
[]
[]
[]
[]
[]
[]
[]
[]
[]
[]
[]
[]
[]
[]
[]
[]
[]
[]
[]
[]
[]
[]
[]
[]
[]
[]
[]
[]
[]
[]
[]
[]
[]
[]
[]
[]
[]
[]
[]
[]
[]
[]
[]
[]
[]
[]
[]
[]
[]
[]
[]
[null,null,null,null,null,null,null,null,null,null,null,null,null,null,null,null,null,null,null,null,null,null,null,null,null,null,null,null,null,null,null,null,null,null,null,null,null,null,null,null,null,null,null,null,null,null,null,null,null,null,null,null,null,null,null,null,null,null,null,null,null,null,null,null,null,null,null,null,null,null,null,null,null,null,null,null,null,null,null,null,null,null,null,null,null,null,null,null,null,null,null,null,null,null,null,null,null,null,null,null,null,null,null,null,null,null,null,null,null,null,null,null,null,null,null,null,null,null,null,null,null,null,null,null,null,null,null,null,null,null,null,null,null,null,null,null,null,null,null,null,null,null,null,null,null,null,null,null,null,null,null,null,null,null,null,null,null,null,null,null,null,null,null,null,null,null,null,null,null,null,null,null,null,null,null,null,null,null,null,null,null,null,null,null,null,null,null,null,null,null,null,null,null,null,null,null,null,null,null,null,null,null,null,null,null,null,null,null,null,null,null,null,null,null,null,null,null,null,null,null,null,null,null,null,null,null,null,null,null,null,null,null,null,null,null,null,null,null,null,null,null,null,null,null,null,null,null,null,null,null,null,null,null,null,null,null,null,null,null,null,null,null,null,null,null,null,null,null,null,null,null,null,null,null,null,null,null,null,null,null,null,null,null,null,null,null,null,null,null,null,null,null,null,null,null,null,null,null,null,null,null,null,null,null,null,null,null,null,null,null,null,null,null,null,null,null,null,null,null,null,null,null,null,null,null,null,null,null,null,null,null,null,null,null,null,null,null,null,null,null,null,null,null,null,null,null,null,null,null,null,null,null,null,null,null,null,null,null,null,null,null,null,null,null,null,null,null,null,null,null,null,null,null,null,null,null,null,null,null,null,null,null,null,null,null,null,null,null,null,null,null,null,null,null,null,null,null,null,null,null,null,null,null,null,null,null,null,null,null,null,null,null,null,null,null,null,null,null,null,null,null,null,null,null,null,null,null,null,null,null,null,null,null,null,null,null,null,null,null,null,null,null,null,null,null,null,null,null,null,null,null,null,null,null,null,null,null,null,null,null,null,null,null,null,null,null,null,null,null,null,null,null,null,null,null,null,null,null,null,null,null,null,null,null,null,null,null,null,null,null,null,null,null,null,null,null,null,null,null,null,null,null,null,null,null,null,null,null,null,null,null,null,null,null,null,null,null,null,null,null,null,null,null,null,null,null,null,null,null,null,null,null,null,null,null,null,null,null,null,null,null,null,null,null,null,null,null,null,null,null,null,null,null,null,null,null,null,null,null,null,null,null,null,null,null,null,null,null,null,null,null,null,null,null,null,null,null,null,null,null,null,null,null,null,null,null,null,null,null,null,null,null,null,null,null,null,null,null,null,null,null,null,null,null,null,null,null,null,null,null,null,null,null,null,null,null,null,null,null,null,null,null,null,null,null,null,null,null,null,null,null,null,null,null,null,null,null,null,null,null,null,null,null,null,null,null,null,null,null,null,null,null,null,null,null,null,null,null,null,null,null,null,null,null,null,null,null,null,null,null,null,null,null,null,null,null,null,null,null,null,null,null,null,null,null,null,null,null,null,null,null,null,null,null,null,null,null,null,null,null,null,null,null,null,null,null,null,null,null,null,null,null,null,null,null,null,null,null,null,null,null,null,null,null,null,null,null,null,null,null,null,null,null,null,null,null,null,null,null,null,null,null,null,null,null,null,null,null,null,null,null,null,null,null,null,null,null,null,null,null,null,null,null,null,null,null,null,null,null,null,null,null,null,null,null,null,null,null,null,null,null,null,null,null,null,null,null,null,null,null,null,null,null,null,null,null,null,null,null,null,null,null,null,null,null,null,null,null,null,null,null,null,null,null,null,null,null,null,null,null,null,null,null,null,null,null,null,null,null,null,null,null,null,null,null,null,null,null,null,null,null,null,null,null,null,null,null,null,null,null,null,null,null,null,null,null,null,null,null,null,null,null,null,null,null,null,null,null,null,null,null,null,null,null,null,null,null,null,null,null,null,null,null,null,null,null,null,null,null,null,null,null,null,null,null,null,null,null,null,null,null,null,null,null,null,null,null,null,null,null,null,null,null,null,null,null,null,null,null,null,null,null,null,null,null,null,null,null,null,null,null,null,null,null,null,null,null,null,null,null,null,null,null,null,null,null,null,null,null,null,null,null,null,null,null,null,null,null,null,null,null,null,null,null,null,null,null,null,null,null,null,null,null,null,null,null,null,null,null,null,null,null,null,null,null,null,null,null,null,null,null,null,null,null,null,null,null,null,null,null,null,null,null,null,null,null,null,null,null,null,null,null,null,null,null,null,null,null,null,null,null,null,null,null,null,null,null,null,null,null,null,null,null,null,null,null,null,null,null,null,null,null,null,null,null,null,null,null,null,null,null,null,null,null,null,null,null,null,null,null,null,null,null,null,null,null,null,null,null,null,null,null,null,null,null,null,null,null,null,null,null,null,null,null,null,null,null,null,null,null,null,null,null,null,null,null,null,null,null,null,null,null,null,null,null,null,null,null,null,null,null,null,null,null,null,null,null,null,null,null,null,null,null,null,null,null,null,null,null,null,null,null,null,null,null,null,null,null,null,null,null,null,null,null,null,null,null,null,null,null,null,null,null,null,null,null,null,null,null,null,null,null,null,null,null,null,null,null,null,null,null,null,null,null,null,null,null,null,null,null,null,null,null,null,null,null,null,null,null,null,null,null,null,null,null,null,null,null,null,null,null,null,null,null,null,null,null,null,null,null,null,null,null,null,null,null,null,null,null,null,null,null,null,null,null,null,null,null,null,null,null,null,null,null,null,null,null,null,null,null,null,null,null,null,null,null,null,null,null,null,null,null,null,null,null,null,null,null,null,null,null,null,null,null,null,null,null,null,null,null,null,null,null,null,null,null,null,null,null,null,null,null,null,null,null,null,null,null,null,null,null,null,null,null,null,null,null,null,null,null,null,null,null,null,null,null,null,null,null,null,null,null,null,null,null,null,null,null,null,null,null,null,null,null,null,null,null,null,null,null,null,null,null,null,null,null,null,null,null,null,null,null,null,null,null,null,null,null,null,null,null,null,null,null,null,null,null,null,null,null,null,null,null,null,null,null,null,null,null,null,null,null,null,null,null,null,null,null,null,null,null,null,null,null,null,null,null,null,null,null,null,null,null,null,null,null,null,null,null,null,null,null,null,null,null,null,null,null,null,null,null,null,null,null,null,null,null,null,null,null,null,null,null,null,null,null,null,null,null,null,null,null,"X"]

{"sheet":"Step 3. Lease Payments","index":3,"n_rows":1000,"n_cols":16286,"rows_kept":1000,"cut":false,"hidden":true,"merged":[[8,5,8,6],[8,1,8,3],[7,6,7,7],[7,1,7,5],[1,1,1,2],[2,1,2,2],[3,1,3,2],[4,1,4,2],[1,3,1,4],[2,3,2,4],[3,3,3,4],[4,3,4,4],[6,1,6,7]]}
[]
[null,"BDO"]
[null,"ENTITY NAME",null,{"$f":"IF(ISBLANK('Step 1. Scoping'!C3)=TRUE,\"\",'Step 1. Scoping'!C3)","v":""},null,null,"User Input Cells",null,null,null,null,null,null,null,null,null,null,null,null,null,null,null,null,null,null,null,null,null,null,null,null,null,null,null,null,null,null,null,null,null,null,null,null,null,null,null,null,null,null,null,null,null,null,null,null,null,null,null,null,null,null,null,null,null,null,null,null,null,null,null,null,null,null,null,null,null,null,null,null,null,null,null,null,null,null,null,null,null,null,null,null,null,null,null,null,null,null,null,null,null,null,null,null,null,null,null,null,null,null,null,null,null,null,null,null,null,null,null,null,null,null,null,null,null,null,null,null,null,null,null,null,null,null,null,null,null,null,null,null,null,null,null,null,null,null,null,null,null,null,null,null,null,null,null,null,null,null,null,null,null,null,null,null,null,null,null,null,null,null,null,null,null,null,null,null,null,null,null,null,null,null,null,null,null,null,null,null,null,null,null,null,null,null,null,null,null,null,null,null,null,null,null,null,null,null,null,null,null,null,null,null,null,null,null,null,null,null,null,null,null,null,null,null,null,null,null,null,null,null,null,null,null,null,null,null,null,null,null,null,null,null,null,null,null,null,null,null,null,null,null,null,null,null,null,null,null,null,null,null,null,null,null,null,null,null,null,null,null,null,null,null,null,null,null,null,null,null,null,null,null,null,null,null,null,null,null,null,null,null,null,null,null,null,null,null,null,null,null,null,null,null,null,null,null,null,null,null,null,null,null,null,null,null,null,null,null,null,null,null,null,null,null,null,null,null,null,null,null,null,null,null,null,null,null,null,null,null,null,null,null,null,null,null,null,null,null,null,null,null,null,null,null,null,null,null,null,null,null,null,null,null,null,null,null,null,null,null,null,null,null,null,null,null,null,null,null,null,null,null,null,null,null,null,null,null,null,null,null,null,null,null,null,null,null,null,null,null,null,null,null,null,null,null,null,null,null,null,null,null,null,null,null,null,null,null,null,null,null,null,null,null,null,null,null,null,null,null,null,null,null,null,null,null,null,null,null,null,null,null,null,null,null,null,null,null,null,null,null,null,null,null,null,null,null,null,null,null,null,null,null,null,null,null,null,null,null,null,null,null,null,null,null,null,null,null,null,null,null,null,null,null,null,null,null,null,null,null,null,null,null,null,null,null,null,null,null,null,null,null,null,null,null,null,null,null,null,null,null,null,null,null,null,null,null,null,null,null,null,null,null,null,null,null,null,null,null,null,null,null,null,null,null,null,null,null,null,null,null,null,null,null,null,null,null,null,null,null,null,null,null,null,null,null,null,null,null,null,null,null,null,null,null,null,null,null,null,null,null,null,null,null,null,null,null,null,null,null,null,null,null,null,null,null,null,null,null,null,null,null,null,null,null,null,null,null,null,null,null,null,null,null,null,null,null,null,null,null,null,null,null,null,null,null,null,null,null,null,null,null,null,null,null,null,null,null,null,null,null,null,null,null,null,null,null,null,null,null,null,null,null,null,null,null,null,null,null,null,null,null,null,null,null,null,null,null,null,null,null,null,null,null,null,null,null,null,null,null,null,null,null,null,null,null,null,null,null,null,null,null,null,null,null,null,null,null,null,null,null,null,null,null,null,null,null,null,null,null,null,null,null,null,null,null,null,null,null,null,null,null,null,null,null,null,null,null,null,null,null,null,null,null,null,null,null,null,null,null,null,null,null,null,null,null,null,null,null,null,null,null,null,null,null,null,null,null,null,null,null,null,null,null,null,null,null,null,null,null,null,null,null,null,null,null,null,null,null,null,null,null,null,null,null,null,null,null,null,null,null,null,null,null,null,null,null,null,null,null,null,null,null,null,null,null,null,null,null,null,null,null,null,null,null,null,null,null,null,null,null,null,null,null,null,null,null,null,null,null,null,null,null,null,null,null,null,null,null,null,null,null,null,null,null,null,null,null,null,null,null,null,null,null,null,null,null,null,null,null,null,null,null,null,null,null,null,null,null,null,null,null,null,null,null,null,null,null,null,null,null,null,null,null,null,null,null,null,null,null,null,null,null,null,null,null,null,null,null,null,null,null,null,null,null,null,null,null,null,null,null,null,null,null,null,null,null,null,null,null,null,null,null,null,null,null,null,null,null,null,null,null,null,null,null,null,null,null,null,null,null,null,null,null,null,null,null,null,null,null,null,null,null,null,null,null,null,null,null,null,null,null,null,null,null,null,null,null,null,null,null,null,null,null,null,null,null,null,null,null,null,null,null,null,null,null,null,null,null,null,null,null,null,null,null,null,null,null,null,null,null,null,null,null,null,null,null,null,null,null,null,null,null,null,null,null,null,null,null,null,null,null,null,null,null,null,null,null,null,null,null,null,null,null,null,null,null,null,null,null,null,null,null,null,null,null,null,null,null,null,null,null,null,null,null,null,null,null,null,null,null,null,null,null,null,null,null,null,null,null,null,null,null,null,null,null,null,null,null,null,null,null,null,null,null,null,null,null,null,null,null,null,null,null,null,null,null,null,null,null,null,null,null,null,null,null,null,null,null,null,null,null,null,null,null,null,null,null,null,null,null,null,null,null,null,null,null,null,null,null,null,null,null,null,null,null,null,null,null,null,null,null,null,null,null,null,null,null,null,null,null,null,null,null,null,null,null,null,null,null,null,null,null,null,null,null,null,null,null,null,null,null,null,null,null,null,null,null,null,null,null,null,null,null,null,null,null,null,null,null,null,null,null,null,null,null,null,null,null,null,null,null,null,null,null,null,null,null,null,null,null,null,null,null,null,null,null,null,null,null,null,null,null,null,null,null,null,null,null,null,null,null,null,null,null,null,null,null,null,null,null,null,null,null,null,null,null,null,null,null,null,null,null,null,null,null,null,null,null,null,null,null,null,null,null,null,null,null,null,null,null,null,null,null,null,null,null,null,null,null,null,null,null,null,null,null,null,null,null,null,null,null,null,null,null,null,null,null,null,null,null,null,null,null,null,null,null,null,null,null,null,null,null,null,null,null,null,null,null,null,null,null,null,null,null,null,null,null,null,null,null,null,null,null,null,null,null,null,null,null,null,null,null,null,null,null,null,null,null,null,null,null,null,null,null,null,null,null,null,null,null,null,null,null,null,null,null,null,null,null,null,null,null,null,null,null,null,null,null,null,null,null,null,null,null,null,null,null,null,null,null,null,null,null,null,null,null,null,null,null,null,null,null,null,null,null,null,null,null,null,null,null,null,null,null,null,null,null,null,null,null,null,null,null,null,null,null,null,null,null,null,null,null,null,null,null,null,null,null,null,null,null,null,null,null,null,null,null,null,null,null,null,null,null,null,null,null,null,null,null,null,null,null,null,null,null,null,null,null,null,null,null,null,null,null,null,null,null,null,null,null,null,null,null,null,null,null,null,null,null,null,null,null,null,null,null,null,null,null,null,null,null,null,null,null,null,null,null,null,null,null,null,null,null,null,null,null,null,null,null,null,null,null,null,null,null,null,null,null,null,null,null,null,null,null,null,null,null,null,null,null,null,null,null,null,null,null,null,null,null,null,null,null,null,null,null,null,null,null,null,null,null,null,null,null,null,null,null,null,null,null,null,null,null,null,null,null,null,null,null,null,null,null,null,null,null,null,null,null,null,null,null,null,null,null,null,null,null,null,null,null,null,null,null,null,null,null,null,null,null,null,null,null,null,null,null,null,null,null,null,null,null,null,null,null,null,null,null,null,null,null,null,null,null,null,null,null,null,null,null,null,null,null,null,null,null,null,null,null,null,null,null,null,null,null,null,null,null,null,null,null,null,null,null,null,null,null,null,null,null,null,null,null,null,null,null,null,null,null,null,null,null,null,null,null,null,null,null,null,null,null,null,null,null,null,null,null,null,null,null,null,null,null,null,null,null,null,null,null,null,null,null,null,null,null,null,null,null,null,null,null,null,null,null,null,null,null,null,null,null,null,null,null,null,null,null,null,null,null,null,null,null,null,null,null,null,null,null,null,null,null,null,null,null,null,null,null,null,null,null,null,null,null,null,null,null,null,null,null,null,null,null,null,null,null,null,null,null,null,null,null,null,null,null,null,null,null,null,null,null,null,null,null,null,null,null,null,null,null,null,null,null,null,null,null,null,null,null,null,null,null,null,null,null,null,null,null,null,null,null,null,null,null,null,null,null,null,null,null,null,null,null,null,null,null,null,null,null,null,null,null,null,null,null,null,null,null,null,null,null,null,null,null,null,null,null,null,null,null,null,null,null,null,null,null,null,null,null,null,null,null,null,null,null,null,null,null,null,null,null,null,null,null,null,null,null,null,null,null,null,null,null,null,null,null,null,null,null,null,null,null,null,null,null,null,null,null,null,null,null,null,null,null,null,null,null,null,null,null,null,null,null,null,null,null,null,null,null,null,null,null,null,null,null,null,null,null,null,null,null,null,null,null,null,null,null,null,null,null,null,null,null,null,null,null,null,null,null,null,null,null,null,null,null,null,null,null,null,null,null,null,null,null,null,null,null,null,null,null,null,null,null,null,null,null,null,null,null,null,null,null,null,null,null,null,null,null,null,null,null,null,null,null,null,null,null,null,null,null,null,null,null,null,null,null,null,null,null,null,null,null,null,null,null,null,null,null,null,null,null,null,null,null,null,null,null,null,null,null,null,null,null,null,null,null,null,null,null,null,null,null,null,null,null,null,null,null,null,null,null,null,null,null,null,null,null,null,null,null,null,null,null,null,null,null,null,null,null,null,null,null,null,null,null,null,null,null,null,null,null,null,null,null,null,null,null,null,null,null,null,null,null,null,null,null,null,null,null,null,null,null,null,null,null,null,null,null,null,null,null,null,null,null,null,null,null,null,null,null,null,null,null,null,null,null,null,null,null,null,null,null,null,null,null,null,null,null,null,null,null,null,null,null,null,null,null,null,null,null,null,null,null,null,null,null,null,null,null,null,null,null,null,null,null,null,null,null,null,null,null,null,null,null,null,null,null,null,null,null,null,null,null,null,null,null,null,null,null,null,null,null,null,null,null,null,null,null,null,null,null,null,null,null,null,null,null,null,null,null,null,null,null,null,null,null,null,null,null,null,null,null,null,null,null,null,null,null,null,null,null,null,null,null,null,null,null,null,null,null,null,null,null,null,null,null,null,null,null,null,null,null,null,null,null,null,null,null,null,null,null,null,null,null,null,null,null,null,null,null,null,null,null,null,null,null,null,null,null,null,null,null,null,null,null,null,null,null,null,null,null,null,null,null,null,null,null,null,null,null,null,null,null,null,null,null,null,null,null,null,null,null,null,null,null,null,null,null,null,null,null,null,null,null,null,null,null,null,null,null,null,null,null,null,null,null,null,null,null,null,null,null,null,null,null,null,null,null,null,null,null,null,null,null,null,null,null,null,null,null,null,null,null,null,null,null,null,null,null,null,null,null,null,null,null,null,null,null,null,null,null,null,null,null,null,null,null,null,null,null,null,null,null,null,null,null,null,null,null,null,null,null,null,null,null,null,null,null,null,null,null,null,null,null,null,null,null,null,null,null,null,null,null,null,null,null,null,null,null,null,null,null,null,null,null,null,null,null,null,null,null,null,null,null,null,null,null,null,null,null,null,null,null,null,null,null,null,null,null,null,null,null,null,null,null,null,null,null,null,null,null,null,null,null,null,null,null,null,null,null,null,null,null,null,null,null,null,null,null,null,null,null,null,null,null,null,null,null,null,null,null,null,null,null,null,null,null,null,null,null,null,null,null,null,null,null,null,null,null,null,null,null,null,null,null,null,null,null,null,null,null,null,null,null,null,null,null,null,null,null,null,null,null,null,null,null,null,null,null,null,null,null,null,null,null,null,null,null,null,null,null,null,null,null,null,null,null,null,null,null,null,null,null,null,null,null,null,null,null,null,null,null,null,null,null,null,null,null,null,null,null,null,null,null,null,null,null,null,null,null,null,null,null,null,null,null,null,null,null,null,null,null,null,null,null,null,null,null,null,null,null,null,null,null,null,null,null,null,null,null,null,null,null,null,null,null,null,null,null,null,null,null,null,null,null,null,null,null,null,null,null,null,null,null,null,null,null,null,null,null,null,null,null,null,null,null,null,null,null,null,null,null,null,null,null,null,null,null,null,null,null,null,null,null,null,null,null,null,null,null,null,null,null,null,null,null,null,null,null,null,null,null,null,null,null,null,null,null,null,null,null,null,null,null,null,null,null,null,null,null,null,null,null,null,null,null,null,null,null,null,null,null,null,null,null,null,null,null,null,null,null,null,null,null,null,null,null,null,null,null,null,null,null,null,null,null,null,null,null,null,null,null,null,null,null,null,null,null,null,null,null,null,null,null,null,null,null,null,null,null,null,null,null,null,null,null,null,null,null,null,null,null,null,null,null,null,null,null,null,null,null,null,null,null,null,null,null,null,null,null,null,null,null,null,null,null,null,null,null,null,null,null,null,null,null,null,null,null,null,null,null,null,null,null,null,null,null,null,null,null,null,null,null,null,null,null,null,null,null,null,null,null,null,null,null,null,null,null,null,null,null,null,null,null,null,null,null,null,null,null,null,null,null,null,null,null,null,null,null,null,null,null,null,null,null,null,null,null,null,null,null,null,null,null,null,null,null,null,null,null,null,null,null,null,null,null,null,null,null,null,null,null,null,null,null,null,null,null,null,null,null,null,null,null,null,null,null,null,null,null,null,null,null,null,null,null,null,null,null,null,null,null,null,null,null,null,null,null,null,null,null,null,null,null,null,null,null,null,null,null,null,null,null,null,null,null,null,null,null,null,null,null,null,null,null,null,null,null,null,null,null,null,null,null,null,null,null,null,null,null,null,null,null,null,null,null,null,null,null,null,null,null,null,null,null,null,null,null,null,null,null,null,null,null,null,null,null,null,null,null,null,null,null,null,null,null,null,null,null,null,null,null,null,null,null,null,null,null,null,null,null,null,null,null,null,null,null,null,null,null,null,null,null,null,null,null,null,null,null,null,null,null,null,null,null,null,null,null,null,null,null,null,null,null,null,null,null,null,null,null,null,null,null,null,null,null,null,null,null,null,null,null,null,null,null,null,null,null,null,null,null,null,null,null,null,null,null,null,null,null,null,null,null,null,null,null,null,null,null,null,null,null,null,null,null,null,null,null,null,null,null,null,null,null,null,null,null,null,null,null,null,null,null,null,null,null,null,null,null,null,null,null,null,null,null,null,null,null,null,null,null,null,null,null,null,null,null,null,null,null,null,null,null,null,null,null,null,null,null,null,null,null,null,null,null,null,null,null,null,null,null,null,null,null,null,null,null,null,null,null,null,null,null,null,null,null,null,null,null,null,null,null,null,null,null,null,null,null,null,null,null,null,null,null,null,null,null,null,null,null,null,null,null,null,null,null,null,null,null,null,null,null,null,null,null,null,null,null,null,null,null,null,null,null,null,null,null,null,null,null,null,null,null,null,null,null,null,null,null,null,null,null,null,null,null,null,null,null,null,null,null,null,null,null,null,null,null,null,null,null,null,null,null,null,null,null,null,null,null,null,null,null,null,null,null,null,null,null,null,null,null,null,null,null,null,null,null,null,null,null,null,null,null,null,null,null,null,null,null,null,null,null,null,null,null,null,null,null,null,null,null,null,null,null,null,null,null,null,null,null,null,null,null,null,null,null,null,null,null,null,null,null,null,null,null,null,null,null,null,null,null,null,null,null,null,null,null,null,null,null,null,null,null,null,null,null,null,null,null,null,null,null,null,null,null,null,null,null,null,null,null,null,null,null,null,null,null,null,null,null,null,null,null,null,null,null,null,null,null,null,null,null,null,null,null,null,null,null,null,null,null,null,null,null,null,null,null,null,null,null,null,null,null,null,null,null,null,null,null,null,null,null,null,null,null,null,null,null,null,null,null,null,null,null,null,null,null,null,null,null,null,null,null,null,null,null,null,null,null,null,null,null,null,null,null,null,null,null,null,null,null,null,null,null,null,null,null,null,null,null,null,null,null,null,null,null,null,null,null,null,null,null,null,null,null,null,null,null,null,null,null,null,null,null,null,null,null,null,null,null,null,null,null,null,null,null,null,null,null,null,null,null,null,null,null,null,null,null,null,null,null,null,null,null,null,null,null,null,null,null,null,null,null,null,null,null,null,null,null,null,null,null,null,null,null,null,null,null,null,null,null,null,null,null,null,null,null,null,null,null,null,null,null,null,null,null,null,null,null,null,null,null,null,null,null,null,null,null,null,null,null,null,null,null,null,null,null,null,null,null,null,null,null,null,null,null,null,null,null,null,null,null,null,null,null,null,null,null,null,null,null,null,null,null,null,null,null,null,null,null,null,null,null,null,null,null,null,null,null,null,null,null,null,null,null,null,null,null,null,null,null,null,null,null,null,null,null,null,null,null,null,null,null,null,null,null,null,null,null,null,null,null,null,null,null,null,null,null,null,null,null,null,null,null,null,null,null,null,null,null,null,null,null,null,null,null,null,null,null,null,null,null,null,null,null,null,null,null,null,null,null,null,null,null,null,null,null,null,null,null,null,null,null,null,null,null,null,null,null,null,null,null,null,null,null,null,null,null,null,null,null,null,null,null,null,null,null,null,null,null,null,null,null,null,null,null,null,null,null,null,null,null,null,null,null,null,null,null,null,null,null,null,null,null,null,null,null,null,null,null,null,null,null,null,null,null,null,null,null,null,null,null,null,null,null,null,null,null,null,null,null,null,null,null,null,null,null,null,null,null,null,null,null,null,null,null,null,null,null,null,null,null,null,null,null,null,null,null,null,null,null,null,null,null,null,null,null,null,null,null,null,null,null,null,null,null,null,null,null,null,null,null,null,null,null,null,null,null,null,null,null,null,null,null,null,null,null,null,null,null,null,null,null,null,null,null,null,null,null,null,null,null,null,null,null,null,null,null,null,null,null,null,null,null,null,null,null,null,null,null,null,null,null,null,null,null,null,null,null,null,null,null,null,null,null,null,null,null,null,null,null,null,null,null,null,null,null,null,null,null,null,null,null,null,null,null,null,null,null,null,null,null,null,null,null,null,null,null,null,null,null,null,null,null,null,null,null,null,null,null,null,null,null,null,null,null,null,null,null,null,null,null,null,null,null,null,null,null,null,null,null,null,null,null,null,null,null,null,null,null,null,null,null,null,null,null,null,null,null,null,null,null,null,null,null,null,null,null,null,null,null,null,null,null,null,null,null,null,null,null,null,null,null,null,null,null,null,null,null,null,null,null,null,null,null,null,null,null,null,null,null,null,null,null,null,null,null,null,null,null,null,null,null,null,null,null,null,null,null,null,null,null,null,null,null,null,null,null,null,null,null,null,null,null,null,null,null,null,null,null,null,null,null,null,null,null,null,null,null,null,null,null,null,null,null,null,null,null,null,null,null,null,null,null,null,null,null,null,null,null,null,null,null,null,null,null,null,null,null,null,null,null,null,null,null,null,null,null,null,null,null,null,null,null,null,null,null,null,null,null,null,null,null,null,null,null,null,null,null,null,null,null,null,null,null,null,null,null,null,null,null,null,null,null,null,null,null,null,null,null,null,null,null,null,null,null,null,null,null,null,null,null,null,null,null,null,null,null,null,null,null,null,null,null,null,null,null,null,null,null,null,null,null,null,null,null,null,null,null,null,null,null,null,null,null,null,null,null,null,null,null,null,null,null,null,null,null,null,null,null,null,null,null,null,null,null,null,null,null,null,null,null,null,null,null,null,null,null,null,null,null,null,null,null,null,null,null,null,null,null,null,null,null,null,null,null,null,null,null,null,null,null,null,null,null,null,null,null,null,null,null,null,null,null,null,null,null,null,null,null,null,null,null,null,null,null,null,null,null,null,null,null,null,null,null,null,null,null,null,null,null,null,null,null,null,null,null,null,null,null,null,null,null,null,null,null,null,null,null,null,null,null,null,null,null,null,null,null,null,null,null,null,null,null,null,null,null,null,null,null,null,null,null,null,null,null,null,null,null,null,null,null,null,null,null,null,null,null,null,null,null,null,null,null,null,null,null,null,null,null,null,null,null,null,null,null,null,null,null,null,null,null,null,null,null,null,null,null,null,null,null,null,null,null,null,null,null,null,null,null,null,null,null,null,null,null,null,null,null,null,null,null,null,null,null,null,null,null,null,null,null,null,null,null,null,null,null,null,null,null,null,null,null,null,null,null,null,null,null,null,null,null,null,null,null,null,null,null,null,null,null,null,null,null,null,null,null,null,null,null,null,null,null,null,null,null,null,null,null,null,null,null,null,null,null,null,null,null,null,null,null,null,null,null,null,null,null,null,null,null,null,null,null,null,null,null,null,null,null,null,null,null,null,null,null,null,null,null,null,null,null,null,null,null,null,null,null,null,null,null,null,null,null,null,null,null,null,null,null,null,null,null,null,null,null,null,null,null,null,null,null,null,null,null,null,null,null,null,null,null,null,null,null,null,null,null,null,null,null,null,null,null,null,null,null,null,null,null,null,null,null,null,null,null,null,null,null,null,null,null,null,null,null,null,null,null,null,null,null,null,null,null,null,null,null,null,null,null,null,null,null,null,null,null,null,null,null,null,null,null,null,null,null,null,null,null,null,null,null,null,null,null,null,null,null,null,null,null,null,null,null,null,null,null,null,null,null,null,null,null,null,null,null,null,null,null,null,null,null,null,null,null,null,null,null,null,null,null,null,null,null,null,null,null,null,null,null,null,null,null,null,null,null,null,null,null,null,null,null,null,null,null,null,null,null,null,null,null,null,null,null,null,null,null,null,null,null,null,null,null,null,null,null,null,null,null,null,null,null,null,null,null,null,null,null,null,null,null,null,null,null,null,null,null,null,null,null,null,null,null,null,null,null,null,null,null,null,null,null,null,null,null,null,null,null,null,null,null,null,null,null,null,null,null,null,null,null,null,null,null,null,null,null,null,null,null,null,null,null,null,null,null,null,null,null,null,null,null,null,null,null,null,null,null,null,null,null,null,null,null,null,null,null,null,null,null,null,null,null,null,null,null,null,null,null,null,null,null,null,null,null,null,null,null,null,null,null,null,null,null,null,null,null,null,null,null,null,null,null,null,null,null,null,null,null,null,null,null,null,null,null,null,null,null,null,null,null,null,null,null,null,null,null,null,null,null,null,null,null,null,null,null,null,null,null,null,null,null,null,null,null,null,null,null,null,null,null,null,null,null,null,null,null,null,null,null,null,null,null,null,null,null,null,null,null,null,null,null,null,null,null,null,null,null,null,null,null,null,null,null,null,null,null,null,null,null,null,null,null,null,null,null,null,null,null,null,null,null,null,null,null,null,null,null,null,null,null,null,null,null,null,null,null,null,null,null,null,null,null,null,null,null,null,null,null,null,null,null,null,null,null,null,null,null,null,null,null,null,null,null,null,null,null,null,null,null,null,null,null,null,null,null,null,null,null,null,null,null,null,null,null,null,null,null,null,null,null,null,null,null,null,null,null,null,null,null,null,null,null,null,null,null,null,null,null,null,null,null,null,null,null,null,null,null,null,null,null,null,null,null,null,null,null,null,null,null,null,null,null,null,null,null,null,null,null,null,null,null,null,null,null,null,null,null,null,null,null,null,null,null,null,null,null,null,null,null,null,null,null,null,null,null,null,null,null,null,null,null,null,null,null,null,null,null,null,null,null,null,null,null,null,null,null,null,null,null,null,null,null,null,null,null,null,null,null,null,null,null,null,null,null,null,null,null,null,null,null,null,null,null,null,null,null,null,null,null,null,null,null,null,null,null,null,null,null,null,null,null,null,null,null,null,null,null,null,null,null,null,null,null,null,null,null,null,null,null,null,null,null,null,null,null,null,null,null,null,null,null,null,null,null,null,null,null,null,null,null,null,null,null,null,null,null,null,null,null,null,null,null,null,null,null,null,null,null,null,null,null,null,null,null,null,null,null,null,null,null,null,null,null,null,null,null,null,null,null,null,null,null,null,null,null,null,null,null,null,null,null,null,null,null,null,null,null,null,null,null,null,null,null,null,null,null,null,null,null,null,null,null,null,null,null,null,null,null,null,null,null,null,null,null,null,null,null,null,null,null,null,null,null,null,null,null,null,null,null,null,null,null,null,null,null,null,null,null,null,null,null,null,null,null,null,null,null,null,null,null,null,null,null,null,null,null,null,null,null,null,null,null,null,null,null,null,null,null,null,null,null,null,null,null,null,null,null,null,null,null,null,null,null,null,null,null,null,null,null,null,null,null,null,null,null,null,null,null,null,null,null,null,null,null,null,null,null,null,null,null,null,null,null,null,null,null,null,null,null,null,null,null,null,null,null,null,null,null,null,null,null,null,null,null,null,null,null,null,null,null,null,null,null,null,null,null,null,null,null,null,null,null,null,null,null,null,null,null,null,null,null,null,null,null,null,null,null,null,null,null,null,null,null,null,null,null,null,null,null,null,null,null,null,null,null,null,null,null,null,null,null,null,null,null,null,null,null,null,null,null,null,null,null,null,null,null,null,null,null,null,null,null,null,null,null,null,null,null,null,null,null,null,null,null,null,null,null,null,null,null,null,null,null,null,null,null,null,null,null,null,null,null,null,null,null,null,null,null,null,null,null,null,null,null,null,null,null,null,null,null,null,null,null,null,null,null,null,null,null,null,null,null,null,null,null,null,null,null,null,null,null,null,null,null,null,null,null,null,null,null,null,null,null,null,null,null,null,null,null,null,null,null,null,null,null,null,null,null,null,null,null,null,null,null,null,null,null,null,null,null,null,null,null,null,null,null,null,null,null,null,null,null,null,null,null,null,null,null,null,null,null,null,null,null,null,null,null,null,null,null,null,null,null,null,null,null,null,null,null,null,null,null,null,null,null,null,null,null,null,null,null,null,null,null,null,null,null,null,null,null,null,null,null,null,null,null,null,null,null,null,null,null,null,null,null,null,null,null,null,null,null,null,null,null,null,null,null,null,null,null,null,null,null,null,null,null,null,null,null,null,null,null,null,null,null,null,null,null,null,null,null,null,null,null,null,null,null,null,null,null,null,null,null,null,null,null,null,null,null,null,null,null,null,null,null,null,null,null,null,null,null,null,null,null,null,null,null,null,null,null,null,null,null,null,null,null,null,null,null,null,null,null,null,null,null,null,null,null,null,null,null,null,null,null,null,null,null,null,null,null,null,null,null,null,null,null,null,null,null,null,null,null,null,null,null,null,null,null,null,null,null,null,null,null,null,null,null,null,null,null,null,null,null,null,null,null,null,null,null,null,null,null,null,null,null,null,null,null,null,null,null,null,null,null,null,null,null,null,null,null,null,null,null,null,null,null,null,null,null,null,null,null,null,null,null,null,null,null,null,null,null,null,null,null,null,null,null,null,null,null,null,null,null,null,null,null,null,null,null,null,null,null,null,null,null,null,null,null,null,null,null,null,null,null,null,null,null,null,null,null,null,null,null,null,null,null,null,null,null,null,null,null,null,null,null,null,null,null,null,null,null,null,null,null,null,null,null,null,null,null,null,null,null,null,null,null,null,null,null,null,null,null,null,null,null,null,null,null,null,null,null,null,null,null,null,null,null,null,null,null,null,null,null,null,null,null,null,null,null,null,null,null,null,null,null,null,null,null,null,null,null,null,null,null,null,null,null,null,null,null,null,null,null,null,null,null,null,null,null,null,null,null,null,null,null,null,null,null,null,null,null,null,null,null,null,null,null,null,null,null,null,null,null,null,null,null,null,null,null,null,null,null,null,null,null,null,null,null,null,null,null,null,null,null,null,null,null,null,null,null,null,null,null,null,null,null,null,null,null,null,null,null,null,null,null,null,null,null,null,null,null,null,null,null,null,null,null,null,null,null,null,null,null,null,null,null,null,null,null,null,null,null,null,null,null,null,null,null,null,null,null,null,null,null,null,null,null,null,null,null,null,null,null,null,null,null,null,null,null,null,null,null,null,null,null,null,null,null,null,null,null,null,null,null,null,null,null,null,null,null,null,null,null,null,null,null,null,null,null,null,null,null,null,null,null,null,null,null,null,null,null,null,null,null,null,null,null,null,null,null,null,null,null,null,null,null,null,null,null,null,null,null,null,null,null,null,null,null,null,null,null,null,null,null,null,null,null,null,null,null,null,null,null,null,null,null,null,null,null,null,null,null,null,null,null,null,null,null,null,null,null,null,null,null,null,null,null,null,null,null,null,null,null,null,null,null,null,null,null,null,null,null,null,null,null,null,null,null,null,null,null,null,null,null,null,null,null,null,null,null,null,null,null,null,null,null,null,null,null,null,null,null,null,null,null,null,null,null,null,null,null,null,null,null,null,null,null,null,null,null,null,null,null,null,null,null,null,null,null,null,null,null,null,null,null,null,null,null,null,null,null,null,null,null,null,null,null,null,null,null,null,null,null,null,null,null,null,null,null,null,null,null,null,null,null,null,null,null,null,null,null,null,null,null,null,null,null,null,null,null,null,null,null,null,null,null,null,null,null,null,null,null,null,null,null,null,null,null,null,null,null,null,null,null,null,null,null,null,null,null,null,null,null,null,null,null,null,null,null,null,null,null,null,null,null,null,null,null,null,null,null,null,null,null,null,null,null,null,null,null,null,null,null,null,null,null,null,null,null,null,null,null,null,null,null,null,null,null,null,null,null,null,null,null,null,null,null,null,null,null,null,null,null,null,null,null,null,null,null,null,null,null,null,null,null,null,null,null,null,null,null,null,null,null,null,null,null,null,null,null,null,null,null,null,null,null,null,null,null,null,null,null,null,null,null,null,null,null,null,null,null,null,null,null,null,null,null,null,null,null,null,null,null,null,null,null,null,null,null,null,null,null,null,null,null,null,null,null,null,null,null,null,null,null,null,null,null,null,null,null,null,null,null,null,null,null,null,null,null,null,null,null,null,null,null,null,null,null,null,null,null,null,null,null,null,null,null,null,null,null,null,null,null,null,null,null,null,null,null,null,null,null,null,null,null,null,null,null,null,null,null,null,null,null,null,null,null,null,null,null,null,null,null,null,null,null,null,null,null,null,null,null,null,null,null,null,null,null,null,null,null,null,null,null,null,null,null,null,null,null,null,null,null,null,null,null,null,null,null,null,null,null,null,null,null,null,null,null,null,null,null,null,null,null,null,null,null,null,null,null,null,null,null,null,null,null,null,null,null,null,null,null,null,null,null,null,null,null,null,null,null,null,null,null,null,null,null,null,null,null,null,null,null,null,null,null,null,null,null,null,null,null,null,null,null,null,null,null,null,null,null,null,null,null,null,null,null,null,null,null,null,null,null,null,null,null,null,null,null,null,null,null,null,null,null,null,null,null,null,null,null,null,null,null,null,null,null,null,null,null,null,null,null,null,null,null,null,null,null,null,null,null,null,null,null,null,null,null,null,null,null,null,null,null,null,null,null,null,null,null,null,null,null,null,null,null,null,null,null,null,null,null,null,null,null,null,null,null,null,null,null,null,null,null,null,null,null,null,null,null,null,null,null,null,null,null,null,null,null,null,null,null,null,null,null,null,null,null,null,null,null,null,null,null,null,null,null,null,null,null,null,null,null,null,null,null,null,null,null,null,null,null,null,null,null,null,null,null,null,null,null,null,null,null,null,null,null,null,null,null,null,null,null,null,null,null,null,null,null,null,null,null,null,null,null,null,null,null,null,null,null,null,null,null,null,null,null,null,null,null,null,null,null,null,null,null,null,null,null,null,null,null,null,null,null,null,null,null,null,null,null,null,null,null,null,null,null,null,null,null,null,null,null,null,null,null,null,null,null,null,null,null,null,null,null,null,null,null,null,null,null,null,null,null,null,null,null,null,null,null,null,null,null,null,null,null,null,null,null,null,null,null,null,null,null,null,null,null,null,null,null,null,null,null,null,null,null,null,null,null,null,null,null,null,null,null,null,null,null,null,null,null,null,null,null,null,null,null,null,null,null,null,null,null,null,null,null,null,null,null,null,null,null,null,null,null,null,null,null,null,null,null,null,null,null,null,null,null,null,null,null,null,null,null,null,null,null,null,null,null,null,null,null,null,null,null,null,null,null,null,null,null,null,null,null,null,null,null,null,null,null,null,null,null,null,null,null,null,null,null,null,null,null,null,null,null,null,null,null,null,null,null,null,null,null,null,null,null,null,null,null,null,null,null,null,null,null,null,null,null,null,null,null,null,null,null,null,null,null,null,null,null,null,null,null,null,null,null,null,null,null,null,null,null,null,null,null,null,null,null,null,null,null,null,null,null,null,null,null,null,null,null,null,null,null,null,null,null,null,null,null,null,null,null,null,null,null,null,null,null,null,null,null,null,null,null,null,null,null,null,null,null,null,null,null,null,null,null,null,null,null,null,null,null,null,null,null,null,null,null,null,null,null,null,null,null,null,null,null,null,null,null,null,null,null,null,null,null,null,null,null,null,null,null,null,null,null,null,null,null,null,null,null,null,null,null,null,null,null,null,null,null,null,null,null,null,null,null,null,null,null,null,null,null,null,null,null,null,null,null,null,null,null,null,null,null,null,null,null,null,null,null,null,null,null,null,null,null,null,null,null,null,null,null,null,null,null,null,null,null,null,null,null,null,null,null,null,null,null,null,null,null,null,null,null,null,null,null,null,null,null,null,null,null,null,null,null,null,null,null,null,null,null,null,null,null,null,null,null,null,null,null,null,null,null,null,null,null,null,null,null,null,null,null,null,null,null,null,null,null,null,null,null,null,null,null,null,null,null,null,null,null,null,null,null,null,null,null,null,null,null,null,null,null,null,null,null,null,null,null,null,null,null,null,null,null,null,null,null,null,null,null,null,null,null,null,null,null,null,null,null,null,null,null,null,null,null,null,null,null,null,null,null,null,null,null,null,null,null,null,null,null,null,null,null,null,null,null,null,null,null,null,null,null,null,null,null,null,null,null,null,null,null,null,null,null,null,null,null,null,null,null,null,null,null,null,null,null,null,null,null,null,null,null,null,null,null,null,null,null,null,null,null,null,null,null,null,null,null,null,null,null,null,null,null,null,null,null,null,null,null,null,null,null,null,null,null,null,null,null,null,null,null,null,null,null,null,null,null,null,null,null,null,null,null,null,null,null,null,null,null,null,null,null,null,null,null,null,null,null,null,null,null,null,null,null,null,null,null,null,null,null,null,null,null,null,null,null,null,null,null,null,null,null,null,null,null,null,null,null,null,null,null,null,null,null,null,null,null,null,null,null,null,null,null,null,null,null,null,null,null,null,null,null,null,null,null,null,null,null,null,null,null,null,null,null,null,null,null,null,null,null,null,null,null,null,null,null,null,null,null,null,null,null,null,null,null,null,null,null,null,null,null,null,null,null,null,null,null,null,null,null,null,null,null,null,null,null,null,null,null,null,null,null,null,null,null,null,null,null,null,null,null,null,null,null,null,null,null,null,null,null,null,null,null,null,null,null,null,null,null,null,null,null,null,null,null,null,null,null,null,null,null,null,null,null,null,null,null,null,null,null,null,null,null,null,null,null,null,null,null,null,null,null,null,null,null,null,null,null,null,null,null,null,null,null,null,null,null,null,null,null,null,null,null,null,null,null,null,null,null,null,null,null,null,null,null,null,null,null,null,null,null,null,null,null,null,null,null,null,null,null,null,null,null,null,null,null,null,null,null,null,null,null,null,null,null,null,null,null,null,null,null,null,null,null,null,null,null,null,null,null,null,null,null,null,null,null,null,null,null,null,null,null,null,null,null,null,null,null,null,null,null,null,null,null,null,null,null,null,null,null,null,null,null,null,null,null,null,null,null,null,null,null,null,null,null,null,null,null,null,null,null,null,null,null,null,null,null,null,null,null,null,null,null,null,null,null,null,null,null,null,null,null,null,null,null,null,null,null,null,null,null,null,null,null,null,null,null,null,null,null,null,null,null,null,null,null,null,null,null,null,null,null,null,null,null,null,null,null,null,null,null,null,null,null,null,null,null,null,null,null,null,null,null,null,null,null,null,null,null,null,null,null,null,null,null,null,null,null,null,null,null,null,null,null,null,null,null,null,null,null,null,null,null,null,null,null,null,null,null,null,null,null,null,null,null,null,null,null,null,null,null,null,null,null,null,null,null,null,null,null,null,null,null,null,null,null,null,null,null,null,null,null,null,null,null,null,null,null,null,null,null,null,null,null,null,null,null,null,null,null,null,null,null,null,null,null,null,null,null,null,null,null,null,null,null,null,null,null,null,null,null,null,null,null,null,null,null,null,null,null,null,null,null,null,null,null,null,null,null,null,null,null,null,null,null,null,null,null,null,null,null,null,null,null,null,null,null,null,null,null,null,null,null,null,null,null,null,null,null,null,null,null,null,null,null,null,null,null,null,null,null,null,null,null,null,null,null,null,null,null,null,null,null,null,null,null,null,null,null,null,null,null,null,null,null,null,null,null,null,null,null,null,null,null,null,null,null,null,null,null,null,null,null,null,null,null,null,null,null,null,null,null,null,null,null,null,null,null,null,null,null,null,null,null,null,null,null,null,null,null,null,null,null,null,null,null,null,null,null,null,null,null,null,null,null,null,null,null,null,null,null,null,null,null,null,null,null,null,null,null,null,null,null,null,null,null,null,null,null,null,null,null,null,null,null,null,null,null,null,null,null,null,null,null,null,null,null,null,null,null,null,null,null,null,null,null,null,null,null,null,null,null,null,null,null,null,null,null,null,null,null,null,null,null,null,null,null,null,null,null,null,null,null,null,null,null,null,null,null,null,null,null,null,null,null,null,null,null,null,null,null,null,null,null,null,null,null,null,null,null,null,null,null,null,null,null,null,null,null,null,null,null,null,null,null,null,null,null,null,null,null,null,null,null,null,null,null,null,null,null,null,null,null,null,null,null,null,null,null,null,null,null,null,null,null,null,null,null,null,null,null,null,null,null,null,null,null,null,null,null,null,null,null,null,null,null,null,null,null,null,null,null,null,null,null,null,null,null,null,null,null,null,null,null,null,null,null,null,null,null,null,null,null,null,null,null,null,null,null,null,null,null,null,null,null,null,null,null,null,null,null,null,null,null,null,null,null,null,null,null,null,null,null,null,null,null,null,null,null,null,null,null,null,null,null,null,null,null,null,null,null,null,null,null,null,null,null,null,null,null,null,null,null,null,null,null,null,null,null,null,null,null,null,null,null,null,null,null,null,null,null,null,null,null,null,null,null,null,null,null,null,null,null,null,null,null,null,null,null,null,null,null,null,null,null,null,null,null,null,null,null,null,null,null,null,null,null,null,null,null,null,null,null,null,null,null,null,null,null,null,null,null,null,null,null,null,null,null,null,null,null,null,null,null,null,null,null,null,null,null,null,null,null,null,null,null,null,null,null,null,null,null,null,null,null,null,null,null,null,null,null,null,null,null,null,null,null,null,null,null,null,null,null,null,null,null,null,null,null,null,null,null,null,null,null,null,null,null,null,null,null,null,null,null,null,null,null,null,null,null,null,null,null,null,null,null,null,null,null,null,null,null,null,null,null,null,null,null,null,null,null,null,null,null,null,null,null,null,null,null,null,null,null,null,null,null,null,null,null,null,null,null,null,null,null,null,null,null,null,null,null,null,null,null,null,null,null,null,null,null,null,null,null,null,null,null,null,null,null,null,null,null,null,null,null,null,null,null,null,null,null,null,null,null,null,null,null,null,null,null,null,null,null,null,null,null,null,null,null,null,null,null,null,null,null,null,null,null,null,null,null,null,null,null,null,null,null,null,null,null,null,null,null,null,null,null,null,null,null,null,null,null,null,null,null,null,null,null,null,null,null,null,null,null,null,null,null,null,null,null,null,null,null,null,null,null,null,null,null,null,null,null,null,null,null,null,null,null,null,null,null,null,null,null,null,null,null,null,null,null,null,null,null,null,null,null,null,null,null,null,null,null,null,null,null,null,null,null,null,null,null,null,null,null,null,null,null,null,null,null,null,null,null,null,null,null,null,null,null,null,null,null,null,null,null,null,null,null,null,null,null,null,null,null,null,null,null,null,null,null,null,null,null,null,null,null,null,null,null,null,null,null,null,null,null,null,null,null,null,null,null,null,null,null,null,null,null,null,null,null,null,null,null,null,null,null,null,null,null,null,null,null,null,null,null,null,null,null,null,null,null,null,null,null,null,null,null,null,null,null,null,null,null,null,null,null,null,null,null,null,null,null,null,null,null,null,null,null,null,null,null,null,null,null,null,null,null,null,null,null,null,null,null,null,null,null,null,null,null,null,null,null,null,null,null,null,null,null,null,null,null,null,null,null,null,null,null,null,null,null,null,null,null,null,null,null,null,null,null,null,null,null,null,null,null,null,null,null,null,null,null,null,null,null,null,null,null,null,null,null,null,null,null,null,null,null,null,null,null,null,null,null,null,null,null,null,null,null,null,null,null,null,null,null,null,null,null,null,null,null,null,null,null,null,null,null,null,null,null,null,null,null,null,null,null,null,null,null,null,null,null,null,null,null,null,null,null,null,null,null,null,null,null,null,null,null,null,null,null,null,null,null,null,null,null,null,null,null,null,null,null,null,null,null,null,null,null,null,null,null,null,null,null,null,null,null,null,null,null,null,null,null,null,null,null,null,null,null,null,null,null,null,null,null,null,null,null,null,null,null,null,null,null,null,null,null,null,null,null,null,null,null,null,null,null,null,null,null,null,null,null,null,null,null,null,null,null,null,null,null,null,null,null,null,null,null,null,null,null,null,null,null,null,null,null,null,null,null,null,null,null,null,null,null,null,null,null,null,null,null,null,null,null,null,null,null,null,null,null,null,null,null,null,null,null,null,null,null,null,null,null,null,null,null,null,null,null,null,null,null,null,null,null,null,null,null,null,null,null,null,null,null,null,null,null,null,null,null,null,null,null,null,null,null,null,null,null,null,null,null,null,null,null,null,null,null,null,null,null,null,null,null,null,null,null,null,null,null,null,null,null,null,null,null,null,null,null,null,null,null,null,null,null,null,null,null,null,null,null,null,null,null,null,null,null,null,null,null,null,null,null,null,null,null,null,null,null,null,null,null,null,null,null,null,null,null,null,null,null,null,null,null,null,null,null,null,null,null,null,null,null,null,null,null,null,null,null,null,null,null,null,null,null,null,null,null,null,null,null,null,null,null,null,null,null,null,null,null,null,null,null,null,null,null,null,null,null,null,null,null,null,null,null,null,null,null,null,null,null,null,null,null,null,null,null,null,null,null,null,null,null,null,null,null,null,null,null,null,null,null,null,null,null,null,null,null,null,null,null,null,null,null,null,null,null,null,null,null,null,null,null,null,null,null,null,null,null,null,null,null,null,null,null,null,null,null,null,null,null,null,null,null,null,null,null,null,null,null,null,null,null,null,null,null,null,null,null,null,null,null,null,null,null,null,null,null,null,null,null,null,null,null,null,null,null,null,null,null,null,null,null,null,null,null,null,null,null,null,null,null,null,null,null,null,null,null,null,null,null,null,null,null,null,null,null,null,null,null,null,null,null,null,null,null,null,null,null,null,null,null,null,null,null,null,null,null,null,null,null,null,null,null,null,null,null,null,null,null,null,null,null,null,null,null,null,null,null,null,null,null,null,null,null,null,null,null,null,null,null,null,null,null,null,null,null,null,null,null,null,null,null,null,null,null,null,null,null,null,null,null,null,null,null,null,null,null,null,null,null,null,null,null,null,null,null,null,null,null,null,null,null,null,null,null,null,null,null,null,null,null,null,null,null,null,null,null,null,null,null,null,null,null,null,null,null,null,null,null,null,null,null,null,null,null,null,null,null,null,null,null,null,null,null,null,null,null,null,null,null,null,null,null,null,null,null,null,null,null,null,null,null,null,null,null,null,null,null,null,null,null,null,null,null,null,null,null,null,null,null,null,null,null,null,null,null,null,null,null,null,null,null,null,null,null,null,null,null,null,null,null,null,null,null,null,null,null,null,null,null,null,null,null,null,null,null,null,null,null,null,null,null,null,null,null,null,null,null,null,null,null,null,null,null,null,null,null,null,null,null,null,null,null,null,null,null,null,null,null,null,null,null,null,null,null,null,null,null,null,null,null,null,null,null,null,null,null,null,null,null,null,null,null,null,null,null,null,null,null,null,null,null,null,null,null,null,null,null,null,null,null,null,null,null,null,null,null,null,null,null,null,null,null,null,null,null,null,null,null,null,null,null,null,null,null,null,null,null,null,null,null,null,null,null,null,null,null,null,null,null,null,null,null,null,null,null,null,null,null,null,null,null,null,null,null,null,null,null,null,null,null,null,null,null,null,null,null,null,null,null,null,null,null,null,null,null,null,null,null,null,null,null,null,null,null,null,null,null,null,null,null,null,null,null,null,null,null,null,null,null,null,null,null,null,null,null,null,null,null,null,null,null,null,null,null,null,null,null,null,null,null,null,null,null,null,null,null,null,null,null,null,null,null,null,null,null,null,null,null,null,null,null,null,null,null,null,null,null,null,null,null,null,null,null,null,null,null,null,null,null,null,null,null,null,null,null,null,null,null,null,null,null,null,null,null,null,null,null,null,null,null,null,null,null,null,null,null,null,null,null,null,null,null,null,null,null,null,null,null,null,null,null,null,null,null,null,null,null,null,null,null,null,null,null,null,null,null,null,null,null,null,null,null,null,null,null,null,null,null,null,null,null,null,null,null,null,null,null,null,null,null,null,null,null,null,null,null,null,null,null,null,null,null,null,null,null,null,null,null,null,null,null,null,null,null,null,null,null,null,null,null,null,null,null,null,null,null,null,null,null,null,null,null,null,null,null,null,null,null,null,null,null,null,null,null,null,null,null,null,null,null,null,null,null,null,null,null,null,null,null,null,null,null,null,null,null,null,null,null,null,null,null,null,null,null,null,null,null,null,null,null,null,null,null,null,null,null,null,null,null,null,null,null,null,null,null,null,null,null,null,null,null,null,null,null,null,null,null,null,null,null,null,null,null,null,null,null,null,null,null,null,null,null,null,null,null,null,null,null,null,null,null,null,null,null,null,null,null,null,null,null,null,null,null,null,null,null,null,null,null,null,null,null,null,null,null,null,null,null,null,null,null,null,null,null,null,null,null,null,null,null,null,null,null,null,null,null,null,null,null,null,null,null,null,null,null,null,null,null,null,null,null,null,null,null,null,null,null,null,null,null,null,null,null,null,null,null,null,null,null,null,null,null,null,null,null,null,null,null,null,null,null,null,null,null,null,null,null,null,null,null,null,null,null,null,null,null,null,null,null,null,null,null,null,null,null,null,null,null,null,null,null,null,null,null,null,null,null,null,null,null,null,null,null,null,null,null,null,null,null,null,null,null,null,null,null,null,null,null,null,null,null,null,null,null,null,null,null,null,null,null,null,null,null,null,null,null,null,null,null,null,null,null,null,null,null,null,null,null,null,null,null,null,null,null,null,null,null,null,null,null,null,null,null,null,null,null,null,null,null,null,null,null,null,null,null,null,null,null,null,null,null,null,null,null,null,null,null,null,null,null,null,null,null,null,null,null,null,null,null,null,null,null,null,null,null,null,null,null,null,null,null,null,null,null,null,null,null,null,null,null,null,null,null,null,null,null,null,null,null,null,null,null,null,null,null,null,null,null,null,null,null,null,null,null,null,null,null,null,null,null,null,null,null,null,null,null,null,null,null,null,null,null,null,null,null,null,null,null,null,null,null,null,null,null,null,null,null,null,null,null,null,null,null,null,null,null,null,null,null,null,null,null,null,null,null,null,null,null,null,null,null,null,null,null,null,null,null,null,null,null,null,null,null,null,null,null,null,null,null,null,null,null,null,null,null,null,null,null,null,null,null,null,null,null,null,null,null,null,null,null,null,null,null,null,null,null,null,null,null,null,null,null,null,null,null,null,null,null,null,null,null,null,null,null,null,null,null,null,null,null,null,null,null,null,null,null,null,null,null,null,null,null,null,null,null,null,null,null,null,null,null,null,null,null,null,null,null,null,null,null,null,null,null,null,null,null,null,null,null,null,null,null,null,null,null,null,null,null,null,null,null,null,null,null,null,null,null,null,null,null,null,null,null,null,null,null,null,null,null,null,null,null,null,null,null,null,null,null,null,null,null,null,null,null,null,null,null,null,null,null,null,null,null,null,null,null,null,null,null,null,null,null,null,null,null,null,null,null,null,null,null,null,null,null,null,null,null,null,null,null,null,null,null,null,null,null,null,null,null,null,null,null,null,null,null,null,null,null,null,null,null,null,null,null,null,null,null,null,null,null,null,null,null,null,null,null,null,null,null,null,null,null,null,null,null,null,null,null,null,null,null,null,null,null,null,null,null,null,null,null,null,null,null,null,null,null,null,null,null,null,null,null,null,null,null,null,null,null,null,null,null,null,null,null,null,null,null,null,null,null,null,null,null,null,null,null,null,null,null,null,null,null,null,null,null,null,null,null,null,null,null,null,null,null,null,null,null,null,null,null,null,null,null,null,null,null,null,null,null,null,null,null,null,null,null,null,null,null,null,null,null,null,null,null,null,null,null,null,null,null,null,null,null,null,null,null,null,null,null,null,null,null,null,null,null,null,null,null,null,null,null,null,null,null,null,null,null,null,null,null,null,null,null,null,null,null,null,null,null,null,null,null,null,null,null,null,null,null,null,null,null,null,null,null,null,null,null,null,null,null,null,null,null,null,null,null,null,null,null,null,null,null,null,null,null,null,null,null,null,null,null,null,null,null,null,null,null,null,null,null,null,null,null,null,null,null,null,null,null,null,null,null,null,null,null,null,null,null,null,null,null,null,null,null,null,null,null,null,null,null,null,null,null,null,null,null,null,null,null,null,null,null,null,null,null,null,null,null,null,null,null,null,null,null,null,null,null,null,null,null,null,null,null,null,null,null,null,null,null,null,null,null,null,null,null,null,null,null,null,null,null,null,null,null,null,null,null,null,null,null,null,null,null,null,null,null,null,null,null,null,null,null,null,null,null,null,null,null,null,null,null,null,null,null,null,null,null,null,null,null,null,null,null,null,null,null,null,null,null,null,null,null,null,null,null,null,null,null,null,null,null,null,null,null,null,null,null,null,null,null,null,null,null,null,null,null,null,null,null,null,null,null,null,null,null,null,null,null,null,null,null,null,null,null,null,null,null,null,null,null,null,null,null,null,null,null,null,null,null,null,null,null,null,null,null,null,null,null,null,null,null,null,null,null,null,null,null,null,null,null,null,null,null,null,null,null,null,null,null,null,null,null,null,null,null,null,null,null,null,null,null,null,null,null,null,null,null,null,null,null,null,null,null,null,null,null,null,null,null,null,null,null,null,null,null,null,null,null,null,null,null,null,null,null,null,null,null,null,null,null,null,null,null,null,null,null,null,null,null,null,null,null,null,null,null,null,null,null,null,null,null,null,null,null,null,null,null,null,null,null,null,null,null,null,null,null,null,null,null,null,null,null,null,null,null,null,null,null,null,null,null,null,null,null,null,null,null,null,null,null,null,null,null,null,null,null,null,null,null,null,null,null,null,null,null,null,null,null,null,null,null,null,null,null,null,null,null,null,null,null,null,null,null,null,null,null,null,null,null,null,null,null,null,null,null,null,null,null,null,null,null,null,null,null,null,null,null,null,null,null,null,null,null,null,null,null,null,null,null,null,null,null,null,null,null,null,null,null,null,null,null,null,null,null,null,null,null,null,null,null,null,null,null,null,null,null,null,null,null,null,null,null,null,null,null,null,null,null,null,null,null,null,null,null,null,null,null,null,null,null,null,null,null,null,null,null,null,null,null,null,null,null,null,null,null,null,null,null,null,null,null,null,null,null,null,null,null,null,null,null,null,null,null,null,null,null,null,null,null,null,null,null,null,null,null,null,null,null,null,null,null,null,null,null,null,null,null,null,null,null,null,null,null,null,null,null,null,null,null,null,null,null,null,null,null,null,null,null,null,null,null,null,null,null,null,null,null,null,null,null,null,null,null,null,null,null,null,null,null,null,null,null,null,null,null,null,null,null,null,null,null,null,null,null,null,null,null,null,null,null,null,null,null,null,null,null,null,null,null,null,null,null,null,null,null,null,null,null,null,null,null,null,null,null,null,null,null,null,null,null,null,null,null,null,null,null,null,null,null,null,null,null,null,null,null,null,null,null,null,null,null,null,null,null,null,null,null,null,null,null,null,null,null,null,null,null,null,null,null,null,null,null,null,null,null,null,null,null,null,null,null,null,null,null,null,null,null,null,null,null,null,null,null,null,null,null,null,null,null,null,null,null,null,null,null,null,null,null,null,null,null,null,null,null,null,null,null,null,null,null,null,null,null,null,null,null,null,null,null,null,null,null,null,null,null,null,null,null,null,null,null,null,null,null,null,null,null,null,null,null,null,null,null,null,null,null,null,null,null,null,null,null,null,null,null,null,null,null,null,null,null,null,null,null,null,null,null,null,null,null,null,null,null,null,null,null,null,null,null,null,null,null,null,null,null,null,null,null,null,null,null,null,null,null,null,null,null,null,null,null,null,null,null,null,null,null,null,null,null,null,null,null,null,null,null,null,null,null,null,null,null,null,null,null,null,null,null,null,null,null,null,null,null,null,null,null,null,null,null,null,null,null,null,null,null,null,null,null,null,null,null,null,null,null,null,null,null,null,null,null,null,null,null,null,null,null,null,null,null,null,null,null,null,null,null,null,null,null,null,null,null,null,null,null,null,null,null,null,null,null,null,null,null,null,null,null,null,null,null,null,null,null,null,null,null,null,null,null,null,null,null,null,null,null,null,null,null,null,null,null,null,null,null,null,null,null,null,null,null,null,null,null,null,null,null,null,null,null,null,null,null,null,null,null,null,null,null,null,null,null,null,null,null,null,null,null,null,null,null,null,null,null,null,null,null,null,null,null,null,null,null,null,null,null,null,null,null,null,null,null,null,null,null,null,null,null,null,null,null,null,null,null,null,null,null,null,null,null,null,null,null,null,null,null,null,null,null,null,null,null,null,null,null,null,null,null,null,null,null,null,null,null,null,null,null,null,null,null,null,null,null,null,null,null,null,null,null,null,null,null,null,null,null,null,null,null,null,null,null,null,null,null,null,null,null,null,null,null,null,null,null,null,null,null,null,null,null,null,null,null,null,null,null,null,null,null,null,null,null,null,null,null,null,null,null,null,null,null,null,null,null,null,null,null,null,null,null,null,null,null,null,null,null,null,null,null,null,null,null,null,null,null,null,null,null,null,null,null,null,null,null,null,null,null,null,null,null,null,null,null,null,null,null,null,null,null,null,null,null,null,null,null,null,null,null,null,null,null,null,null,null,null,null,null,null,null,null,null,null,null,null,null,null,null,null,null,null,null,null,null,null,null,null,null,null,null,null,null,null,null,null,null,null,null,null,null,null,null,null,null,null,null,null,null,null,null,null,null,null,null,null,null,null,null,null,null,null,null,null,null,null,null,null,null,null,null,null,null,null,null,null,null,null,null,null,null,null,null,null,null,null,null,null,null,null,null,null,null,null,null,null,null,null,null,null,null,null,null,null,null,null,null,null,null,null,null,null,null,null,null,null,null,null,null,null,null,null,null,null,null,null,null,null,null,null,null,null,null,null,null,null,null,null,null,null,null,null,null,null,null,null,null,null,null,null,null,null,null,null,null,null,null,null,null,null,null,null,null,null,null,null,null,null,null,null,null,null,null,null,null,null,null,null,null,null,null,null,null,null,null,null,null,null,null,null,null,null,null,null,null,null,null,null,null,null,null,null,null,null,null,null,null,null,null,null,null,null,null,null,null,null,null,null,null,null,null,null,null,null,null,null,null,null,null,null,null,null,null,null,null,null,null,null,null,null,null,null,null,null,null,null,null,null,null,null,null,null,null,null,null,null,null,null,null,null,null,null,null,null,null,null,null,null,null,null,null,null,null,null,null,null,null,null,null,null,null,null,null,null,null,null,null,null,null,null,null,null,null,null,null,null,null,null,null,null,null,null,null,null,null,null,null,null,null,null,null,null,null,null,null,null,null,null,null,null,null,null,null,null,null,null,null,null,null,null,null,null,null,null,null,null,null,null,null,null,null,null,null,null,null,null,null,null,null,null,null,null,null,null,null,null,null,null,null,null,null,null,null,null,null,null,null,null,null,null,null,null,null,null,null,null,null,null,null,null,null,null,null,null,null,null,null,null,null,null,null,null,null,null,null,null,null,null,null,null,null,null,null,null,null,null,null,null,null,null,null,null,null,null,null,null,null,null,null,null,null,null,null,null,null,null,null,null,null,null,null,null,null,null,null,null,null,null,null,null,null,null,null,null,null,null,null,null,null,null,null,null,null,null,null,null,null,null,null,null,null,null,null,null,null,null,null,null,null,null,null,null,null,null,null,null,null,null,null,null,null,null,null,null,null,null,null,null,null,null,null,null,null,null,null,null,null,null,null,null,null,null,null,null,null,null,null,null,null,null,null,null,null,null,null,null,null,null,null,null,null,null,null,null,null,null,null,null,null,null,null,null,null,null,null,null,null,null,null,null,null,null,null,null,null,null,null,null,null,null,null,null,null,null,null,null,null,null,null,null,null,null,null,null,null,null,null,null,null,null,null,null,null,null,null,null,null,null,null,null,null,null,null,null,null,null,null,null,null,null,null,null,null,null,null,null,null,null,null,null,null,null,null,null,null,null,null,null,null,null,null,null,null,null,null,null,null,null,null,null,null,null,null,null,null,null,null,null,null,null,null,null,null,null,null,null,null,null,null,null,null,null,null,null,null,null,null,null,null,null,null,null,null,null,null,null,null,null,null,null,null,null,null,null,null,null,null,null,null,null,null,null,null,null,null,null,null,null,null,null,null,null,null,null,null,null,null,null,null,null,null,null,null,null,null,null,null,null,null,null,null,null,null,null,null,null,null,null,null,null,null,null,null,null,null,null,null,null,null,null,null,null,null,null,null,null,null,null,null,null,null,null,null,null,null,null,null,null,null,null,null,null,null,null,null,null,null,null,null,null,null,null,null,null,null,null,null,null,null,null,null,null,null,null,null,null,null,null,null,null,null,null,null,null,null,null,null,null,null,null,null,null,null,null,null,null,null,null,null,null,null,null,null,null,null,null,null,null,null,null,null,null,null,null,null,null,null,null,null,null,null,null,null,null,null,null,null,null,null,null,null,null,null,null,null,null,null,null,null,null,null,null,null,null,null,null,null,null,null,null,null,null,null,null,null,null,null,null,null,null,null,null,null,null,null,null,null,null,null,null,null,null,null,null,null,null,null,null,null,null,null,null,null,null,null,null,null,null,null,null,null,null,null,null,null,null,null,null,null,null,null,null,null,null,null,null,null,null,null,null,null,null,null,null,null,null,null,null,null,null,null,null,null,null,null,null,null,null,null,null,null,null,null,null,null,null,null,null,null,null,null,null,null,null,null,null,null,null,null,null,null,null,null,null,null,null,null,null,null,null,null,null,null,null,null,null,null,null,null,null,null,null,null,null,null,null,null,null,null,null,null,null,null,null,null,null,null,null,null,null,null,null,null,null,null,null,null,null,null,null,null,null,null,null,null,null,null,null,null,null,null,null,null,null,null,null,null,null,null,null,null,null,null,null,null,null,null,null,null,null,null,null,null,null,null,null,null,null,null,null,null,null,null,null,null,null,null,null,null,null,null,null,null,null,null,null,null,null,null,null,null,null,null,null,null,null,null,null,null,null,null,null,null,null,null,null,null,null,null,null,null,null,null,null,null,null,null,null,null,null,null,null,null,null,null,null,null,null,null,null,null,null,null,null,null,null,null,null,null,null,null,null,null,null,null,null,null,null,null,null,null,null,null,null,null,null,null,null,null,null,null,null,null,null,null,null,null,null,null,null,null,null,null,null,null,null,null,null,null,null,null,null,null,null,null,null,null,null,null,null,null,null,null,null,null,null,null,null,null,null,null,null,null,null,null,null,null,null,null,null,null,null,null,null,null,null,null,null,null,null,null,null,null,null,null,null,null,null,null,null,null,null,null,null,null,null,null,null,null,null,null,null,null,null,null,null,null,null,null,null,null,null,null,null,null,null,null,null,null,null,null,null,null,null,null,null,null,null,null,null,null,null,null,null,null,null,null,null,null,null,null,null,null,null,null,null,null,null,null,null,null,null,null,null,null,null,null,null,null,null,null,null,null,null,null,null,null,null,null,null,null,null,null,null,null,null,null,null,null,null,null,null,null,null,null,null,null,null,null,null,null,null,null,null,null,null,null,null,null,null,null,null,null,null,null,null,null,null,null,null,null,null,null,null,null,null,null,null,null,null,null,null,null,null,null,null,null,null,null,null,null,null,null,null,null,null,null,null,null,null,null,null,null,null,null,null,null,null,null,null,null,null,null,null,null,null,null,null,null,null,null,null,null,null,null,null,null,null,null,null,null,null,null,null,null,null,null,null,null,null,null,null,null,null,null,null,null,null,null,null,null,null,null,null,null,null,null,null,null,null,null,null,null,null,null,null,null,null,null,null,null,null,null,null,null,null,null,null,null,null,null,null,null,null,null,null,null,null,null,null,null,null,null,null,null,null,null,null,null,null,null,null,null,null,null,null,null,null,null,null,null,null,null,null,null,null,null,null,null,null,null,null,null,null,null,null,null,null,null,null,null,null,null,null,null,null,null,null,null,null,null,null,null,null,null,null,null,null,null,null,null,null,null,null,null,null,null,null,null,null,null,null,null,null,null,null,null,null,null,null,null,null,null,null,null,null,null,null,null,null,null,null,null,null,null,null,null,null,null,null,null,null,null,null,null,null,null,null,null,null,null,null,null,null,null,null,null,null,null,null,null,null,null,null,null,null,null,null,null,null,null,null,null,null,null,null,null,null,null,null,null,null,null,null,null,null,null,null,null,null,null,null,null,null,null,null,null,null,null,null,null,null,null,null,null,null,null,null,null,null,null,null,null,null,null,null,null,null,null,null,null,null,null,null,null,null,null,null,null,null,null,null,null,null,null,null,null,null,null,null,null,null,null,null,null,null,null,null,null,null,null,null,null,null,null,null,null,null,null,null,null,null,null,null,null,null,null,null,null,null,null,null,null,null,null,null,null,null,null,null,null,null,null,null,null,null,null,null,null,null,null,null,null,null,null,null,null,null,null,null,null,null,null,null,null,null,null,null,null,null,null,null,null,null,null,null,null,null,null,null,null,null,null,null,null,null,null,null,null,null,null,null,null,null,null,null,null,null,null,null,null,null,null,null,null,null,null,null,null,null,null,null,null,null,null,null,null,null,null,null,null,null,null,null,null,null,null,null,null,null,null,null,null,null,null,null,null,null,null,null,null,null,null,null,null,null,null,null,null,null,null,null,null,null,null,null,null,null,null,null,null,null,null,null,null,null,null,null,null,null,null,null,null,null,null,null,null,null,null,null,null,null,null,null,null,null,null,null,null,null,null,null,null,null,null,null,null,null,null,null,null,null,null,null,null,null,null,null,null,null,null,null,null,null,null,null,null,null,null,null,null,null,null,null,null,null,null,null,null,null,null,null,null,null,null,null,null,null,null,null,null,null,null,null,null,null,null,null,null,null,null,null,null,null,null,null,null,null,null,null,null,null,null,null,null,null,null,null,null,null,null,null,null,null,null,null,null,null,null,null,null,null,null,null,null,null,null,null,null,null,null,null,null,null,null,null,null,null,null,null,null,null,null,null,null,null,null,null,null,null,null,null,null,null,null,null,null,null,null,null,null,null,null,null,null,null,null,null,null,null,null,null,null,null,null,null,null,null,null,null,null,null,null,null,null,null,null,null,null,null,null,null,null,null,null,null,null,null,null,null,null,null,null,null,null,null,null,null,null,null,null,null,null,null,null,null,null,null,null,null,null,null,null,null,null,null,null,null,null,null,null,null,null,null,null,null,null,null,null,null,null,null,null,null,null,null,null,null,null,null,null,null,null,null,null,null,null,null,null,null,null,null,null,null,null,null,null,null,null,null,null,null,null,null,null,null,null,null,null,null,null,null,null,null,null,null,null,null,null,null,null,null,null,null,null,null,null,null,null,null,null,null,null,null,null,null,null,null,null,null,null,null,null,null,null,null,null,null,null,null,null,null,null,null,null,null,null,null,null,null,null,null,null,null,null,null,null,null,null,null,null,null,null,null,null,null,null,null,null,null,null,null,null,null,null,null,null,null,null,null,null,null,null,null,null,null,null,null,null,null,null,null,null,null,null,null,null,null,null,null,null,null,null,null,null,null,null,null,null,null,null,null,null,null,null,null,null,null,null,null,null,null,null,null,null,null,null,null,null,null,null,null,null,null,null,null,null,null,null,null,null,null,null,null,null,null,null,null,null,null,null,null,null,null,null,null,null,null,null,null,null,null,null,null,null,null,null,null,null,null,null,null,null,null,null,null,null,null,null,null,null,null,null,null,null,null,null,null,null,null,null,null,null,null,null,null,null,null,null,null,null,null,null,null,null,null,null,null,null,null,null,null,null,null,null,null,null,null,null,null,null,null,null,null,null,null,null,null,null,null,null,null,null,null,null,null,null,null,null,null,null,null,null,null,null,null,null,null,null,null,null,null,null,null,null,null,null,null,null,null,null,null,null,null,null,null,null,null,null,null,null,null,null,null,null,null,null,null,null,null,null,null,null,null,null,null,null,null,null,null,null,null,null,null,null,null,null,null,null,null,null,null,null,null,null,null,null,null,null,null,null,null,null,null,null,null,null,null,null,null,null,null,null,null,null,null,null,null,null,null,null,null,null,null,null,null,null,null,null,null,null,null,null,null,null,null,null,null,null,null,null,null,null,null,null,null,null,null,null,null,null,null,null,null,null,null,null,null,null,null,null,null,null,null,null,null,null,null,null,null,null,null,null,null,null,null,null,null,null,null,null,null,null,null,null,null,null,null,null,null,null,null,null,null,null,null,null,null,null,null,null,null,null,null,null,null,null,null,null,null,null,null,null,null,null,null,null,null,null,null,null,null,null,null,null,null,null,null,null,null,null,null,null,null,null,null,null,null,null,null,null,null,null,null,null,null,null,null,null,null,null,null,null,null,null,null,null,null,null,null,null,null,null,null,null,null,null,null,null,null,null,null,null,null,null,null,null,null,null,null,null,null,null,null,null,null,null,null,null,null,null,null,null,null,null,null,null,null,null,null,null,null,null,null,null,null,null,null,null,null,null,null,null,null,null,null,null,null,null,null,null,null,null,null,null,null,null,null,null,null,null,null,null,null,null,null,null,null,null,null,null,null,null,null,null,null,null,null,null,null,null,null,null,null,null,null,null,null,null,null,null,null,null,null,null,null,null,null,null,null,null,null,null,null,null,null,null,null,null,null,null,null,null,null,null,null,null,null,null,null,null,null,null,null,null,null,null,null,null,null,null,null,null,null,null,null,null,null,null,null,null,null,null,null,null,null,null,null,null,null,null,null,null,null,null,null,null,null,null,null,null,null,null,null,null,null,null,null,null,null,null,null,null,null,null,null,null,null,null,null,null,null,null,null,null,null,null,null,null,null,null,null,null,null,null,null,null,null,null,null,null,null,null,null,null,null,null,null,null,null,null,null,null,null,null,null,null,null,null,null,null,null,null,null,null,null,null,null,null,null,null,null,null,null,null,null,null,null,null,null,null,null,null,null,null,null,null,null,null,null,null,null,null,null,null,null,null,null,null,null,null,null,null,null,null,null,null,null,null,null,null,null,null,null,null,null,null,null,null,null,null,null,null,null,null,null,null,null,null,null,null,null,null,null,null,null,null,null,null,null,null,null,null,null,null,null,null,null,null,null,null,null,null,null,null,null,null,null,null,null,null,null,null,null,null,null,null,null,null,null,null,null,null,null,null,null,null,null,null,null,null,null,null,null,null,null,null,null,null,null,null,null,null,null,null,null,null,null,null,null,null,null,null,null,null,null,null,null,null,null,null,null,null,null,null,null,null,null,null,null,null,null,null,null,null,null,null,null,null,null,null,null,null,null,null,null,null,null,null,null,null,null,null,null,null,null,null,null,null,null,null,null,null,null,null,null,null,null,null,null,null,null,null,null,null,null,null,null,null,null,null,null,null,null,null,null,null,null,null,null,null,null,null,null,null,null,null,null,null,null,null,null,null,null,null,null,null,null,null,null,null,null,null,null,null,null,null,null,null,null,null,null,null,null,null,null,null,null,null,null,null,null,null,null,null,null,null,null,null,null,null,null,null,null,null,null,null,null,null,null,null,null,null,null,null,null,null,null,null,null,null,null,null,null,null,null,null,null,null,null,null,null,null,null,null,null,null,null,null,null,null,null,null,null,null,null,null,null,null,null,null,null,null,null,null,null,null,null,null,null,null,null,null,null,null,null,null,null,null,null,null,null,null,null,null,null,null,null,null,null,null,null,null,null,null,null,null,null,null,null,null,null,null,null,null,null,null,null,null,null,null,null,null,null,null,null,null,null,null,null,null,null,null,null,null,null,null,null,null,null,null,null,null,null,null,null,null,null,null,null,null,null,null,null,null,null,null,null,null,null,null,null,null,null,null,null,null,null,null,null,null,null,null,null,null,null,null,null,null,null,null,null,null,null,null,null,null,null,null,null,null,null,null,null,null,null,null,null,null,null,null,null,null,null,null,null,null,null,null,null,null,null,null,null,null,null,null,null,null,null,null,null,null,null,null,null,null,null,null,null,null,null,null,null,null,null,null,null,null,null,null,null,null,null,null,null,null,null,null,null,null,null,null,null,null,null,null,null,null,null,null,null,null,null,null,null,null,null,null,null,null,null,null,null,null,null,null,null,null,null,null,null,null,null,null,null,null,null,null,null,null,null,null,null,null,null,null,null,null,null,null,null,null,null,null,null,null,null,null,null,null,null,null,null,null,null,null,null,null,null,null,null,null,null,null,null,null,null,null,null,null,null,null,null,null,null,null,null,null,null,null,null,null,null,null,null,null,null,null,null,null,null,null,null,null,null,null,null,null,null,null,null,null,null,null,null,null,null,null,null,null,null,null,null,null,null,null,null,null,null,null,null,null,null,null,null,null,null,null,null,null,null,null,null,null,null,null,null,null,null,null,null,null,null,null,null,null,null,null,null,null,null,null,null,null,null,null,null,null,null,null,null,null,null,null,null,null,null,null,null,null,null,null,null,null,null,null,null,null,null,null,null,null,null,null,null,null,null,null,null,null,null,null,null,null,null,null,null,null,null,null,null,null,null,null,null,null,null,null,null,null,null,null,null,null,null,null,null,null,null,null,null,null,null,null,null,null,null,null,null,null,null,null,null,null,null,null,null,null,null,null,null,null,null,null,null,null,null,null,null,null,null,null,null,null,null,null,null,null,null,null,null,null,null,null,null,null,null,null,null,null,null,null,null,null,null,null,null,null,null,null,null,null,null,null,null,null,null,null,null,null,null,null,null,null,null,null,null,null,null,null,null,null,null,null,null,null,null,null,null,null,null,null,null,null,null,null,null,null,null,null,null,null,null,null,null,null,null,null,null,null,null,null,null,null,null,null,null,null,null,null,null,null,null,null,null,null,null,null,null,null,null,null,null,null,null,null,null,null,null,null,null,null,null,null,null,null,null,null,null,null,null,null,null,null,null,null,null,null,null,null,null,null,null,null,null,null,null,null,null,null,null,null,null,null,null,null,null,null,null,null,null,null,null,null,null,null,null,null,null,null,null,null,null,null,null,null,null,null,null,null,null,null,null,null,null,null,null,null,null,null,null,null,null,null,null,null,null,null,null,null,null,null,null,null,null,null,null,null,null,null,null,null,null,null,null,null,null,null,null,null,null,null,null,null,null,null,null,null,null,null,null,null,null,null,null,null,null,null,null,null,null,null,null,null,null,null,null,null,null,null,null,null,null,null,null,null,null,null,null,null,null,null,null,null,null,null,null,null,null,null,null,null,null,null,null,null,null,null,null,null,null,null,null,null,null,null,null,null,null,null,null,null,null,null,null,null,null,null,null,null,null,null,null,null,null,null,null,null,null,null,null,null,null,null,null,null,null,null,null,null,null,null,null,null,null,null,null,null,null,null,null,null,null,null,null,null,null,null,null,null,null,null,null,null,null,null,null,null,null,null,null,null,null,null,null,null,null,null,null,null,null,null,null,null,null,null,null,null,null,null,null,null,null,null,null,null,null,null,null,null,null,null,null,null,null,null,null,null,null,null,null,null,null,null,null,null,null,null,null,null,null,null,null,null,null,null,null,null,null,null,null,null,null,null,null,null,null,null,null,null,null,null,null,null,null,null,null,null,null,null,null,null,null,null,null,null,null,null,null,null,null,null,null,null,null,null,null,null,null,null,null,null,null,null,null,null,null,null,null,null,null,null,null,null,null,null,null,null,null,null,null,null,null,null,null,null,null,null,null,null,null,null,null,null,null,null,null,null,null,null,null,null,null,null,null,null,null,null,null,null,null,null,null,null,null,null,null,null,null,null,null,null,null,null,null,null,null,null,null,null,null,null,null,null,null,null,null,null,null,null,null,null,null,null,null,null,null,null,null,null,null,null,null,null,null,null,null,null,null,null,null,null,null,null,null,null,null,null,null,null,null,null,null,null,null,null,null,null,null,null,null,null,null,null,null,null,null,null,null,null,null,null,null,null,null,null,null,null,null,null,null,null,null,null,null,null,null,null,null,null,null,null,null,null,null,null,null,null,null,null,null,null,null,null,null,null,null,null,null,null,null,null,null,null,null,null,null,null,null,null,null,null,null,null,null,null,null,null,null,null,null,null,null,null,null,null,null,null,null,null,null,null,null,null,null,null,null,null,null,null,null,null,null,null,null,null,null,null,null,null,null,null,null,null,null,null,null,null,null,null,null,null,null,null,null,null,null,null,null,null,null,null,null,null,null,null,null,null,null,null,null,null,null,null,null,null,null,null,null,null,null,null,null,null,null,null,null,null,null,null,null,null,null,null,null,null,null,null,null,null,null,null,null,null,null,null,null,null,null,null,null,null,null,null,null,null,null,null,null,null,null,null,null,null,null,null,null,null,null,null,null,null,null,null,null,null,null,null,null,null,null,null,null,null,null,null,null,null,null,null,null,null,null,null,"Conclusion Drop Downs"]
[null,"DOCUMENT NAME",null,"ASC 842 - Leases - Template",null,null,null,null,null,null,null,null,null,null,null,null,null,null,null,null,null,null,null,null,null,null,null,null,null,null,null,null,null,null,null,null,null,null,null,null,null,null,null,null,null,null,null,null,null,null,null,null,null,null,null,null,null,null,null,null,null,null,null,null,null,null,null,null,null,null,null,null,null,null,null,null,null,null,null,null,null,null,null,null,null,null,null,null,null,null,null,null,null,null,null,null,null,null,null,null,null,null,null,null,null,null,null,null,null,null,null,null,null,null,null,null,null,null,null,null,null,null,null,null,null,null,null,null,null,null,null,null,null,null,null,null,null,null,null,null,null,null,null,null,null,null,null,null,null,null,null,null,null,null,null,null,null,null,null,null,null,null,null,null,null,null,null,null,null,null,null,null,null,null,null,null,null,null,null,null,null,null,null,null,null,null,null,null,null,null,null,null,null,null,null,null,null,null,null,null,null,null,null,null,null,null,null,null,null,null,null,null,null,null,null,null,null,null,null,null,null,null,null,null,null,null,null,null,null,null,null,null,null,null,null,null,null,null,null,null,null,null,null,null,null,null,null,null,null,null,null,null,null,null,null,null,null,null,null,null,null,null,null,null,null,null,null,null,null,null,null,null,null,null,null,null,null,null,null,null,null,null,null,null,null,null,null,null,null,null,null,null,null,null,null,null,null,null,null,null,null,null,null,null,null,null,null,null,null,null,null,null,null,null,null,null,null,null,null,null,null,null,null,null,null,null,null,null,null,null,null,null,null,null,null,null,null,null,null,null,null,null,null,null,null,null,null,null,null,null,null,null,null,null,null,null,null,null,null,null,null,null,null,null,null,null,null,null,null,null,null,null,null,null,null,null,null,null,null,null,null,null,null,null,null,null,null,null,null,null,null,null,null,null,null,null,null,null,null,null,null,null,null,null,null,null,null,null,null,null,null,null,null,null,null,null,null,null,null,null,null,null,null,null,null,null,null,null,null,null,null,null,null,null,null,null,null,null,null,null,null,null,null,null,null,null,null,null,null,null,null,null,null,null,null,null,null,null,null,null,null,null,null,null,null,null,null,null,null,null,null,null,null,null,null,null,null,null,null,null,null,null,null,null,null,null,null,null,null,null,null,null,null,null,null,null,null,null,null,null,null,null,null,null,null,null,null,null,null,null,null,null,null,null,null,null,null,null,null,null,null,null,null,null,null,null,null,null,null,null,null,null,null,null,null,null,null,null,null,null,null,null,null,null,null,null,null,null,null,null,null,null,null,null,null,null,null,null,null,null,null,null,null,null,null,null,null,null,null,null,null,null,null,null,null,null,null,null,null,null,null,null,null,null,null,null,null,null,null,null,null,null,null,null,null,null,null,null,null,null,null,null,null,null,null,null,null,null,null,null,null,null,null,null,null,null,null,null,null,null,null,null,null,null,null,null,null,null,null,null,null,null,null,null,null,null,null,null,null,null,null,null,null,null,null,null,null,null,null,null,null,null,null,null,null,null,null,null,null,null,null,null,null,null,null,null,null,null,null,null,null,null,null,null,null,null,null,null,null,null,null,null,null,null,null,null,null,null,null,null,null,null,null,null,null,null,null,null,null,null,null,null,null,null,null,null,null,null,null,null,null,null,null,null,null,null,null,null,null,null,null,null,null,null,null,null,null,null,null,null,null,null,null,null,null,null,null,null,null,null,null,null,null,null,null,null,null,null,null,null,null,null,null,null,null,null,null,null,null,null,null,null,null,null,null,null,null,null,null,null,null,null,null,null,null,null,null,null,null,null,null,null,null,null,null,null,null,null,null,null,null,null,null,null,null,null,null,null,null,null,null,null,null,null,null,null,null,null,null,null,null,null,null,null,null,null,null,null,null,null,null,null,null,null,null,null,null,null,null,null,null,null,null,null,null,null,null,null,null,null,null,null,null,null,null,null,null,null,null,null,null,null,null,null,null,null,null,null,null,null,null,null,null,null,null,null,null,null,null,null,null,null,null,null,null,null,null,null,null,null,null,null,null,null,null,null,null,null,null,null,null,null,null,null,null,null,null,null,null,null,null,null,null,null,null,null,null,null,null,null,null,null,null,null,null,null,null,null,null,null,null,null,null,null,null,null,null,null,null,null,null,null,null,null,null,null,null,null,null,null,null,null,null,null,null,null,null,null,null,null,null,null,null,null,null,null,null,null,null,null,null,null,null,null,null,null,null,null,null,null,null,null,null,null,null,null,null,null,null,null,null,null,null,null,null,null,null,null,null,null,null,null,null,null,null,null,null,null,null,null,null,null,null,null,null,null,null,null,null,null,null,null,null,null,null,null,null,null,null,null,null,null,null,null,null,null,null,null,null,null,null,null,null,null,null,null,null,null,null,null,null,null,null,null,null,null,null,null,null,null,null,null,null,null,null,null,null,null,null,null,null,null,null,null,null,null,null,null,null,null,null,null,null,null,null,null,null,null,null,null,null,null,null,null,null,null,null,null,null,null,null,null,null,null,null,null,null,null,null,null,null,null,null,null,null,null,null,null,null,null,null,null,null,null,null,null,null,null,null,null,null,null,null,null,null,null,null,null,null,null,null,null,null,null,null,null,null,null,null,null,null,null,null,null,null,null,null,null,null,null,null,null,null,null,null,null,null,null,null,null,null,null,null,null,null,null,null,null,null,null,null,null,null,null,null,null,null,null,null,null,null,null,null,null,null,null,null,null,null,null,null,null,null,null,null,null,null,null,null,null,null,null,null,null,null,null,null,null,null,null,null,null,null,null,null,null,null,null,null,null,null,null,null,null,null,null,null,null,null,null,null,null,null,null,null,null,null,null,null,null,null,null,null,null,null,null,null,null,null,null,null,null,null,null,null,null,null,null,null,null,null,null,null,null,null,null,null,null,null,null,null,null,null,null,null,null,null,null,null,null,null,null,null,null,null,null,null,null,null,null,null,null,null,null,null,null,null,null,null,null,null,null,null,null,null,null,null,null,null,null,null,null,null,null,null,null,null,null,null,null,null,null,null,null,null,null,null,null,null,null,null,null,null,null,null,null,null,null,null,null,null,null,null,null,null,null,null,null,null,null,null,null,null,null,null,null,null,null,null,null,null,null,null,null,null,null,null,null,null,null,null,null,null,null,null,null,null,null,null,null,null,null,null,null,null,null,null,null,null,null,null,null,null,null,null,null,null,null,null,null,null,null,null,null,null,null,null,null,null,null,null,null,null,null,null,null,null,null,null,null,null,null,null,null,null,null,null,null,null,null,null,null,null,null,null,null,null,null,null,null,null,null,null,null,null,null,null,null,null,null,null,null,null,null,null,null,null,null,null,null,null,null,null,null,null,null,null,null,null,null,null,null,null,null,null,null,null,null,null,null,null,null,null,null,null,null,null,null,null,null,null,null,null,null,null,null,null,null,null,null,null,null,null,null,null,null,null,null,null,null,null,null,null,null,null,null,null,null,null,null,null,null,null,null,null,null,null,null,null,null,null,null,null,null,null,null,null,null,null,null,null,null,null,null,null,null,null,null,null,null,null,null,null,null,null,null,null,null,null,null,null,null,null,null,null,null,null,null,null,null,null,null,null,null,null,null,null,null,null,null,null,null,null,null,null,null,null,null,null,null,null,null,null,null,null,null,null,null,null,null,null,null,null,null,null,null,null,null,null,null,null,null,null,null,null,null,null,null,null,null,null,null,null,null,null,null,null,null,null,null,null,null,null,null,null,null,null,null,null,null,null,null,null,null,null,null,null,null,null,null,null,null,null,null,null,null,null,null,null,null,null,null,null,null,null,null,null,null,null,null,null,null,null,null,null,null,null,null,null,null,null,null,null,null,null,null,null,null,null,null,null,null,null,null,null,null,null,null,null,null,null,null,null,null,null,null,null,null,null,null,null,null,null,null,null,null,null,null,null,null,null,null,null,null,null,null,null,null,null,null,null,null,null,null,null,null,null,null,null,null,null,null,null,null,null,null,null,null,null,null,null,null,null,null,null,null,null,null,null,null,null,null,null,null,null,null,null,null,null,null,null,null,null,null,null,null,null,null,null,null,null,null,null,null,null,null,null,null,null,null,null,null,null,null,null,null,null,null,null,null,null,null,null,null,null,null,null,null,null,null,null,null,null,null,null,null,null,null,null,null,null,null,null,null,null,null,null,null,null,null,null,null,null,null,null,null,null,null,null,null,null,null,null,null,null,null,null,null,null,null,null,null,null,null,null,null,null,null,null,null,null,null,null,null,null,null,null,null,null,null,null,null,null,null,null,null,null,null,null,null,null,null,null,null,null,null,null,null,null,null,null,null,null,null,null,null,null,null,null,null,null,null,null,null,null,null,null,null,null,null,null,null,null,null,null,null,null,null,null,null,null,null,null,null,null,null,null,null,null,null,null,null,null,null,null,null,null,null,null,null,null,null,null,null,null,null,null,null,null,null,null,null,null,null,null,null,null,null,null,null,null,null,null,null,null,null,null,null,null,null,null,null,null,null,null,null,null,null,null,null,null,null,null,null,null,null,null,null,null,null,null,null,null,null,null,null,null,null,null,null,null,null,null,null,null,null,null,null,null,null,null,null,null,null,null,null,null,null,null,null,null,null,null,null,null,null,null,null,null,null,null,null,null,null,null,null,null,null,null,null,null,null,null,null,null,null,null,null,null,null,null,null,null,null,null,null,null,null,null,null,null,null,null,null,null,null,null,null,null,null,null,null,null,null,null,null,null,null,null,null,null,null,null,null,null,null,null,null,null,null,null,null,null,null,null,null,null,null,null,null,null,null,null,null,null,null,null,null,null,null,null,null,null,null,null,null,null,null,null,null,null,null,null,null,null,null,null,null,null,null,null,null,null,null,null,null,null,null,null,null,null,null,null,null,null,null,null,null,null,null,null,null,null,null,null,null,null,null,null,null,null,null,null,null,null,null,null,null,null,null,null,null,null,null,null,null,null,null,null,null,null,null,null,null,null,null,null,null,null,null,null,null,null,null,null,null,null,null,null,null,null,null,null,null,null,null,null,null,null,null,null,null,null,null,null,null,null,null,null,null,null,null,null,null,null,null,null,null,null,null,null,null,null,null,null,null,null,null,null,null,null,null,null,null,null,null,null,null,null,null,null,null,null,null,null,null,null,null,null,null,null,null,null,null,null,null,null,null,null,null,null,null,null,null,null,null,null,null,null,null,null,null,null,null,null,null,null,null,null,null,null,null,null,null,null,null,null,null,null,null,null,null,null,null,null,null,null,null,null,null,null,null,null,null,null,null,null,null,null,null,null,null,null,null,null,null,null,null,null,null,null,null,null,null,null,null,null,null,null,null,null,null,null,null,null,null,null,null,null,null,null,null,null,null,null,null,null,null,null,null,null,null,null,null,null,null,null,null,null,null,null,null,null,null,null,null,null,null,null,null,null,null,null,null,null,null,null,null,null,null,null,null,null,null,null,null,null,null,null,null,null,null,null,null,null,null,null,null,null,null,null,null,null,null,null,null,null,null,null,null,null,null,null,null,null,null,null,null,null,null,null,null,null,null,null,null,null,null,null,null,null,null,null,null,null,null,null,null,null,null,null,null,null,null,null,null,null,null,null,null,null,null,null,null,null,null,null,null,null,null,null,null,null,null,null,null,null,null,null,null,null,null,null,null,null,null,null,null,null,null,null,null,null,null,null,null,null,null,null,null,null,null,null,null,null,null,null,null,null,null,null,null,null,null,null,null,null,null,null,null,null,null,null,null,null,null,null,null,null,null,null,null,null,null,null,null,null,null,null,null,null,null,null,null,null,null,null,null,null,null,null,null,null,null,null,null,null,null,null,null,null,null,null,null,null,null,null,null,null,null,null,null,null,null,null,null,null,null,null,null,null,null,null,null,null,null,null,null,null,null,null,null,null,null,null,null,null,null,null,null,null,null,null,null,null,null,null,null,null,null,null,null,null,null,null,null,null,null,null,null,null,null,null,null,null,null,null,null,null,null,null,null,null,null,null,null,null,null,null,null,null,null,null,null,null,null,null,null,null,null,null,null,null,null,null,null,null,null,null,null,null,null,null,null,null,null,null,null,null,null,null,null,null,null,null,null,null,null,null,null,null,null,null,null,null,null,null,null,null,null,null,null,null,null,null,null,null,null,null,null,null,null,null,null,null,null,null,null,null,null,null,null,null,null,null,null,null,null,null,null,null,null,null,null,null,null,null,null,null,null,null,null,null,null,null,null,null,null,null,null,null,null,null,null,null,null,null,null,null,null,null,null,null,null,null,null,null,null,null,null,null,null,null,null,null,null,null,null,null,null,null,null,null,null,null,null,null,null,null,null,null,null,null,null,null,null,null,null,null,null,null,null,null,null,null,null,null,null,null,null,null,null,null,null,null,null,null,null,null,null,null,null,null,null,null,null,null,null,null,null,null,null,null,null,null,null,null,null,null,null,null,null,null,null,null,null,null,null,null,null,null,null,null,null,null,null,null,null,null,null,null,null,null,null,null,null,null,null,null,null,null,null,null,null,null,null,null,null,null,null,null,null,null,null,null,null,null,null,null,null,null,null,null,null,null,null,null,null,null,null,null,null,null,null,null,null,null,null,null,null,null,null,null,null,null,null,null,null,null,null,null,null,null,null,null,null,null,null,null,null,null,null,null,null,null,null,null,null,null,null,null,null,null,null,null,null,null,null,null,null,null,null,null,null,null,null,null,null,null,null,null,null,null,null,null,null,null,null,null,null,null,null,null,null,null,null,null,null,null,null,null,null,null,null,null,null,null,null,null,null,null,null,null,null,null,null,null,null,null,null,null,null,null,null,null,null,null,null,null,null,null,null,null,null,null,null,null,null,null,null,null,null,null,null,null,null,null,null,null,null,null,null,null,null,null,null,null,null,null,null,null,null,null,null,null,null,null,null,null,null,null,null,null,null,null,null,null,null,null,null,null,null,null,null,null,null,null,null,null,null,null,null,null,null,null,null,null,null,null,null,null,null,null,null,null,null,null,null,null,null,null,null,null,null,null,null,null,null,null,null,null,null,null,null,null,null,null,null,null,null,null,null,null,null,null,null,null,null,null,null,null,null,null,null,null,null,null,null,null,null,null,null,null,null,null,null,null,null,null,null,null,null,null,null,null,null,null,null,null,null,null,null,null,null,null,null,null,null,null,null,null,null,null,null,null,null,null,null,null,null,null,null,null,null,null,null,null,null,null,null,null,null,null,null,null,null,null,null,null,null,null,null,null,null,null,null,null,null,null,null,null,null,null,null,null,null,null,null,null,null,null,null,null,null,null,null,null,null,null,null,null,null,null,null,null,null,null,null,null,null,null,null,null,null,null,null,null,null,null,null,null,null,null,null,null,null,null,null,null,null,null,null,null,null,null,null,null,null,null,null,null,null,null,null,null,null,null,null,null,null,null,null,null,null,null,null,null,null,null,null,null,null,null,null,null,null,null,null,null,null,null,null,null,null,null,null,null,null,null,null,null,null,null,null,null,null,null,null,null,null,null,null,null,null,null,null,null,null,null,null,null,null,null,null,null,null,null,null,null,null,null,null,null,null,null,null,null,null,null,null,null,null,null,null,null,null,null,null,null,null,null,null,null,null,null,null,null,null,null,null,null,null,null,null,null,null,null,null,null,null,null,null,null,null,null,null,null,null,null,null,null,null,null,null,null,null,null,null,null,null,null,null,null,null,null,null,null,null,null,null,null,null,null,null,null,null,null,null,null,null,null,null,null,null,null,null,null,null,null,null,null,null,null,null,null,null,null,null,null,null,null,null,null,null,null,null,null,null,null,null,null,null,null,null,null,null,null,null,null,null,null,null,null,null,null,null,null,null,null,null,null,null,null,null,null,null,null,null,null,null,null,null,null,null,null,null,null,null,null,null,null,null,null,null,null,null,null,null,null,null,null,null,null,null,null,null,null,null,null,null,null,null,null,null,null,null,null,null,null,null,null,null,null,null,null,null,null,null,null,null,null,null,null,null,null,null,null,null,null,null,null,null,null,null,null,null,null,null,null,null,null,null,null,null,null,null,null,null,null,null,null,null,null,null,null,null,null,null,null,null,null,null,null,null,null,null,null,null,null,null,null,null,null,null,null,null,null,null,null,null,null,null,null,null,null,null,null,null,null,null,null,null,null,null,null,null,null,null,null,null,null,null,null,null,null,null,null,null,null,null,null,null,null,null,null,null,null,null,null,null,null,null,null,null,null,null,null,null,null,null,null,null,null,null,null,null,null,null,null,null,null,null,null,null,null,null,null,null,null,null,null,null,null,null,null,null,null,null,null,null,null,null,null,null,null,null,null,null,null,null,null,null,null,null,null,null,null,null,null,null,null,null,null,null,null,null,null,null,null,null,null,null,null,null,null,null,null,null,null,null,null,null,null,null,null,null,null,null,null,null,null,null,null,null,null,null,null,null,null,null,null,null,null,null,null,null,null,null,null,null,null,null,null,null,null,null,null,null,null,null,null,null,null,null,null,null,null,null,null,null,null,null,null,null,null,null,null,null,null,null,null,null,null,null,null,null,null,null,null,null,null,null,null,null,null,null,null,null,null,null,null,null,null,null,null,null,null,null,null,null,null,null,null,null,null,null,null,null,null,null,null,null,null,null,null,null,null,null,null,null,null,null,null,null,null,null,null,null,null,null,null,null,null,null,null,null,null,null,null,null,null,null,null,null,null,null,null,null,null,null,null,null,null,null,null,null,null,null,null,null,null,null,null,null,null,null,null,null,null,null,null,null,null,null,null,null,null,null,null,null,null,null,null,null,null,null,null,null,null,null,null,null,null,null,null,null,null,null,null,null,null,null,null,null,null,null,null,null,null,null,null,null,null,null,null,null,null,null,null,null,null,null,null,null,null,null,null,null,null,null,null,null,null,null,null,null,null,null,null,null,null,null,null,null,null,null,null,null,null,null,null,null,null,null,null,null,null,null,null,null,null,null,null,null,null,null,null,null,null,null,null,null,null,null,null,null,null,null,null,null,null,null,null,null,null,null,null,null,null,null,null,null,null,null,null,null,null,null,null,null,null,null,null,null,null,null,null,null,null,null,null,null,null,null,null,null,null,null,null,null,null,null,null,null,null,null,null,null,null,null,null,null,null,null,null,null,null,null,null,null,null,null,null,null,null,null,null,null,null,null,null,null,null,null,null,null,null,null,null,null,null,null,null,null,null,null,null,null,null,null,null,null,null,null,null,null,null,null,null,null,null,null,null,null,null,null,null,null,null,null,null,null,null,null,null,null,null,null,null,null,null,null,null,null,null,null,null,null,null,null,null,null,null,null,null,null,null,null,null,null,null,null,null,null,null,null,null,null,null,null,null,null,null,null,null,null,null,null,null,null,null,null,null,null,null,null,null,null,null,null,null,null,null,null,null,null,null,null,null,null,null,null,null,null,null,null,null,null,null,null,null,null,null,null,null,null,null,null,null,null,null,null,null,null,null,null,null,null,null,null,null,null,null,null,null,null,null,null,null,null,null,null,null,null,null,null,null,null,null,null,null,null,null,null,null,null,null,null,null,null,null,null,null,null,null,null,null,null,null,null,null,null,null,null,null,null,null,null,null,null,null,null,null,null,null,null,null,null,null,null,null,null,null,null,null,null,null,null,null,null,null,null,null,null,null,null,null,null,null,null,null,null,null,null,null,null,null,null,null,null,null,null,null,null,null,null,null,null,null,null,null,null,null,null,null,null,null,null,null,null,null,null,null,null,null,null,null,null,null,null,null,null,null,null,null,null,null,null,null,null,null,null,null,null,null,null,null,null,null,null,null,null,null,null,null,null,null,null,null,null,null,null,null,null,null,null,null,null,null,null,null,null,null,null,null,null,null,null,null,null,null,null,null,null,null,null,null,null,null,null,null,null,null,null,null,null,null,null,null,null,null,null,null,null,null,null,null,null,null,null,null,null,null,null,null,null,null,null,null,null,null,null,null,null,null,null,null,null,null,null,null,null,null,null,null,null,null,null,null,null,null,null,null,null,null,null,null,null,null,null,null,null,null,null,null,null,null,null,null,null,null,null,null,null,null,null,null,null,null,null,null,null,null,null,null,null,null,null,null,null,null,null,null,null,null,null,null,null,null,null,null,null,null,null,null,null,null,null,null,null,null,null,null,null,null,null,null,null,null,null,null,null,null,null,null,null,null,null,null,null,null,null,null,null,null,null,null,null,null,null,null,null,null,null,null,null,null,null,null,null,null,null,null,null,null,null,null,null,null,null,null,null,null,null,null,null,null,null,null,null,null,null,null,null,null,null,null,null,null,null,null,null,null,null,null,null,null,null,null,null,null,null,null,null,null,null,null,null,null,null,null,null,null,null,null,null,null,null,null,null,null,null,null,null,null,null,null,null,null,null,null,null,null,null,null,null,null,null,null,null,null,null,null,null,null,null,null,null,null,null,null,null,null,null,null,null,null,null,null,null,null,null,null,null,null,null,null,null,null,null,null,null,null,null,null,null,null,null,null,null,null,null,null,null,null,null,null,null,null,null,null,null,null,null,null,null,null,null,null,null,null,null,null,null,null,null,null,null,null,null,null,null,null,null,null,null,null,null,null,null,null,null,null,null,null,null,null,null,null,null,null,null,null,null,null,null,null,null,null,null,null,null,null,null,null,null,null,null,null,null,null,null,null,null,null,null,null,null,null,null,null,null,null,null,null,null,null,null,null,null,null,null,null,null,null,null,null,null,null,null,null,null,null,null,null,null,null,null,null,null,null,null,null,null,null,null,null,null,null,null,null,null,null,null,null,null,null,null,null,null,null,null,null,null,null,null,null,null,null,null,null,null,null,null,null,null,null,null,null,null,null,null,null,null,null,null,null,null,null,null,null,null,null,null,null,null,null,null,null,null,null,null,null,null,null,null,null,null,null,null,null,null,null,null,null,null,null,null,null,null,null,null,null,null,null,null,null,null,null,null,null,null,null,null,null,null,null,null,null,null,null,null,null,null,null,null,null,null,null,null,null,null,null,null,null,null,null,null,null,null,null,null,null,null,null,null,null,null,null,null,null,null,null,null,null,null,null,null,null,null,null,null,null,null,null,null,null,null,null,null,null,null,null,null,null,null,null,null,null,null,null,null,null,null,null,null,null,null,null,null,null,null,null,null,null,null,null,null,null,null,null,null,null,null,null,null,null,null,null,null,null,null,null,null,null,null,null,null,null,null,null,null,null,null,null,null,null,null,null,null,null,null,null,null,null,null,null,null,null,null,null,null,null,null,null,null,null,null,null,null,null,null,null,null,null,null,null,null,null,null,null,null,null,null,null,null,null,null,null,null,null,null,null,null,null,null,null,null,null,null,null,null,null,null,null,null,null,null,null,null,null,null,null,null,null,null,null,null,null,null,null,null,null,null,null,null,null,null,null,null,null,null,null,null,null,null,null,null,null,null,null,null,null,null,null,null,null,null,null,null,null,null,null,null,null,null,null,null,null,null,null,null,null,null,null,null,null,null,null,null,null,null,null,null,null,null,null,null,null,null,null,null,null,null,null,null,null,null,null,null,null,null,null,null,null,null,null,null,null,null,null,null,null,null,null,null,null,null,null,null,null,null,null,null,null,null,null,null,null,null,null,null,null,null,null,null,null,null,null,null,null,null,null,null,null,null,null,null,null,null,null,null,null,null,null,null,null,null,null,null,null,null,null,null,null,null,null,null,null,null,null,null,null,null,null,null,null,null,null,null,null,null,null,null,null,null,null,null,null,null,null,null,null,null,null,null,null,null,null,null,null,null,null,null,null,null,null,null,null,null,null,null,null,null,null,null,null,null,null,null,null,null,null,null,null,null,null,null,null,null,null,null,null,null,null,null,null,null,null,null,null,null,null,null,null,null,null,null,null,null,null,null,null,null,null,null,null,null,null,null,null,null,null,null,null,null,null,null,null,null,null,null,null,null,null,null,null,null,null,null,null,null,null,null,null,null,null,null,null,null,null,null,null,null,null,null,null,null,null,null,null,null,null,null,null,null,null,null,null,null,null,null,null,null,null,null,null,null,null,null,null,null,null,null,null,null,null,null,null,null,null,null,null,null,null,null,null,null,null,null,null,null,null,null,null,null,null,null,null,null,null,null,null,null,null,null,null,null,null,null,null,null,null,null,null,null,null,null,null,null,null,null,null,null,null,null,null,null,null,null,null,null,null,null,null,null,null,null,null,null,null,null,null,null,null,null,null,null,null,null,null,null,null,null,null,null,null,null,null,null,null,null,null,null,null,null,null,null,null,null,null,null,null,null,null,null,null,null,null,null,null,null,null,null,null,null,null,null,null,null,null,null,null,null,null,null,null,null,null,null,null,null,null,null,null,null,null,null,null,null,null,null,null,null,null,null,null,null,null,null,null,null,null,null,null,null,null,null,null,null,null,null,null,null,null,null,null,null,null,null,null,null,null,null,null,null,null,null,null,null,null,null,null,null,null,null,null,null,null,null,null,null,null,null,null,null,null,null,null,null,null,null,null,null,null,null,null,null,null,null,null,null,null,null,null,null,null,null,null,null,null,null,null,null,null,null,null,null,null,null,null,null,null,null,null,null,null,null,null,null,null,null,null,null,null,null,null,null,null,null,null,null,null,null,null,null,null,null,null,null,null,null,null,null,null,null,null,null,null,null,null,null,null,null,null,null,null,null,null,null,null,null,null,null,null,null,null,null,null,null,null,null,null,null,null,null,null,null,null,null,null,null,null,null,null,null,null,null,null,null,null,null,null,null,null,null,null,null,null,null,null,null,null,null,null,null,null,null,null,null,null,null,null,null,null,null,null,null,null,null,null,null,null,null,null,null,null,null,null,null,null,null,null,null,null,null,null,null,null,null,null,null,null,null,null,null,null,null,null,null,null,null,null,null,null,null,null,null,null,null,null,null,null,null,null,null,null,null,null,null,null,null,null,null,null,null,null,null,null,null,null,null,null,null,null,null,null,null,null,null,null,null,null,null,null,null,null,null,null,null,null,null,null,null,null,null,null,null,null,null,null,null,null,null,null,null,null,null,null,null,null,null,null,null,null,null,null,null,null,null,null,null,null,null,null,null,null,null,null,null,null,null,null,null,null,null,null,null,null,null,null,null,null,null,null,null,null,null,null,null,null,null,null,null,null,null,null,null,null,null,null,null,null,null,null,null,null,null,null,null,null,null,null,null,null,null,null,null,null,null,null,null,null,null,null,null,null,null,null,null,null,null,null,null,null,null,null,null,null,null,null,null,null,null,null,null,null,null,null,null,null,null,null,null,null,null,null,null,null,null,null,null,null,null,null,null,null,null,null,null,null,null,null,null,null,null,null,null,null,null,null,null,null,null,null,null,null,null,null,null,null,null,null,null,null,null,null,null,null,null,null,null,null,null,null,null,null,null,null,null,null,null,null,null,null,null,null,null,null,null,null,null,null,null,null,null,null,null,null,null,null,null,null,null,null,null,null,null,null,null,null,null,null,null,null,null,null,null,null,null,null,null,null,null,null,null,null,null,null,null,null,null,null,null,null,null,null,null,null,null,null,null,null,null,null,null,null,null,null,null,null,null,null,null,null,null,null,null,null,null,null,null,null,null,null,null,null,null,null,null,null,null,null,null,null,null,null,null,null,null,null,null,null,null,null,null,null,null,null,null,null,null,null,null,null,null,null,null,null,null,null,null,null,null,null,null,null,null,null,null,null,null,null,null,null,null,null,null,null,null,null,null,null,null,null,null,null,null,null,null,null,null,null,null,null,null,null,null,null,null,null,null,null,null,null,null,null,null,null,null,null,null,null,null,null,null,null,null,null,null,null,null,null,null,null,null,null,null,null,null,null,null,null,null,null,null,null,null,null,null,null,null,null,null,null,null,null,null,null,null,null,null,null,null,null,null,null,null,null,null,null,null,null,null,null,null,null,null,null,null,null,null,null,null,null,null,null,null,null,null,null,null,null,null,null,null,null,null,null,null,null,null,null,null,null,null,null,null,null,null,null,null,null,null,null,null,null,null,null,null,null,null,null,null,null,null,null,null,null,null,null,null,null,null,null,null,null,null,null,null,null,null,null,null,null,null,null,null,null,null,null,null,null,null,null,null,null,null,null,null,null,null,null,null,null,null,null,null,null,null,null,null,null,null,null,null,null,null,null,null,null,null,null,null,null,null,null,null,null,null,null,null,null,null,null,null,null,null,null,null,null,null,null,null,null,null,null,null,null,null,null,null,null,null,null,null,null,null,null,null,null,null,null,null,null,null,null,null,null,null,null,null,null,null,null,null,null,null,null,null,null,null,null,null,null,null,null,null,null,null,null,null,null,null,null,null,null,null,null,null,null,null,null,null,null,null,null,null,null,null,null,null,null,null,null,null,null,null,null,null,null,null,null,null,null,null,null,null,null,null,null,null,null,null,null,null,null,null,null,null,null,null,null,null,null,null,null,null,null,null,null,null,null,null,null,null,null,null,null,null,null,null,null,null,null,null,null,null,null,null,null,null,null,null,null,null,null,null,null,null,null,null,null,null,null,null,null,null,null,null,null,null,null,null,null,null,null,null,null,null,null,null,null,null,null,null,null,null,null,null,null,null,null,null,null,null,null,null,null,null,null,null,null,null,null,null,null,null,null,null,null,null,null,null,null,null,null,null,null,null,null,null,null,null,null,null,null,null,null,null,null,null,null,null,null,null,null,null,null,null,null,null,null,null,null,null,null,null,null,null,null,null,null,null,null,null,null,null,null,null,null,null,null,null,null,null,null,null,null,null,null,null,null,null,null,null,null,null,null,null,null,null,null,null,null,null,null,null,null,null,null,null,null,null,null,null,null,null,null,null,null,null,null,null,null,null,null,null,null,null,null,null,null,null,null,null,null,null,null,null,null,null,null,null,null,null,null,null,null,null,null,null,null,null,null,null,null,null,null,null,null,null,null,null,null,null,null,null,null,null,null,null,null,null,null,null,null,null,null,null,null,null,null,null,null,null,null,null,null,null,null,null,null,null,null,null,null,null,null,null,null,null,null,null,null,null,null,null,null,null,null,null,null,null,null,null,null,null,null,null,null,null,null,null,null,null,null,null,null,null,null,null,null,null,null,null,null,null,null,null,null,null,null,null,null,null,null,null,null,null,null,null,null,null,null,null,null,null,null,null,null,null,null,null,null,null,null,null,null,null,null,null,null,null,null,null,null,null,null,null,null,null,null,null,null,null,null,null,null,null,null,null,null,null,null,null,null,null,null,null,null,null,null,null,null,null,null,null,null,null,null,null,null,null,null,null,null,null,null,null,null,null,null,null,null,null,null,null,null,null,null,null,null,null,null,null,null,null,null,null,null,null,null,null,null,null,null,null,null,null,null,null,null,null,null,null,null,null,null,null,null,null,null,null,null,null,null,null,null,null,null,null,null,null,null,null,null,null,null,null,null,null,null,null,null,null,null,null,null,null,null,null,null,null,null,null,null,null,null,null,null,null,null,null,null,null,null,null,null,null,null,null,null,null,null,null,null,null,null,null,null,null,null,null,null,null,null,null,null,null,null,null,null,null,null,null,null,null,null,null,null,null,null,null,null,null,null,null,null,null,null,null,null,null,null,null,null,null,null,null,null,null,null,null,null,null,null,null,null,null,null,null,null,null,null,null,null,null,null,null,null,null,null,null,null,null,null,null,null,null,null,null,null,null,null,null,null,null,null,null,null,null,null,null,null,null,null,null,null,null,null,null,null,null,null,null,null,null,null,null,null,null,null,null,null,null,null,null,null,null,null,null,null,null,null,null,null,null,null,null,null,null,null,null,null,null,null,null,null,null,null,null,null,null,null,null,null,null,null,null,null,null,null,null,null,null,null,null,null,null,null,null,null,null,null,null,null,null,null,null,null,null,null,null,null,null,null,null,null,null,null,null,null,null,null,null,null,null,null,null,null,null,null,null,null,null,null,null,null,null,null,null,null,null,null,null,null,null,null,null,null,null,null,null,null,null,null,null,null,null,null,null,null,null,null,null,null,null,null,null,null,null,null,null,null,null,null,null,null,null,null,null,null,null,null,null,null,null,null,null,null,null,null,null,null,null,null,null,null,null,null,null,null,null,null,null,null,null,null,null,null,null,null,null,null,null,null,null,null,null,null,null,null,null,null,null,null,null,null,null,null,null,null,null,null,null,null,null,null,null,null,null,null,null,null,null,null,null,null,null,null,null,null,null,null,null,null,null,null,null,null,null,null,null,null,null,null,null,null,null,null,null,null,null,null,null,null,null,null,null,null,null,null,null,null,null,null,null,null,null,null,null,null,null,null,null,null,null,null,null,null,null,null,null,null,null,null,null,null,null,null,null,null,null,null,null,null,null,null,null,null,null,null,null,null,null,null,null,null,null,null,null,null,null,null,null,null,null,null,null,null,null,null,null,null,null,null,null,null,null,null,null,null,null,null,null,null,null,null,null,null,null,null,null,null,null,null,null,null,null,null,null,null,null,null,null,null,null,null,null,null,null,null,null,null,null,null,null,null,null,null,null,null,null,null,null,null,null,null,null,null,null,null,null,null,null,null,null,null,null,null,null,null,null,null,null,null,null,null,null,null,null,null,null,null,null,null,null,null,null,null,null,null,null,null,null,null,null,null,null,null,null,null,null,null,null,null,null,null,null,null,null,null,null,null,null,null,null,null,null,null,null,null,null,null,null,null,null,null,null,null,null,null,null,null,null,null,null,null,null,null,null,null,null,null,null,null,null,null,null,null,null,null,null,null,null,null,null,null,null,null,null,null,null,null,null,null,null,null,null,null,null,null,null,null,null,null,null,null,null,null,null,null,null,null,null,null,null,null,null,null,null,null,null,null,null,null,null,null,null,null,null,null,null,null,null,null,null,null,null,null,null,null,null,null,null,null,null,null,null,null,null,null,null,null,null,null,null,null,null,null,null,null,null,null,null,null,null,null,null,null,null,null,null,null,null,null,null,null,null,null,null,null,null,null,null,null,null,null,null,null,null,null,null,null,null,null,null,null,null,null,null,null,null,null,null,null,null,null,null,null,null,null,null,null,null,null,null,null,null,null,null,null,null,null,null,null,null,null,null,null,null,null,null,null,null,null,null,null,null,null,null,null,null,null,null,null,null,null,null,null,null,null,null,null,null,null,null,null,null,null,null,null,null,null,null,null,null,null,null,null,null,null,null,null,null,null,null,null,null,null,null,null,null,null,null,null,null,null,null,null,null,null,null,null,null,null,null,null,null,null,null,null,null,null,null,null,null,null,null,null,null,null,null,null,null,null,null,null,null,null,null,null,null,null,null,null,null,null,null,null,null,null,null,null,null,null,null,null,null,null,null,null,null,null,null,null,null,null,null,null,null,null,null,null,null,null,null,null,null,null,null,null,null,null,null,null,null,null,null,null,null,null,null,null,null,null,null,null,null,null,null,null,null,null,null,null,null,null,null,null,null,null,null,null,null,null,null,null,null,null,null,null,null,null,null,null,null,null,null,null,null,null,null,null,null,null,null,null,null,null,null,null,null,null,null,null,null,null,null,null,null,null,null,null,null,null,null,null,null,null,null,null,null,null,null,null,null,null,null,null,null,null,null,null,null,null,null,null,null,null,null,null,null,null,null,null,null,null,null,null,null,null,null,null,null,null,null,null,null,null,null,null,null,null,null,null,null,null,null,null,null,null,null,null,null,null,null,null,null,null,null,null,null,null,null,null,null,null,null,null,null,null,null,null,null,null,null,null,null,null,null,null,null,null,null,null,null,null,null,null,null,null,null,null,null,null,null,null,null,null,null,null,null,null,null,null,null,null,null,null,null,null,null,null,null,null,null,null,null,null,null,null,null,null,null,null,null,null,null,null,null,null,null,null,null,null,null,null,null,null,null,null,null,null,null,null,null,null,null,null,null,null,null,null,null,null,null,null,null,null,null,null,null,null,null,null,null,null,null,null,null,null,null,null,null,null,null,null,null,null,null,null,null,null,null,null,null,null,null,null,null,null,null,null,null,null,null,null,null,null,null,null,null,null,null,null,null,null,null,null,null,null,null,null,null,null,null,null,null,null,null,null,null,null,null,null,null,null,null,null,null,null,null,null,null,null,null,null,null,null,null,null,null,null,null,null,null,null,null,null,null,null,null,null,null,null,null,null,null,null,null,null,null,null,null,null,null,null,null,null,null,null,null,null,null,null,null,null,null,null,null,null,null,null,null,null,null,null,null,null,null,null,null,null,null,null,null,null,null,null,null,null,null,null,null,null,null,null,null,null,null,null,null,null,null,null,null,null,null,null,null,null,null,null,null,null,null,null,null,null,null,null,null,null,null,null,null,null,null,null,null,null,null,null,null,null,null,null,null,null,null,null,null,null,null,null,null,null,null,null,null,null,null,null,null,null,null,null,null,null,null,null,null,null,null,null,null,null,null,null,null,null,null,null,null,null,null,null,null,null,null,null,null,null,null,null,null,null,null,null,null,null,null,null,null,null,null,null,null,null,null,null,null,null,null,null,null,null,null,null,null,null,null,null,null,null,null,null,null,null,null,null,null,null,null,null,null,null,null,null,null,null,null,null,null,null,null,null,null,null,null,null,null,null,null,null,null,null,null,null,null,null,null,null,null,null,null,null,null,null,null,null,null,null,null,null,null,null,null,null,null,null,null,null,null,null,null,null,null,null,null,null,null,null,null,null,null,null,null,null,null,null,null,null,null,null,null,null,null,null,null,null,null,null,null,null,null,null,null,null,null,null,null,null,null,null,null,null,null,null,null,null,null,null,null,null,null,null,null,null,null,null,null,null,null,null,null,null,null,null,null,null,null,null,null,null,null,null,null,null,null,null,null,null,null,null,null,null,null,null,null,null,null,null,null,null,null,null,null,null,null,null,null,null,null,null,null,null,null,null,null,null,null,null,null,null,null,null,null,null,null,null,null,null,null,null,null,null,null,null,null,null,null,null,null,null,null,null,null,null,null,null,null,null,null,null,null,null,null,null,null,null,null,null,null,null,null,null,null,null,null,null,null,null,null,null,null,null,null,null,null,null,null,null,null,null,null,null,null,null,null,null,null,null,null,null,null,null,null,null,null,null,null,null,null,null,null,null,null,null,null,null,null,null,null,null,null,null,null,null,null,null,null,null,null,null,null,null,null,null,null,null,null,null,null,null,null,null,null,null,null,null,null,null,null,null,null,null,null,null,null,null,null,null,null,null,null,null,null,null,null,null,null,null,null,null,null,null,null,null,null,null,null,null,null,null,null,null,null,null,null,null,null,null,null,null,null,null,null,null,null,null,null,null,null,null,null,null,null,null,null,null,null,null,null,null,null,null,null,null,null,null,null,null,null,null,null,null,null,null,null,null,null,null,null,null,null,null,null,null,null,null,null,null,null,null,null,null,null,null,null,null,null,null,null,null,null,null,null,null,null,null,null,null,null,null,null,null,null,null,null,null,null,null,null,null,null,null,null,null,null,null,null,null,null,null,null,null,null,null,null,null,null,null,null,null,null,null,null,null,null,null,null,null,null,null,null,null,null,null,null,null,null,null,null,null,null,null,null,null,null,null,null,null,null,null,null,null,null,null,null,null,null,null,null,null,null,null,null,null,null,null,null,null,null,null,null,null,null,null,null,null,null,null,null,null,null,null,null,null,null,null,null,null,null,null,null,null,null,null,null,null,null,null,null,null,null,null,null,null,null,null,null,null,null,null,null,null,null,null,null,null,null,null,null,null,null,null,null,null,null,null,null,null,null,null,null,null,null,null,null,null,null,null,null,null,null,null,null,null,null,null,null,null,null,null,null,null,null,null,null,null,null,null,null,null,null,null,null,null,null,null,null,null,null,null,null,null,null,null,null,null,null,null,null,null,null,null,null,null,null,null,null,null,null,null,null,null,null,null,null,null,null,null,null,null,null,null,null,null,null,null,null,null,null,null,null,null,null,null,null,null,null,null,null,null,null,null,null,null,null,null,null,null,null,null,null,null,null,null,null,null,null,null,null,null,null,null,null,null,null,null,null,null,null,null,null,null,null,null,null,null,null,null,null,null,null,null,null,null,null,null,null,null,null,null,null,null,null,null,null,null,null,null,null,null,null,null,null,null,null,null,null,null,null,null,null,null,null,null,null,null,null,null,null,null,null,null,null,null,null,null,null,null,null,null,null,null,null,null,null,null,null,null,null,null,null,null,null,null,null,null,null,null,null,null,null,null,null,null,null,null,null,null,null,null,null,null,null,null,null,null,null,null,null,null,null,null,null,null,null,null,null,null,null,null,null,null,null,null,null,null,null,null,null,null,null,null,null,null,null,null,null,null,null,null,null,null,null,null,null,null,null,null,null,null,null,null,null,null,null,null,null,null,null,null,null,null,null,null,null,null,null,null,null,null,null,null,null,null,null,null,null,null,null,null,null,null,null,null,null,null,null,null,null,null,null,null,null,null,null,null,null,null,null,null,null,null,null,null,null,null,null,null,null,null,null,null,null,null,null,null,null,null,null,null,null,null,null,null,null,null,null,null,null,null,null,null,null,null,null,null,null,null,null,null,null,null,null,null,null,null,null,null,null,null,null,null,null,null,null,null,null,null,null,null,null,null,null,null,null,null,null,null,null,null,null,null,null,null,null,null,null,null,null,null,null,null,null,null,null,null,null,null,null,null,null,null,null,null,null,null,null,null,null,null,null,null,null,null,null,null,null,null,null,null,null,null,null,null,null,null,null,null,null,null,null,null,null,null,null,null,null,null,null,null,null,null,null,null,null,null,null,null,null,null,null,null,null,null,null,null,null,null,null,null,null,null,null,null,null,null,null,null,null,null,null,null,null,null,null,null,null,null,null,null,null,null,null,null,null,null,null,null,null,null,null,null,null,null,null,null,null,null,null,null,null,null,null,null,null,null,null,null,null,null,null,null,null,null,null,null,null,null,null,null,null,null,null,null,null,null,null,null,null,null,null,null,null,null,null,null,null,null,null,null,null,null,null,null,null,null,null,null,null,null,null,null,null,null,null,null,null,null,null,null,null,null,null,null,null,null,null,null,null,null,null,null,null,null,null,null,null,null,null,null,null,null,null,null,null,null,null,null,null,null,null,null,null,null,null,null,null,null,null,null,null,null,null,null,null,null,null,null,null,null,null,null,null,null,null,null,null,null,null,null,null,null,null,null,null,null,null,null,null,null,null,null,null,null,null,null,null,null,null,null,null,null,null,null,null,null,null,null,null,null,null,null,null,null,null,null,null,null,null,null,null,null,null,null,null,null,null,null,null,null,null,null,null,null,null,null,null,null,null,null,null,null,null,null,null,null,null,null,null,null,null,null,null,null,null,null,null,null,null,null,null,null,null,null,null,null,null,null,null,null,null,null,null,null,null,null,null,null,null,null,null,null,null,null,null,null,null,null,null,null,null,null,null,null,null,null,null,null,null,null,null,null,null,null,null,null,null,null,null,null,null,null,null,null,null,null,null,null,null,null,null,null,null,null,null,null,null,null,null,null,null,null,null,null,null,null,null,null,null,null,null,null,null,null,null,null,null,null,null,null,null,null,null,null,null,null,null,null,null,null,null,null,null,null,null,null,null,null,null,null,null,null,null,null,null,null,null,null,null,null,null,null,null,null,null,null,null,null,null,null,null,null,null,null,null,null,null,null,null,null,null,null,null,null,null,null,null,null,null,null,null,null,null,null,null,null,null,null,null,null,null,null,null,null,null,null,null,null,null,null,null,null,null,null,null,null,null,null,null,null,null,null,null,null,null,null,null,null,null,null,null,null,null,null,null,null,null,null,null,null,null,null,null,null,null,null,null,null,null,null,null,null,null,null,null,null,null,null,null,null,null,null,null,null,null,null,null,null,null,null,null,null,null,null,null,null,null,null,null,null,null,null,null,null,null,null,null,null,null,null,null,null,null,null,null,null,null,null,null,null,null,null,null,null,null,null,null,null,null,null,null,null,null,null,null,null,null,null,null,null,null,null,null,null,null,null,null,null,null,null,null,null,null,null,null,null,null,null,null,null,null,null,null,null,null,null,null,null,null,null,null,null,null,null,null,null,null,null,null,null,null,null,null,null,null,null,null,null,null,null,null,null,null,null,null,null,null,null,null,null,null,null,null,null,null,null,null,null,null,null,null,null,null,null,null,null,null,null,null,null,null,null,null,null,null,null,null,null,null,null,null,null,null,null,null,null,null,null,null,null,null,null,null,null,null,null,null,null,null,null,null,null,null,null,null,null,null,null,null,null,null,null,null,null,null,null,null,null,null,null,null,null,null,null,null,null,null,null,null,null,null,null,null,null,null,null,null,null,null,null,null,null,null,null,null,null,null,null,null,null,null,null,null,null,null,null,null,null,null,null,null,null,null,null,null,null,null,null,null,null,null,null,null,null,null,null,null,null,null,null,null,null,null,null,null,null,null,null,null,null,null,null,null,null,null,null,null,null,null,null,null,null,null,null,null,null,null,null,null,null,null,null,null,null,null,null,null,null,null,null,null,null,null,null,null,null,null,null,null,null,null,null,null,null,null,null,null,null,null,null,null,null,null,null,null,null,null,null,null,null,null,null,null,null,null,null,null,null,null,null,null,null,null,null,null,null,null,null,null,null,null,null,null,null,null,null,null,null,null,null,null,null,null,null,null,null,null,null,null,null,null,null,null,null,null,null,null,null,null,null,null,null,null,null,null,null,null,null,null,null,null,null,null,null,null,null,null,null,null,null,null,null,null,null,null,null,null,null,null,null,null,null,null,null,null,null,null,null,null,null,null,null,null,null,null,null,null,null,null,null,null,null,null,null,null,null,null,null,null,null,null,null,null,null,null,null,null,null,null,null,null,null,null,null,null,null,null,null,null,null,null,null,null,null,null,null,null,null,null,null,null,null,null,null,null,null,null,null,null,null,null,null,null,null,null,null,null,null,null,null,null,null,null,null,null,null,null,null,null,null,null,null,null,null,null,null,null,null,null,null,null,null,null,null,null,null,null,null,null,null,null,null,null,null,null,null,null,null,null,null,null,null,null,null,null,null,null,null,null,null,null,null,null,null,null,null,null,null,null,null,null,null,null,null,null,null,null,null,null,null,null,null,null,null,null,null,null,null,null,null,null,null,null,null,null,null,null,null,null,null,null,null,null,null,null,null,null,null,null,null,null,null,null,null,null,null,null,null,null,null,null,null,null,null,null,null,null,null,null,null,null,null,null,null,null,null,null,null,null,null,null,null,null,null,null,null,null,null,null,null,null,null,null,null,null,null,null,null,null,null,null,null,null,null,null,null,null,null,null,null,null,null,null,null,null,null,null,null,null,null,null,null,null,null,null,null,null,null,null,null,null,null,null,null,null,null,null,null,null,null,null,null,null,null,null,null,null,null,null,null,null,null,null,null,null,null,null,null,null,null,null,null,null,null,null,null,null,null,null,null,null,null,null,null,null,null,null,null,null,null,null,null,null,null,null,null,null,null,null,null,null,null,null,null,null,null,null,null,null,null,null,null,null,null,null,null,null,null,null,null,null,null,null,null,null,null,null,null,null,null,null,null,null,null,null,null,null,null,null,null,null,null,null,null,null,null,null,null,null,null,null,null,null,null,null,null,null,null,null,null,null,null,null,null,null,null,null,null,null,null,null,null,null,null,null,null,null,null,null,null,null,null,null,null,null,null,null,null,null,null,null,null,null,null,null,null,null,null,null,null,null,null,null,null,null,null,null,null,null,null,null,null,null,null,null,null,null,null,null,null,null,null,null,null,null,null,null,null,null,null,null,null,null,null,null,null,null,null,null,null,null,null,null,null,null,null,null,null,null,null,null,null,null,null,null,null,null,null,null,null,null,null,null,null,null,null,null,null,null,null,null,null,null,null,null,null,null,null,null,null,null,null,null,null,null,null,null,null,null,null,null,null,null,null,null,null,null,null,null,null,null,null,null,null,null,null,null,null,null,null,null,null,null,null,null,null,null,null,null,null,null,null,null,null,null,null,null,null,null,null,null,null,null,null,null,null,null,null,null,null,null,null,null,null,null,null,null,null,null,null,null,null,null,null,null,null,null,null,null,null,null,null,null,null,null,null,null,null,null,null,null,null,null,null,null,null,null,null,null,null,null,null,null,null,null,null,null,null,null,null,null,null,null,null,null,null,null,null,null,null,null,null,null,null,null,null,null,null,null,null,null,null,null,null,null,null,null,null,null,null,null,null,null,null,null,null,null,null,null,null,null,null,null,null,null,null,null,null,null,null,null,null,null,null,null,null,null,null,null,null,null,null,null,null,null,null,null,null,null,null,null,null,null,null,null,null,null,null,null,null,null,null,null,null,null,null,null,null,null,null,null,null,null,null,null,null,null,null,null,null,null,null,null,null,null,null,null,null,null,null,null,null,null,null,null,null,null,null,null,null,null,null,null,null,null,null,null,null,null,null,null,null,null,null,null,null,null,null,null,null,null,null,null,null,null,null,null,null,null,null,null,null,null,null,null,null,null,null,null,null,null,null,null,null,null,null,null,null,null,null,null,null,null,null,null,null,null,null,null,null,null,null,null,null,null,null,null,null,null,null,null,null,null,null,null,null,null,null,null,null,null,null,null,null,null,null,null,null,null,null,null,null,null,null,null,null,null,null,null,null,null,null,null,null,null,null,null,null,null,null,null,null,null,null,null,null,null,null,null,null,null,null,null,null,null,null,null,null,null,null,null,null,null,null,null,null,null,null,null,null,null,null,null,null,null,null,null,null,null,null,null,null,null,null,null,null,null,null,null,null,null,null,null,null,null,null,null,null,null,null,null,null,null,null,null,null,null,null,null,null,null,null,null,null,null,null,null,null,null,null,null,null,null,null,null,null,null,null,null,null,null,null,null,null,null,null,null,null,null,null,null,null,null,null,null,null,null,null,null,null,null,null,null,null,null,null,null,null,null,null,null,null,null,null,null,null,null,null,null,null,null,null,null,null,null,null,null,null,null,null,null,null,null,null,null,null,null,null,null,null,null,null,null,null,null,null,null,null,null,null,null,null,null,null,null,null,null,null,null,null,null,null,null,null,null,null,null,null,null,null,null,null,null,null,null,null,null,null,null,null,null,null,null,null,null,null,null,null,null,null,null,null,null,null,null,null,null,null,null,null,null,null,null,null,null,null,null,null,null,null,null,null,null,null,null,null,null,null,null,null,null,null,null,null,null,null,null,null,null,null,null,null,null,null,null,null,null,null,null,null,null,null,null,null,null,null,null,null,null,null,null,null,null,null,null,null,null,null,null,null,null,null,null,null,null,null,null,null,null,null,null,null,null,null,null,null,null,null,null,null,null,null,null,null,null,null,null,null,null,null,null,null,null,null,null,null,null,null,null,null,null,null,null,null,null,null,null,null,null,null,null,null,null,null,null,null,null,null,null,null,null,null,null,null,null,null,null,null,null,null,null,null,null,null,null,null,null,null,null,null,null,null,null,null,null,null,null,null,null,null,null,null,null,null,null,null,null,null,null,null,null,null,null,null,null,null,null,null,null,null,null,null,null,null,null,null,null,null,null,null,null,null,null,null,null,null,null,null,null,null,null,null,null,null,null,null,null,null,null,null,null,null,null,null,null,null,null,null,null,null,null,null,null,null,null,null,null,null,null,null,null,null,null,null,null,null,null,null,null,null,null,null,null,null,null,null,null,null,null,null,null,null,null,null,null,null,null,null,null,null,null,null,null,null,null,null,null,null,null,null,null,null,null,null,null,null,null,null,null,null,null,null,null,null,null,null,null,null,null,null,null,null,null,null,null,null,null,null,null,null,null,null,null,null,null,null,null,null,null,null,null,null,null,null,null,null,null,null,null,null,null,null,null,null,null,null,null,null,null,null,null,null,null,null,null,null,null,null,null,null,null,null,null,null,null,null,null,null,null,null,null,null,null,null,null,null,null,null,null,null,null,null,null,null,null,null,null,null,null,null,null,null,null,null,null,null,null,null,null,null,null,null,null,null,null,null,null,null,null,null,null,null,null,null,null,null,null,null,null,null,null,null,null,null,null,null,null,null,null,null,null,null,null,null,null,null,null,null,null,null,null,null,null,null,null,null,null,null,null,null,null,null,null,null,null,null,null,null,null,null,null,null,null,null,null,null,null,null,null,null,null,null,null,null,null,null,null,null,null,null,null,null,null,null,null,null,null,null,null,null,null,null,null,null,null,null,null,null,null,null,null,null,null,null,null,null,null,null,null,null,null,null,null,null,null,null,null,null,null,null,null,null,null,null,null,null,null,null,null,null,null,null,null,null,null,null,null,null,null,null,null,null,null,null,null,null,null,null,null,null,null,null,null,null,null,null,null,null,null,null,null,null,null,null,null,null,null,null,null,null,null,null,null,null,null,null,null,null,null,null,null,null,null,null,null,null,null,null,null,null,null,null,null,null,null,null,null,null,null,null,null,null,null,null,null,null,null,null,null,null,null,null,null,null,null,null,null,null,null,null,null,null,null,null,null,null,null,null,null,null,null,null,null,null,null,null,null,null,null,null,null,null,null,null,null,null,null,null,null,null,null,null,null,null,null,null,null,null,null,null,null,null,null,null,null,null,null,null,null,null,null,null,null,null,null,null,null,null,null,null,null,null,null,null,null,null,null,null,null,null,null,null,null,null,null,null,null,null,null,null,null,null,null,null,null,null,null,null,null,null,null,null,null,null,null,null,null,null,null,null,null,null,null,null,null,null,null,null,null,null,null,null,null,null,null,null,null,null,null,null,null,null,null,null,null,null,null,null,null,null,null,null,null,null,null,null,null,null,null,null,null,null,null,null,null,null,null,null,null,null,null,null,null,null,null,null,null,null,null,null,null,null,null,null,null,null,null,null,null,null,null,null,null,null,null,null,null,null,null,null,null,null,null,null,null,null,null,null,null,null,null,null,null,null,null,null,null,null,null,null,null,null,null,null,null,null,null,null,null,null,null,null,null,null,null,null,null,null,null,null,null,null,null,null,null,null,null,null,null,null,null,null,null,null,null,null,null,null,null,null,null,null,null,null,null,null,null,null,null,null,null,null,null,null,null,null,null,null,null,null,null,null,null,null,null,null,null,null,null,null,null,null,null,null,null,null,null,null,null,null,null,null,null,null,null,null,null,null,null,null,null,null,null,null,null,null,null,null,null,null,null,null,null,null,null,null,null,null,null,null,null,null,null,null,null,null,null,null,null,null,null,null,null,null,null,null,null,null,null,null,null,null,null,null,null,null,null,null,null,null,null,null,null,null,null,null,null,null,null,null,null,null,null,null,null,null,null,null,null,null,null,null,null,null,null,null,null,null,null,null,null,null,null,null,null,null,null,null,null,null,null,null,null,null,null,null,null,null,null,null,null,null,null,null,null,null,null,null,null,null,null,null,null,null,null,null,null,null,null,null,null,null,null,null,null,null,null,null,null,null,null,null,null,null,null,null,null,null,null,null,null,null,null,null,null,null,null,null,null,null,null,null,null,null,null,null,null,null,null,null,null,null,null,null,null,null,null,null,null,null,null,null,null,null,null,null,null,null,null,null,null,null,null,null,null,null,null,null,null,null,null,null,null,null,null,null,null,null,null,null,null,null,null,null,null,null,null,null,null,null,null,null,null,null,null,null,null,null,null,null,null,null,null,null,null,null,null,null,null,null,null,null,null,null,null,null,null,null,null,null,null,null,null,null,null,null,null,null,null,null,null,null,null,null,null,null,null,null,null,null,null,null,null,null,null,null,null,null,null,null,null,null,null,null,null,null,null,null,null,null,null,null,null,null,null,null,null,null,null,null,null,null,null,null,null,null,null,null,null,null,null,null,null,null,null,null,null,null,null,null,null,null,null,null,null,null,null,null,null,null,null,null,null,null,null,null,null,null,null,null,null,null,null,null,null,null,null,null,null,null,null,null,null,null,null,null,null,null,null,null,null,null,null,null,null,null,null,null,null,null,null,null,null,null,null,null,null,null,null,null,null,null,null,null,null,null,null,null,null,null,null,null,null,null,null,null,null,null,null,null,null,null,null,null,null,null,null,null,null,null,null,null,null,null,null,null,null,null,null,null,null,null,null,null,null,null,null,null,null,null,null,null,null,null,null,null,null,null,null,null,null,null,null,null,null,null,null,null,null,null,null,null,null,null,null,null,null,null,null,null,null,null,null,null,null,null,null,null,null,null,null,null,null,null,null,null,null,null,null,null,null,null,null,null,null,null,null,null,null,null,null,null,null,null,null,null,null,null,null,null,null,null,null,null,null,null,null,null,null,null,null,null,null,null,null,null,null,null,null,null,null,null,null,null,null,null,null,null,null,null,null,null,null,null,null,null,null,null,null,null,null,null,null,null,null,null,null,null,null,null,null,null,null,null,null,null,null,null,null,null,null,null,null,null,null,null,null,null,null,null,null,null,null,null,null,null,null,null,null,null,null,null,null,null,null,null,null,null,null,null,null,null,null,null,null,null,null,null,null,null,null,null,null,null,null,null,null,null,null,null,null,null,null,null,null,null,null,null,null,null,null,null,null,null,null,null,null,null,null,null,null,null,null,null,null,null,null,null,null,null,null,null,null,null,null,null,null,null,null,null,null,null,null,null,null,null,null,null,null,null,null,null,null,null,null,null,null,null,null,null,null,null,null,null,null,null,null,null,null,null,null,null,null,null,null,null,null,null,null,null,null,null,null,null,null,null,null,null,null,null,null,null,null,null,null,null,null,null,null,null,null,null,null,null,null,null,null,null,null,null,null,null,null,null,null,null,null,null,null,null,null,null,null,null,null,null,null,null,null,null,null,null,null,null,null,null,null,null,null,null,null,null,null,null,null,null,null,null,null,null,null,null,null,null,null,null,null,null,null,null,null,null,null,null,null,null,null,null,null,null,null,null,null,null,null,null,null,null,null,null,null,null,null,null,null,null,null,null,null,null,null,null,null,null,null,null,null,null,null,null,null,null,null,null,null,null,null,null,null,null,null,null,null,null,null,null,null,null,null,null,null,null,null,null,null,null,null,null,null,null,null,null,null,null,null,null,null,null,null,null,null,null,null,null,null,null,null,null,null,null,null,null,null,null,null,null,null,null,null,null,null,null,null,null,null,null,null,null,null,null,null,null,null,null,null,null,null,null,null,null,null,null,null,null,null,null,null,null,null,null,null,null,null,null,null,null,null,null,null,null,null,null,null,null,null,null,null,null,null,null,null,null,null,null,null,null,null,null,null,null,null,null,null,null,null,null,null,null,null,null,null,null,null,null,null,null,null,null,null,null,null,null,null,null,null,null,null,null,null,null,null,null,null,null,null,null,null,null,null,null,null,null,null,null,null,null,null,null,null,null,null,null,null,null,null,null,null,null,null,null,null,null,null,null,null,null,null,null,null,null,null,null,null,null,null,null,null,null,null,null,null,null,null,null,null,null,null,null,null,null,null,null,null,null,null,null,null,null,null,null,null,null,null,null,null,null,null,null,null,null,null,null,null,null,null,null,null,null,null,null,null,null,null,null,null,null,null,null,null,null,null,null,null,null,null,null,null,null,null,null,null,null,null,null,null,null,null,null,null,null,null,null,null,null,null,null,null,null,null,null,null,null,null,null,null,null,null,null,null,null,null,null,null,null,null,null,null,null,null,null,null,null,null,null,null,null,null,null,null,null,null,null,null,null,null,null,null,null,null,null,null,null,null,null,null,null,null,null,null,null,null,null,null,null,null,null,null,null,null,null,null,null,null,null,null,null,null,null,null,null,null,null,null,null,null,null,null,null,null,null,null,null,null,null,null,null,null,null,null,null,null,null,null,null,null,null,null,null,null,null,null,null,null,null,null,null,null,null,null,null,null,null,null,null,null,null,null,null,null,null,null,null,null,null,null,null,null,null,null,null,null,null,null,null,null,null,null,null,null,null,null,null,null,null,null,null,null,null,null,null,null,null,null,null,null,null,null,null,null,null,null,null,null,null,null,null,null,null,null,null,null,null,null,null,null,null,null,null,null,null,null,null,null,null,null,null,null,null,null,null,null,null,null,null,null,null,null,null,null,null,null,null,null,null,null,null,null,null,null,null,null,null,null,null,null,null,null,null,null,null,null,null,null,null,null,null,null,null,null,null,null,null,null,null,null,null,null,null,null,null,null,null,null,null,null,null,null,null,null,null,null,null,null,null,null,null,null,null,null,null,null,null,null,null,null,null,null,null,null,null,null,null,null,null,null,null,null,null,null,null,null,null,null,null,null,null,null,null,null,null,null,null,null,null,null,null,null,null,null,null,null,null,null,null,null,null,null,null,null,null,null,null,null,null,null,null,null,null,null,null,null,null,null,null,null,null,null,null,null,null,null,null,null,null,null,null,null,null,null,null,null,null,null,null,null,null,null,null,null,null,null,null,null,null,null,null,null,null,null,null,null,null,null,null,null,null,null,null,null,null,null,null,null,null,null,null,null,null,null,null,null,null,null,null,null,null,null,null,null,null,null,null,null,null,null,null,null,null,null,null,null,null,null,null,null,null,null,null,null,null,null,null,null,null,null,null,null,null,null,null,null,null,null,null,null,null,null,null,null,null,null,null,null,null,null,null,null,null,null,null,null,null,null,null,null,null,null,null,null,null,null,null,null,null,null,null,null,null,null,null,null,null,null,null,null,null,null,null,null,null,null,null,null,null,null,null,null,null,null,null,null,null,null,null,null,null,null,null,null,null,null,null,null,null,null,null,null,null,null,null,null,null,null,null,null,null,null,null,null,null,null,null,null,null,null,null,null,null,null,null,null,null,null,null,null,null,null,null,null,null,null,null,null,null,null,null,null,null,null,null,null,null,null,null,null,null,null,null,null,null,null,null,null,null,null,null,null,null,null,null,null,null,null,null,null,null,null,null,null,null,null,null,null,null,null,null,null,null,null,null,null,null,null,null,null,null,null,null,null,null,null,null,null,null,null,null,null,null,null,null,null,null,null,null,null,null,null,null,null,null,null,null,null,null,null,null,null,null,null,null,null,null,null,null,null,null,null,null,null,null,null,null,null,null,null,null,null,null,null,null,null,null,null,null,null,null,null,null,null,null,null,null,null,null,null,null,null,null,null,null,null,null,null,null,null,null,null,null,null,null,null,null,null,null,null,null,null,null,null,null,null,null,null,null,null,null,null,null,null,null,null,null,null,null,null,null,null,null,null,null,null,null,null,null,null,null,null,null,null,null,null,null,null,null,null,null,null,null,null,null,null,null,null,null,null,null,null,null,null,null,null,null,null,null,null,null,null,null,null,null,null,null,null,null,null,null,null,null,null,null,null,null,null,null,null,null,null,null,null,null,null,null,null,null,null,null,null,null,null,null,null,null,null,null,null,null,null,null,null,null,null,null,null,null,null,null,null,null,null,null,null,null,null,null,null,null,null,null,null,null,null,null,null,null,null,null,null,null,null,null,null,null,null,null,null,null,null,null,null,null,null,null,null,null,null,null,null,null,null,null,null,null,null,null,null,null,null,null,null,null,null,null,null,null,null,null,null,null,null,null,null,null,null,null,null,null,null,null,null,null,null,null,null,null,null,null,null,null,null,null,null,null,null,null,null,null,null,null,null,null,null,null,null,null,null,null,null,null,null,null,null,null,null,null,null,null,null,null,null,null,null,null,null,null,null,null,null,null,null,null,null,null,null,null,null,null,null,null,null,null,null,null,null,null,null,null,null,null,null,null,null,null,null,null,null,null,null,null,null,null,null,null,null,null,null,null,null,null,null,null,null,null,null,null,null,null,null,null,null,null,null,null,null,null,null,null,null,null,null,null,null,null,null,null,null,null,null,null,null,null,null,null,null,null,null,null,null,null,null,null,null,null,null,null,null,null,null,null,null,null,null,null,null,null,null,null,null,null,null,null,null,null,null,null,null,null,null,null,null,null,null,null,null,null,null,null,null,null,null,null,null,null,null,null,null,null,null,null,null,null,null,null,null,null,null,null,null,null,null,null,null,null,null,null,null,null,null,null,null,null,null,null,null,null,null,null,null,null,null,null,null,null,null,null,null,null,null,null,null,null,null,null,null,null,null,null,null,null,null,null,null,null,null,null,null,null,null,null,null,null,null,null,null,null,null,null,null,null,null,null,null,null,null,null,null,null,null,null,null,null,null,null,null,null,null,null,null,null,null,null,null,null,null,null,null,null,null,null,null,null,null,null,null,null,null,null,null,null,null,null,null,null,null,null,null,null,null,null,null,null,null,null,null,null,null,null,null,null,null,null,null,null,null,null,null,null,null,null,null,null,null,null,null,null,null,null,null,null,null,null,null,null,null,null,null,null,null,null,null,null,null,null,null,null,null,null,null,null,null,null,null,null,null,null,null,null,null,null,null,null,null,null,null,null,null,null,null,null,null,null,null,null,null,null,null,null,null,null,null,null,null,null,null,null,null,null,null,null,null,null,null,null,null,null,null,null,null,null,null,null,null,null,null,null,null,null,null,null,null,null,null,null,null,null,null,null,null,null,null,null,null,null,null,null,null,null,null,null,null,null,null,null,null,null,null,null,null,null,null,null,null,null,null,null,null,null,null,null,null,null,null,null,null,null,null,null,null,null,null,null,null,null,null,null,null,null,null,null,null,null,null,null,null,null,null,null,null,null,null,null,null,null,null,null,null,null,null,null,null,null,null,null,null,null,null,null,null,null,null,null,null,null,null,null,null,null,null,null,null,null,null,null,null,null,null,null,null,null,null,null,null,null,null,null,null,null,null,null,null,null,null,null,null,null,null,null,null,null,null,null,null,null,null,null,null,null,null,null,null,null,null,null,null,null,null,null,null,null,null,null,null,null,null,null,null,null,null,null,null,null,null,null,null,null,null,null,null,null,null,null,null,null,null,null,null,null,null,null,null,null,null,null,null,null,null,null,null,null,null,null,null,null,null,null,null,null,null,null,null,null,null,null,null,null,null,null,null,null,null,null,null,null,null,null,null,null,null,null,null,null,null,null,null,null,null,null,null,null,null,null,null,null,null,null,null,null,null,null,null,null,null,null,null,null,null,null,null,null,null,null,null,null,null,null,null,null,null,null,null,null,null,null,null,null,null,null,null,null,null,null,null,null,null,null,null,null,null,null,null,null,null,null,null,null,null,null,null,null,null,null,null,null,null,null,null,null,null,null,null,null,null,null,null,null,null,null,null,null,null,null,null,null,null,null,null,null,null,null,null,null,null,null,null,null,null,null,null,null,null,null,null,null,null,null,null,null,null,null,null,null,null,null,null,null,null,null,null,null,null,null,null,null,null,null,null,null,null,null,null,null,null,null,null,null,null,null,null,null,null,null,null,null,null,null,null,null,null,null,null,null,null,null,null,null,null,null,null,null,null,null,null,null,null,null,null,null,null,null,null,null,null,null,null,null,null,null,null,null,null,null,null,null,null,null,null,null,null,null,null,null,null,null,null,null,null,null,null,null,null,null,null,null,null,null,null,null,null,null,null,null,null,null,null,null,null,null,null,null,null,null,null,null,null,null,null,null,null,null,null,null,null,null,null,null,null,null,null,null,null,null,null,null,null,null,null,null,null,null,null,null,null,null,null,null,null,null,null,null,null,null,null,null,null,null,null,null,null,null,null,null,null,null,null,null,null,null,null,null,null,null,null,null,null,null,null,null,null,null,null,null,null,null,null,null,null,null,null,null,null,null,null,null,null,null,null,null,null,null,null,null,null,null,null,null,null,null,null,null,null,null,null,null,null,null,null,null,null,null,null,null,null,null,null,null,null,null,null,null,null,null,null,null,null,null,null,null,null,null,null,null,null,null,null,null,null,null,null,null,null,null,null,null,null,null,null,null,null,null,null,null,null,null,null,null,null,null,null,null,null,null,null,null,null,null,null,null,null,null,null,null,null,null,null,null,null,null,null,null,null,null,null,null,null,null,null,null,null,null,null,null,null,null,null,null,null,null,null,null,null,null,null,null,null,null,null,null,null,null,null,null,null,null,null,null,null,null,null,null,null,null,null,null,null,null,null,null,null,null,null,null,null,null,null,null,null,null,null,null,null,null,null,null,null,null,null,null,null,null,null,null,null,null,null,null,null,null,null,null,null,null,null,null,null,null,null,null,null,null,null,null,null,null,null,null,null,null,null,null,null,null,null,null,null,null,null,null,null,null,null,null,null,null,null,null,null,null,null,null,null,null,null,null,null,null,null,null,null,null,null,null,null,null,null,null,null,null,null,null,null,null,null,null,null,null,null,null,null,null,null,null,null,null,null,null,null,null,null,null,null,null,null,null,null,null,null,null,null,null,null,null,null,null,null,null,null,null,null,null,null,null,null,null,null,null,null,null,null,null,null,null,null,null,null,null,null,null,null,null,null,null,null,null,null,null,null,null,null,null,null,null,null,null,null,null,null,null,null,null,null,null,null,null,null,null,null,null,null,null,null,null,null,null,null,null,null,null,null,null,null,null,null,null,null,null,null,null,null,null,null,null,null,null,null,null,null,null,null,null,null,null,null,null,null,null,null,null,null,null,null,null,null,null,null,null,null,null,null,null,null,null,null,null,null,null,null,null,null,null,null,null,null,null,null,null,null,null,null,null,null,null,null,null,null,null,null,null,null,null,null,null,null,null,null,null,null,null,null,null,null,null,null,null,null,null,null,null,null,null,null,null,null,null,null,null,null,null,null,null,null,null,null,null,null,null,null,null,null,null,null,null,null,null,null,null,null,null,null,null,null,null,null,null,null,null,null,null,null,null,null,null,null,null,null,null,null,null,null,null,null,null,null,null,null,null,null,null,null,null,null,null,null,null,null,null,null,null,null,null,null,null,null,null,null,null,null,null,null,null,null,null,null,null,null,null,null,null,null,null,null,null,null,null,null,null,null,null,null,null,null,null,null,null,null,null,null,null,null,null,null,null,null,null,null,null,null,null,null,null,null,null,null,null,null,null,null,null,null,null,null,null,null,null,null,null,null,null,null,null,null,null,null,null,null,null,null,null,null,null,null,null,null,null,null,null,null,null,null,null,null,null,null,null,null,null,null,null,null,null,null,null,null,null,null,null,null,null,null,null,null,null,null,null,null,null,null,null,null,null,null,null,null,null,null,null,null,null,null,null,null,null,null,null,null,null,null,null,null,null,null,null,null,null,null,null,null,null,null,null,null,null,null,null,null,null,null,null,null,null,null,null,null,null,null,null,null,null,null,null,null,null,null,null,null,null,null,null,null,null,null,null,null,null,null,null,null,null,null,null,null,null,null,null,null,null,null,null,null,null,null,null,null,null,null,null,null,null,null,null,null,null,null,null,null,null,null,null,null,null,null,null,null,null,null,null,null,null,null,null,null,null,null,null,null,null,null,null,null,null,null,null,null,null,null,null,null,null,null,null,null,null,null,null,null,null,null,null,null,null,null,null,null,null,null,null,null,null,null,null,null,null,null,null,null,null,null,null,null,null,null,null,null,null,null,null,null,null,null,null,null,null,null,null,null,null,null,null,null,null,null,null,null,null,null,null,null,null,null,null,null,null,null,null,null,null,null,null,null,null,null,null,null,null,null,null,null,null,null,null,null,null,null,null,null,null,null,null,null,null,null,null,null,null,null,null,null,null,null,null,null,null,null,null,null,null,null,null,null,null,null,null,null,null,null,null,null,null,null,null,null,null,null,null,null,null,null,null,null,null,null,null,null,null,null,null,null,null,null,null,null,null,null,null,null,null,null,null,null,null,null,null,null,null,null,null,null,null,null,null,null,null,null,null,null,null,null,null,null,null,null,null,null,null,null,null,null,null,null,null,null,null,null,null,null,null,null,null,null,null,null,null,null,null,null,null,null,null,null,null,null,null,null,null,null,null,null,null,null,null,null,null,null,null,null,null,null,null,null,null,null,null,null,null,null,null,null,null,null,null,null,null,null,null,null,null,null,null,null,null,null,null,null,null,null,null,null,null,null,null,null,null,null,null,null,null,null,null,null,null,null,null,null,null,null,null,null,null,null,null,null,null,null,null,null,null,null,null,null,null,null,null,null,null,null,null,null,null,null,null,null,null,null,null,null,null,null,null,null,null,null,null,null,null,null,null,null,null,null,null,null,null,null,null,null,null,null,null,null,null,null,null,null,null,null,null,null,null,null,null,null,null,null,null,null,null,null,null,null,null,null,null,null,null,null,null,null,null,null,null,null,null,null,null,null,null,null,null,null,null,null,null,null,null,null,null,null,null,null,null,null,null,null,null,null,null,null,null,null,null,null,null,null,null,null,null,null,null,null,null,null,null,null,null,null,null,null,null,null,null,null,null,null,null,null,null,null,null,null,null,null,null,null,null,null,null,null,null,null,null,null,null,null,null,null,null,null,null,null,null,null,null,null,null,null,null,null,null,null,null,null,null,null,null,null,null,null,null,null,null,null,null,null,null,null,null,null,null,null,null,null,null,null,null,null,null,null,null,null,null,null,null,null,null,null,null,null,null,null,null,null,null,null,null,null,null,null,null,null,null,null,null,null,null,null,null,null,null,null,null,null,null,null,null,null,null,null,null,null,null,null,null,null,null,null,null,null,null,null,null,null,null,null,null,null,null,null,null,null,null,null,null,null,null,null,null,null,null,null,null,null,null,null,null,null,null,null,null,null,null,null,null,null,null,null,null,null,null,null,null,null,null,null,null,null,null,null,null,null,null,null,null,null,null,null,null,null,null,null,null,null,null,null,null,null,null,null,null,null,null,null,null,null,null,null,null,null,null,null,null,null,null,null,null,null,null,null,null,null,null,null,null,null,null,null,null,null,null,null,null,null,null,null,null,null,null,null,null,null,null,null,null,null,null,null,null,null,null,null,null,null,null,null,null,null,null,null,null,null,null,null,null,null,null,null,null,null,null,null,null,null,null,null,null,null,null,null,null,null,null,null,null,null,null,null,null,null,null,null,null,null,null,null,null,null,null,null,null,null,null,null,null,null,null,null,null,null,null,null,null,null,null,null,null,null,null,null,null,null,null,"Pass"]
[null,"PERIOD END",null,{"$f":"IF(ISBLANK('Step 1. Scoping'!C5)=TRUE,\"\",'Step 1. Scoping'!C5)","v":""},null,null,null,null,null,null,null,null,null,null,null,null,null,null,null,null,null,null,null,null,null,null,null,null,null,null,null,null,null,null,null,null,null,null,null,null,null,null,null,null,null,null,null,null,null,null,null,null,null,null,null,null,null,null,null,null,null,null,null,null,null,null,null,null,null,null,null,null,null,null,null,null,null,null,null,null,null,null,null,null,null,null,null,null,null,null,null,null,null,null,null,null,null,null,null,null,null,null,null,null,null,null,null,null,null,null,null,null,null,null,null,null,null,null,null,null,null,null,null,null,null,null,null,null,null,null,null,null,null,null,null,null,null,null,null,null,null,null,null,null,null,null,null,null,null,null,null,null,null,null,null,null,null,null,null,null,null,null,null,null,null,null,null,null,null,null,null,null,null,null,null,null,null,null,null,null,null,null,null,null,null,null,null,null,null,null,null,null,null,null,null,null,null,null,null,null,null,null,null,null,null,null,null,null,null,null,null,null,null,null,null,null,null,null,null,null,null,null,null,null,null,null,null,null,null,null,null,null,null,null,null,null,null,null,null,null,null,null,null,null,null,null,null,null,null,null,null,null,null,null,null,null,null,null,null,null,null,null,null,null,null,null,null,null,null,null,null,null,null,null,null,null,null,null,null,null,null,null,null,null,null,null,null,null,null,null,null,null,null,null,null,null,null,null,null,null,null,null,null,null,null,null,null,null,null,null,null,null,null,null,null,null,null,null,null,null,null,null,null,null,null,null,null,null,null,null,null,null,null,null,null,null,null,null,null,null,null,null,null,null,null,null,null,null,null,null,null,null,null,null,null,null,null,null,null,null,null,null,null,null,null,null,null,null,null,null,null,null,null,null,null,null,null,null,null,null,null,null,null,null,null,null,null,null,null,null,null,null,null,null,null,null,null,null,null,null,null,null,null,null,null,null,null,null,null,null,null,null,null,null,null,null,null,null,null,null,null,null,null,null,null,null,null,null,null,null,null,null,null,null,null,null,null,null,null,null,null,null,null,null,null,null,null,null,null,null,null,null,null,null,null,null,null,null,null,null,null,null,null,null,null,null,null,null,null,null,null,null,null,null,null,null,null,null,null,null,null,null,null,null,null,null,null,null,null,null,null,null,null,null,null,null,null,null,null,null,null,null,null,null,null,null,null,null,null,null,null,null,null,null,null,null,null,null,null,null,null,null,null,null,null,null,null,null,null,null,null,null,null,null,null,null,null,null,null,null,null,null,null,null,null,null,null,null,null,null,null,null,null,null,null,null,null,null,null,null,null,null,null,null,null,null,null,null,null,null,null,null,null,null,null,null,null,null,null,null,null,null,null,null,null,null,null,null,null,null,null,null,null,null,null,null,null,null,null,null,null,null,null,null,null,null,null,null,null,null,null,null,null,null,null,null,null,null,null,null,null,null,null,null,null,null,null,null,null,null,null,null,null,null,null,null,null,null,null,null,null,null,null,null,null,null,null,null,null,null,null,null,null,null,null,null,null,null,null,null,null,null,null,null,null,null,null,null,null,null,null,null,null,null,null,null,null,null,null,null,null,null,null,null,null,null,null,null,null,null,null,null,null,null,null,null,null,null,null,null,null,null,null,null,null,null,null,null,null,null,null,null,null,null,null,null,null,null,null,null,null,null,null,null,null,null,null,null,null,null,null,null,null,null,null,null,null,null,null,null,null,null,null,null,null,null,null,null,null,null,null,null,null,null,null,null,null,null,null,null,null,null,null,null,null,null,null,null,null,null,null,null,null,null,null,null,null,null,null,null,null,null,null,null,null,null,null,null,null,null,null,null,null,null,null,null,null,null,null,null,null,null,null,null,null,null,null,null,null,null,null,null,null,null,null,null,null,null,null,null,null,null,null,null,null,null,null,null,null,null,null,null,null,null,null,null,null,null,null,null,null,null,null,null,null,null,null,null,null,null,null,null,null,null,null,null,null,null,null,null,null,null,null,null,null,null,null,null,null,null,null,null,null,null,null,null,null,null,null,null,null,null,null,null,null,null,null,null,null,null,null,null,null,null,null,null,null,null,null,null,null,null,null,null,null,null,null,null,null,null,null,null,null,null,null,null,null,null,null,null,null,null,null,null,null,null,null,null,null,null,null,null,null,null,null,null,null,null,null,null,null,null,null,null,null,null,null,null,null,null,null,null,null,null,null,null,null,null,null,null,null,null,null,null,null,null,null,null,null,null,null,null,null,null,null,null,null,null,null,null,null,null,null,null,null,null,null,null,null,null,null,null,null,null,null,null,null,null,null,null,null,null,null,null,null,null,null,null,null,null,null,null,null,null,null,null,null,null,null,null,null,null,null,null,null,null,null,null,null,null,null,null,null,null,null,null,null,null,null,null,null,null,null,null,null,null,null,null,null,null,null,null,null,null,null,null,null,null,null,null,null,null,null,null,null,null,null,null,null,null,null,null,null,null,null,null,null,null,null,null,null,null,null,null,null,null,null,null,null,null,null,null,null,null,null,null,null,null,null,null,null,null,null,null,null,null,null,null,null,null,null,null,null,null,null,null,null,null,null,null,null,null,null,null,null,null,null,null,null,null,null,null,null,null,null,null,null,null,null,null,null,null,null,null,null,null,null,null,null,null,null,null,null,null,null,null,null,null,null,null,null,null,null,null,null,null,null,null,null,null,null,null,null,null,null,null,null,null,null,null,null,null,null,null,null,null,null,null,null,null,null,null,null,null,null,null,null,null,null,null,null,null,null,null,null,null,null,null,null,null,null,null,null,null,null,null,null,null,null,null,null,null,null,null,null,null,null,null,null,null,null,null,null,null,null,null,null,null,null,null,null,null,null,null,null,null,null,null,null,null,null,null,null,null,null,null,null,null,null,null,null,null,null,null,null,null,null,null,null,null,null,null,null,null,null,null,null,null,null,null,null,null,null,null,null,null,null,null,null,null,null,null,null,null,null,null,null,null,null,null,null,null,null,null,null,null,null,null,null,null,null,null,null,null,null,null,null,null,null,null,null,null,null,null,null,null,null,null,null,null,null,null,null,null,null,null,null,null,null,null,null,null,null,null,null,null,null,null,null,null,null,null,null,null,null,null,null,null,null,null,null,null,null,null,null,null,null,null,null,null,null,null,null,null,null,null,null,null,null,null,null,null,null,null,null,null,null,null,null,null,null,null,null,null,null,null,null,null,null,null,null,null,null,null,null,null,null,null,null,null,null,null,null,null,null,null,null,null,null,null,null,null,null,null,null,null,null,null,null,null,null,null,null,null,null,null,null,null,null,null,null,null,null,null,null,null,null,null,null,null,null,null,null,null,null,null,null,null,null,null,null,null,null,null,null,null,null,null,null,null,null,null,null,null,null,null,null,null,null,null,null,null,null,null,null,null,null,null,null,null,null,null,null,null,null,null,null,null,null,null,null,null,null,null,null,null,null,null,null,null,null,null,null,null,null,null,null,null,null,null,null,null,null,null,null,null,null,null,null,null,null,null,null,null,null,null,null,null,null,null,null,null,null,null,null,null,null,null,null,null,null,null,null,null,null,null,null,null,null,null,null,null,null,null,null,null,null,null,null,null,null,null,null,null,null,null,null,null,null,null,null,null,null,null,null,null,null,null,null,null,null,null,null,null,null,null,null,null,null,null,null,null,null,null,null,null,null,null,null,null,null,null,null,null,null,null,null,null,null,null,null,null,null,null,null,null,null,null,null,null,null,null,null,null,null,null,null,null,null,null,null,null,null,null,null,null,null,null,null,null,null,null,null,null,null,null,null,null,null,null,null,null,null,null,null,null,null,null,null,null,null,null,null,null,null,null,null,null,null,null,null,null,null,null,null,null,null,null,null,null,null,null,null,null,null,null,null,null,null,null,null,null,null,null,null,null,null,null,null,null,null,null,null,null,null,null,null,null,null,null,null,null,null,null,null,null,null,null,null,null,null,null,null,null,null,null,null,null,null,null,null,null,null,null,null,null,null,null,null,null,null,null,null,null,null,null,null,null,null,null,null,null,null,null,null,null,null,null,null,null,null,null,null,null,null,null,null,null,null,null,null,null,null,null,null,null,null,null,null,null,null,null,null,null,null,null,null,null,null,null,null,null,null,null,null,null,null,null,null,null,null,null,null,null,null,null,null,null,null,null,null,null,null,null,null,null,null,null,null,null,null,null,null,null,null,null,null,null,null,null,null,null,null,null,null,null,null,null,null,null,null,null,null,null,null,null,null,null,null,null,null,null,null,null,null,null,null,null,null,null,null,null,null,null,null,null,null,null,null,null,null,null,null,null,null,null,null,null,null,null,null,null,null,null,null,null,null,null,null,null,null,null,null,null,null,null,null,null,null,null,null,null,null,null,null,null,null,null,null,null,null,null,null,null,null,null,null,null,null,null,null,null,null,null,null,null,null,null,null,null,null,null,null,null,null,null,null,null,null,null,null,null,null,null,null,null,null,null,null,null,null,null,null,null,null,null,null,null,null,null,null,null,null,null,null,null,null,null,null,null,null,null,null,null,null,null,null,null,null,null,null,null,null,null,null,null,null,null,null,null,null,null,null,null,null,null,null,null,null,null,null,null,null,null,null,null,null,null,null,null,null,null,null,null,null,null,null,null,null,null,null,null,null,null,null,null,null,null,null,null,null,null,null,null,null,null,null,null,null,null,null,null,null,null,null,null,null,null,null,null,null,null,null,null,null,null,null,null,null,null,null,null,null,null,null,null,null,null,null,null,null,null,null,null,null,null,null,null,null,null,null,null,null,null,null,null,null,null,null,null,null,null,null,null,null,null,null,null,null,null,null,null,null,null,null,null,null,null,null,null,null,null,null,null,null,null,null,null,null,null,null,null,null,null,null,null,null,null,null,null,null,null,null,null,null,null,null,null,null,null,null,null,null,null,null,null,null,null,null,null,null,null,null,null,null,null,null,null,null,null,null,null,null,null,null,null,null,null,null,null,null,null,null,null,null,null,null,null,null,null,null,null,null,null,null,null,null,null,null,null,null,null,null,null,null,null,null,null,null,null,null,null,null,null,null,null,null,null,null,null,null,null,null,null,null,null,null,null,null,null,null,null,null,null,null,null,null,null,null,null,null,null,null,null,null,null,null,null,null,null,null,null,null,null,null,null,null,null,null,null,null,null,null,null,null,null,null,null,null,null,null,null,null,null,null,null,null,null,null,null,null,null,null,null,null,null,null,null,null,null,null,null,null,null,null,null,null,null,null,null,null,null,null,null,null,null,null,null,null,null,null,null,null,null,null,null,null,null,null,null,null,null,null,null,null,null,null,null,null,null,null,null,null,null,null,null,null,null,null,null,null,null,null,null,null,null,null,null,null,null,null,null,null,null,null,null,null,null,null,null,null,null,null,null,null,null,null,null,null,null,null,null,null,null,null,null,null,null,null,null,null,null,null,null,null,null,null,null,null,null,null,null,null,null,null,null,null,null,null,null,null,null,null,null,null,null,null,null,null,null,null,null,null,null,null,null,null,null,null,null,null,null,null,null,null,null,null,null,null,null,null,null,null,null,null,null,null,null,null,null,null,null,null,null,null,null,null,null,null,null,null,null,null,null,null,null,null,null,null,null,null,null,null,null,null,null,null,null,null,null,null,null,null,null,null,null,null,null,null,null,null,null,null,null,null,null,null,null,null,null,null,null,null,null,null,null,null,null,null,null,null,null,null,null,null,null,null,null,null,null,null,null,null,null,null,null,null,null,null,null,null,null,null,null,null,null,null,null,null,null,null,null,null,null,null,null,null,null,null,null,null,null,null,null,null,null,null,null,null,null,null,null,null,null,null,null,null,null,null,null,null,null,null,null,null,null,null,null,null,null,null,null,null,null,null,null,null,null,null,null,null,null,null,null,null,null,null,null,null,null,null,null,null,null,null,null,null,null,null,null,null,null,null,null,null,null,null,null,null,null,null,null,null,null,null,null,null,null,null,null,null,null,null,null,null,null,null,null,null,null,null,null,null,null,null,null,null,null,null,null,null,null,null,null,null,null,null,null,null,null,null,null,null,null,null,null,null,null,null,null,null,null,null,null,null,null,null,null,null,null,null,null,null,null,null,null,null,null,null,null,null,null,null,null,null,null,null,null,null,null,null,null,null,null,null,null,null,null,null,null,null,null,null,null,null,null,null,null,null,null,null,null,null,null,null,null,null,null,null,null,null,null,null,null,null,null,null,null,null,null,null,null,null,null,null,null,null,null,null,null,null,null,null,null,null,null,null,null,null,null,null,null,null,null,null,null,null,null,null,null,null,null,null,null,null,null,null,null,null,null,null,null,null,null,null,null,null,null,null,null,null,null,null,null,null,null,null,null,null,null,null,null,null,null,null,null,null,null,null,null,null,null,null,null,null,null,null,null,null,null,null,null,null,null,null,null,null,null,null,null,null,null,null,null,null,null,null,null,null,null,null,null,null,null,null,null,null,null,null,null,null,null,null,null,null,null,null,null,null,null,null,null,null,null,null,null,null,null,null,null,null,null,null,null,null,null,null,null,null,null,null,null,null,null,null,null,null,null,null,null,null,null,null,null,null,null,null,null,null,null,null,null,null,null,null,null,null,null,null,null,null,null,null,null,null,null,null,null,null,null,null,null,null,null,null,null,null,null,null,null,null,null,null,null,null,null,null,null,null,null,null,null,null,null,null,null,null,null,null,null,null,null,null,null,null,null,null,null,null,null,null,null,null,null,null,null,null,null,null,null,null,null,null,null,null,null,null,null,null,null,null,null,null,null,null,null,null,null,null,null,null,null,null,null,null,null,null,null,null,null,null,null,null,null,null,null,null,null,null,null,null,null,null,null,null,null,null,null,null,null,null,null,null,null,null,null,null,null,null,null,null,null,null,null,null,null,null,null,null,null,null,null,null,null,null,null,null,null,null,null,null,null,null,null,null,null,null,null,null,null,null,null,null,null,null,null,null,null,null,null,null,null,null,null,null,null,null,null,null,null,null,null,null,null,null,null,null,null,null,null,null,null,null,null,null,null,null,null,null,null,null,null,null,null,null,null,null,null,null,null,null,null,null,null,null,null,null,null,null,null,null,null,null,null,null,null,null,null,null,null,null,null,null,null,null,null,null,null,null,null,null,null,null,null,null,null,null,null,null,null,null,null,null,null,null,null,null,null,null,null,null,null,null,null,null,null,null,null,null,null,null,null,null,null,null,null,null,null,null,null,null,null,null,null,null,null,null,null,null,null,null,null,null,null,null,null,null,null,null,null,null,null,null,null,null,null,null,null,null,null,null,null,null,null,null,null,null,null,null,null,null,null,null,null,null,null,null,null,null,null,null,null,null,null,null,null,null,null,null,null,null,null,null,null,null,null,null,null,null,null,null,null,null,null,null,null,null,null,null,null,null,null,null,null,null,null,null,null,null,null,null,null,null,null,null,null,null,null,null,null,null,null,null,null,null,null,null,null,null,null,null,null,null,null,null,null,null,null,null,null,null,null,null,null,null,null,null,null,null,null,null,null,null,null,null,null,null,null,null,null,null,null,null,null,null,null,null,null,null,null,null,null,null,null,null,null,null,null,null,null,null,null,null,null,null,null,null,null,null,null,null,null,null,null,null,null,null,null,null,null,null,null,null,null,null,null,null,null,null,null,null,null,null,null,null,null,null,null,null,null,null,null,null,null,null,null,null,null,null,null,null,null,null,null,null,null,null,null,null,null,null,null,null,null,null,null,null,null,null,null,null,null,null,null,null,null,null,null,null,null,null,null,null,null,null,null,null,null,null,null,null,null,null,null,null,null,null,null,null,null,null,null,null,null,null,null,null,null,null,null,null,null,null,null,null,null,null,null,null,null,null,null,null,null,null,null,null,null,null,null,null,null,null,null,null,null,null,null,null,null,null,null,null,null,null,null,null,null,null,null,null,null,null,null,null,null,null,null,null,null,null,null,null,null,null,null,null,null,null,null,null,null,null,null,null,null,null,null,null,null,null,null,null,null,null,null,null,null,null,null,null,null,null,null,null,null,null,null,null,null,null,null,null,null,null,null,null,null,null,null,null,null,null,null,null,null,null,null,null,null,null,null,null,null,null,null,null,null,null,null,null,null,null,null,null,null,null,null,null,null,null,null,null,null,null,null,null,null,null,null,null,null,null,null,null,null,null,null,null,null,null,null,null,null,null,null,null,null,null,null,null,null,null,null,null,null,null,null,null,null,null,null,null,null,null,null,null,null,null,null,null,null,null,null,null,null,null,null,null,null,null,null,null,null,null,null,null,null,null,null,null,null,null,null,null,null,null,null,null,null,null,null,null,null,null,null,null,null,null,null,null,null,null,null,null,null,null,null,null,null,null,null,null,null,null,null,null,null,null,null,null,null,null,null,null,null,null,null,null,null,null,null,null,null,null,null,null,null,null,null,null,null,null,null,null,null,null,null,null,null,null,null,null,null,null,null,null,null,null,null,null,null,null,null,null,null,null,null,null,null,null,null,null,null,null,null,null,null,null,null,null,null,null,null,null,null,null,null,null,null,null,null,null,null,null,null,null,null,null,null,null,null,null,null,null,null,null,null,null,null,null,null,null,null,null,null,null,null,null,null,null,null,null,null,null,null,null,null,null,null,null,null,null,null,null,null,null,null,null,null,null,null,null,null,null,null,null,null,null,null,null,null,null,null,null,null,null,null,null,null,null,null,null,null,null,null,null,null,null,null,null,null,null,null,null,null,null,null,null,null,null,null,null,null,null,null,null,null,null,null,null,null,null,null,null,null,null,null,null,null,null,null,null,null,null,null,null,null,null,null,null,null,null,null,null,null,null,null,null,null,null,null,null,null,null,null,null,null,null,null,null,null,null,null,null,null,null,null,null,null,null,null,null,null,null,null,null,null,null,null,null,null,null,null,null,null,null,null,null,null,null,null,null,null,null,null,null,null,null,null,null,null,null,null,null,null,null,null,null,null,null,null,null,null,null,null,null,null,null,null,null,null,null,null,null,null,null,null,null,null,null,null,null,null,null,null,null,null,null,null,null,null,null,null,null,null,null,null,null,null,null,null,null,null,null,null,null,null,null,null,null,null,null,null,null,null,null,null,null,null,null,null,null,null,null,null,null,null,null,null,null,null,null,null,null,null,null,null,null,null,null,null,null,null,null,null,null,null,null,null,null,null,null,null,null,null,null,null,null,null,null,null,null,null,null,null,null,null,null,null,null,null,null,null,null,null,null,null,null,null,null,null,null,null,null,null,null,null,null,null,null,null,null,null,null,null,null,null,null,null,null,null,null,null,null,null,null,null,null,null,null,null,null,null,null,null,null,null,null,null,null,null,null,null,null,null,null,null,null,null,null,null,null,null,null,null,null,null,null,null,null,null,null,null,null,null,null,null,null,null,null,null,null,null,null,null,null,null,null,null,null,null,null,null,null,null,null,null,null,null,null,null,null,null,null,null,null,null,null,null,null,null,null,null,null,null,null,null,null,null,null,null,null,null,null,null,null,null,null,null,null,null,null,null,null,null,null,null,null,null,null,null,null,null,null,null,null,null,null,null,null,null,null,null,null,null,null,null,null,null,null,null,null,null,null,null,null,null,null,null,null,null,null,null,null,null,null,null,null,null,null,null,null,null,null,null,null,null,null,null,null,null,null,null,null,null,null,null,null,null,null,null,null,null,null,null,null,null,null,null,null,null,null,null,null,null,null,null,null,null,null,null,null,null,null,null,null,null,null,null,null,null,null,null,null,null,null,null,null,null,null,null,null,null,null,null,null,null,null,null,null,null,null,null,null,null,null,null,null,null,null,null,null,null,null,null,null,null,null,null,null,null,null,null,null,null,null,null,null,null,null,null,null,null,null,null,null,null,null,null,null,null,null,null,null,null,null,null,null,null,null,null,null,null,null,null,null,null,null,null,null,null,null,null,null,null,null,null,null,null,null,null,null,null,null,null,null,null,null,null,null,null,null,null,null,null,null,null,null,null,null,null,null,null,null,null,null,null,null,null,null,null,null,null,null,null,null,null,null,null,null,null,null,null,null,null,null,null,null,null,null,null,null,null,null,null,null,null,null,null,null,null,null,null,null,null,null,null,null,null,null,null,null,null,null,null,null,null,null,null,null,null,null,null,null,null,null,null,null,null,null,null,null,null,null,null,null,null,null,null,null,null,null,null,null,null,null,null,null,null,null,null,null,null,null,null,null,null,null,null,null,null,null,null,null,null,null,null,null,null,null,null,null,null,null,null,null,null,null,null,null,null,null,null,null,null,null,null,null,null,null,null,null,null,null,null,null,null,null,null,null,null,null,null,null,null,null,null,null,null,null,null,null,null,null,null,null,null,null,null,null,null,null,null,null,null,null,null,null,null,null,null,null,null,null,null,null,null,null,null,null,null,null,null,null,null,null,null,null,null,null,null,null,null,null,null,null,null,null,null,null,null,null,null,null,null,null,null,null,null,null,null,null,null,null,null,null,null,null,null,null,null,null,null,null,null,null,null,null,null,null,null,null,null,null,null,null,null,null,null,null,null,null,null,null,null,null,null,null,null,null,null,null,null,null,null,null,null,null,null,null,null,null,null,null,null,null,null,null,null,null,null,null,null,null,null,null,null,null,null,null,null,null,null,null,null,null,null,null,null,null,null,null,null,null,null,null,null,null,null,null,null,null,null,null,null,null,null,null,null,null,null,null,null,null,null,null,null,null,null,null,null,null,null,null,null,null,null,null,null,null,null,null,null,null,null,null,null,null,null,null,null,null,null,null,null,null,null,null,null,null,null,null,null,null,null,null,null,null,null,null,null,null,null,null,null,null,null,null,null,null,null,null,null,null,null,null,null,null,null,null,null,null,null,null,null,null,null,null,null,null,null,null,null,null,null,null,null,null,null,null,null,null,null,null,null,null,null,null,null,null,null,null,null,null,null,null,null,null,null,null,null,null,null,null,null,null,null,null,null,null,null,null,null,null,null,null,null,null,null,null,null,null,null,null,null,null,null,null,null,null,null,null,null,null,null,null,null,null,null,null,null,null,null,null,null,null,null,null,null,null,null,null,null,null,null,null,null,null,null,null,null,null,null,null,null,null,null,null,null,null,null,null,null,null,null,null,null,null,null,null,null,null,null,null,null,null,null,null,null,null,null,null,null,null,null,null,null,null,null,null,null,null,null,null,null,null,null,null,null,null,null,null,null,null,null,null,null,null,null,null,null,null,null,null,null,null,null,null,null,null,null,null,null,null,null,null,null,null,null,null,null,null,null,null,null,null,null,null,null,null,null,null,null,null,null,null,null,null,null,null,null,null,null,null,null,null,null,null,null,null,null,null,null,null,null,null,null,null,null,null,null,null,null,null,null,null,null,null,null,null,null,null,null,null,null,null,null,null,null,null,null,null,null,null,null,null,null,null,null,null,null,null,null,null,null,null,null,null,null,null,null,null,null,null,null,null,null,null,null,null,null,null,null,null,null,null,null,null,null,null,null,null,null,null,null,null,null,null,null,null,null,null,null,null,null,null,null,null,null,null,null,null,null,null,null,null,null,null,null,null,null,null,null,null,null,null,null,null,null,null,null,null,null,null,null,null,null,null,null,null,null,null,null,null,null,null,null,null,null,null,null,null,null,null,null,null,null,null,null,null,null,null,null,null,null,null,null,null,null,null,null,null,null,null,null,null,null,null,null,null,null,null,null,null,null,null,null,null,null,null,null,null,null,null,null,null,null,null,null,null,null,null,null,null,null,null,null,null,null,null,null,null,null,null,null,null,null,null,null,null,null,null,null,null,null,null,null,null,null,null,null,null,null,null,null,null,null,null,null,null,null,null,null,null,null,null,null,null,null,null,null,null,null,null,null,null,null,null,null,null,null,null,null,null,null,null,null,null,null,null,null,null,null,null,null,null,null,null,null,null,null,null,null,null,null,null,null,null,null,null,null,null,null,null,null,null,null,null,null,null,null,null,null,null,null,null,null,null,null,null,null,null,null,null,null,null,null,null,null,null,null,null,null,null,null,null,null,null,null,null,null,null,null,null,null,null,null,null,null,null,null,null,null,null,null,null,null,null,null,null,null,null,null,null,null,null,null,null,null,null,null,null,null,null,null,null,null,null,null,null,null,null,null,null,null,null,null,null,null,null,null,null,null,null,null,null,null,null,null,null,null,null,null,null,null,null,null,null,null,null,null,null,null,null,null,null,null,null,null,null,null,null,null,null,null,null,null,null,null,null,null,null,null,null,null,null,null,null,null,null,null,null,null,null,null,null,null,null,null,null,null,null,null,null,null,null,null,null,null,null,null,null,null,null,null,null,null,null,null,null,null,null,null,null,null,null,null,null,null,null,null,null,null,null,null,null,null,null,null,null,null,null,null,null,null,null,null,null,null,null,null,null,null,null,null,null,null,null,null,null,null,null,null,null,null,null,null,null,null,null,null,null,null,null,null,null,null,null,null,null,null,null,null,null,null,null,null,null,null,null,null,null,null,null,null,null,null,null,null,null,null,null,null,null,null,null,null,null,null,null,null,null,null,null,null,null,null,null,null,null,null,null,null,null,null,null,null,null,null,null,null,null,null,null,null,null,null,null,null,null,null,null,null,null,null,null,null,null,null,null,null,null,null,null,null,null,null,null,null,null,null,null,null,null,null,null,null,null,null,null,null,null,null,null,null,null,null,null,null,null,null,null,null,null,null,null,null,null,null,null,null,null,null,null,null,null,null,null,null,null,null,null,null,null,null,null,null,null,null,null,null,null,null,null,null,null,null,null,null,null,null,null,null,null,null,null,null,null,null,null,null,null,null,null,null,null,null,null,null,null,null,null,null,null,null,null,null,null,null,null,null,null,null,null,null,null,null,null,null,null,null,null,null,null,null,null,null,null,null,null,null,null,null,null,null,null,null,null,null,null,null,null,null,null,null,null,null,null,null,null,null,null,null,null,null,null,null,null,null,null,null,null,null,null,null,null,null,null,null,null,null,null,null,null,null,null,null,null,null,null,null,null,null,null,null,null,null,null,null,null,null,null,null,null,null,null,null,null,null,null,null,null,null,null,null,null,null,null,null,null,null,null,null,null,null,null,null,null,null,null,null,null,null,null,null,null,null,null,null,null,null,null,null,null,null,null,null,null,null,null,null,null,null,null,null,null,null,null,null,null,null,null,null,null,null,null,null,null,null,null,null,null,null,null,null,null,null,null,null,null,null,null,null,null,null,null,null,null,null,null,null,null,null,null,null,null,null,null,null,null,null,null,null,null,null,null,null,null,null,null,null,null,null,null,null,null,null,null,null,null,null,null,null,null,null,null,null,null,null,null,null,null,null,null,null,null,null,null,null,null,null,null,null,null,null,null,null,null,null,null,null,null,null,null,null,null,null,null,null,null,null,null,null,null,null,null,null,null,null,null,null,null,null,null,null,null,null,null,null,null,null,null,null,null,null,null,null,null,null,null,null,null,null,null,null,null,null,null,null,null,null,null,null,null,null,null,null,null,null,null,null,null,null,null,null,null,null,null,null,null,null,null,null,null,null,null,null,null,null,null,null,null,null,null,null,null,null,null,null,null,null,null,null,null,null,null,null,null,null,null,null,null,null,null,null,null,null,null,null,null,null,null,null,null,null,null,null,null,null,null,null,null,null,null,null,null,null,null,null,null,null,null,null,null,null,null,null,null,null,null,null,null,null,null,null,null,null,null,null,null,null,null,null,null,null,null,null,null,null,null,null,null,null,null,null,null,null,null,null,null,null,null,null,null,null,null,null,null,null,null,null,null,null,null,null,null,null,null,null,null,null,null,null,null,null,null,null,null,null,null,null,null,null,null,null,null,null,null,null,null,null,null,null,null,null,null,null,null,null,null,null,null,null,null,null,null,null,null,null,null,null,null,null,null,null,null,null,null,null,null,null,null,null,null,null,null,null,null,null,null,null,null,null,null,null,null,null,null,null,null,null,null,null,null,null,null,null,null,null,null,null,null,null,null,null,null,null,null,null,null,null,null,null,null,null,null,null,null,null,null,null,null,null,null,null,null,null,null,null,null,null,null,null,null,null,null,null,null,null,null,null,null,null,null,null,null,null,null,null,null,null,null,null,null,null,null,null,null,null,null,null,null,null,null,null,null,null,null,null,null,null,null,null,null,null,null,null,null,null,null,null,null,null,null,null,null,null,null,null,null,null,null,null,null,null,null,null,null,null,null,null,null,null,null,null,null,null,null,null,null,null,null,null,null,null,null,null,null,null,null,null,null,null,null,null,null,null,null,null,null,null,null,null,null,null,null,null,null,null,null,null,null,null,null,null,null,null,null,null,null,null,null,null,null,null,null,null,null,null,null,null,null,null,null,null,null,null,null,null,null,null,null,null,null,null,null,null,null,null,null,null,null,null,null,null,null,null,null,null,null,null,null,null,null,null,null,null,null,null,null,null,null,null,null,null,null,null,null,null,null,null,null,null,null,null,null,null,null,null,null,null,null,null,null,null,null,null,null,null,null,null,null,null,null,null,null,null,null,null,null,null,null,null,null,null,null,null,null,null,null,null,null,null,null,null,null,null,null,null,null,null,null,null,null,null,null,null,null,null,null,null,null,null,null,null,null,null,null,null,null,null,null,null,null,null,null,null,null,null,null,null,null,null,null,null,null,null,null,null,null,null,null,null,null,null,null,null,null,null,null,null,null,null,null,null,null,null,null,null,null,null,null,null,null,null,null,null,null,null,null,null,null,null,null,null,null,null,null,null,null,null,null,null,null,null,null,null,null,null,null,null,null,null,null,null,null,null,null,null,null,null,null,null,null,null,null,null,null,null,null,null,null,null,null,null,null,null,null,null,null,null,null,null,null,null,null,null,null,null,null,null,null,null,null,null,null,null,null,null,null,null,null,null,null,null,null,null,null,null,null,null,null,null,null,null,null,null,null,null,null,null,null,null,null,null,null,null,null,null,null,null,null,null,null,null,null,null,null,null,null,null,null,null,null,null,null,null,null,null,null,null,null,null,null,null,null,null,null,null,null,null,null,null,null,null,null,null,null,null,null,null,null,null,null,null,null,null,null,null,null,null,null,null,null,null,null,null,null,null,null,null,null,null,null,null,null,null,null,null,null,null,null,null,null,null,null,null,null,null,null,null,null,null,null,null,null,null,null,null,null,null,null,null,null,null,null,null,null,null,null,null,null,null,null,null,null,null,null,null,null,null,null,null,null,null,null,null,null,null,null,null,null,null,null,null,null,null,null,null,null,null,null,null,null,null,null,null,null,null,null,null,null,null,null,null,null,null,null,null,null,null,null,null,null,null,null,null,null,null,null,null,null,null,null,null,null,null,null,null,null,null,null,null,null,null,null,null,null,null,null,null,null,null,null,null,null,null,null,null,null,null,null,null,null,null,null,null,null,null,null,null,null,null,null,null,null,null,null,null,null,null,null,null,null,null,null,null,null,null,null,null,null,null,null,null,null,null,null,null,null,null,null,null,null,null,null,null,null,null,null,null,null,null,null,null,null,null,null,null,null,null,null,null,null,null,null,null,null,null,null,null,null,null,null,null,null,null,null,null,null,null,null,null,null,null,null,null,null,null,null,null,null,null,null,null,null,null,null,null,null,null,null,null,null,null,null,null,null,null,null,null,null,null,null,null,null,null,null,null,null,null,null,null,null,null,null,null,null,null,null,null,null,null,null,null,null,null,null,null,null,null,null,null,null,null,null,null,null,null,null,null,null,null,null,null,null,null,null,null,null,null,null,null,null,null,null,null,null,null,null,null,null,null,null,null,null,null,null,null,null,null,null,null,null,null,null,null,null,null,null,null,null,null,null,null,null,null,null,null,null,null,null,null,null,null,null,null,null,null,null,null,null,null,null,null,null,null,null,null,null,null,null,null,null,null,null,null,null,null,null,null,null,null,null,null,null,null,null,null,null,null,null,null,null,null,null,null,null,null,null,null,null,null,null,null,null,null,null,null,null,null,null,null,null,null,null,null,null,null,null,null,null,null,null,null,null,null,null,null,null,null,null,null,null,null,null,null,null,null,null,null,null,null,null,null,null,null,null,null,null,null,null,null,null,null,null,null,null,null,null,null,null,null,null,null,null,null,null,null,null,null,null,null,null,null,null,null,null,null,null,null,null,null,null,null,null,null,null,null,null,null,null,null,null,null,null,null,null,null,null,null,null,null,null,null,null,null,null,null,null,null,null,null,null,null,null,null,null,null,null,null,null,null,null,null,null,null,null,null,null,null,null,null,null,null,null,null,null,null,null,null,null,null,null,null,null,null,null,null,null,null,null,null,null,null,null,null,null,null,null,null,null,null,null,null,null,null,null,null,null,null,null,null,null,null,null,null,null,null,null,null,null,null,null,null,null,null,null,null,null,null,null,null,null,null,null,null,null,null,null,null,null,null,null,null,null,null,null,null,null,null,null,null,null,null,null,null,null,null,null,null,null,null,null,null,null,null,null,null,null,null,null,null,null,null,null,null,null,null,null,null,null,null,null,null,null,null,null,null,null,null,null,null,null,null,null,null,null,null,null,null,null,null,null,null,null,null,null,null,null,null,null,null,null,null,null,null,null,null,null,null,null,null,null,null,null,null,null,null,null,null,null,null,null,null,null,null,null,null,null,null,null,null,null,null,null,null,null,null,null,null,null,null,null,null,null,null,null,null,null,null,null,null,null,null,null,null,null,null,null,null,null,null,null,null,null,null,null,null,null,null,null,null,null,null,null,null,null,null,null,null,null,null,null,null,null,null,null,null,null,null,null,null,null,null,null,null,null,null,null,null,null,null,null,null,null,null,null,null,null,null,null,null,null,null,null,null,null,null,null,null,null,null,null,null,null,null,null,null,null,null,null,null,null,null,null,null,null,null,null,null,null,null,null,null,null,null,null,null,null,null,null,null,null,null,null,null,null,null,null,null,null,null,null,null,null,null,null,null,null,null,null,null,null,null,null,null,null,null,null,null,null,null,null,null,null,null,null,null,null,null,null,null,null,null,null,null,null,null,null,null,null,null,null,null,null,null,null,null,null,null,null,null,null,null,null,null,null,null,null,null,null,null,null,null,null,null,null,null,null,null,null,null,null,null,null,null,null,null,null,null,null,null,null,null,null,null,null,null,null,null,null,null,null,null,null,null,null,null,null,null,null,null,null,null,null,null,null,null,null,null,null,null,null,null,null,null,null,null,null,null,null,null,null,null,null,null,null,null,null,null,null,null,null,null,null,null,null,null,null,null,null,null,null,null,null,null,null,null,null,null,null,null,null,null,null,null,null,null,null,null,null,null,null,null,null,null,null,null,null,null,null,null,null,null,null,null,null,null,null,null,null,null,null,null,null,null,null,null,null,null,null,null,null,null,null,null,null,null,null,null,null,null,null,null,null,null,null,null,null,null,null,null,null,null,null,null,null,null,null,null,null,null,null,null,null,null,null,null,null,null,null,null,null,null,null,null,null,null,null,null,null,null,null,null,null,null,null,null,null,null,null,null,null,null,null,null,null,null,null,null,null,null,null,null,null,null,null,null,null,null,null,null,null,null,null,null,null,null,null,null,null,null,null,null,null,null,null,null,null,null,null,null,null,null,null,null,null,null,null,null,null,null,null,null,null,null,null,null,null,null,null,null,null,null,null,null,null,null,null,null,null,null,null,null,null,null,null,null,null,null,null,null,null,null,null,null,null,null,null,null,null,null,null,null,null,null,null,null,null,null,null,null,null,null,null,null,null,null,null,null,null,null,null,null,null,null,null,null,null,null,null,null,null,null,null,null,null,null,null,null,null,null,null,null,null,null,null,null,null,null,null,null,null,null,null,null,null,null,null,null,null,null,null,null,null,null,null,null,null,null,null,null,null,null,null,null,null,null,null,null,null,null,null,null,null,null,null,null,null,null,null,null,null,null,null,null,null,null,null,null,null,null,null,null,null,null,null,null,null,null,null,null,null,null,null,null,null,null,null,null,null,null,null,null,null,null,null,null,null,null,null,null,null,null,null,null,null,null,null,null,null,null,null,null,null,null,null,null,null,null,null,null,null,null,null,null,null,null,null,null,null,null,null,null,null,null,null,null,null,null,null,null,null,null,null,null,null,null,null,null,null,null,null,null,null,null,null,null,null,null,null,null,null,null,null,null,null,null,null,null,null,null,null,null,null,null,null,null,null,null,null,null,null,null,null,null,null,null,null,null,null,null,null,null,null,null,null,null,null,null,null,null,null,null,null,null,null,null,null,null,null,null,null,null,null,null,null,null,null,null,null,null,null,null,null,null,null,null,null,null,null,null,null,null,null,null,null,null,null,null,null,null,null,null,null,null,null,null,null,null,null,null,null,null,null,null,null,null,null,null,null,null,null,null,null,null,null,null,null,null,null,null,null,null,null,null,null,null,null,null,null,null,null,null,null,null,null,null,null,null,null,null,null,null,null,null,null,null,null,null,null,null,null,null,null,null,null,null,null,null,null,null,null,null,null,null,null,null,null,null,null,null,null,null,null,null,null,null,null,null,null,null,null,null,null,null,null,null,null,null,null,null,null,null,null,null,null,null,null,null,null,null,null,null,null,null,null,null,null,null,null,null,null,null,null,null,null,null,null,null,null,null,null,null,null,null,null,null,null,null,null,null,null,null,null,null,null,null,null,null,null,null,null,null,null,null,null,null,null,null,null,null,null,null,null,null,null,null,null,null,null,null,null,null,null,null,null,null,null,null,null,null,null,null,null,null,null,null,null,null,null,null,null,null,null,null,null,null,null,null,null,null,null,null,null,null,null,null,null,null,null,null,null,null,null,null,null,null,null,null,null,null,null,null,null,null,null,null,null,null,null,null,null,null,null,null,null,null,null,null,null,null,null,null,null,null,null,null,null,null,null,null,null,null,null,null,null,null,null,null,null,null,null,null,null,null,null,null,null,null,null,null,null,null,null,null,null,null,null,null,null,null,null,null,null,null,null,null,null,null,null,null,null,null,null,null,null,null,null,null,null,null,null,null,null,null,null,null,null,null,null,null,null,null,null,null,null,null,null,null,null,null,null,null,null,null,null,null,null,null,null,null,null,null,null,null,null,null,null,null,null,null,null,null,null,null,null,null,null,null,null,null,null,null,null,null,null,null,null,null,null,null,null,null,null,null,null,null,null,null,null,null,null,null,null,null,null,null,null,null,null,null,null,null,null,null,null,null,null,null,null,null,null,null,null,null,null,null,null,null,null,null,null,null,null,null,null,null,null,null,null,null,null,null,null,null,null,null,null,null,null,null,null,null,null,null,null,null,null,null,null,null,null,null,null,null,null,null,null,null,null,null,null,null,null,null,null,null,null,null,null,null,null,null,null,null,null,null,null,null,null,null,null,null,null,null,null,null,null,null,null,null,null,null,null,null,null,null,null,null,null,null,null,null,null,null,null,null,null,null,null,null,null,null,null,null,null,null,null,null,null,null,null,null,null,null,null,null,null,null,null,null,null,null,null,null,null,null,null,null,null,null,null,null,null,null,null,null,null,null,null,null,null,null,null,null,null,null,null,null,null,null,null,null,null,null,null,null,null,null,null,null,null,null,null,null,null,null,null,null,null,null,null,null,null,null,null,null,null,null,null,null,null,null,null,null,null,null,null,null,null,null,null,null,null,null,null,null,null,null,null,null,null,null,null,null,null,null,null,null,null,null,null,null,null,null,null,null,null,null,null,null,null,null,null,null,null,null,null,null,null,null,null,null,null,null,null,null,null,null,null,null,null,null,null,null,null,null,null,null,null,null,null,null,null,null,null,null,null,null,null,null,null,null,null,null,null,null,null,null,null,null,null,null,null,null,null,null,null,null,null,null,null,null,null,null,null,null,null,null,null,null,null,null,null,null,null,null,null,null,null,null,null,null,null,null,null,null,null,null,null,null,null,null,null,null,null,null,null,null,null,null,null,null,null,null,null,null,null,null,null,null,null,null,null,null,null,null,null,null,null,null,null,null,null,null,null,null,null,null,null,null,null,null,null,null,null,null,null,null,null,null,null,null,null,null,null,null,null,null,null,null,null,null,null,null,null,null,null,null,null,null,null,null,null,null,null,null,null,null,null,null,null,null,null,null,null,null,null,null,null,null,null,null,null,null,null,null,null,null,null,null,null,null,null,null,null,null,null,null,null,null,null,null,null,null,null,null,null,null,null,null,null,null,null,null,null,null,null,null,null,null,null,null,null,null,null,null,null,null,null,null,null,null,null,null,null,null,null,null,null,null,null,null,null,null,null,null,null,null,null,null,null,null,null,null,null,null,null,null,null,null,null,null,null,null,null,null,null,null,null,null,null,null,null,null,null,null,null,null,null,null,null,null,null,null,null,null,null,null,null,null,null,null,null,null,null,null,null,null,null,null,null,null,null,null,null,null,null,null,null,null,null,null,null,null,null,null,null,null,null,null,null,null,null,null,null,null,null,null,null,null,null,null,null,null,null,null,null,null,null,null,null,null,null,null,null,null,null,null,null,null,null,null,null,null,null,null,null,null,null,null,null,null,null,null,null,null,null,null,null,null,null,null,null,null,null,null,null,null,null,null,null,null,null,null,null,null,null,null,null,null,null,null,null,null,null,null,null,null,null,null,null,null,null,null,null,null,null,null,null,null,null,null,null,null,null,null,null,null,null,null,null,null,null,null,null,null,null,null,null,null,null,null,null,null,null,null,null,null,null,null,null,null,null,null,null,null,null,null,null,null,null,null,null,null,null,null,null,null,null,null,null,null,null,null,null,null,null,null,null,null,null,null,null,null,null,null,null,null,null,null,null,null,null,null,null,null,null,null,null,null,null,null,null,null,null,null,null,null,null,null,null,null,null,null,null,null,null,null,null,null,null,null,null,null,null,null,null,null,null,null,null,null,null,null,null,null,null,null,null,null,null,null,null,null,null,null,null,null,null,null,null,null,null,null,null,null,null,null,null,null,null,null,null,null,null,null,null,null,null,null,null,null,null,null,null,null,null,null,null,null,null,null,null,null,null,null,null,null,null,null,null,null,null,null,null,null,null,null,null,null,null,null,null,null,null,null,null,null,null,null,null,null,null,null,null,null,null,null,null,null,null,null,null,null,null,null,null,null,null,null,null,null,null,null,null,null,null,null,null,null,null,null,null,null,null,null,null,null,null,null,null,null,null,null,null,null,null,null,null,null,null,null,null,null,null,null,null,null,null,null,null,null,null,null,null,null,null,null,null,null,null,null,null,null,null,null,null,null,null,null,null,null,null,null,null,null,null,null,null,null,null,null,null,null,null,null,null,null,null,null,null,null,null,null,null,null,null,null,null,null,null,null,null,null,null,null,null,null,null,null,null,null,null,null,null,null,null,null,null,null,null,null,null,null,null,null,null,null,null,null,null,null,null,null,null,null,null,null,null,null,null,null,null,null,null,null,null,null,null,null,null,null,null,null,null,null,null,null,null,null,null,null,null,null,null,null,null,null,null,null,null,null,null,null,null,null,null,null,null,null,null,null,null,null,null,null,null,null,null,null,null,null,null,null,null,null,null,null,null,null,null,null,null,null,null,null,null,null,null,null,null,null,null,null,null,null,null,null,null,null,null,null,null,null,null,null,null,null,null,null,null,null,null,null,null,null,null,null,null,null,null,null,null,null,null,null,null,null,null,null,null,null,null,null,null,null,null,null,null,null,null,null,null,null,null,null,null,null,null,null,null,null,null,null,null,null,null,null,null,null,null,null,null,null,null,null,null,null,null,null,null,null,null,null,null,null,null,null,null,null,null,null,null,null,null,null,null,null,null,null,null,null,null,null,null,null,null,null,null,null,null,null,null,null,null,null,null,null,null,null,null,null,null,null,null,null,null,null,null,null,null,null,null,null,null,null,null,null,null,null,null,null,null,null,null,null,null,null,null,null,null,null,null,null,null,null,null,null,null,null,null,null,null,null,null,null,null,null,null,null,null,null,null,null,null,null,null,null,null,null,null,null,null,null,null,null,null,null,null,null,null,null,null,null,null,null,null,null,null,null,null,null,null,null,null,null,null,null,null,null,null,null,null,null,null,null,null,null,null,null,null,null,null,null,null,null,null,null,null,null,null,null,null,null,null,null,null,null,null,null,null,null,null,null,null,null,null,null,null,null,null,null,null,null,null,null,null,null,null,null,null,null,null,null,null,null,null,null,null,null,null,null,null,null,null,null,null,null,null,null,null,null,null,null,null,null,null,null,null,null,null,null,null,null,null,null,null,null,null,null,null,null,null,null,null,null,null,null,null,null,null,null,null,null,null,null,null,null,null,null,null,null,null,null,null,null,null,null,null,null,null,null,null,null,null,null,null,null,null,null,null,null,null,null,null,null,null,null,null,null,null,null,null,null,null,null,null,null,null,null,null,null,null,null,null,null,null,null,null,null,null,null,null,null,null,null,null,null,null,null,null,null,null,null,null,null,null,null,null,null,null,null,null,null,null,null,null,null,null,null,null,null,null,null,null,null,null,null,null,null,null,null,null,null,null,null,null,null,null,null,null,null,null,null,null,null,null,null,null,null,null,null,null,null,null,null,null,null,null,null,null,null,null,null,null,null,null,null,null,null,null,null,null,null,null,null,null,null,null,null,null,null,null,null,null,null,null,null,null,null,null,null,null,null,null,null,null,null,null,null,null,null,null,null,null,null,null,null,null,null,null,null,null,null,null,null,null,null,null,null,null,null,null,null,null,null,null,null,null,null,null,null,null,null,null,null,null,null,null,null,null,null,null,null,null,null,null,null,null,null,null,null,null,null,null,null,null,null,null,null,null,null,null,null,null,null,null,null,null,null,null,null,null,null,null,null,null,null,null,null,null,null,null,null,null,null,null,null,null,null,null,null,null,null,null,null,null,null,null,null,null,null,null,null,null,null,null,null,null,null,null,null,null,null,null,null,null,null,null,null,null,null,null,null,null,null,null,null,null,null,null,null,null,null,null,null,null,null,null,null,null,null,null,null,null,null,null,null,null,null,null,null,null,null,null,null,null,null,null,null,null,null,null,null,null,null,null,null,null,null,null,null,null,null,null,null,null,null,null,null,null,null,null,null,null,null,null,null,null,null,null,null,null,null,null,null,null,null,null,null,null,null,null,null,null,null,null,null,null,null,null,null,null,null,null,null,null,null,null,null,null,null,null,null,null,null,null,null,null,null,null,null,null,null,null,null,null,null,null,null,null,null,null,null,null,null,null,null,null,null,null,null,null,null,null,null,null,null,null,null,null,null,null,null,null,null,null,null,null,null,null,null,null,null,null,null,null,null,null,null,null,null,null,null,null,null,null,null,null,null,null,null,null,null,null,null,null,null,null,null,null,null,null,null,null,null,null,null,null,null,null,null,null,null,null,null,null,null,null,null,null,null,null,null,null,null,null,null,null,null,null,null,null,null,null,null,null,null,null,null,null,null,null,null,null,null,null,null,null,null,null,null,null,null,null,null,null,null,null,null,null,null,null,null,null,null,null,null,null,null,null,null,null,null,null,null,null,null,null,null,null,null,null,null,null,null,null,null,null,null,null,null,null,null,null,null,null,null,null,null,null,null,null,null,null,null,null,null,null,null,null,null,null,null,null,null,null,null,null,null,null,null,null,null,null,null,null,null,null,null,null,null,null,null,null,null,null,null,null,null,null,null,null,null,null,null,null,null,null,null,null,null,null,null,null,null,null,null,null,null,null,null,null,null,null,null,null,null,null,null,null,null,null,null,null,null,null,null,null,null,null,null,null,null,null,null,null,null,null,null,null,null,null,null,null,null,null,null,null,null,null,null,null,null,null,null,null,null,null,null,null,null,null,null,null,null,null,null,null,null,null,null,null,null,null,null,null,null,null,null,null,null,null,null,null,null,null,null,null,null,null,null,null,null,null,null,null,null,null,null,null,null,null,null,null,null,null,null,null,null,null,null,null,null,null,null,null,null,null,null,null,null,null,null,null,null,null,null,null,null,null,null,null,null,null,null,null,null,null,null,null,null,null,null,null,null,null,null,null,null,null,null,null,null,null,null,null,null,null,null,null,null,null,null,null,null,null,null,null,null,null,null,null,null,null,null,null,null,null,null,null,null,null,null,null,null,null,null,null,null,null,null,null,null,null,null,null,null,null,null,null,null,null,null,null,null,null,null,null,null,null,null,null,null,null,null,null,null,null,null,null,null,null,null,null,null,null,null,null,null,null,null,null,null,null,null,null,null,null,null,null,null,null,null,null,null,null,null,null,null,null,null,null,null,null,null,null,null,null,null,null,null,null,null,null,null,null,null,null,null,null,null,null,null,null,null,null,null,null,null,null,null,null,null,null,null,null,null,null,null,null,null,null,null,null,null,null,null,null,null,null,null,null,null,null,null,null,null,null,null,null,null,null,null,null,null,null,null,null,null,null,null,null,null,null,null,null,null,null,null,null,null,null,null,null,null,null,null,null,null,null,null,null,null,null,null,null,null,null,null,null,null,null,null,null,null,null,null,null,null,null,null,null,null,null,null,null,null,null,null,null,null,null,null,null,null,null,null,null,null,null,null,null,null,null,null,null,null,null,null,null,null,null,null,null,null,null,null,null,null,null,null,null,null,null,null,null,null,null,null,null,null,null,null,null,null,null,null,null,null,null,null,null,null,null,null,null,null,null,null,null,null,null,null,null,null,null,null,null,null,null,null,null,null,null,null,null,null,null,null,null,null,null,null,null,null,null,null,null,null,null,null,null,null,null,null,null,null,null,null,null,null,null,null,null,null,null,null,null,null,null,null,null,null,null,null,null,null,null,null,null,null,null,null,null,null,null,null,null,null,null,null,null,null,null,null,null,null,null,null,null,null,null,null,null,null,null,null,null,null,null,null,null,null,null,null,null,null,null,null,null,null,null,null,null,null,null,null,null,null,null,null,null,null,null,null,null,null,null,null,null,null,null,null,null,null,null,null,null,null,null,null,null,null,null,null,null,null,null,null,null,null,null,null,null,null,null,null,null,null,null,null,null,null,null,null,null,null,null,null,null,null,null,null,null,null,null,null,null,null,null,null,null,null,null,null,null,null,null,null,null,null,null,null,null,null,null,null,null,null,null,null,null,null,null,null,null,null,null,null,null,null,null,null,null,null,null,null,null,null,null,null,null,null,null,null,null,null,null,null,null,null,null,null,null,null,null,null,null,null,null,null,null,null,null,null,null,null,null,null,null,null,null,null,null,null,null,null,null,null,null,null,null,null,null,null,null,null,null,null,null,null,null,null,null,null,null,null,null,null,null,null,null,null,null,null,null,null,null,null,null,null,null,null,null,null,null,null,null,null,null,null,null,null,null,null,null,null,null,null,null,null,null,null,null,null,null,null,null,null,null,null,null,null,null,null,null,null,null,null,null,null,null,null,null,null,null,null,null,null,null,null,null,null,null,null,null,null,null,null,null,null,null,null,null,null,null,null,null,null,null,null,null,null,null,null,null,null,null,null,null,null,null,null,null,null,null,null,null,null,null,null,null,null,null,null,null,null,null,null,null,null,null,null,null,null,null,null,null,null,null,null,null,null,null,null,null,null,null,null,null,null,null,null,null,null,null,null,null,null,null,null,null,null,null,null,null,null,null,null,null,null,null,null,null,null,null,null,null,null,null,null,null,null,null,null,null,null,null,null,null,null,null,null,null,null,null,null,null,null,null,null,null,null,null,null,null,null,null,null,null,null,null,null,null,null,null,null,null,null,null,null,null,null,null,null,null,null,null,null,null,null,null,null,null,null,null,null,null,null,null,null,null,null,null,null,null,null,null,null,null,null,null,null,null,null,null,null,null,null,null,null,null,null,null,null,null,null,null,null,null,null,null,null,null,null,null,null,null,null,null,null,null,null,null,null,null,null,null,null,null,null,null,null,null,null,null,null,null,null,null,null,null,null,null,null,null,null,null,null,null,null,null,null,null,null,null,null,null,null,null,null,null,null,null,null,null,null,null,null,null,null,null,null,null,null,null,null,null,null,null,null,null,null,null,null,null,null,null,null,null,null,null,null,null,null,null,null,null,null,null,null,null,null,null,null,null,null,null,null,null,null,null,null,null,null,null,null,null,null,null,null,null,null,null,null,null,null,null,null,null,null,null,null,null,null,null,null,null,null,null,null,null,null,null,null,null,null,null,null,null,null,null,null,null,null,null,null,null,null,null,null,null,null,null,null,null,null,null,null,null,null,null,null,null,null,null,null,null,null,null,null,null,null,null,null,null,null,null,null,null,null,null,null,null,null,null,null,null,null,null,null,null,null,null,null,null,null,null,null,null,null,null,null,null,null,null,null,null,null,null,null,null,null,null,null,null,null,null,null,null,null,null,null,null,null,null,null,null,null,null,null,null,null,null,null,null,null,null,null,null,null,null,null,null,null,null,null,null,null,null,null,null,null,null,null,null,null,null,null,null,null,null,null,null,null,null,null,null,null,null,null,null,null,null,null,null,null,null,null,null,null,null,null,null,null,null,null,null,null,null,null,null,null,null,null,null,null,null,null,null,null,null,null,null,null,null,null,null,null,null,null,null,null,null,null,null,null,null,null,null,null,null,null,null,null,null,null,null,null,null,null,null,null,null,null,null,null,null,null,null,null,null,null,null,null,null,null,null,null,null,null,null,null,null,null,null,null,null,null,null,null,null,null,null,null,null,null,null,null,null,null,null,null,null,null,null,null,null,null,null,null,null,null,null,null,null,null,null,null,null,null,null,null,null,null,null,null,null,null,null,null,null,null,null,null,null,null,null,null,null,null,null,null,null,null,null,null,null,null,null,null,null,null,null,null,null,null,null,null,null,null,null,null,null,null,null,null,null,null,null,null,null,null,null,null,null,null,null,null,null,null,null,null,null,null,null,null,null,null,null,null,null,null,null,null,null,null,null,null,null,null,null,null,null,null,null,null,null,null,null,null,null,null,null,null,null,null,null,null,null,null,null,null,null,null,null,null,null,null,null,null,null,null,null,null,null,null,null,null,null,null,null,null,null,null,null,null,null,null,null,null,null,null,null,null,null,null,null,null,null,null,null,null,null,null,null,null,null,null,null,null,null,null,null,null,null,null,null,null,null,null,null,null,null,null,null,null,null,null,null,null,null,null,null,null,null,null,null,null,null,null,null,null,null,null,null,null,null,null,null,null,null,null,null,null,null,null,null,null,null,null,null,null,null,null,null,null,null,null,null,null,null,null,null,null,null,null,null,null,null,null,null,null,null,null,null,null,null,null,null,null,null,null,null,null,null,null,null,null,null,null,null,null,null,null,null,null,null,null,null,null,null,null,null,null,null,null,null,null,null,null,null,null,null,null,null,null,null,null,null,null,null,null,null,null,null,null,null,null,null,null,null,null,null,null,null,null,null,null,null,null,null,null,null,null,null,null,null,null,null,null,null,null,null,null,null,null,null,null,null,null,null,null,null,null,null,null,null,null,null,null,null,null,null,null,null,null,null,null,null,null,null,null,null,null,null,null,null,null,null,null,null,null,null,null,null,null,null,null,null,null,null,null,null,null,null,null,null,null,null,null,null,null,null,null,null,null,null,null,null,null,null,null,null,null,null,null,null,null,null,null,null,null,null,null,null,null,null,null,null,null,null,null,null,null,null,null,null,null,null,null,null,null,null,null,null,null,null,null,null,null,null,null,null,null,null,null,null,null,null,null,null,null,null,null,null,null,null,null,null,null,null,null,null,null,null,null,null,null,null,null,null,null,null,null,null,null,null,null,null,null,null,null,null,null,null,null,null,null,null,null,null,null,null,null,null,null,null,null,null,null,null,null,null,null,null,null,null,null,null,null,null,null,null,null,null,null,null,null,null,null,null,null,null,null,null,null,null,null,null,null,null,null,null,null,null,null,null,null,null,null,null,null,null,null,null,null,null,null,null,null,null,null,null,null,null,null,null,null,null,null,null,null,null,null,null,null,null,null,null,null,null,null,null,null,null,null,null,null,null,null,null,null,null,null,null,null,null,null,null,null,null,null,null,null,null,null,null,null,null,null,null,null,null,null,null,null,null,null,null,null,null,null,null,null,null,null,null,null,null,null,null,null,null,null,null,null,null,null,null,null,null,null,null,null,null,null,null,null,null,null,null,null,null,null,null,null,null,null,null,null,null,null,null,null,null,null,null,null,null,null,null,null,null,null,null,null,null,null,null,null,null,null,null,null,null,null,null,null,null,null,null,null,null,null,null,null,null,null,null,null,null,null,null,null,null,null,null,null,null,null,null,null,null,null,null,null,null,null,null,null,null,null,null,null,null,null,null,null,null,null,null,null,null,null,null,null,null,null,null,null,null,null,null,null,null,null,null,null,null,null,null,null,null,null,null,null,null,null,null,null,null,null,null,null,null,null,null,null,null,null,null,null,null,null,null,null,null,null,null,null,null,null,null,null,null,null,null,null,null,null,null,null,null,null,null,null,null,null,null,null,null,null,null,null,null,null,null,null,null,null,null,null,null,null,null,null,null,null,null,null,null,null,null,null,null,null,null,null,null,null,null,null,null,null,null,null,null,null,null,null,null,null,null,null,null,null,null,null,null,null,null,null,null,null,null,null,null,null,null,null,null,null,null,null,null,null,null,null,null,null,null,null,null,null,null,null,null,null,null,null,null,null,null,null,null,null,null,null,null,null,null,null,null,null,null,null,null,null,null,null,null,null,null,null,null,null,null,null,null,null,null,null,null,null,null,null,null,null,null,null,null,null,null,null,null,null,null,null,null,null,null,null,null,null,null,null,null,null,null,null,null,null,null,null,null,null,null,null,null,null,null,null,null,null,null,null,null,null,null,null,null,null,null,null,null,null,null,null,null,null,null,null,null,null,null,null,null,null,null,null,null,null,null,null,null,null,null,null,null,null,null,null,null,null,null,null,null,null,null,null,null,null,null,null,null,null,null,null,null,null,null,null,null,null,null,null,null,null,null,null,null,null,null,null,null,null,null,null,null,null,null,null,null,null,null,null,null,null,null,null,null,null,null,null,null,null,null,null,null,null,null,null,null,null,null,null,null,null,null,null,null,null,null,null,null,null,null,null,null,null,null,null,null,null,null,null,null,null,null,null,null,null,null,null,null,null,null,null,null,null,null,null,null,null,null,null,null,null,null,null,null,null,null,null,null,null,null,null,null,null,null,null,null,null,null,null,null,null,null,null,null,null,null,null,null,null,null,null,null,null,null,null,null,null,null,null,null,null,null,null,null,null,null,null,null,null,null,null,null,null,null,null,null,null,null,null,null,null,null,null,null,null,null,null,null,null,null,null,null,null,null,null,null,null,null,null,null,null,null,null,null,null,null,null,null,null,null,null,null,null,null,null,null,null,null,null,null,null,null,null,null,null,null,null,null,null,null,null,null,null,null,null,null,null,null,null,null,null,null,null,null,null,null,null,null,null,null,null,null,null,null,null,null,null,null,null,null,null,null,null,null,null,null,null,null,null,null,null,null,null,null,null,null,null,null,null,null,null,null,null,null,null,null,null,null,null,null,null,null,null,null,null,null,null,null,null,null,null,null,null,null,null,null,null,null,null,null,null,null,null,null,null,null,null,null,null,null,null,null,null,null,null,null,null,null,null,null,null,null,null,null,null,null,null,null,null,null,null,null,null,null,null,null,null,null,null,null,null,null,null,null,null,null,null,null,null,null,null,null,null,null,null,null,null,null,null,null,null,null,null,null,null,null,null,null,null,null,null,null,null,null,null,null,null,null,null,null,null,null,null,null,null,null,null,null,null,null,null,null,null,null,null,null,null,null,null,null,null,null,null,null,null,null,null,null,null,null,null,null,null,null,null,null,null,null,null,null,null,null,null,null,null,null,null,null,null,null,null,null,null,null,null,null,null,null,null,null,null,null,null,null,null,null,null,null,null,null,null,null,null,null,null,null,null,null,null,null,null,null,null,null,null,null,null,null,null,null,null,null,null,null,null,null,null,null,null,null,null,null,null,null,null,null,null,null,null,null,null,null,null,null,null,null,null,null,null,null,null,null,null,null,null,null,null,null,null,null,null,null,null,null,null,null,null,null,null,null,null,null,null,null,null,null,null,null,null,null,null,null,null,null,null,null,null,null,null,null,null,null,null,null,null,null,null,null,null,null,null,null,null,null,null,null,null,null,null,null,null,null,null,null,null,null,null,null,null,null,null,null,null,null,null,null,null,null,null,null,null,null,null,null,null,null,null,null,null,null,null,null,null,null,null,null,null,null,null,null,null,null,null,null,null,null,null,null,null,null,null,null,null,null,null,null,null,null,null,null,null,null,null,null,null,null,null,null,null,null,null,null,null,null,null,null,null,null,null,null,null,null,null,null,null,null,null,null,null,null,null,null,null,null,null,null,null,null,null,null,null,null,null,null,null,null,null,null,null,null,null,null,null,null,null,null,null,null,null,null,null,null,null,null,null,null,null,null,null,null,null,null,null,null,null,null,null,null,null,null,null,null,null,null,null,null,null,null,null,null,null,null,null,null,null,null,null,null,null,null,null,null,null,null,null,null,null,null,null,null,null,null,null,null,null,null,null,null,null,null,null,null,null,null,null,null,null,null,null,null,null,null,null,null,null,null,null,null,null,null,null,null,null,null,null,null,null,null,null,null,null,null,null,null,null,null,null,null,null,null,null,null,null,null,null,null,null,null,null,null,null,null,null,null,null,null,null,null,null,null,null,null,null,null,null,null,null,null,null,null,null,null,null,null,null,null,null,null,null,null,null,null,null,null,null,null,null,null,null,null,null,null,null,null,null,null,null,null,null,null,null,null,null,null,null,null,null,null,null,null,null,null,null,null,null,null,null,null,null,null,null,null,null,null,null,null,null,null,null,null,null,null,null,null,null,null,null,null,null,null,null,null,null,null,null,null,null,null,null,null,null,null,null,null,null,null,null,null,null,null,null,null,null,null,null,null,null,null,null,null,null,null,null,null,null,null,null,null,null,null,null,null,null,null,null,null,null,null,null,null,null,null,null,null,null,null,null,null,null,null,null,null,null,null,null,null,null,null,null,null,null,null,null,null,null,null,null,null,null,null,null,null,null,null,null,null,null,null,null,null,null,null,null,null,null,null,null,null,null,null,null,null,null,null,null,null,null,null,null,null,null,null,null,null,null,null,null,null,null,null,null,null,null,null,null,null,null,null,null,null,null,null,null,null,null,null,null,null,null,null,null,null,null,null,null,null,null,null,null,null,null,null,null,null,null,null,null,null,null,null,null,null,null,null,null,null,null,null,null,null,null,null,null,null,null,null,null,null,null,null,null,null,null,null,null,null,null,null,null,null,null,null,null,null,null,null,null,null,null,null,null,null,null,null,null,null,null,null,null,null,null,null,null,null,null,null,null,null,null,null,null,null,null,null,null,null,null,null,null,null,null,null,null,null,null,null,null,null,null,null,null,null,null,null,null,null,null,null,null,null,null,null,null,null,null,null,null,null,null,null,null,null,null,null,null,null,null,null,null,null,null,null,null,null,null,null,null,null,null,null,null,null,null,null,null,null,null,null,null,null,null,null,null,null,null,null,null,null,null,null,null,null,null,null,null,null,null,null,null,null,null,null,null,null,null,null,null,null,null,null,null,null,null,null,null,null,null,null,null,null,null,null,null,null,null,null,null,null,null,null,null,null,null,null,null,null,null,null,null,null,null,null,null,null,null,null,null,null,null,null,null,null,null,null,null,null,null,null,null,null,null,null,null,null,null,null,null,null,null,null,null,null,null,null,null,null,null,null,null,null,null,null,null,null,null,null,null,null,null,null,null,null,null,null,null,null,null,null,null,null,null,null,null,null,null,null,null,null,null,null,null,null,null,null,null,null,null,null,null,null,null,null,null,null,null,null,null,null,null,null,null,null,null,null,null,null,null,null,null,null,null,null,null,null,null,null,null,null,null,null,null,null,null,null,null,null,null,null,null,null,null,null,null,null,null,null,null,null,null,null,null,null,null,null,null,null,null,null,null,null,null,null,null,null,null,null,null,null,null,null,null,null,null,null,null,null,null,null,null,null,null,null,null,null,null,null,null,null,null,null,null,null,null,null,null,null,null,null,null,null,null,null,null,null,null,null,null,null,null,null,null,null,null,null,null,null,null,null,null,null,null,null,null,null,null,null,null,null,null,null,null,null,null,null,null,null,null,null,null,null,null,null,null,null,null,null,null,null,null,null,null,null,null,null,null,null,null,null,null,null,null,null,null,null,null,null,null,null,null,null,null,null,null,null,null,null,null,null,null,null,null,null,null,null,null,null,null,null,null,null,null,null,null,null,null,null,null,null,null,null,null,null,null,null,null,null,null,null,null,null,null,null,null,null,null,null,null,null,null,null,null,null,null,null,null,null,null,null,null,null,null,null,null,null,null,null,null,null,null,null,null,null,null,null,null,null,null,null,null,null,null,null,null,null,null,null,null,null,null,null,null,null,null,null,null,null,null,null,null,null,null,null,null,null,null,null,null,null,null,null,null,null,null,null,null,null,null,null,null,null,null,null,null,null,null,null,null,null,null,null,null,null,null,null,null,null,null,null,null,null,null,null,null,null,null,null,null,null,null,null,null,null,null,null,null,null,null,null,null,null,null,null,null,null,null,null,null,null,null,null,null,null,null,null,null,null,null,null,null,null,null,null,null,null,null,null,null,null,null,null,null,null,null,null,null,null,null,null,null,null,null,null,null,null,null,null,null,null,null,null,null,null,null,null,null,null,null,null,null,null,null,null,null,null,null,null,null,null,null,null,null,null,null,null,null,null,null,null,null,null,null,null,null,null,null,null,null,null,null,null,null,null,null,null,null,null,null,null,null,null,null,null,null,null,null,null,null,null,null,null,null,null,null,null,null,null,null,null,null,null,null,null,null,null,null,null,null,null,null,null,null,null,null,null,null,null,null,null,null,null,null,null,null,null,null,null,null,null,null,null,null,null,null,null,null,null,null,null,null,null,null,null,null,null,null,null,null,null,null,null,null,null,null,null,null,null,null,null,null,null,null,null,null,null,null,null,null,null,null,null,null,null,null,null,null,null,null,null,null,null,null,null,null,null,null,null,null,null,null,null,null,null,null,null,null,null,null,null,null,null,null,null,null,null,null,null,null,null,null,null,null,null,null,null,null,null,null,null,null,null,null,null,null,null,null,null,null,null,null,null,null,null,null,null,null,null,null,null,null,null,null,null,null,null,null,null,null,null,null,null,null,null,null,null,null,null,null,null,null,null,null,null,null,null,null,null,null,null,null,null,null,null,null,null,null,null,null,null,null,null,null,null,null,null,null,null,null,null,null,null,null,null,null,null,null,null,null,null,null,null,null,null,null,null,null,null,null,null,null,null,null,null,null,null,null,null,null,null,null,null,null,null,null,null,null,null,null,null,null,null,null,null,null,null,null,null,null,null,null,null,null,null,null,null,null,null,null,null,null,null,null,null,null,null,null,null,null,null,null,null,null,null,null,null,null,null,null,null,null,null,null,null,null,null,null,null,null,null,null,null,null,null,null,null,null,null,null,null,null,null,null,null,null,null,null,null,null,null,null,null,null,null,null,null,null,null,null,null,null,null,null,null,null,null,null,null,null,null,null,null,null,null,null,null,null,null,null,null,null,null,null,null,null,null,null,null,null,null,null,null,null,null,null,null,null,null,null,null,null,null,null,null,null,null,null,null,null,null,null,null,null,null,null,null,null,null,null,null,null,null,null,null,null,null,null,null,null,null,null,null,null,null,null,null,null,null,null,null,null,null,null,null,null,null,null,null,null,null,null,null,null,null,null,null,null,null,null,null,null,null,null,null,null,null,null,null,null,null,null,null,null,null,null,null,null,null,null,null,null,null,null,null,null,null,null,null,null,null,null,null,null,null,null,null,null,null,null,null,null,null,null,null,null,null,null,null,null,null,null,null,null,null,null,null,null,null,null,null,null,null,null,null,null,null,null,null,null,null,null,null,null,null,null,null,null,null,null,null,null,null,null,null,null,null,null,null,null,null,null,null,null,null,null,null,null,null,null,null,null,null,null,null,null,null,null,null,null,null,null,null,null,null,null,null,null,null,null,null,null,null,null,null,null,null,null,null,null,null,null,null,null,null,null,null,null,null,null,null,null,null,null,null,null,null,null,null,null,null,null,null,null,null,null,null,null,null,null,null,null,null,null,null,null,null,null,null,null,null,null,null,null,null,null,null,null,null,null,null,null,null,null,null,null,null,null,null,null,null,null,null,null,null,null,null,null,null,null,null,null,null,null,null,null,null,null,null,null,null,null,null,null,null,null,null,null,null,null,null,null,null,null,null,null,null,null,null,null,null,null,null,null,null,null,null,null,null,null,null,null,null,null,null,null,null,null,null,null,null,null,null,null,null,null,null,null,null,null,null,null,null,null,null,null,null,null,null,null,null,null,null,null,null,null,null,null,null,null,null,null,null,null,null,null,null,null,null,null,null,null,null,null,null,null,null,null,null,null,null,null,null,null,null,null,null,null,null,null,null,null,null,null,null,null,null,null,null,null,null,null,null,null,null,null,null,null,null,null,null,null,null,null,null,null,null,null,null,null,null,null,null,null,null,null,null,null,null,null,null,null,null,null,null,null,null,null,null,null,null,null,null,null,null,null,null,null,null,null,null,null,null,null,null,null,null,null,null,null,null,null,null,null,null,null,null,null,null,null,null,null,null,null,null,null,null,null,null,null,null,null,null,null,null,null,null,null,null,null,null,null,null,null,null,null,null,null,null,null,null,null,null,null,null,null,null,null,null,null,null,null,null,null,null,null,null,null,null,null,null,null,null,null,null,null,null,null,null,null,null,null,null,null,null,null,null,null,null,null,null,null,null,null,null,null,null,null,null,null,null,null,null,null,null,null,null,null,null,null,null,null,null,null,null,null,null,null,null,null,null,null,null,null,null,null,null,null,null,null,null,null,null,null,null,null,null,null,null,null,null,null,null,null,null,null,null,null,null,null,null,null,null,null,null,null,null,null,null,null,null,null,null,null,null,null,null,null,null,null,null,null,null,null,null,null,null,null,null,null,null,null,null,null,null,null,null,null,null,null,null,null,null,null,null,null,null,null,null,null,null,null,null,null,null,null,null,null,null,null,null,null,null,null,null,null,null,null,null,null,null,null,null,null,null,null,null,null,null,null,null,null,null,null,null,null,null,null,null,null,null,null,null,null,null,null,null,null,null,null,null,null,null,null,null,null,null,null,null,null,null,null,null,null,null,null,null,null,null,null,null,null,null,null,null,null,null,null,null,null,null,null,null,null,null,null,null,null,null,null,null,null,null,null,null,null,null,null,null,null,null,null,null,null,null,null,null,null,null,null,null,null,null,null,null,null,null,null,null,null,null,null,null,null,null,null,null,null,null,null,null,null,null,null,null,null,null,null,null,null,null,null,null,null,null,null,null,null,null,null,null,null,null,null,null,null,null,null,null,null,null,null,null,null,null,null,null,null,null,null,null,null,null,null,null,null,null,null,null,null,null,null,null,null,null,null,null,null,null,null,null,null,null,null,null,null,null,null,null,null,null,null,null,null,null,null,null,null,null,null,null,null,null,null,null,null,null,null,null,null,null,null,null,null,null,null,null,null,null,null,null,null,null,null,null,null,null,null,null,null,null,null,null,null,null,null,null,null,null,null,null,null,null,null,null,null,null,null,null,null,null,null,null,null,null,null,null,null,null,null,null,null,null,null,null,null,null,null,null,null,null,null,null,null,null,null,null,null,null,null,null,null,null,null,null,null,null,null,null,null,null,null,null,null,null,null,null,null,null,null,null,null,null,null,null,null,null,null,null,null,null,null,null,null,null,null,null,null,null,null,null,null,null,null,null,null,null,null,null,null,null,null,null,null,null,null,null,null,null,null,null,null,null,null,null,null,null,null,null,null,null,null,null,null,null,null,null,null,null,null,null,null,null,null,null,null,null,null,null,null,null,null,null,null,null,null,null,null,null,null,null,null,null,null,null,null,null,null,null,null,null,null,null,null,null,null,null,null,null,null,null,null,null,null,null,null,null,null,null,null,null,null,null,null,null,null,null,null,null,null,null,null,null,null,null,null,null,null,null,null,null,null,null,null,null,null,null,null,null,null,null,null,null,null,null,null,null,null,null,null,null,null,null,null,null,null,null,null,null,null,null,null,null,null,null,null,null,null,null,null,null,null,null,null,null,null,null,null,null,null,null,null,null,null,null,null,null,null,null,null,null,null,null,null,null,null,null,null,null,null,null,null,null,null,null,null,null,null,null,null,null,null,null,null,null,null,null,null,null,null,null,null,null,null,null,null,null,null,null,null,null,null,null,null,null,null,null,null,null,null,null,null,null,null,null,null,null,null,null,null,null,null,null,null,null,null,null,null,null,null,null,null,null,null,null,null,null,null,null,null,null,null,null,null,null,null,null,null,null,null,null,null,null,null,null,null,null,null,null,null,null,null,null,null,null,null,null,null,null,null,null,null,null,null,null,null,null,null,null,null,null,null,null,null,null,null,null,null,null,null,null,null,null,null,null,null,null,null,null,null,null,null,null,null,null,null,null,null,null,null,null,null,null,null,null,null,null,null,null,null,null,null,null,null,null,null,null,null,null,null,null,null,null,null,null,null,null,null,null,null,null,null,null,null,null,null,null,null,null,null,null,null,null,null,null,null,null,null,null,null,null,null,null,null,null,null,null,null,null,null,null,null,null,null,null,null,null,null,null,null,null,null,null,null,null,null,null,null,null,null,null,null,null,null,null,null,null,null,null,null,null,null,null,null,null,null,null,null,null,null,null,null,null,null,null,null,null,null,null,null,null,null,null,null,null,null,null,null,null,null,null,null,null,null,null,null,null,null,null,null,null,null,null,null,null,null,null,null,null,null,null,null,null,null,null,null,null,null,null,null,null,null,null,null,null,null,null,null,null,null,null,null,null,null,null,null,null,null,null,null,null,null,null,null,null,null,null,null,null,null,null,null,null,null,null,"Fail"]
[]
[null,"Input agreed payment amounts in blue cells"]
[null,"Interest Rate (Monthly)",null,null,null,null,{"$f":"'Step 2. Basic Info'!$E$19/12","v":0}]
[null,"# of Payments entered:",null,null,{"$f":"COUNT(D11:D7006)","v":0},"Lease Term:",null,{"$f":"'Step 2. Basic Info'!E17","v":0}]
[null,"#","Date","Enter Payment Amounts","Portion Related to Asset under lease","Enter $ amount if any expected:\n - Purchase Option\n - Residual Value Guarantee\n - Term/Renewal Penalties","Portion Related to Asset under lease","PV of Payment"]
[null,0,{"$f":"IFERROR(VLOOKUP(B11,'Output OP Lease Amort'!A:B,2,),\"\")","v":"00:00:00"},null,{"$f":"IF(B11=\"\",\"\",IF(D11>0,'Step 2. Basic Info'!$E$29*'Step 3. Lease Payments'!D11,0))","v":0},null,{"$f":"IF(B11=\"\",\"\",IFERROR(E11+F11,0))","v":0},{"$f":"IF(G11 = \"\",\"\",-PV($G$8,B11,,G11,))","v":0}]
[null,{"$f":"IF(C11<'Step 2. Basic Info'!$E$12,B11+1,\"\")","v":""},{"$f":"VLOOKUP(B12,'Output OP Lease Amort'!A:B,2,)","v":""},null,{"$f":"IF(B12=\"\",\"\",IF(D12>0,'Step 2. Basic Info'!$E$29*'Step 3. Lease Payments'!D12,0))","v":""},null,"",""]
[null,{"$f":"IF(C12<'Step 2. Basic Info'!$E$12,B12+1,\"\")","v":""},{"$f":"VLOOKUP(B13,'Output OP Lease Amort'!A:B,2,)","v":""},null,{"$f":"IF(B13=\"\",\"\",IF(D13>0,'Step 2. Basic Info'!$E$29*'Step 3. Lease Payments'!D13,0))","v":""},null,"",""]
[null,{"$f":"IF(C13<'Step 2. Basic Info'!$E$12,B13+1,\"\")","v":""},{"$f":"VLOOKUP(B14,'Output OP Lease Amort'!A:B,2,)","v":""},null,{"$f":"IF(B14=\"\",\"\",IF(D14>0,'Step 2. Basic Info'!$E$29*'Step 3. Lease Payments'!D14,0))","v":""},null,"",""]
[null,{"$f":"IF(C14<'Step 2. Basic Info'!$E$12,B14+1,\"\")","v":""},{"$f":"VLOOKUP(B15,'Output OP Lease Amort'!A:B,2,)","v":""},null,{"$f":"IF(B15=\"\",\"\",IF(D15>0,'Step 2. Basic Info'!$E$29*'Step 3. Lease Payments'!D15,0))","v":""},null,"",""]
[null,{"$f":"IF(C15<'Step 2. Basic Info'!$E$12,B15+1,\"\")","v":""},{"$f":"VLOOKUP(B16,'Output OP Lease Amort'!A:B,2,)","v":""},null,{"$f":"IF(B16=\"\",\"\",IF(D16>0,'Step 2. Basic Info'!$E$29*'Step 3. Lease Payments'!D16,0))","v":""},null,"",""]
[null,{"$f":"IF(C16<'Step 2. Basic Info'!$E$12,B16+1,\"\")","v":""},{"$f":"VLOOKUP(B17,'Output OP Lease Amort'!A:B,2,)","v":""},null,{"$f":"IF(B17=\"\",\"\",IF(D17>0,'Step 2. Basic Info'!$E$29*'Step 3. Lease Payments'!D17,0))","v":""},null,"",""]
[null,{"$f":"IF(C17<'Step 2. Basic Info'!$E$12,B17+1,\"\")","v":""},{"$f":"VLOOKUP(B18,'Output OP Lease Amort'!A:B,2,)","v":""},null,{"$f":"IF(B18=\"\",\"\",IF(D18>0,'Step 2. Basic Info'!$E$29*'Step 3. Lease Payments'!D18,0))","v":""},null,"",""]
[null,{"$f":"IF(C18<'Step 2. Basic Info'!$E$12,B18+1,\"\")","v":""},{"$f":"VLOOKUP(B19,'Output OP Lease Amort'!A:B,2,)","v":""},null,{"$f":"IF(B19=\"\",\"\",IF(D19>0,'Step 2. Basic Info'!$E$29*'Step 3. Lease Payments'!D19,0))","v":""},null,"",""]
[null,{"$f":"IF(C19<'Step 2. Basic Info'!$E$12,B19+1,\"\")","v":""},{"$f":"VLOOKUP(B20,'Output OP Lease Amort'!A:B,2,)","v":""},null,{"$f":"IF(B20=\"\",\"\",IF(D20>0,'Step 2. Basic Info'!$E$29*'Step 3. Lease Payments'!D20,0))","v":""},null,"",""]
[null,{"$f":"IF(C20<'Step 2. Basic Info'!$E$12,B20+1,\"\")","v":""},{"$f":"VLOOKUP(B21,'Output OP Lease Amort'!A:B,2,)","v":""},null,{"$f":"IF(B21=\"\",\"\",IF(D21>0,'Step 2. Basic Info'!$E$29*'Step 3. Lease Payments'!D21,0))","v":""},null,"",""]
[null,{"$f":"IF(C21<'Step 2. Basic Info'!$E$12,B21+1,\"\")","v":""},{"$f":"VLOOKUP(B22,'Output OP Lease Amort'!A:B,2,)","v":""},null,{"$f":"IF(B22=\"\",\"\",IF(D22>0,'Step 2. Basic Info'!$E$29*'Step 3. Lease Payments'!D22,0))","v":""},null,"",""]
[null,{"$f":"IF(C22<'Step 2. Basic Info'!$E$12,B22+1,\"\")","v":""},{"$f":"VLOOKUP(B23,'Output OP Lease Amort'!A:B,2,)","v":""},null,{"$f":"IF(B23=\"\",\"\",IF(D23>0,'Step 2. Basic Info'!$E$29*'Step 3. Lease Payments'!D23,0))","v":""},null,"",""]
[null,{"$f":"IF(C23<'Step 2. Basic Info'!$E$12,B23+1,\"\")","v":""},{"$f":"VLOOKUP(B24,'Output OP Lease Amort'!A:B,2,)","v":""},null,{"$f":"IF(B24=\"\",\"\",IF(D24>0,'Step 2. Basic Info'!$E$29*'Step 3. Lease Payments'!D24,0))","v":""},null,"",""]
[null,{"$f":"IF(C24<'Step 2. Basic Info'!$E$12,B24+1,\"\")","v":""},{"$f":"VLOOKUP(B25,'Output OP Lease Amort'!A:B,2,)","v":""},null,{"$f":"IF(B25=\"\",\"\",IF(D25>0,'Step 2. Basic Info'!$E$29*'Step 3. Lease Payments'!D25,0))","v":""},null,"",""]
[null,{"$f":"IF(C25<'Step 2. Basic Info'!$E$12,B25+1,\"\")","v":""},{"$f":"VLOOKUP(B26,'Output OP Lease Amort'!A:B,2,)","v":""},null,{"$f":"IF(B26=\"\",\"\",IF(D26>0,'Step 2. Basic Info'!$E$29*'Step 3. Lease Payments'!D26,0))","v":""},null,"",""]
[null,{"$f":"IF(C26<'Step 2. Basic Info'!$E$12,B26+1,\"\")","v":""},{"$f":"VLOOKUP(B27,'Output OP Lease Amort'!A:B,2,)","v":""},null,{"$f":"IF(B27=\"\",\"\",IF(D27>0,'Step 2. Basic Info'!$E$29*'Step 3. Lease Payments'!D27,0))","v":""},null,"",""]
[null,{"$f":"IF(C27<'Step 2. Basic Info'!$E$12,B27+1,\"\")","v":""},{"$f":"VLOOKUP(B28,'Output OP Lease Amort'!A:B,2,)","v":""},null,{"$f":"IF(B28=\"\",\"\",IF(D28>0,'Step 2. Basic Info'!$E$29*'Step 3. Lease Payments'!D28,0))","v":""},null,"",""]
[null,{"$f":"IF(C28<'Step 2. Basic Info'!$E$12,B28+1,\"\")","v":""},{"$f":"VLOOKUP(B29,'Output OP Lease Amort'!A:B,2,)","v":""},null,{"$f":"IF(B29=\"\",\"\",IF(D29>0,'Step 2. Basic Info'!$E$29*'Step 3. Lease Payments'!D29,0))","v":""},null,"",""]
[null,{"$f":"IF(C29<'Step 2. Basic Info'!$E$12,B29+1,\"\")","v":""},{"$f":"VLOOKUP(B30,'Output OP Lease Amort'!A:B,2,)","v":""},null,{"$f":"IF(B30=\"\",\"\",IF(D30>0,'Step 2. Basic Info'!$E$29*'Step 3. Lease Payments'!D30,0))","v":""},null,"",""]
[null,{"$f":"IF(C30<'Step 2. Basic Info'!$E$12,B30+1,\"\")","v":""},{"$f":"VLOOKUP(B31,'Output OP Lease Amort'!A:B,2,)","v":""},null,{"$f":"IF(B31=\"\",\"\",IF(D31>0,'Step 2. Basic Info'!$E$29*'Step 3. Lease Payments'!D31,0))","v":""},null,"",""]
[null,{"$f":"IF(C31<'Step 2. Basic Info'!$E$12,B31+1,\"\")","v":""},{"$f":"VLOOKUP(B32,'Output OP Lease Amort'!A:B,2,)","v":""},null,{"$f":"IF(B32=\"\",\"\",IF(D32>0,'Step 2. Basic Info'!$E$29*'Step 3. Lease Payments'!D32,0))","v":""},null,"",""]
[null,{"$f":"IF(C32<'Step 2. Basic Info'!$E$12,B32+1,\"\")","v":""},{"$f":"VLOOKUP(B33,'Output OP Lease Amort'!A:B,2,)","v":""},null,{"$f":"IF(B33=\"\",\"\",IF(D33>0,'Step 2. Basic Info'!$E$29*'Step 3. Lease Payments'!D33,0))","v":""},null,"",""]
[null,{"$f":"IF(C33<'Step 2. Basic Info'!$E$12,B33+1,\"\")","v":""},{"$f":"VLOOKUP(B34,'Output OP Lease Amort'!A:B,2,)","v":""},null,{"$f":"IF(B34=\"\",\"\",IF(D34>0,'Step 2. Basic Info'!$E$29*'Step 3. Lease Payments'!D34,0))","v":""},null,"",""]
[null,{"$f":"IF(C34<'Step 2. Basic Info'!$E$12,B34+1,\"\")","v":""},{"$f":"VLOOKUP(B35,'Output OP Lease Amort'!A:B,2,)","v":""},null,{"$f":"IF(B35=\"\",\"\",IF(D35>0,'Step 2. Basic Info'!$E$29*'Step 3. Lease Payments'!D35,0))","v":""},null,"",""]
[null,{"$f":"IF(C35<'Step 2. Basic Info'!$E$12,B35+1,\"\")","v":""},{"$f":"VLOOKUP(B36,'Output OP Lease Amort'!A:B,2,)","v":""},null,{"$f":"IF(B36=\"\",\"\",IF(D36>0,'Step 2. Basic Info'!$E$29*'Step 3. Lease Payments'!D36,0))","v":""},null,"",""]
[null,{"$f":"IF(C36<'Step 2. Basic Info'!$E$12,B36+1,\"\")","v":""},{"$f":"VLOOKUP(B37,'Output OP Lease Amort'!A:B,2,)","v":""},null,{"$f":"IF(B37=\"\",\"\",IF(D37>0,'Step 2. Basic Info'!$E$29*'Step 3. Lease Payments'!D37,0))","v":""},null,"",""]
[null,{"$f":"IF(C37<'Step 2. Basic Info'!$E$12,B37+1,\"\")","v":""},{"$f":"VLOOKUP(B38,'Output OP Lease Amort'!A:B,2,)","v":""},null,{"$f":"IF(B38=\"\",\"\",IF(D38>0,'Step 2. Basic Info'!$E$29*'Step 3. Lease Payments'!D38,0))","v":""},null,"",""]
[null,{"$f":"IF(C38<'Step 2. Basic Info'!$E$12,B38+1,\"\")","v":""},{"$f":"VLOOKUP(B39,'Output OP Lease Amort'!A:B,2,)","v":""},null,{"$f":"IF(B39=\"\",\"\",IF(D39>0,'Step 2. Basic Info'!$E$29*'Step 3. Lease Payments'!D39,0))","v":""},null,"",""]
[null,{"$f":"IF(C39<'Step 2. Basic Info'!$E$12,B39+1,\"\")","v":""},{"$f":"VLOOKUP(B40,'Output OP Lease Amort'!A:B,2,)","v":""},null,{"$f":"IF(B40=\"\",\"\",IF(D40>0,'Step 2. Basic Info'!$E$29*'Step 3. Lease Payments'!D40,0))","v":""},null,"",""]
[null,{"$f":"IF(C40<'Step 2. Basic Info'!$E$12,B40+1,\"\")","v":""},{"$f":"VLOOKUP(B41,'Output OP Lease Amort'!A:B,2,)","v":""},null,{"$f":"IF(B41=\"\",\"\",IF(D41>0,'Step 2. Basic Info'!$E$29*'Step 3. Lease Payments'!D41,0))","v":""},null,"",""]
[null,{"$f":"IF(C41<'Step 2. Basic Info'!$E$12,B41+1,\"\")","v":""},{"$f":"VLOOKUP(B42,'Output OP Lease Amort'!A:B,2,)","v":""},null,{"$f":"IF(B42=\"\",\"\",IF(D42>0,'Step 2. Basic Info'!$E$29*'Step 3. Lease Payments'!D42,0))","v":""},null,"",""]
[null,{"$f":"IF(C42<'Step 2. Basic Info'!$E$12,B42+1,\"\")","v":""},{"$f":"VLOOKUP(B43,'Output OP Lease Amort'!A:B,2,)","v":""},null,{"$f":"IF(B43=\"\",\"\",IF(D43>0,'Step 2. Basic Info'!$E$29*'Step 3. Lease Payments'!D43,0))","v":""},null,"",""]
[null,{"$f":"IF(C43<'Step 2. Basic Info'!$E$12,B43+1,\"\")","v":""},{"$f":"VLOOKUP(B44,'Output OP Lease Amort'!A:B,2,)","v":""},null,{"$f":"IF(B44=\"\",\"\",IF(D44>0,'Step 2. Basic Info'!$E$29*'Step 3. Lease Payments'!D44,0))","v":""},null,"",""]
[null,{"$f":"IF(C44<'Step 2. Basic Info'!$E$12,B44+1,\"\")","v":""},{"$f":"VLOOKUP(B45,'Output OP Lease Amort'!A:B,2,)","v":""},null,{"$f":"IF(B45=\"\",\"\",IF(D45>0,'Step 2. Basic Info'!$E$29*'Step 3. Lease Payments'!D45,0))","v":""},null,"",""]
[null,{"$f":"IF(C45<'Step 2. Basic Info'!$E$12,B45+1,\"\")","v":""},{"$f":"VLOOKUP(B46,'Output OP Lease Amort'!A:B,2,)","v":""},null,{"$f":"IF(B46=\"\",\"\",IF(D46>0,'Step 2. Basic Info'!$E$29*'Step 3. Lease Payments'!D46,0))","v":""},null,"",""]
[null,{"$f":"IF(C46<'Step 2. Basic Info'!$E$12,B46+1,\"\")","v":""},{"$f":"VLOOKUP(B47,'Output OP Lease Amort'!A:B,2,)","v":""},null,{"$f":"IF(B47=\"\",\"\",IF(D47>0,'Step 2. Basic Info'!$E$29*'Step 3. Lease Payments'!D47,0))","v":""},null,"",""]
[null,{"$f":"IF(C47<'Step 2. Basic Info'!$E$12,B47+1,\"\")","v":""},{"$f":"VLOOKUP(B48,'Output OP Lease Amort'!A:B,2,)","v":""},null,{"$f":"IF(B48=\"\",\"\",IF(D48>0,'Step 2. Basic Info'!$E$29*'Step 3. Lease Payments'!D48,0))","v":""},null,"",""]
[null,{"$f":"IF(C48<'Step 2. Basic Info'!$E$12,B48+1,\"\")","v":""},{"$f":"VLOOKUP(B49,'Output OP Lease Amort'!A:B,2,)","v":""},null,{"$f":"IF(B49=\"\",\"\",IF(D49>0,'Step 2. Basic Info'!$E$29*'Step 3. Lease Payments'!D49,0))","v":""},null,"",""]
[null,{"$f":"IF(C49<'Step 2. Basic Info'!$E$12,B49+1,\"\")","v":""},{"$f":"VLOOKUP(B50,'Output OP Lease Amort'!A:B,2,)","v":""},null,{"$f":"IF(B50=\"\",\"\",IF(D50>0,'Step 2. Basic Info'!$E$29*'Step 3. Lease Payments'!D50,0))","v":""},null,"",""]
[null,{"$f":"IF(C50<'Step 2. Basic Info'!$E$12,B50+1,\"\")","v":""},{"$f":"VLOOKUP(B51,'Output OP Lease Amort'!A:B,2,)","v":""},null,{"$f":"IF(B51=\"\",\"\",IF(D51>0,'Step 2. Basic Info'!$E$29*'Step 3. Lease Payments'!D51,0))","v":""},null,"",""]
[null,{"$f":"IF(C51<'Step 2. Basic Info'!$E$12,B51+1,\"\")","v":""},{"$f":"VLOOKUP(B52,'Output OP Lease Amort'!A:B,2,)","v":""},null,{"$f":"IF(B52=\"\",\"\",IF(D52>0,'Step 2. Basic Info'!$E$29*'Step 3. Lease Payments'!D52,0))","v":""},null,"",""]
[null,{"$f":"IF(C52<'Step 2. Basic Info'!$E$12,B52+1,\"\")","v":""},{"$f":"VLOOKUP(B53,'Output OP Lease Amort'!A:B,2,)","v":""},null,{"$f":"IF(B53=\"\",\"\",IF(D53>0,'Step 2. Basic Info'!$E$29*'Step 3. Lease Payments'!D53,0))","v":""},null,"",""]
[null,{"$f":"IF(C53<'Step 2. Basic Info'!$E$12,B53+1,\"\")","v":""},{"$f":"VLOOKUP(B54,'Output OP Lease Amort'!A:B,2,)","v":""},null,{"$f":"IF(B54=\"\",\"\",IF(D54>0,'Step 2. Basic Info'!$E$29*'Step 3. Lease Payments'!D54,0))","v":""},null,"",""]
[null,{"$f":"IF(C54<'Step 2. Basic Info'!$E$12,B54+1,\"\")","v":""},{"$f":"VLOOKUP(B55,'Output OP Lease Amort'!A:B,2,)","v":""},null,{"$f":"IF(B55=\"\",\"\",IF(D55>0,'Step 2. Basic Info'!$E$29*'Step 3. Lease Payments'!D55,0))","v":""},null,"",""]
[null,{"$f":"IF(C55<'Step 2. Basic Info'!$E$12,B55+1,\"\")","v":""},{"$f":"VLOOKUP(B56,'Output OP Lease Amort'!A:B,2,)","v":""},null,{"$f":"IF(B56=\"\",\"\",IF(D56>0,'Step 2. Basic Info'!$E$29*'Step 3. Lease Payments'!D56,0))","v":""},null,"",""]
[null,{"$f":"IF(C56<'Step 2. Basic Info'!$E$12,B56+1,\"\")","v":""},{"$f":"VLOOKUP(B57,'Output OP Lease Amort'!A:B,2,)","v":""},null,{"$f":"IF(B57=\"\",\"\",IF(D57>0,'Step 2. Basic Info'!$E$29*'Step 3. Lease Payments'!D57,0))","v":""},null,"",""]
[null,{"$f":"IF(C57<'Step 2. Basic Info'!$E$12,B57+1,\"\")","v":""},{"$f":"VLOOKUP(B58,'Output OP Lease Amort'!A:B,2,)","v":""},null,{"$f":"IF(B58=\"\",\"\",IF(D58>0,'Step 2. Basic Info'!$E$29*'Step 3. Lease Payments'!D58,0))","v":""},null,"",""]
[null,{"$f":"IF(C58<'Step 2. Basic Info'!$E$12,B58+1,\"\")","v":""},{"$f":"VLOOKUP(B59,'Output OP Lease Amort'!A:B,2,)","v":""},null,{"$f":"IF(B59=\"\",\"\",IF(D59>0,'Step 2. Basic Info'!$E$29*'Step 3. Lease Payments'!D59,0))","v":""},null,"",""]
[null,{"$f":"IF(C59<'Step 2. Basic Info'!$E$12,B59+1,\"\")","v":""},{"$f":"VLOOKUP(B60,'Output OP Lease Amort'!A:B,2,)","v":""},null,{"$f":"IF(B60=\"\",\"\",IF(D60>0,'Step 2. Basic Info'!$E$29*'Step 3. Lease Payments'!D60,0))","v":""},null,"",""]
[null,{"$f":"IF(C60<'Step 2. Basic Info'!$E$12,B60+1,\"\")","v":""},{"$f":"VLOOKUP(B61,'Output OP Lease Amort'!A:B,2,)","v":""},null,{"$f":"IF(B61=\"\",\"\",IF(D61>0,'Step 2. Basic Info'!$E$29*'Step 3. Lease Payments'!D61,0))","v":""},null,"",""]
[null,{"$f":"IF(C61<'Step 2. Basic Info'!$E$12,B61+1,\"\")","v":""},{"$f":"VLOOKUP(B62,'Output OP Lease Amort'!A:B,2,)","v":""},null,{"$f":"IF(B62=\"\",\"\",IF(D62>0,'Step 2. Basic Info'!$E$29*'Step 3. Lease Payments'!D62,0))","v":""},null,"",""]
[null,{"$f":"IF(C62<'Step 2. Basic Info'!$E$12,B62+1,\"\")","v":""},{"$f":"VLOOKUP(B63,'Output OP Lease Amort'!A:B,2,)","v":""},null,{"$f":"IF(B63=\"\",\"\",IF(D63>0,'Step 2. Basic Info'!$E$29*'Step 3. Lease Payments'!D63,0))","v":""},null,"",""]
[null,{"$f":"IF(C63<'Step 2. Basic Info'!$E$12,B63+1,\"\")","v":""},{"$f":"VLOOKUP(B64,'Output OP Lease Amort'!A:B,2,)","v":""},null,{"$f":"IF(B64=\"\",\"\",IF(D64>0,'Step 2. Basic Info'!$E$29*'Step 3. Lease Payments'!D64,0))","v":""},null,"",""]
[null,{"$f":"IF(C64<'Step 2. Basic Info'!$E$12,B64+1,\"\")","v":""},{"$f":"VLOOKUP(B65,'Output OP Lease Amort'!A:B,2,)","v":""},null,{"$f":"IF(B65=\"\",\"\",IF(D65>0,'Step 2. Basic Info'!$E$29*'Step 3. Lease Payments'!D65,0))","v":""},null,"",""]
[null,{"$f":"IF(C65<'Step 2. Basic Info'!$E$12,B65+1,\"\")","v":""},{"$f":"VLOOKUP(B66,'Output OP Lease Amort'!A:B,2,)","v":""},null,{"$f":"IF(B66=\"\",\"\",IF(D66>0,'Step 2. Basic Info'!$E$29*'Step 3. Lease Payments'!D66,0))","v":""},null,"",""]
[null,{"$f":"IF(C66<'Step 2. Basic Info'!$E$12,B66+1,\"\")","v":""},{"$f":"VLOOKUP(B67,'Output OP Lease Amort'!A:B,2,)","v":""},null,{"$f":"IF(B67=\"\",\"\",IF(D67>0,'Step 2. Basic Info'!$E$29*'Step 3. Lease Payments'!D67,0))","v":""},null,"",""]
[null,{"$f":"IF(C67<'Step 2. Basic Info'!$E$12,B67+1,\"\")","v":""},{"$f":"VLOOKUP(B68,'Output OP Lease Amort'!A:B,2,)","v":""},null,{"$f":"IF(B68=\"\",\"\",IF(D68>0,'Step 2. Basic Info'!$E$29*'Step 3. Lease Payments'!D68,0))","v":""},null,"",""]
[null,{"$f":"IF(C68<'Step 2. Basic Info'!$E$12,B68+1,\"\")","v":""},{"$f":"VLOOKUP(B69,'Output OP Lease Amort'!A:B,2,)","v":""},null,{"$f":"IF(B69=\"\",\"\",IF(D69>0,'Step 2. Basic Info'!$E$29*'Step 3. Lease Payments'!D69,0))","v":""},null,"",""]
[null,{"$f":"IF(C69<'Step 2. Basic Info'!$E$12,B69+1,\"\")","v":""},{"$f":"VLOOKUP(B70,'Output OP Lease Amort'!A:B,2,)","v":""},null,{"$f":"IF(B70=\"\",\"\",IF(D70>0,'Step 2. Basic Info'!$E$29*'Step 3. Lease Payments'!D70,0))","v":""},null,"",""]
[null,{"$f":"IF(C70<'Step 2. Basic Info'!$E$12,B70+1,\"\")","v":""},{"$f":"VLOOKUP(B71,'Output OP Lease Amort'!A:B,2,)","v":""},null,{"$f":"IF(B71=\"\",\"\",IF(D71>0,'Step 2. Basic Info'!$E$29*'Step 3. Lease Payments'!D71,0))","v":""},null,"",""]
[null,{"$f":"IF(C71<'Step 2. Basic Info'!$E$12,B71+1,\"\")","v":""},{"$f":"VLOOKUP(B72,'Output OP Lease Amort'!A:B,2,)","v":""},null,{"$f":"IF(B72=\"\",\"\",IF(D72>0,'Step 2. Basic Info'!$E$29*'Step 3. Lease Payments'!D72,0))","v":""},null,"",""]
[null,{"$f":"IF(C72<'Step 2. Basic Info'!$E$12,B72+1,\"\")","v":""},{"$f":"VLOOKUP(B73,'Output OP Lease Amort'!A:B,2,)","v":""},null,{"$f":"IF(B73=\"\",\"\",IF(D73>0,'Step 2. Basic Info'!$E$29*'Step 3. Lease Payments'!D73,0))","v":""},null,"",""]
[null,{"$f":"IF(C73<'Step 2. Basic Info'!$E$12,B73+1,\"\")","v":""},{"$f":"VLOOKUP(B74,'Output OP Lease Amort'!A:B,2,)","v":""},null,{"$f":"IF(B74=\"\",\"\",IF(D74>0,'Step 2. Basic Info'!$E$29*'Step 3. Lease Payments'!D74,0))","v":""},null,"",""]
[null,{"$f":"IF(C74<'Step 2. Basic Info'!$E$12,B74+1,\"\")","v":""},{"$f":"VLOOKUP(B75,'Output OP Lease Amort'!A:B,2,)","v":""},null,{"$f":"IF(B75=\"\",\"\",IF(D75>0,'Step 2. Basic Info'!$E$29*'Step 3. Lease Payments'!D75,0))","v":""},null,{"$f":"IF(B75=\"\",\"\",IFERROR(E75+F75,0))","v":""},{"$f":"IF(G75 = \"\",\"\",-PV($G$8,B75,,G75,))","v":""}]
[null,{"$f":"IF(C75<'Step 2. Basic Info'!$E$12,B75+1,\"\")","v":""},{"$f":"VLOOKUP(B76,'Output OP Lease Amort'!A:B,2,)","v":""},null,{"$f":"IF(B76=\"\",\"\",IF(D76>0,'Step 2. Basic Info'!$E$29*'Step 3. Lease Payments'!D76,0))","v":""},null,"",""]
[null,{"$f":"IF(C76<'Step 2. Basic Info'!$E$12,B76+1,\"\")","v":""},{"$f":"VLOOKUP(B77,'Output OP Lease Amort'!A:B,2,)","v":""},null,{"$f":"IF(B77=\"\",\"\",IF(D77>0,'Step 2. Basic Info'!$E$29*'Step 3. Lease Payments'!D77,0))","v":""},null,"",""]
[null,{"$f":"IF(C77<'Step 2. Basic Info'!$E$12,B77+1,\"\")","v":""},{"$f":"VLOOKUP(B78,'Output OP Lease Amort'!A:B,2,)","v":""},null,{"$f":"IF(B78=\"\",\"\",IF(D78>0,'Step 2. Basic Info'!$E$29*'Step 3. Lease Payments'!D78,0))","v":""},null,"",""]
[null,{"$f":"IF(C78<'Step 2. Basic Info'!$E$12,B78+1,\"\")","v":""},{"$f":"VLOOKUP(B79,'Output OP Lease Amort'!A:B,2,)","v":""},null,{"$f":"IF(B79=\"\",\"\",IF(D79>0,'Step 2. Basic Info'!$E$29*'Step 3. Lease Payments'!D79,0))","v":""},null,"",""]
[null,{"$f":"IF(C79<'Step 2. Basic Info'!$E$12,B79+1,\"\")","v":""},{"$f":"VLOOKUP(B80,'Output OP Lease Amort'!A:B,2,)","v":""},null,{"$f":"IF(B80=\"\",\"\",IF(D80>0,'Step 2. Basic Info'!$E$29*'Step 3. Lease Payments'!D80,0))","v":""},null,"",""]
[null,{"$f":"IF(C80<'Step 2. Basic Info'!$E$12,B80+1,\"\")","v":""},{"$f":"VLOOKUP(B81,'Output OP Lease Amort'!A:B,2,)","v":""},null,{"$f":"IF(B81=\"\",\"\",IF(D81>0,'Step 2. Basic Info'!$E$29*'Step 3. Lease Payments'!D81,0))","v":""},null,"",""]
[null,{"$f":"IF(C81<'Step 2. Basic Info'!$E$12,B81+1,\"\")","v":""},{"$f":"VLOOKUP(B82,'Output OP Lease Amort'!A:B,2,)","v":""},null,{"$f":"IF(B82=\"\",\"\",IF(D82>0,'Step 2. Basic Info'!$E$29*'Step 3. Lease Payments'!D82,0))","v":""},null,"",""]
[null,{"$f":"IF(C82<'Step 2. Basic Info'!$E$12,B82+1,\"\")","v":""},{"$f":"VLOOKUP(B83,'Output OP Lease Amort'!A:B,2,)","v":""},null,{"$f":"IF(B83=\"\",\"\",IF(D83>0,'Step 2. Basic Info'!$E$29*'Step 3. Lease Payments'!D83,0))","v":""},null,"",""]
[null,{"$f":"IF(C83<'Step 2. Basic Info'!$E$12,B83+1,\"\")","v":""},{"$f":"VLOOKUP(B84,'Output OP Lease Amort'!A:B,2,)","v":""},null,{"$f":"IF(B84=\"\",\"\",IF(D84>0,'Step 2. Basic Info'!$E$29*'Step 3. Lease Payments'!D84,0))","v":""},null,"",""]
[null,{"$f":"IF(C84<'Step 2. Basic Info'!$E$12,B84+1,\"\")","v":""},{"$f":"VLOOKUP(B85,'Output OP Lease Amort'!A:B,2,)","v":""},null,{"$f":"IF(B85=\"\",\"\",IF(D85>0,'Step 2. Basic Info'!$E$29*'Step 3. Lease Payments'!D85,0))","v":""},null,"",""]
[null,{"$f":"IF(C85<'Step 2. Basic Info'!$E$12,B85+1,\"\")","v":""},{"$f":"VLOOKUP(B86,'Output OP Lease Amort'!A:B,2,)","v":""},null,{"$f":"IF(B86=\"\",\"\",IF(D86>0,'Step 2. Basic Info'!$E$29*'Step 3. Lease Payments'!D86,0))","v":""},null,"",""]
[null,{"$f":"IF(C86<'Step 2. Basic Info'!$E$12,B86+1,\"\")","v":""},{"$f":"VLOOKUP(B87,'Output OP Lease Amort'!A:B,2,)","v":""},null,{"$f":"IF(B87=\"\",\"\",IF(D87>0,'Step 2. Basic Info'!$E$29*'Step 3. Lease Payments'!D87,0))","v":""},null,"",""]
[null,{"$f":"IF(C87<'Step 2. Basic Info'!$E$12,B87+1,\"\")","v":""},{"$f":"VLOOKUP(B88,'Output OP Lease Amort'!A:B,2,)","v":""},null,{"$f":"IF(B88=\"\",\"\",IF(D88>0,'Step 2. Basic Info'!$E$29*'Step 3. Lease Payments'!D88,0))","v":""},null,"",""]
[null,{"$f":"IF(C88<'Step 2. Basic Info'!$E$12,B88+1,\"\")","v":""},{"$f":"VLOOKUP(B89,'Output OP Lease Amort'!A:B,2,)","v":""},null,{"$f":"IF(B89=\"\",\"\",IF(D89>0,'Step 2. Basic Info'!$E$29*'Step 3. Lease Payments'!D89,0))","v":""},null,"",""]
[null,{"$f":"IF(C89<'Step 2. Basic Info'!$E$12,B89+1,\"\")","v":""},{"$f":"VLOOKUP(B90,'Output OP Lease Amort'!A:B,2,)","v":""},null,{"$f":"IF(B90=\"\",\"\",IF(D90>0,'Step 2. Basic Info'!$E$29*'Step 3. Lease Payments'!D90,0))","v":""},null,"",""]
[null,{"$f":"IF(C90<'Step 2. Basic Info'!$E$12,B90+1,\"\")","v":""},{"$f":"VLOOKUP(B91,'Output OP Lease Amort'!A:B,2,)","v":""},null,{"$f":"IF(B91=\"\",\"\",IF(D91>0,'Step 2. Basic Info'!$E$29*'Step 3. Lease Payments'!D91,0))","v":""},null,"",""]
[null,{"$f":"IF(C91<'Step 2. Basic Info'!$E$12,B91+1,\"\")","v":""},{"$f":"VLOOKUP(B92,'Output OP Lease Amort'!A:B,2,)","v":""},null,{"$f":"IF(B92=\"\",\"\",IF(D92>0,'Step 2. Basic Info'!$E$29*'Step 3. Lease Payments'!D92,0))","v":""},null,"",""]
[null,{"$f":"IF(C92<'Step 2. Basic Info'!$E$12,B92+1,\"\")","v":""},{"$f":"VLOOKUP(B93,'Output OP Lease Amort'!A:B,2,)","v":""},null,{"$f":"IF(B93=\"\",\"\",IF(D93>0,'Step 2. Basic Info'!$E$29*'Step 3. Lease Payments'!D93,0))","v":""},null,"",""]
[null,{"$f":"IF(C93<'Step 2. Basic Info'!$E$12,B93+1,\"\")","v":""},{"$f":"VLOOKUP(B94,'Output OP Lease Amort'!A:B,2,)","v":""},null,{"$f":"IF(B94=\"\",\"\",IF(D94>0,'Step 2. Basic Info'!$E$29*'Step 3. Lease Payments'!D94,0))","v":""},null,"",""]
[null,{"$f":"IF(C94<'Step 2. Basic Info'!$E$12,B94+1,\"\")","v":""},{"$f":"VLOOKUP(B95,'Output OP Lease Amort'!A:B,2,)","v":""},null,{"$f":"IF(B95=\"\",\"\",IF(D95>0,'Step 2. Basic Info'!$E$29*'Step 3. Lease Payments'!D95,0))","v":""},null,"",""]
[null,{"$f":"IF(C95<'Step 2. Basic Info'!$E$12,B95+1,\"\")","v":""},{"$f":"VLOOKUP(B96,'Output OP Lease Amort'!A:B,2,)","v":""},null,{"$f":"IF(B96=\"\",\"\",IF(D96>0,'Step 2. Basic Info'!$E$29*'Step 3. Lease Payments'!D96,0))","v":""},null,"",""]
[null,{"$f":"IF(C96<'Step 2. Basic Info'!$E$12,B96+1,\"\")","v":""},{"$f":"VLOOKUP(B97,'Output OP Lease Amort'!A:B,2,)","v":""},null,{"$f":"IF(B97=\"\",\"\",IF(D97>0,'Step 2. Basic Info'!$E$29*'Step 3. Lease Payments'!D97,0))","v":""},null,"",""]
[null,{"$f":"IF(C97<'Step 2. Basic Info'!$E$12,B97+1,\"\")","v":""},{"$f":"VLOOKUP(B98,'Output OP Lease Amort'!A:B,2,)","v":""},null,{"$f":"IF(B98=\"\",\"\",IF(D98>0,'Step 2. Basic Info'!$E$29*'Step 3. Lease Payments'!D98,0))","v":""},null,"",""]
[null,{"$f":"IF(C98<'Step 2. Basic Info'!$E$12,B98+1,\"\")","v":""},{"$f":"VLOOKUP(B99,'Output OP Lease Amort'!A:B,2,)","v":""},null,{"$f":"IF(B99=\"\",\"\",IF(D99>0,'Step 2. Basic Info'!$E$29*'Step 3. Lease Payments'!D99,0))","v":""},null,"",""]
[null,{"$f":"IF(C99<'Step 2. Basic Info'!$E$12,B99+1,\"\")","v":""},{"$f":"VLOOKUP(B100,'Output OP Lease Amort'!A:B,2,)","v":""},null,{"$f":"IF(B100=\"\",\"\",IF(D100>0,'Step 2. Basic Info'!$E$29*'Step 3. Lease Payments'!D100,0))","v":""},null,"",""]
[null,{"$f":"IF(C100<'Step 2. Basic Info'!$E$12,B100+1,\"\")","v":""},{"$f":"VLOOKUP(B101,'Output OP Lease Amort'!A:B,2,)","v":""},null,{"$f":"IF(B101=\"\",\"\",IF(D101>0,'Step 2. Basic Info'!$E$29*'Step 3. Lease Payments'!D101,0))","v":""},null,"",""]
[null,{"$f":"IF(C101<'Step 2. Basic Info'!$E$12,B101+1,\"\")","v":""},{"$f":"VLOOKUP(B102,'Output OP Lease Amort'!A:B,2,)","v":""},null,{"$f":"IF(B102=\"\",\"\",IF(D102>0,'Step 2. Basic Info'!$E$29*'Step 3. Lease Payments'!D102,0))","v":""},null,"",""]
[null,{"$f":"IF(C102<'Step 2. Basic Info'!$E$12,B102+1,\"\")","v":""},{"$f":"VLOOKUP(B103,'Output OP Lease Amort'!A:B,2,)","v":""},null,{"$f":"IF(B103=\"\",\"\",IF(D103>0,'Step 2. Basic Info'!$E$29*'Step 3. Lease Payments'!D103,0))","v":""},null,"",""]
[null,{"$f":"IF(C103<'Step 2. Basic Info'!$E$12,B103+1,\"\")","v":""},{"$f":"VLOOKUP(B104,'Output OP Lease Amort'!A:B,2,)","v":""},null,{"$f":"IF(B104=\"\",\"\",IF(D104>0,'Step 2. Basic Info'!$E$29*'Step 3. Lease Payments'!D104,0))","v":""},null,"",""]
[null,{"$f":"IF(C104<'Step 2. Basic Info'!$E$12,B104+1,\"\")","v":""},{"$f":"VLOOKUP(B105,'Output OP Lease Amort'!A:B,2,)","v":""},null,{"$f":"IF(B105=\"\",\"\",IF(D105>0,'Step 2. Basic Info'!$E$29*'Step 3. Lease Payments'!D105,0))","v":""},null,"",""]
[null,{"$f":"IF(C105<'Step 2. Basic Info'!$E$12,B105+1,\"\")","v":""},{"$f":"VLOOKUP(B106,'Output OP Lease Amort'!A:B,2,)","v":""},null,{"$f":"IF(B106=\"\",\"\",IF(D106>0,'Step 2. Basic Info'!$E$29*'Step 3. Lease Payments'!D106,0))","v":""},null,"",""]
[null,{"$f":"IF(C106<'Step 2. Basic Info'!$E$12,B106+1,\"\")","v":""},{"$f":"VLOOKUP(B107,'Output OP Lease Amort'!A:B,2,)","v":""},null,{"$f":"IF(B107=\"\",\"\",IF(D107>0,'Step 2. Basic Info'!$E$29*'Step 3. Lease Payments'!D107,0))","v":""},null,"",""]
[null,{"$f":"IF(C107<'Step 2. Basic Info'!$E$12,B107+1,\"\")","v":""},{"$f":"VLOOKUP(B108,'Output OP Lease Amort'!A:B,2,)","v":""},null,{"$f":"IF(B108=\"\",\"\",IF(D108>0,'Step 2. Basic Info'!$E$29*'Step 3. Lease Payments'!D108,0))","v":""},null,"",""]
[null,{"$f":"IF(C108<'Step 2. Basic Info'!$E$12,B108+1,\"\")","v":""},{"$f":"VLOOKUP(B109,'Output OP Lease Amort'!A:B,2,)","v":""},null,{"$f":"IF(B109=\"\",\"\",IF(D109>0,'Step 2. Basic Info'!$E$29*'Step 3. Lease Payments'!D109,0))","v":""},null,"",""]
[null,{"$f":"IF(C109<'Step 2. Basic Info'!$E$12,B109+1,\"\")","v":""},{"$f":"VLOOKUP(B110,'Output OP Lease Amort'!A:B,2,)","v":""},null,{"$f":"IF(B110=\"\",\"\",IF(D110>0,'Step 2. Basic Info'!$E$29*'Step 3. Lease Payments'!D110,0))","v":""},null,"",""]
[null,{"$f":"IF(C110<'Step 2. Basic Info'!$E$12,B110+1,\"\")","v":""},{"$f":"VLOOKUP(B111,'Output OP Lease Amort'!A:B,2,)","v":""},null,{"$f":"IF(B111=\"\",\"\",IF(D111>0,'Step 2. Basic Info'!$E$29*'Step 3. Lease Payments'!D111,0))","v":""},null,"",""]
[null,{"$f":"IF(C111<'Step 2. Basic Info'!$E$12,B111+1,\"\")","v":""},{"$f":"VLOOKUP(B112,'Output OP Lease Amort'!A:B,2,)","v":""},null,{"$f":"IF(B112=\"\",\"\",IF(D112>0,'Step 2. Basic Info'!$E$29*'Step 3. Lease Payments'!D112,0))","v":""},null,"",""]
[null,{"$f":"IF(C112<'Step 2. Basic Info'!$E$12,B112+1,\"\")","v":""},{"$f":"VLOOKUP(B113,'Output OP Lease Amort'!A:B,2,)","v":""},null,{"$f":"IF(B113=\"\",\"\",IF(D113>0,'Step 2. Basic Info'!$E$29*'Step 3. Lease Payments'!D113,0))","v":""},null,"",""]
[null,{"$f":"IF(C113<'Step 2. Basic Info'!$E$12,B113+1,\"\")","v":""},{"$f":"VLOOKUP(B114,'Output OP Lease Amort'!A:B,2,)","v":""},null,{"$f":"IF(B114=\"\",\"\",IF(D114>0,'Step 2. Basic Info'!$E$29*'Step 3. Lease Payments'!D114,0))","v":""},null,"",""]
[null,{"$f":"IF(C114<'Step 2. Basic Info'!$E$12,B114+1,\"\")","v":""},{"$f":"VLOOKUP(B115,'Output OP Lease Amort'!A:B,2,)","v":""},null,{"$f":"IF(B115=\"\",\"\",IF(D115>0,'Step 2. Basic Info'!$E$29*'Step 3. Lease Payments'!D115,0))","v":""},null,"",""]
[null,{"$f":"IF(C115<'Step 2. Basic Info'!$E$12,B115+1,\"\")","v":""},{"$f":"VLOOKUP(B116,'Output OP Lease Amort'!A:B,2,)","v":""},null,{"$f":"IF(B116=\"\",\"\",IF(D116>0,'Step 2. Basic Info'!$E$29*'Step 3. Lease Payments'!D116,0))","v":""},null,"",""]
[null,{"$f":"IF(C116<'Step 2. Basic Info'!$E$12,B116+1,\"\")","v":""},{"$f":"VLOOKUP(B117,'Output OP Lease Amort'!A:B,2,)","v":""},null,{"$f":"IF(B117=\"\",\"\",IF(D117>0,'Step 2. Basic Info'!$E$29*'Step 3. Lease Payments'!D117,0))","v":""},null,"",""]
[null,{"$f":"IF(C117<'Step 2. Basic Info'!$E$12,B117+1,\"\")","v":""},{"$f":"VLOOKUP(B118,'Output OP Lease Amort'!A:B,2,)","v":""},null,{"$f":"IF(B118=\"\",\"\",IF(D118>0,'Step 2. Basic Info'!$E$29*'Step 3. Lease Payments'!D118,0))","v":""},null,"",""]
[null,{"$f":"IF(C118<'Step 2. Basic Info'!$E$12,B118+1,\"\")","v":""},{"$f":"VLOOKUP(B119,'Output OP Lease Amort'!A:B,2,)","v":""},null,{"$f":"IF(B119=\"\",\"\",IF(D119>0,'Step 2. Basic Info'!$E$29*'Step 3. Lease Payments'!D119,0))","v":""},null,"",""]
[null,{"$f":"IF(C119<'Step 2. Basic Info'!$E$12,B119+1,\"\")","v":""},{"$f":"VLOOKUP(B120,'Output OP Lease Amort'!A:B,2,)","v":""},null,{"$f":"IF(B120=\"\",\"\",IF(D120>0,'Step 2. Basic Info'!$E$29*'Step 3. Lease Payments'!D120,0))","v":""},null,"",""]
[null,{"$f":"IF(C120<'Step 2. Basic Info'!$E$12,B120+1,\"\")","v":""},{"$f":"VLOOKUP(B121,'Output OP Lease Amort'!A:B,2,)","v":""},null,{"$f":"IF(B121=\"\",\"\",IF(D121>0,'Step 2. Basic Info'!$E$29*'Step 3. Lease Payments'!D121,0))","v":""},null,"",""]
[null,{"$f":"IF(C121<'Step 2. Basic Info'!$E$12,B121+1,\"\")","v":""},{"$f":"VLOOKUP(B122,'Output OP Lease Amort'!A:B,2,)","v":""},null,{"$f":"IF(B122=\"\",\"\",IF(D122>0,'Step 2. Basic Info'!$E$29*'Step 3. Lease Payments'!D122,0))","v":""},null,"",""]
[null,{"$f":"IF(C122<'Step 2. Basic Info'!$E$12,B122+1,\"\")","v":""},{"$f":"VLOOKUP(B123,'Output OP Lease Amort'!A:B,2,)","v":""},null,{"$f":"IF(B123=\"\",\"\",IF(D123>0,'Step 2. Basic Info'!$E$29*'Step 3. Lease Payments'!D123,0))","v":""},null,"",""]
[null,{"$f":"IF(C123<'Step 2. Basic Info'!$E$12,B123+1,\"\")","v":""},{"$f":"VLOOKUP(B124,'Output OP Lease Amort'!A:B,2,)","v":""},null,{"$f":"IF(B124=\"\",\"\",IF(D124>0,'Step 2. Basic Info'!$E$29*'Step 3. Lease Payments'!D124,0))","v":""},null,"",""]
[null,{"$f":"IF(C124<'Step 2. Basic Info'!$E$12,B124+1,\"\")","v":""},{"$f":"VLOOKUP(B125,'Output OP Lease Amort'!A:B,2,)","v":""},null,{"$f":"IF(B125=\"\",\"\",IF(D125>0,'Step 2. Basic Info'!$E$29*'Step 3. Lease Payments'!D125,0))","v":""},null,"",""]
[null,{"$f":"IF(C125<'Step 2. Basic Info'!$E$12,B125+1,\"\")","v":""},{"$f":"VLOOKUP(B126,'Output OP Lease Amort'!A:B,2,)","v":""},null,{"$f":"IF(B126=\"\",\"\",IF(D126>0,'Step 2. Basic Info'!$E$29*'Step 3. Lease Payments'!D126,0))","v":""},null,"",""]
[null,{"$f":"IF(C126<'Step 2. Basic Info'!$E$12,B126+1,\"\")","v":""},{"$f":"VLOOKUP(B127,'Output OP Lease Amort'!A:B,2,)","v":""},null,{"$f":"IF(B127=\"\",\"\",IF(D127>0,'Step 2. Basic Info'!$E$29*'Step 3. Lease Payments'!D127,0))","v":""},null,"",""]
[null,{"$f":"IF(C127<'Step 2. Basic Info'!$E$12,B127+1,\"\")","v":""},{"$f":"VLOOKUP(B128,'Output OP Lease Amort'!A:B,2,)","v":""},null,{"$f":"IF(B128=\"\",\"\",IF(D128>0,'Step 2. Basic Info'!$E$29*'Step 3. Lease Payments'!D128,0))","v":""},null,"",""]
[null,{"$f":"IF(C128<'Step 2. Basic Info'!$E$12,B128+1,\"\")","v":""},{"$f":"VLOOKUP(B129,'Output OP Lease Amort'!A:B,2,)","v":""},null,{"$f":"IF(B129=\"\",\"\",IF(D129>0,'Step 2. Basic Info'!$E$29*'Step 3. Lease Payments'!D129,0))","v":""},null,"",""]
[null,{"$f":"IF(C129<'Step 2. Basic Info'!$E$12,B129+1,\"\")","v":""},{"$f":"VLOOKUP(B130,'Output OP Lease Amort'!A:B,2,)","v":""},null,{"$f":"IF(B130=\"\",\"\",IF(D130>0,'Step 2. Basic Info'!$E$29*'Step 3. Lease Payments'!D130,0))","v":""},null,"",""]
[null,{"$f":"IF(C130<'Step 2. Basic Info'!$E$12,B130+1,\"\")","v":""},{"$f":"VLOOKUP(B131,'Output OP Lease Amort'!A:B,2,)","v":""},null,{"$f":"IF(B131=\"\",\"\",IF(D131>0,'Step 2. Basic Info'!$E$29*'Step 3. Lease Payments'!D131,0))","v":""},null,"",""]
[null,{"$f":"IF(C131<'Step 2. Basic Info'!$E$12,B131+1,\"\")","v":""},{"$f":"VLOOKUP(B132,'Output OP Lease Amort'!A:B,2,)","v":""},null,{"$f":"IF(B132=\"\",\"\",IF(D132>0,'Step 2. Basic Info'!$E$29*'Step 3. Lease Payments'!D132,0))","v":""},null,"",""]
[null,{"$f":"IF(C132<'Step 2. Basic Info'!$E$12,B132+1,\"\")","v":""},{"$f":"VLOOKUP(B133,'Output OP Lease Amort'!A:B,2,)","v":""},null,{"$f":"IF(B133=\"\",\"\",IF(D133>0,'Step 2. Basic Info'!$E$29*'Step 3. Lease Payments'!D133,0))","v":""},null,"",""]
[null,{"$f":"IF(C133<'Step 2. Basic Info'!$E$12,B133+1,\"\")","v":""},{"$f":"VLOOKUP(B134,'Output OP Lease Amort'!A:B,2,)","v":""},null,{"$f":"IF(B134=\"\",\"\",IF(D134>0,'Step 2. Basic Info'!$E$29*'Step 3. Lease Payments'!D134,0))","v":""},null,"",""]
[null,{"$f":"IF(C134<'Step 2. Basic Info'!$E$12,B134+1,\"\")","v":""},{"$f":"VLOOKUP(B135,'Output OP Lease Amort'!A:B,2,)","v":""},null,{"$f":"IF(B135=\"\",\"\",IF(D135>0,'Step 2. Basic Info'!$E$29*'Step 3. Lease Payments'!D135,0))","v":""},null,"",""]
[null,{"$f":"IF(C135<'Step 2. Basic Info'!$E$12,B135+1,\"\")","v":""},{"$f":"VLOOKUP(B136,'Output OP Lease Amort'!A:B,2,)","v":""},null,{"$f":"IF(B136=\"\",\"\",IF(D136>0,'Step 2. Basic Info'!$E$29*'Step 3. Lease Payments'!D136,0))","v":""},null,"",""]
[null,{"$f":"IF(C136<'Step 2. Basic Info'!$E$12,B136+1,\"\")","v":""},{"$f":"VLOOKUP(B137,'Output OP Lease Amort'!A:B,2,)","v":""},null,{"$f":"IF(B137=\"\",\"\",IF(D137>0,'Step 2. Basic Info'!$E$29*'Step 3. Lease Payments'!D137,0))","v":""},null,"",""]
[null,{"$f":"IF(C137<'Step 2. Basic Info'!$E$12,B137+1,\"\")","v":""},{"$f":"VLOOKUP(B138,'Output OP Lease Amort'!A:B,2,)","v":""},null,{"$f":"IF(B138=\"\",\"\",IF(D138>0,'Step 2. Basic Info'!$E$29*'Step 3. Lease Payments'!D138,0))","v":""},null,"",""]
[null,{"$f":"IF(C138<'Step 2. Basic Info'!$E$12,B138+1,\"\")","v":""},{"$f":"VLOOKUP(B139,'Output OP Lease Amort'!A:B,2,)","v":""},null,{"$f":"IF(B139=\"\",\"\",IF(D139>0,'Step 2. Basic Info'!$E$29*'Step 3. Lease Payments'!D139,0))","v":""},null,{"$f":"IF(B139=\"\",\"\",IFERROR(E139+F139,0))","v":""},{"$f":"IF(G139 = \"\",\"\",-PV($G$8,B139,,G139,))","v":""}]
[null,{"$f":"IF(C139<'Step 2. Basic Info'!$E$12,B139+1,\"\")","v":""},{"$f":"VLOOKUP(B140,'Output OP Lease Amort'!A:B,2,)","v":""},null,{"$f":"IF(B140=\"\",\"\",IF(D140>0,'Step 2. Basic Info'!$E$29*'Step 3. Lease Payments'!D140,0))","v":""},null,"",""]
[null,{"$f":"IF(C140<'Step 2. Basic Info'!$E$12,B140+1,\"\")","v":""},{"$f":"VLOOKUP(B141,'Output OP Lease Amort'!A:B,2,)","v":""},null,{"$f":"IF(B141=\"\",\"\",IF(D141>0,'Step 2. Basic Info'!$E$29*'Step 3. Lease Payments'!D141,0))","v":""},null,"",""]
[null,{"$f":"IF(C141<'Step 2. Basic Info'!$E$12,B141+1,\"\")","v":""},{"$f":"VLOOKUP(B142,'Output OP Lease Amort'!A:B,2,)","v":""},null,{"$f":"IF(B142=\"\",\"\",IF(D142>0,'Step 2. Basic Info'!$E$29*'Step 3. Lease Payments'!D142,0))","v":""},null,"",""]
[null,{"$f":"IF(C142<'Step 2. Basic Info'!$E$12,B142+1,\"\")","v":""},{"$f":"VLOOKUP(B143,'Output OP Lease Amort'!A:B,2,)","v":""},null,{"$f":"IF(B143=\"\",\"\",IF(D143>0,'Step 2. Basic Info'!$E$29*'Step 3. Lease Payments'!D143,0))","v":""},null,"",""]
[null,{"$f":"IF(C143<'Step 2. Basic Info'!$E$12,B143+1,\"\")","v":""},{"$f":"VLOOKUP(B144,'Output OP Lease Amort'!A:B,2,)","v":""},null,{"$f":"IF(B144=\"\",\"\",IF(D144>0,'Step 2. Basic Info'!$E$29*'Step 3. Lease Payments'!D144,0))","v":""},null,"",""]
[null,{"$f":"IF(C144<'Step 2. Basic Info'!$E$12,B144+1,\"\")","v":""},{"$f":"VLOOKUP(B145,'Output OP Lease Amort'!A:B,2,)","v":""},null,{"$f":"IF(B145=\"\",\"\",IF(D145>0,'Step 2. Basic Info'!$E$29*'Step 3. Lease Payments'!D145,0))","v":""},null,"",""]
[null,{"$f":"IF(C145<'Step 2. Basic Info'!$E$12,B145+1,\"\")","v":""},{"$f":"VLOOKUP(B146,'Output OP Lease Amort'!A:B,2,)","v":""},null,{"$f":"IF(B146=\"\",\"\",IF(D146>0,'Step 2. Basic Info'!$E$29*'Step 3. Lease Payments'!D146,0))","v":""},null,"",""]
[null,{"$f":"IF(C146<'Step 2. Basic Info'!$E$12,B146+1,\"\")","v":""},{"$f":"VLOOKUP(B147,'Output OP Lease Amort'!A:B,2,)","v":""},null,{"$f":"IF(B147=\"\",\"\",IF(D147>0,'Step 2. Basic Info'!$E$29*'Step 3. Lease Payments'!D147,0))","v":""},null,"",""]
[null,{"$f":"IF(C147<'Step 2. Basic Info'!$E$12,B147+1,\"\")","v":""},{"$f":"VLOOKUP(B148,'Output OP Lease Amort'!A:B,2,)","v":""},null,{"$f":"IF(B148=\"\",\"\",IF(D148>0,'Step 2. Basic Info'!$E$29*'Step 3. Lease Payments'!D148,0))","v":""},null,"",""]
[null,{"$f":"IF(C148<'Step 2. Basic Info'!$E$12,B148+1,\"\")","v":""},{"$f":"VLOOKUP(B149,'Output OP Lease Amort'!A:B,2,)","v":""},null,{"$f":"IF(B149=\"\",\"\",IF(D149>0,'Step 2. Basic Info'!$E$29*'Step 3. Lease Payments'!D149,0))","v":""},null,"",""]
[null,{"$f":"IF(C149<'Step 2. Basic Info'!$E$12,B149+1,\"\")","v":""},{"$f":"VLOOKUP(B150,'Output OP Lease Amort'!A:B,2,)","v":""},null,{"$f":"IF(B150=\"\",\"\",IF(D150>0,'Step 2. Basic Info'!$E$29*'Step 3. Lease Payments'!D150,0))","v":""},null,"",""]
[null,{"$f":"IF(C150<'Step 2. Basic Info'!$E$12,B150+1,\"\")","v":""},{"$f":"VLOOKUP(B151,'Output OP Lease Amort'!A:B,2,)","v":""},null,{"$f":"IF(B151=\"\",\"\",IF(D151>0,'Step 2. Basic Info'!$E$29*'Step 3. Lease Payments'!D151,0))","v":""},null,"",""]
[null,{"$f":"IF(C151<'Step 2. Basic Info'!$E$12,B151+1,\"\")","v":""},{"$f":"VLOOKUP(B152,'Output OP Lease Amort'!A:B,2,)","v":""},null,{"$f":"IF(B152=\"\",\"\",IF(D152>0,'Step 2. Basic Info'!$E$29*'Step 3. Lease Payments'!D152,0))","v":""},null,"",""]
[null,{"$f":"IF(C152<'Step 2. Basic Info'!$E$12,B152+1,\"\")","v":""},{"$f":"VLOOKUP(B153,'Output OP Lease Amort'!A:B,2,)","v":""},null,{"$f":"IF(B153=\"\",\"\",IF(D153>0,'Step 2. Basic Info'!$E$29*'Step 3. Lease Payments'!D153,0))","v":""},null,"",""]
[null,{"$f":"IF(C153<'Step 2. Basic Info'!$E$12,B153+1,\"\")","v":""},{"$f":"VLOOKUP(B154,'Output OP Lease Amort'!A:B,2,)","v":""},null,{"$f":"IF(B154=\"\",\"\",IF(D154>0,'Step 2. Basic Info'!$E$29*'Step 3. Lease Payments'!D154,0))","v":""},null,"",""]
[null,{"$f":"IF(C154<'Step 2. Basic Info'!$E$12,B154+1,\"\")","v":""},{"$f":"VLOOKUP(B155,'Output OP Lease Amort'!A:B,2,)","v":""},null,{"$f":"IF(B155=\"\",\"\",IF(D155>0,'Step 2. Basic Info'!$E$29*'Step 3. Lease Payments'!D155,0))","v":""},null,"",""]
[null,{"$f":"IF(C155<'Step 2. Basic Info'!$E$12,B155+1,\"\")","v":""},{"$f":"VLOOKUP(B156,'Output OP Lease Amort'!A:B,2,)","v":""},null,{"$f":"IF(B156=\"\",\"\",IF(D156>0,'Step 2. Basic Info'!$E$29*'Step 3. Lease Payments'!D156,0))","v":""},null,"",""]
[null,{"$f":"IF(C156<'Step 2. Basic Info'!$E$12,B156+1,\"\")","v":""},{"$f":"VLOOKUP(B157,'Output OP Lease Amort'!A:B,2,)","v":""},null,{"$f":"IF(B157=\"\",\"\",IF(D157>0,'Step 2. Basic Info'!$E$29*'Step 3. Lease Payments'!D157,0))","v":""},null,"",""]
[null,{"$f":"IF(C157<'Step 2. Basic Info'!$E$12,B157+1,\"\")","v":""},{"$f":"VLOOKUP(B158,'Output OP Lease Amort'!A:B,2,)","v":""},null,{"$f":"IF(B158=\"\",\"\",IF(D158>0,'Step 2. Basic Info'!$E$29*'Step 3. Lease Payments'!D158,0))","v":""},null,"",""]
[null,{"$f":"IF(C158<'Step 2. Basic Info'!$E$12,B158+1,\"\")","v":""},{"$f":"VLOOKUP(B159,'Output OP Lease Amort'!A:B,2,)","v":""},null,{"$f":"IF(B159=\"\",\"\",IF(D159>0,'Step 2. Basic Info'!$E$29*'Step 3. Lease Payments'!D159,0))","v":""},null,"",""]
[null,{"$f":"IF(C159<'Step 2. Basic Info'!$E$12,B159+1,\"\")","v":""},{"$f":"VLOOKUP(B160,'Output OP Lease Amort'!A:B,2,)","v":""},null,{"$f":"IF(B160=\"\",\"\",IF(D160>0,'Step 2. Basic Info'!$E$29*'Step 3. Lease Payments'!D160,0))","v":""},null,"",""]
[null,{"$f":"IF(C160<'Step 2. Basic Info'!$E$12,B160+1,\"\")","v":""},{"$f":"VLOOKUP(B161,'Output OP Lease Amort'!A:B,2,)","v":""},null,{"$f":"IF(B161=\"\",\"\",IF(D161>0,'Step 2. Basic Info'!$E$29*'Step 3. Lease Payments'!D161,0))","v":""},null,"",""]
[null,{"$f":"IF(C161<'Step 2. Basic Info'!$E$12,B161+1,\"\")","v":""},{"$f":"VLOOKUP(B162,'Output OP Lease Amort'!A:B,2,)","v":""},null,{"$f":"IF(B162=\"\",\"\",IF(D162>0,'Step 2. Basic Info'!$E$29*'Step 3. Lease Payments'!D162,0))","v":""},null,"",""]
[null,{"$f":"IF(C162<'Step 2. Basic Info'!$E$12,B162+1,\"\")","v":""},{"$f":"VLOOKUP(B163,'Output OP Lease Amort'!A:B,2,)","v":""},null,{"$f":"IF(B163=\"\",\"\",IF(D163>0,'Step 2. Basic Info'!$E$29*'Step 3. Lease Payments'!D163,0))","v":""},null,"",""]
[null,{"$f":"IF(C163<'Step 2. Basic Info'!$E$12,B163+1,\"\")","v":""},{"$f":"VLOOKUP(B164,'Output OP Lease Amort'!A:B,2,)","v":""},null,{"$f":"IF(B164=\"\",\"\",IF(D164>0,'Step 2. Basic Info'!$E$29*'Step 3. Lease Payments'!D164,0))","v":""},null,"",""]
[null,{"$f":"IF(C164<'Step 2. Basic Info'!$E$12,B164+1,\"\")","v":""},{"$f":"VLOOKUP(B165,'Output OP Lease Amort'!A:B,2,)","v":""},null,{"$f":"IF(B165=\"\",\"\",IF(D165>0,'Step 2. Basic Info'!$E$29*'Step 3. Lease Payments'!D165,0))","v":""},null,"",""]
[null,{"$f":"IF(C165<'Step 2. Basic Info'!$E$12,B165+1,\"\")","v":""},{"$f":"VLOOKUP(B166,'Output OP Lease Amort'!A:B,2,)","v":""},null,{"$f":"IF(B166=\"\",\"\",IF(D166>0,'Step 2. Basic Info'!$E$29*'Step 3. Lease Payments'!D166,0))","v":""},null,"",""]
[null,{"$f":"IF(C166<'Step 2. Basic Info'!$E$12,B166+1,\"\")","v":""},{"$f":"VLOOKUP(B167,'Output OP Lease Amort'!A:B,2,)","v":""},null,{"$f":"IF(B167=\"\",\"\",IF(D167>0,'Step 2. Basic Info'!$E$29*'Step 3. Lease Payments'!D167,0))","v":""},null,"",""]
[null,{"$f":"IF(C167<'Step 2. Basic Info'!$E$12,B167+1,\"\")","v":""},{"$f":"VLOOKUP(B168,'Output OP Lease Amort'!A:B,2,)","v":""},null,{"$f":"IF(B168=\"\",\"\",IF(D168>0,'Step 2. Basic Info'!$E$29*'Step 3. Lease Payments'!D168,0))","v":""},null,"",""]
[null,{"$f":"IF(C168<'Step 2. Basic Info'!$E$12,B168+1,\"\")","v":""},{"$f":"VLOOKUP(B169,'Output OP Lease Amort'!A:B,2,)","v":""},null,{"$f":"IF(B169=\"\",\"\",IF(D169>0,'Step 2. Basic Info'!$E$29*'Step 3. Lease Payments'!D169,0))","v":""},null,"",""]
[null,{"$f":"IF(C169<'Step 2. Basic Info'!$E$12,B169+1,\"\")","v":""},{"$f":"VLOOKUP(B170,'Output OP Lease Amort'!A:B,2,)","v":""},null,{"$f":"IF(B170=\"\",\"\",IF(D170>0,'Step 2. Basic Info'!$E$29*'Step 3. Lease Payments'!D170,0))","v":""},null,"",""]
[null,{"$f":"IF(C170<'Step 2. Basic Info'!$E$12,B170+1,\"\")","v":""},{"$f":"VLOOKUP(B171,'Output OP Lease Amort'!A:B,2,)","v":""},null,{"$f":"IF(B171=\"\",\"\",IF(D171>0,'Step 2. Basic Info'!$E$29*'Step 3. Lease Payments'!D171,0))","v":""},null,"",""]
[null,{"$f":"IF(C171<'Step 2. Basic Info'!$E$12,B171+1,\"\")","v":""},{"$f":"VLOOKUP(B172,'Output OP Lease Amort'!A:B,2,)","v":""},null,{"$f":"IF(B172=\"\",\"\",IF(D172>0,'Step 2. Basic Info'!$E$29*'Step 3. Lease Payments'!D172,0))","v":""},null,"",""]
[null,{"$f":"IF(C172<'Step 2. Basic Info'!$E$12,B172+1,\"\")","v":""},{"$f":"VLOOKUP(B173,'Output OP Lease Amort'!A:B,2,)","v":""},null,{"$f":"IF(B173=\"\",\"\",IF(D173>0,'Step 2. Basic Info'!$E$29*'Step 3. Lease Payments'!D173,0))","v":""},null,"",""]
[null,{"$f":"IF(C173<'Step 2. Basic Info'!$E$12,B173+1,\"\")","v":""},{"$f":"VLOOKUP(B174,'Output OP Lease Amort'!A:B,2,)","v":""},null,{"$f":"IF(B174=\"\",\"\",IF(D174>0,'Step 2. Basic Info'!$E$29*'Step 3. Lease Payments'!D174,0))","v":""},null,"",""]
[null,{"$f":"IF(C174<'Step 2. Basic Info'!$E$12,B174+1,\"\")","v":""},{"$f":"VLOOKUP(B175,'Output OP Lease Amort'!A:B,2,)","v":""},null,{"$f":"IF(B175=\"\",\"\",IF(D175>0,'Step 2. Basic Info'!$E$29*'Step 3. Lease Payments'!D175,0))","v":""},null,"",""]
[null,{"$f":"IF(C175<'Step 2. Basic Info'!$E$12,B175+1,\"\")","v":""},{"$f":"VLOOKUP(B176,'Output OP Lease Amort'!A:B,2,)","v":""},null,{"$f":"IF(B176=\"\",\"\",IF(D176>0,'Step 2. Basic Info'!$E$29*'Step 3. Lease Payments'!D176,0))","v":""},null,"",""]
[null,{"$f":"IF(C176<'Step 2. Basic Info'!$E$12,B176+1,\"\")","v":""},{"$f":"VLOOKUP(B177,'Output OP Lease Amort'!A:B,2,)","v":""},null,{"$f":"IF(B177=\"\",\"\",IF(D177>0,'Step 2. Basic Info'!$E$29*'Step 3. Lease Payments'!D177,0))","v":""},null,"",""]
[null,{"$f":"IF(C177<'Step 2. Basic Info'!$E$12,B177+1,\"\")","v":""},{"$f":"VLOOKUP(B178,'Output OP Lease Amort'!A:B,2,)","v":""},null,{"$f":"IF(B178=\"\",\"\",IF(D178>0,'Step 2. Basic Info'!$E$29*'Step 3. Lease Payments'!D178,0))","v":""},null,"",""]
[null,{"$f":"IF(C178<'Step 2. Basic Info'!$E$12,B178+1,\"\")","v":""},{"$f":"VLOOKUP(B179,'Output OP Lease Amort'!A:B,2,)","v":""},null,{"$f":"IF(B179=\"\",\"\",IF(D179>0,'Step 2. Basic Info'!$E$29*'Step 3. Lease Payments'!D179,0))","v":""},null,"",""]
[null,{"$f":"IF(C179<'Step 2. Basic Info'!$E$12,B179+1,\"\")","v":""},{"$f":"VLOOKUP(B180,'Output OP Lease Amort'!A:B,2,)","v":""},null,{"$f":"IF(B180=\"\",\"\",IF(D180>0,'Step 2. Basic Info'!$E$29*'Step 3. Lease Payments'!D180,0))","v":""},null,"",""]
[null,{"$f":"IF(C180<'Step 2. Basic Info'!$E$12,B180+1,\"\")","v":""},{"$f":"VLOOKUP(B181,'Output OP Lease Amort'!A:B,2,)","v":""},null,{"$f":"IF(B181=\"\",\"\",IF(D181>0,'Step 2. Basic Info'!$E$29*'Step 3. Lease Payments'!D181,0))","v":""},null,"",""]
[null,{"$f":"IF(C181<'Step 2. Basic Info'!$E$12,B181+1,\"\")","v":""},{"$f":"VLOOKUP(B182,'Output OP Lease Amort'!A:B,2,)","v":""},null,{"$f":"IF(B182=\"\",\"\",IF(D182>0,'Step 2. Basic Info'!$E$29*'Step 3. Lease Payments'!D182,0))","v":""},null,"",""]
[null,{"$f":"IF(C182<'Step 2. Basic Info'!$E$12,B182+1,\"\")","v":""},{"$f":"VLOOKUP(B183,'Output OP Lease Amort'!A:B,2,)","v":""},null,{"$f":"IF(B183=\"\",\"\",IF(D183>0,'Step 2. Basic Info'!$E$29*'Step 3. Lease Payments'!D183,0))","v":""},null,"",""]
[null,{"$f":"IF(C183<'Step 2. Basic Info'!$E$12,B183+1,\"\")","v":""},{"$f":"VLOOKUP(B184,'Output OP Lease Amort'!A:B,2,)","v":""},null,{"$f":"IF(B184=\"\",\"\",IF(D184>0,'Step 2. Basic Info'!$E$29*'Step 3. Lease Payments'!D184,0))","v":""},null,"",""]
[null,{"$f":"IF(C184<'Step 2. Basic Info'!$E$12,B184+1,\"\")","v":""},{"$f":"VLOOKUP(B185,'Output OP Lease Amort'!A:B,2,)","v":""},null,{"$f":"IF(B185=\"\",\"\",IF(D185>0,'Step 2. Basic Info'!$E$29*'Step 3. Lease Payments'!D185,0))","v":""},null,"",""]
[null,{"$f":"IF(C185<'Step 2. Basic Info'!$E$12,B185+1,\"\")","v":""},{"$f":"VLOOKUP(B186,'Output OP Lease Amort'!A:B,2,)","v":""},null,{"$f":"IF(B186=\"\",\"\",IF(D186>0,'Step 2. Basic Info'!$E$29*'Step 3. Lease Payments'!D186,0))","v":""},null,"",""]
[null,{"$f":"IF(C186<'Step 2. Basic Info'!$E$12,B186+1,\"\")","v":""},{"$f":"VLOOKUP(B187,'Output OP Lease Amort'!A:B,2,)","v":""},null,{"$f":"IF(B187=\"\",\"\",IF(D187>0,'Step 2. Basic Info'!$E$29*'Step 3. Lease Payments'!D187,0))","v":""},null,"",""]
[null,{"$f":"IF(C187<'Step 2. Basic Info'!$E$12,B187+1,\"\")","v":""},{"$f":"VLOOKUP(B188,'Output OP Lease Amort'!A:B,2,)","v":""},null,{"$f":"IF(B188=\"\",\"\",IF(D188>0,'Step 2. Basic Info'!$E$29*'Step 3. Lease Payments'!D188,0))","v":""},null,"",""]
[null,{"$f":"IF(C188<'Step 2. Basic Info'!$E$12,B188+1,\"\")","v":""},{"$f":"VLOOKUP(B189,'Output OP Lease Amort'!A:B,2,)","v":""},null,{"$f":"IF(B189=\"\",\"\",IF(D189>0,'Step 2. Basic Info'!$E$29*'Step 3. Lease Payments'!D189,0))","v":""},null,"",""]
[null,{"$f":"IF(C189<'Step 2. Basic Info'!$E$12,B189+1,\"\")","v":""},{"$f":"VLOOKUP(B190,'Output OP Lease Amort'!A:B,2,)","v":""},null,{"$f":"IF(B190=\"\",\"\",IF(D190>0,'Step 2. Basic Info'!$E$29*'Step 3. Lease Payments'!D190,0))","v":""},null,"",""]
[null,{"$f":"IF(C190<'Step 2. Basic Info'!$E$12,B190+1,\"\")","v":""},{"$f":"VLOOKUP(B191,'Output OP Lease Amort'!A:B,2,)","v":""},null,{"$f":"IF(B191=\"\",\"\",IF(D191>0,'Step 2. Basic Info'!$E$29*'Step 3. Lease Payments'!D191,0))","v":""},null,"",""]
[null,{"$f":"IF(C191<'Step 2. Basic Info'!$E$12,B191+1,\"\")","v":""},{"$f":"VLOOKUP(B192,'Output OP Lease Amort'!A:B,2,)","v":""},null,{"$f":"IF(B192=\"\",\"\",IF(D192>0,'Step 2. Basic Info'!$E$29*'Step 3. Lease Payments'!D192,0))","v":""},null,"",""]
[null,{"$f":"IF(C192<'Step 2. Basic Info'!$E$12,B192+1,\"\")","v":""},{"$f":"VLOOKUP(B193,'Output OP Lease Amort'!A:B,2,)","v":""},null,{"$f":"IF(B193=\"\",\"\",IF(D193>0,'Step 2. Basic Info'!$E$29*'Step 3. Lease Payments'!D193,0))","v":""},null,"",""]
[null,{"$f":"IF(C193<'Step 2. Basic Info'!$E$12,B193+1,\"\")","v":""},{"$f":"VLOOKUP(B194,'Output OP Lease Amort'!A:B,2,)","v":""},null,{"$f":"IF(B194=\"\",\"\",IF(D194>0,'Step 2. Basic Info'!$E$29*'Step 3. Lease Payments'!D194,0))","v":""},null,"",""]
[null,{"$f":"IF(C194<'Step 2. Basic Info'!$E$12,B194+1,\"\")","v":""},{"$f":"VLOOKUP(B195,'Output OP Lease Amort'!A:B,2,)","v":""},null,{"$f":"IF(B195=\"\",\"\",IF(D195>0,'Step 2. Basic Info'!$E$29*'Step 3. Lease Payments'!D195,0))","v":""},null,"",""]
[null,{"$f":"IF(C195<'Step 2. Basic Info'!$E$12,B195+1,\"\")","v":""},{"$f":"VLOOKUP(B196,'Output OP Lease Amort'!A:B,2,)","v":""},null,{"$f":"IF(B196=\"\",\"\",IF(D196>0,'Step 2. Basic Info'!$E$29*'Step 3. Lease Payments'!D196,0))","v":""},null,"",""]
[null,{"$f":"IF(C196<'Step 2. Basic Info'!$E$12,B196+1,\"\")","v":""},{"$f":"VLOOKUP(B197,'Output OP Lease Amort'!A:B,2,)","v":""},null,{"$f":"IF(B197=\"\",\"\",IF(D197>0,'Step 2. Basic Info'!$E$29*'Step 3. Lease Payments'!D197,0))","v":""},null,"",""]
[null,{"$f":"IF(C197<'Step 2. Basic Info'!$E$12,B197+1,\"\")","v":""},{"$f":"VLOOKUP(B198,'Output OP Lease Amort'!A:B,2,)","v":""},null,{"$f":"IF(B198=\"\",\"\",IF(D198>0,'Step 2. Basic Info'!$E$29*'Step 3. Lease Payments'!D198,0))","v":""},null,"",""]
[null,{"$f":"IF(C198<'Step 2. Basic Info'!$E$12,B198+1,\"\")","v":""},{"$f":"VLOOKUP(B199,'Output OP Lease Amort'!A:B,2,)","v":""},null,{"$f":"IF(B199=\"\",\"\",IF(D199>0,'Step 2. Basic Info'!$E$29*'Step 3. Lease Payments'!D199,0))","v":""},null,"",""]
[null,{"$f":"IF(C199<'Step 2. Basic Info'!$E$12,B199+1,\"\")","v":""},{"$f":"VLOOKUP(B200,'Output OP Lease Amort'!A:B,2,)","v":""},null,{"$f":"IF(B200=\"\",\"\",IF(D200>0,'Step 2. Basic Info'!$E$29*'Step 3. Lease Payments'!D200,0))","v":""},null,"",""]
[null,{"$f":"IF(C200<'Step 2. Basic Info'!$E$12,B200+1,\"\")","v":""},{"$f":"VLOOKUP(B201,'Output OP Lease Amort'!A:B,2,)","v":""},null,{"$f":"IF(B201=\"\",\"\",IF(D201>0,'Step 2. Basic Info'!$E$29*'Step 3. Lease Payments'!D201,0))","v":""},null,"",""]
[null,{"$f":"IF(C201<'Step 2. Basic Info'!$E$12,B201+1,\"\")","v":""},{"$f":"VLOOKUP(B202,'Output OP Lease Amort'!A:B,2,)","v":""},null,{"$f":"IF(B202=\"\",\"\",IF(D202>0,'Step 2. Basic Info'!$E$29*'Step 3. Lease Payments'!D202,0))","v":""},null,"",""]
[null,{"$f":"IF(C202<'Step 2. Basic Info'!$E$12,B202+1,\"\")","v":""},{"$f":"VLOOKUP(B203,'Output OP Lease Amort'!A:B,2,)","v":""},null,{"$f":"IF(B203=\"\",\"\",IF(D203>0,'Step 2. Basic Info'!$E$29*'Step 3. Lease Payments'!D203,0))","v":""},null,{"$f":"IF(B203=\"\",\"\",IFERROR(E203+F203,0))","v":""},{"$f":"IF(G203 = \"\",\"\",-PV($G$8,B203,,G203,))","v":""}]
[null,{"$f":"IF(C203<'Step 2. Basic Info'!$E$12,B203+1,\"\")","v":""},{"$f":"VLOOKUP(B204,'Output OP Lease Amort'!A:B,2,)","v":""},null,{"$f":"IF(B204=\"\",\"\",IF(D204>0,'Step 2. Basic Info'!$E$29*'Step 3. Lease Payments'!D204,0))","v":""},null,"",""]
[null,{"$f":"IF(C204<'Step 2. Basic Info'!$E$12,B204+1,\"\")","v":""},{"$f":"VLOOKUP(B205,'Output OP Lease Amort'!A:B,2,)","v":""},null,{"$f":"IF(B205=\"\",\"\",IF(D205>0,'Step 2. Basic Info'!$E$29*'Step 3. Lease Payments'!D205,0))","v":""},null,"",""]
[null,{"$f":"IF(C205<'Step 2. Basic Info'!$E$12,B205+1,\"\")","v":""},{"$f":"VLOOKUP(B206,'Output OP Lease Amort'!A:B,2,)","v":""},null,{"$f":"IF(B206=\"\",\"\",IF(D206>0,'Step 2. Basic Info'!$E$29*'Step 3. Lease Payments'!D206,0))","v":""},null,"",""]
[null,{"$f":"IF(C206<'Step 2. Basic Info'!$E$12,B206+1,\"\")","v":""},{"$f":"VLOOKUP(B207,'Output OP Lease Amort'!A:B,2,)","v":""},null,{"$f":"IF(B207=\"\",\"\",IF(D207>0,'Step 2. Basic Info'!$E$29*'Step 3. Lease Payments'!D207,0))","v":""},null,"",""]
[null,{"$f":"IF(C207<'Step 2. Basic Info'!$E$12,B207+1,\"\")","v":""},{"$f":"VLOOKUP(B208,'Output OP Lease Amort'!A:B,2,)","v":""},null,{"$f":"IF(B208=\"\",\"\",IF(D208>0,'Step 2. Basic Info'!$E$29*'Step 3. Lease Payments'!D208,0))","v":""},null,"",""]
[null,{"$f":"IF(C208<'Step 2. Basic Info'!$E$12,B208+1,\"\")","v":""},{"$f":"VLOOKUP(B209,'Output OP Lease Amort'!A:B,2,)","v":""},null,{"$f":"IF(B209=\"\",\"\",IF(D209>0,'Step 2. Basic Info'!$E$29*'Step 3. Lease Payments'!D209,0))","v":""},null,"",""]
[null,{"$f":"IF(C209<'Step 2. Basic Info'!$E$12,B209+1,\"\")","v":""},{"$f":"VLOOKUP(B210,'Output OP Lease Amort'!A:B,2,)","v":""},null,{"$f":"IF(B210=\"\",\"\",IF(D210>0,'Step 2. Basic Info'!$E$29*'Step 3. Lease Payments'!D210,0))","v":""},null,"",""]
[null,{"$f":"IF(C210<'Step 2. Basic Info'!$E$12,B210+1,\"\")","v":""},{"$f":"VLOOKUP(B211,'Output OP Lease Amort'!A:B,2,)","v":""},null,{"$f":"IF(B211=\"\",\"\",IF(D211>0,'Step 2. Basic Info'!$E$29*'Step 3. Lease Payments'!D211,0))","v":""},null,"",""]
[null,{"$f":"IF(C211<'Step 2. Basic Info'!$E$12,B211+1,\"\")","v":""},{"$f":"VLOOKUP(B212,'Output OP Lease Amort'!A:B,2,)","v":""},null,{"$f":"IF(B212=\"\",\"\",IF(D212>0,'Step 2. Basic Info'!$E$29*'Step 3. Lease Payments'!D212,0))","v":""},null,"",""]
[null,{"$f":"IF(C212<'Step 2. Basic Info'!$E$12,B212+1,\"\")","v":""},{"$f":"VLOOKUP(B213,'Output OP Lease Amort'!A:B,2,)","v":""},null,{"$f":"IF(B213=\"\",\"\",IF(D213>0,'Step 2. Basic Info'!$E$29*'Step 3. Lease Payments'!D213,0))","v":""},null,"",""]
[null,{"$f":"IF(C213<'Step 2. Basic Info'!$E$12,B213+1,\"\")","v":""},{"$f":"VLOOKUP(B214,'Output OP Lease Amort'!A:B,2,)","v":""},null,{"$f":"IF(B214=\"\",\"\",IF(D214>0,'Step 2. Basic Info'!$E$29*'Step 3. Lease Payments'!D214,0))","v":""},null,"",""]
[null,{"$f":"IF(C214<'Step 2. Basic Info'!$E$12,B214+1,\"\")","v":""},{"$f":"VLOOKUP(B215,'Output OP Lease Amort'!A:B,2,)","v":""},null,{"$f":"IF(B215=\"\",\"\",IF(D215>0,'Step 2. Basic Info'!$E$29*'Step 3. Lease Payments'!D215,0))","v":""},null,"",""]
[null,{"$f":"IF(C215<'Step 2. Basic Info'!$E$12,B215+1,\"\")","v":""},{"$f":"VLOOKUP(B216,'Output OP Lease Amort'!A:B,2,)","v":""},null,{"$f":"IF(B216=\"\",\"\",IF(D216>0,'Step 2. Basic Info'!$E$29*'Step 3. Lease Payments'!D216,0))","v":""},null,"",""]
[null,{"$f":"IF(C216<'Step 2. Basic Info'!$E$12,B216+1,\"\")","v":""},{"$f":"VLOOKUP(B217,'Output OP Lease Amort'!A:B,2,)","v":""},null,{"$f":"IF(B217=\"\",\"\",IF(D217>0,'Step 2. Basic Info'!$E$29*'Step 3. Lease Payments'!D217,0))","v":""},null,"",""]
[null,{"$f":"IF(C217<'Step 2. Basic Info'!$E$12,B217+1,\"\")","v":""},{"$f":"VLOOKUP(B218,'Output OP Lease Amort'!A:B,2,)","v":""},null,{"$f":"IF(B218=\"\",\"\",IF(D218>0,'Step 2. Basic Info'!$E$29*'Step 3. Lease Payments'!D218,0))","v":""},null,"",""]
[null,{"$f":"IF(C218<'Step 2. Basic Info'!$E$12,B218+1,\"\")","v":""},{"$f":"VLOOKUP(B219,'Output OP Lease Amort'!A:B,2,)","v":""},null,{"$f":"IF(B219=\"\",\"\",IF(D219>0,'Step 2. Basic Info'!$E$29*'Step 3. Lease Payments'!D219,0))","v":""},null,"",""]
[null,{"$f":"IF(C219<'Step 2. Basic Info'!$E$12,B219+1,\"\")","v":""},{"$f":"VLOOKUP(B220,'Output OP Lease Amort'!A:B,2,)","v":""},null,{"$f":"IF(B220=\"\",\"\",IF(D220>0,'Step 2. Basic Info'!$E$29*'Step 3. Lease Payments'!D220,0))","v":""},null,"",""]
[null,{"$f":"IF(C220<'Step 2. Basic Info'!$E$12,B220+1,\"\")","v":""},{"$f":"VLOOKUP(B221,'Output OP Lease Amort'!A:B,2,)","v":""},null,{"$f":"IF(B221=\"\",\"\",IF(D221>0,'Step 2. Basic Info'!$E$29*'Step 3. Lease Payments'!D221,0))","v":""},null,"",""]
[null,{"$f":"IF(C221<'Step 2. Basic Info'!$E$12,B221+1,\"\")","v":""},{"$f":"VLOOKUP(B222,'Output OP Lease Amort'!A:B,2,)","v":""},null,{"$f":"IF(B222=\"\",\"\",IF(D222>0,'Step 2. Basic Info'!$E$29*'Step 3. Lease Payments'!D222,0))","v":""},null,"",""]
[null,{"$f":"IF(C222<'Step 2. Basic Info'!$E$12,B222+1,\"\")","v":""},{"$f":"VLOOKUP(B223,'Output OP Lease Amort'!A:B,2,)","v":""},null,{"$f":"IF(B223=\"\",\"\",IF(D223>0,'Step 2. Basic Info'!$E$29*'Step 3. Lease Payments'!D223,0))","v":""},null,"",""]
[null,{"$f":"IF(C223<'Step 2. Basic Info'!$E$12,B223+1,\"\")","v":""},{"$f":"VLOOKUP(B224,'Output OP Lease Amort'!A:B,2,)","v":""},null,{"$f":"IF(B224=\"\",\"\",IF(D224>0,'Step 2. Basic Info'!$E$29*'Step 3. Lease Payments'!D224,0))","v":""},null,"",""]
[null,{"$f":"IF(C224<'Step 2. Basic Info'!$E$12,B224+1,\"\")","v":""},{"$f":"VLOOKUP(B225,'Output OP Lease Amort'!A:B,2,)","v":""},null,{"$f":"IF(B225=\"\",\"\",IF(D225>0,'Step 2. Basic Info'!$E$29*'Step 3. Lease Payments'!D225,0))","v":""},null,"",""]
[null,{"$f":"IF(C225<'Step 2. Basic Info'!$E$12,B225+1,\"\")","v":""},{"$f":"VLOOKUP(B226,'Output OP Lease Amort'!A:B,2,)","v":""},null,{"$f":"IF(B226=\"\",\"\",IF(D226>0,'Step 2. Basic Info'!$E$29*'Step 3. Lease Payments'!D226,0))","v":""},null,"",""]
[null,{"$f":"IF(C226<'Step 2. Basic Info'!$E$12,B226+1,\"\")","v":""},{"$f":"VLOOKUP(B227,'Output OP Lease Amort'!A:B,2,)","v":""},null,{"$f":"IF(B227=\"\",\"\",IF(D227>0,'Step 2. Basic Info'!$E$29*'Step 3. Lease Payments'!D227,0))","v":""},null,"",""]
[null,{"$f":"IF(C227<'Step 2. Basic Info'!$E$12,B227+1,\"\")","v":""},{"$f":"VLOOKUP(B228,'Output OP Lease Amort'!A:B,2,)","v":""},null,{"$f":"IF(B228=\"\",\"\",IF(D228>0,'Step 2. Basic Info'!$E$29*'Step 3. Lease Payments'!D228,0))","v":""},null,"",""]
[null,{"$f":"IF(C228<'Step 2. Basic Info'!$E$12,B228+1,\"\")","v":""},{"$f":"VLOOKUP(B229,'Output OP Lease Amort'!A:B,2,)","v":""},null,{"$f":"IF(B229=\"\",\"\",IF(D229>0,'Step 2. Basic Info'!$E$29*'Step 3. Lease Payments'!D229,0))","v":""},null,"",""]
[null,{"$f":"IF(C229<'Step 2. Basic Info'!$E$12,B229+1,\"\")","v":""},{"$f":"VLOOKUP(B230,'Output OP Lease Amort'!A:B,2,)","v":""},null,{"$f":"IF(B230=\"\",\"\",IF(D230>0,'Step 2. Basic Info'!$E$29*'Step 3. Lease Payments'!D230,0))","v":""},null,"",""]
[null,{"$f":"IF(C230<'Step 2. Basic Info'!$E$12,B230+1,\"\")","v":""},{"$f":"VLOOKUP(B231,'Output OP Lease Amort'!A:B,2,)","v":""},null,{"$f":"IF(B231=\"\",\"\",IF(D231>0,'Step 2. Basic Info'!$E$29*'Step 3. Lease Payments'!D231,0))","v":""},null,"",""]
[null,{"$f":"IF(C231<'Step 2. Basic Info'!$E$12,B231+1,\"\")","v":""},{"$f":"VLOOKUP(B232,'Output OP Lease Amort'!A:B,2,)","v":""},null,{"$f":"IF(B232=\"\",\"\",IF(D232>0,'Step 2. Basic Info'!$E$29*'Step 3. Lease Payments'!D232,0))","v":""},null,"",""]
[null,{"$f":"IF(C232<'Step 2. Basic Info'!$E$12,B232+1,\"\")","v":""},{"$f":"VLOOKUP(B233,'Output OP Lease Amort'!A:B,2,)","v":""},null,{"$f":"IF(B233=\"\",\"\",IF(D233>0,'Step 2. Basic Info'!$E$29*'Step 3. Lease Payments'!D233,0))","v":""},null,"",""]
[null,{"$f":"IF(C233<'Step 2. Basic Info'!$E$12,B233+1,\"\")","v":""},{"$f":"VLOOKUP(B234,'Output OP Lease Amort'!A:B,2,)","v":""},null,{"$f":"IF(B234=\"\",\"\",IF(D234>0,'Step 2. Basic Info'!$E$29*'Step 3. Lease Payments'!D234,0))","v":""},null,"",""]
[null,{"$f":"IF(C234<'Step 2. Basic Info'!$E$12,B234+1,\"\")","v":""},{"$f":"VLOOKUP(B235,'Output OP Lease Amort'!A:B,2,)","v":""},null,{"$f":"IF(B235=\"\",\"\",IF(D235>0,'Step 2. Basic Info'!$E$29*'Step 3. Lease Payments'!D235,0))","v":""},null,"",""]
[null,{"$f":"IF(C235<'Step 2. Basic Info'!$E$12,B235+1,\"\")","v":""},{"$f":"VLOOKUP(B236,'Output OP Lease Amort'!A:B,2,)","v":""},null,{"$f":"IF(B236=\"\",\"\",IF(D236>0,'Step 2. Basic Info'!$E$29*'Step 3. Lease Payments'!D236,0))","v":""},null,"",""]
[null,{"$f":"IF(C236<'Step 2. Basic Info'!$E$12,B236+1,\"\")","v":""},{"$f":"VLOOKUP(B237,'Output OP Lease Amort'!A:B,2,)","v":""},null,{"$f":"IF(B237=\"\",\"\",IF(D237>0,'Step 2. Basic Info'!$E$29*'Step 3. Lease Payments'!D237,0))","v":""},null,"",""]
[null,{"$f":"IF(C237<'Step 2. Basic Info'!$E$12,B237+1,\"\")","v":""},{"$f":"VLOOKUP(B238,'Output OP Lease Amort'!A:B,2,)","v":""},null,{"$f":"IF(B238=\"\",\"\",IF(D238>0,'Step 2. Basic Info'!$E$29*'Step 3. Lease Payments'!D238,0))","v":""},null,"",""]
[null,{"$f":"IF(C238<'Step 2. Basic Info'!$E$12,B238+1,\"\")","v":""},{"$f":"VLOOKUP(B239,'Output OP Lease Amort'!A:B,2,)","v":""},null,{"$f":"IF(B239=\"\",\"\",IF(D239>0,'Step 2. Basic Info'!$E$29*'Step 3. Lease Payments'!D239,0))","v":""},null,"",""]
[null,{"$f":"IF(C239<'Step 2. Basic Info'!$E$12,B239+1,\"\")","v":""},{"$f":"VLOOKUP(B240,'Output OP Lease Amort'!A:B,2,)","v":""},null,{"$f":"IF(B240=\"\",\"\",IF(D240>0,'Step 2. Basic Info'!$E$29*'Step 3. Lease Payments'!D240,0))","v":""},null,"",""]
[null,{"$f":"IF(C240<'Step 2. Basic Info'!$E$12,B240+1,\"\")","v":""},{"$f":"VLOOKUP(B241,'Output OP Lease Amort'!A:B,2,)","v":""},null,{"$f":"IF(B241=\"\",\"\",IF(D241>0,'Step 2. Basic Info'!$E$29*'Step 3. Lease Payments'!D241,0))","v":""},null,"",""]
[null,{"$f":"IF(C241<'Step 2. Basic Info'!$E$12,B241+1,\"\")","v":""},{"$f":"VLOOKUP(B242,'Output OP Lease Amort'!A:B,2,)","v":""},null,{"$f":"IF(B242=\"\",\"\",IF(D242>0,'Step 2. Basic Info'!$E$29*'Step 3. Lease Payments'!D242,0))","v":""},null,"",""]
[null,{"$f":"IF(C242<'Step 2. Basic Info'!$E$12,B242+1,\"\")","v":""},{"$f":"VLOOKUP(B243,'Output OP Lease Amort'!A:B,2,)","v":""},null,{"$f":"IF(B243=\"\",\"\",IF(D243>0,'Step 2. Basic Info'!$E$29*'Step 3. Lease Payments'!D243,0))","v":""},null,"",""]
[null,{"$f":"IF(C243<'Step 2. Basic Info'!$E$12,B243+1,\"\")","v":""},{"$f":"VLOOKUP(B244,'Output OP Lease Amort'!A:B,2,)","v":""},null,{"$f":"IF(B244=\"\",\"\",IF(D244>0,'Step 2. Basic Info'!$E$29*'Step 3. Lease Payments'!D244,0))","v":""},null,"",""]
[null,{"$f":"IF(C244<'Step 2. Basic Info'!$E$12,B244+1,\"\")","v":""},{"$f":"VLOOKUP(B245,'Output OP Lease Amort'!A:B,2,)","v":""},null,{"$f":"IF(B245=\"\",\"\",IF(D245>0,'Step 2. Basic Info'!$E$29*'Step 3. Lease Payments'!D245,0))","v":""},null,"",""]
[null,{"$f":"IF(C245<'Step 2. Basic Info'!$E$12,B245+1,\"\")","v":""},{"$f":"VLOOKUP(B246,'Output OP Lease Amort'!A:B,2,)","v":""},null,{"$f":"IF(B246=\"\",\"\",IF(D246>0,'Step 2. Basic Info'!$E$29*'Step 3. Lease Payments'!D246,0))","v":""},null,"",""]
[null,{"$f":"IF(C246<'Step 2. Basic Info'!$E$12,B246+1,\"\")","v":""},{"$f":"VLOOKUP(B247,'Output OP Lease Amort'!A:B,2,)","v":""},null,{"$f":"IF(B247=\"\",\"\",IF(D247>0,'Step 2. Basic Info'!$E$29*'Step 3. Lease Payments'!D247,0))","v":""},null,"",""]
[null,{"$f":"IF(C247<'Step 2. Basic Info'!$E$12,B247+1,\"\")","v":""},{"$f":"VLOOKUP(B248,'Output OP Lease Amort'!A:B,2,)","v":""},null,{"$f":"IF(B248=\"\",\"\",IF(D248>0,'Step 2. Basic Info'!$E$29*'Step 3. Lease Payments'!D248,0))","v":""},null,"",""]
[null,{"$f":"IF(C248<'Step 2. Basic Info'!$E$12,B248+1,\"\")","v":""},{"$f":"VLOOKUP(B249,'Output OP Lease Amort'!A:B,2,)","v":""},null,{"$f":"IF(B249=\"\",\"\",IF(D249>0,'Step 2. Basic Info'!$E$29*'Step 3. Lease Payments'!D249,0))","v":""},null,"",""]
[null,{"$f":"IF(C249<'Step 2. Basic Info'!$E$12,B249+1,\"\")","v":""},{"$f":"VLOOKUP(B250,'Output OP Lease Amort'!A:B,2,)","v":""},null,{"$f":"IF(B250=\"\",\"\",IF(D250>0,'Step 2. Basic Info'!$E$29*'Step 3. Lease Payments'!D250,0))","v":""},null,"",""]
[null,{"$f":"IF(C250<'Step 2. Basic Info'!$E$12,B250+1,\"\")","v":""},{"$f":"VLOOKUP(B251,'Output OP Lease Amort'!A:B,2,)","v":""},null,{"$f":"IF(B251=\"\",\"\",IF(D251>0,'Step 2. Basic Info'!$E$29*'Step 3. Lease Payments'!D251,0))","v":""},null,"",""]
[null,{"$f":"IF(C251<'Step 2. Basic Info'!$E$12,B251+1,\"\")","v":""},{"$f":"VLOOKUP(B252,'Output OP Lease Amort'!A:B,2,)","v":""},null,{"$f":"IF(B252=\"\",\"\",IF(D252>0,'Step 2. Basic Info'!$E$29*'Step 3. Lease Payments'!D252,0))","v":""},null,"",""]
[null,{"$f":"IF(C252<'Step 2. Basic Info'!$E$12,B252+1,\"\")","v":""},{"$f":"VLOOKUP(B253,'Output OP Lease Amort'!A:B,2,)","v":""},null,{"$f":"IF(B253=\"\",\"\",IF(D253>0,'Step 2. Basic Info'!$E$29*'Step 3. Lease Payments'!D253,0))","v":""},null,"",""]
[null,{"$f":"IF(C253<'Step 2. Basic Info'!$E$12,B253+1,\"\")","v":""},{"$f":"VLOOKUP(B254,'Output OP Lease Amort'!A:B,2,)","v":""},null,{"$f":"IF(B254=\"\",\"\",IF(D254>0,'Step 2. Basic Info'!$E$29*'Step 3. Lease Payments'!D254,0))","v":""},null,"",""]
[null,{"$f":"IF(C254<'Step 2. Basic Info'!$E$12,B254+1,\"\")","v":""},{"$f":"VLOOKUP(B255,'Output OP Lease Amort'!A:B,2,)","v":""},null,{"$f":"IF(B255=\"\",\"\",IF(D255>0,'Step 2. Basic Info'!$E$29*'Step 3. Lease Payments'!D255,0))","v":""},null,"",""]
[null,{"$f":"IF(C255<'Step 2. Basic Info'!$E$12,B255+1,\"\")","v":""},{"$f":"VLOOKUP(B256,'Output OP Lease Amort'!A:B,2,)","v":""},null,{"$f":"IF(B256=\"\",\"\",IF(D256>0,'Step 2. Basic Info'!$E$29*'Step 3. Lease Payments'!D256,0))","v":""},null,"",""]
[null,{"$f":"IF(C256<'Step 2. Basic Info'!$E$12,B256+1,\"\")","v":""},{"$f":"VLOOKUP(B257,'Output OP Lease Amort'!A:B,2,)","v":""},null,{"$f":"IF(B257=\"\",\"\",IF(D257>0,'Step 2. Basic Info'!$E$29*'Step 3. Lease Payments'!D257,0))","v":""},null,"",""]
[null,{"$f":"IF(C257<'Step 2. Basic Info'!$E$12,B257+1,\"\")","v":""},{"$f":"VLOOKUP(B258,'Output OP Lease Amort'!A:B,2,)","v":""},null,{"$f":"IF(B258=\"\",\"\",IF(D258>0,'Step 2. Basic Info'!$E$29*'Step 3. Lease Payments'!D258,0))","v":""},null,"",""]
[null,{"$f":"IF(C258<'Step 2. Basic Info'!$E$12,B258+1,\"\")","v":""},{"$f":"VLOOKUP(B259,'Output OP Lease Amort'!A:B,2,)","v":""},null,{"$f":"IF(B259=\"\",\"\",IF(D259>0,'Step 2. Basic Info'!$E$29*'Step 3. Lease Payments'!D259,0))","v":""},null,"",""]
[null,{"$f":"IF(C259<'Step 2. Basic Info'!$E$12,B259+1,\"\")","v":""},{"$f":"VLOOKUP(B260,'Output OP Lease Amort'!A:B,2,)","v":""},null,{"$f":"IF(B260=\"\",\"\",IF(D260>0,'Step 2. Basic Info'!$E$29*'Step 3. Lease Payments'!D260,0))","v":""},null,"",""]
[null,{"$f":"IF(C260<'Step 2. Basic Info'!$E$12,B260+1,\"\")","v":""},{"$f":"VLOOKUP(B261,'Output OP Lease Amort'!A:B,2,)","v":""},null,{"$f":"IF(B261=\"\",\"\",IF(D261>0,'Step 2. Basic Info'!$E$29*'Step 3. Lease Payments'!D261,0))","v":""},null,"",""]
[null,{"$f":"IF(C261<'Step 2. Basic Info'!$E$12,B261+1,\"\")","v":""},{"$f":"VLOOKUP(B262,'Output OP Lease Amort'!A:B,2,)","v":""},null,{"$f":"IF(B262=\"\",\"\",IF(D262>0,'Step 2. Basic Info'!$E$29*'Step 3. Lease Payments'!D262,0))","v":""},null,"",""]
[null,{"$f":"IF(C262<'Step 2. Basic Info'!$E$12,B262+1,\"\")","v":""},{"$f":"VLOOKUP(B263,'Output OP Lease Amort'!A:B,2,)","v":""},null,{"$f":"IF(B263=\"\",\"\",IF(D263>0,'Step 2. Basic Info'!$E$29*'Step 3. Lease Payments'!D263,0))","v":""},null,"",""]
[null,{"$f":"IF(C263<'Step 2. Basic Info'!$E$12,B263+1,\"\")","v":""},{"$f":"VLOOKUP(B264,'Output OP Lease Amort'!A:B,2,)","v":""},null,{"$f":"IF(B264=\"\",\"\",IF(D264>0,'Step 2. Basic Info'!$E$29*'Step 3. Lease Payments'!D264,0))","v":""},null,"",""]
[null,{"$f":"IF(C264<'Step 2. Basic Info'!$E$12,B264+1,\"\")","v":""},{"$f":"VLOOKUP(B265,'Output OP Lease Amort'!A:B,2,)","v":""},null,{"$f":"IF(B265=\"\",\"\",IF(D265>0,'Step 2. Basic Info'!$E$29*'Step 3. Lease Payments'!D265,0))","v":""},null,"",""]
[null,{"$f":"IF(C265<'Step 2. Basic Info'!$E$12,B265+1,\"\")","v":""},{"$f":"VLOOKUP(B266,'Output OP Lease Amort'!A:B,2,)","v":""},null,{"$f":"IF(B266=\"\",\"\",IF(D266>0,'Step 2. Basic Info'!$E$29*'Step 3. Lease Payments'!D266,0))","v":""},null,"",""]
[null,{"$f":"IF(C266<'Step 2. Basic Info'!$E$12,B266+1,\"\")","v":""},{"$f":"VLOOKUP(B267,'Output OP Lease Amort'!A:B,2,)","v":""},null,{"$f":"IF(B267=\"\",\"\",IF(D267>0,'Step 2. Basic Info'!$E$29*'Step 3. Lease Payments'!D267,0))","v":""},null,{"$f":"IF(B267=\"\",\"\",IFERROR(E267+F267,0))","v":""},{"$f":"IF(G267 = \"\",\"\",-PV($G$8,B267,,G267,))","v":""}]
[null,{"$f":"IF(C267<'Step 2. Basic Info'!$E$12,B267+1,\"\")","v":""},{"$f":"VLOOKUP(B268,'Output OP Lease Amort'!A:B,2,)","v":""},null,{"$f":"IF(B268=\"\",\"\",IF(D268>0,'Step 2. Basic Info'!$E$29*'Step 3. Lease Payments'!D268,0))","v":""},null,"",""]
[null,{"$f":"IF(C268<'Step 2. Basic Info'!$E$12,B268+1,\"\")","v":""},{"$f":"VLOOKUP(B269,'Output OP Lease Amort'!A:B,2,)","v":""},null,{"$f":"IF(B269=\"\",\"\",IF(D269>0,'Step 2. Basic Info'!$E$29*'Step 3. Lease Payments'!D269,0))","v":""},null,"",""]
[null,{"$f":"IF(C269<'Step 2. Basic Info'!$E$12,B269+1,\"\")","v":""},{"$f":"VLOOKUP(B270,'Output OP Lease Amort'!A:B,2,)","v":""},null,{"$f":"IF(B270=\"\",\"\",IF(D270>0,'Step 2. Basic Info'!$E$29*'Step 3. Lease Payments'!D270,0))","v":""},null,"",""]
[null,{"$f":"IF(C270<'Step 2. Basic Info'!$E$12,B270+1,\"\")","v":""},{"$f":"VLOOKUP(B271,'Output OP Lease Amort'!A:B,2,)","v":""},null,{"$f":"IF(B271=\"\",\"\",IF(D271>0,'Step 2. Basic Info'!$E$29*'Step 3. Lease Payments'!D271,0))","v":""},null,"",""]
[null,{"$f":"IF(C271<'Step 2. Basic Info'!$E$12,B271+1,\"\")","v":""},{"$f":"VLOOKUP(B272,'Output OP Lease Amort'!A:B,2,)","v":""},null,{"$f":"IF(B272=\"\",\"\",IF(D272>0,'Step 2. Basic Info'!$E$29*'Step 3. Lease Payments'!D272,0))","v":""},null,"",""]
[null,{"$f":"IF(C272<'Step 2. Basic Info'!$E$12,B272+1,\"\")","v":""},{"$f":"VLOOKUP(B273,'Output OP Lease Amort'!A:B,2,)","v":""},null,{"$f":"IF(B273=\"\",\"\",IF(D273>0,'Step 2. Basic Info'!$E$29*'Step 3. Lease Payments'!D273,0))","v":""},null,"",""]
[null,{"$f":"IF(C273<'Step 2. Basic Info'!$E$12,B273+1,\"\")","v":""},{"$f":"VLOOKUP(B274,'Output OP Lease Amort'!A:B,2,)","v":""},null,{"$f":"IF(B274=\"\",\"\",IF(D274>0,'Step 2. Basic Info'!$E$29*'Step 3. Lease Payments'!D274,0))","v":""},null,"",""]
[null,{"$f":"IF(C274<'Step 2. Basic Info'!$E$12,B274+1,\"\")","v":""},{"$f":"VLOOKUP(B275,'Output OP Lease Amort'!A:B,2,)","v":""},null,{"$f":"IF(B275=\"\",\"\",IF(D275>0,'Step 2. Basic Info'!$E$29*'Step 3. Lease Payments'!D275,0))","v":""},null,"",""]
[null,{"$f":"IF(C275<'Step 2. Basic Info'!$E$12,B275+1,\"\")","v":""},{"$f":"VLOOKUP(B276,'Output OP Lease Amort'!A:B,2,)","v":""},null,{"$f":"IF(B276=\"\",\"\",IF(D276>0,'Step 2. Basic Info'!$E$29*'Step 3. Lease Payments'!D276,0))","v":""},null,"",""]
[null,{"$f":"IF(C276<'Step 2. Basic Info'!$E$12,B276+1,\"\")","v":""},{"$f":"VLOOKUP(B277,'Output OP Lease Amort'!A:B,2,)","v":""},null,{"$f":"IF(B277=\"\",\"\",IF(D277>0,'Step 2. Basic Info'!$E$29*'Step 3. Lease Payments'!D277,0))","v":""},null,"",""]
[null,{"$f":"IF(C277<'Step 2. Basic Info'!$E$12,B277+1,\"\")","v":""},{"$f":"VLOOKUP(B278,'Output OP Lease Amort'!A:B,2,)","v":""},null,{"$f":"IF(B278=\"\",\"\",IF(D278>0,'Step 2. Basic Info'!$E$29*'Step 3. Lease Payments'!D278,0))","v":""},null,"",""]
[null,{"$f":"IF(C278<'Step 2. Basic Info'!$E$12,B278+1,\"\")","v":""},{"$f":"VLOOKUP(B279,'Output OP Lease Amort'!A:B,2,)","v":""},null,{"$f":"IF(B279=\"\",\"\",IF(D279>0,'Step 2. Basic Info'!$E$29*'Step 3. Lease Payments'!D279,0))","v":""},null,"",""]
[null,{"$f":"IF(C279<'Step 2. Basic Info'!$E$12,B279+1,\"\")","v":""},{"$f":"VLOOKUP(B280,'Output OP Lease Amort'!A:B,2,)","v":""},null,{"$f":"IF(B280=\"\",\"\",IF(D280>0,'Step 2. Basic Info'!$E$29*'Step 3. Lease Payments'!D280,0))","v":""},null,"",""]
[null,{"$f":"IF(C280<'Step 2. Basic Info'!$E$12,B280+1,\"\")","v":""},{"$f":"VLOOKUP(B281,'Output OP Lease Amort'!A:B,2,)","v":""},null,{"$f":"IF(B281=\"\",\"\",IF(D281>0,'Step 2. Basic Info'!$E$29*'Step 3. Lease Payments'!D281,0))","v":""},null,"",""]
[null,{"$f":"IF(C281<'Step 2. Basic Info'!$E$12,B281+1,\"\")","v":""},{"$f":"VLOOKUP(B282,'Output OP Lease Amort'!A:B,2,)","v":""},null,{"$f":"IF(B282=\"\",\"\",IF(D282>0,'Step 2. Basic Info'!$E$29*'Step 3. Lease Payments'!D282,0))","v":""},null,"",""]
[null,{"$f":"IF(C282<'Step 2. Basic Info'!$E$12,B282+1,\"\")","v":""},{"$f":"VLOOKUP(B283,'Output OP Lease Amort'!A:B,2,)","v":""},null,{"$f":"IF(B283=\"\",\"\",IF(D283>0,'Step 2. Basic Info'!$E$29*'Step 3. Lease Payments'!D283,0))","v":""},null,"",""]
[null,{"$f":"IF(C283<'Step 2. Basic Info'!$E$12,B283+1,\"\")","v":""},{"$f":"VLOOKUP(B284,'Output OP Lease Amort'!A:B,2,)","v":""},null,{"$f":"IF(B284=\"\",\"\",IF(D284>0,'Step 2. Basic Info'!$E$29*'Step 3. Lease Payments'!D284,0))","v":""},null,"",""]
[null,{"$f":"IF(C284<'Step 2. Basic Info'!$E$12,B284+1,\"\")","v":""},{"$f":"VLOOKUP(B285,'Output OP Lease Amort'!A:B,2,)","v":""},null,{"$f":"IF(B285=\"\",\"\",IF(D285>0,'Step 2. Basic Info'!$E$29*'Step 3. Lease Payments'!D285,0))","v":""},null,"",""]
[null,{"$f":"IF(C285<'Step 2. Basic Info'!$E$12,B285+1,\"\")","v":""},{"$f":"VLOOKUP(B286,'Output OP Lease Amort'!A:B,2,)","v":""},null,{"$f":"IF(B286=\"\",\"\",IF(D286>0,'Step 2. Basic Info'!$E$29*'Step 3. Lease Payments'!D286,0))","v":""},null,"",""]
[null,{"$f":"IF(C286<'Step 2. Basic Info'!$E$12,B286+1,\"\")","v":""},{"$f":"VLOOKUP(B287,'Output OP Lease Amort'!A:B,2,)","v":""},null,{"$f":"IF(B287=\"\",\"\",IF(D287>0,'Step 2. Basic Info'!$E$29*'Step 3. Lease Payments'!D287,0))","v":""},null,"",""]
[null,{"$f":"IF(C287<'Step 2. Basic Info'!$E$12,B287+1,\"\")","v":""},{"$f":"VLOOKUP(B288,'Output OP Lease Amort'!A:B,2,)","v":""},null,{"$f":"IF(B288=\"\",\"\",IF(D288>0,'Step 2. Basic Info'!$E$29*'Step 3. Lease Payments'!D288,0))","v":""},null,"",""]
[null,{"$f":"IF(C288<'Step 2. Basic Info'!$E$12,B288+1,\"\")","v":""},{"$f":"VLOOKUP(B289,'Output OP Lease Amort'!A:B,2,)","v":""},null,{"$f":"IF(B289=\"\",\"\",IF(D289>0,'Step 2. Basic Info'!$E$29*'Step 3. Lease Payments'!D289,0))","v":""},null,"",""]
[null,{"$f":"IF(C289<'Step 2. Basic Info'!$E$12,B289+1,\"\")","v":""},{"$f":"VLOOKUP(B290,'Output OP Lease Amort'!A:B,2,)","v":""},null,{"$f":"IF(B290=\"\",\"\",IF(D290>0,'Step 2. Basic Info'!$E$29*'Step 3. Lease Payments'!D290,0))","v":""},null,"",""]
[null,{"$f":"IF(C290<'Step 2. Basic Info'!$E$12,B290+1,\"\")","v":""},{"$f":"VLOOKUP(B291,'Output OP Lease Amort'!A:B,2,)","v":""},null,{"$f":"IF(B291=\"\",\"\",IF(D291>0,'Step 2. Basic Info'!$E$29*'Step 3. Lease Payments'!D291,0))","v":""},null,"",""]
[null,{"$f":"IF(C291<'Step 2. Basic Info'!$E$12,B291+1,\"\")","v":""},{"$f":"VLOOKUP(B292,'Output OP Lease Amort'!A:B,2,)","v":""},null,{"$f":"IF(B292=\"\",\"\",IF(D292>0,'Step 2. Basic Info'!$E$29*'Step 3. Lease Payments'!D292,0))","v":""},null,"",""]
[null,{"$f":"IF(C292<'Step 2. Basic Info'!$E$12,B292+1,\"\")","v":""},{"$f":"VLOOKUP(B293,'Output OP Lease Amort'!A:B,2,)","v":""},null,{"$f":"IF(B293=\"\",\"\",IF(D293>0,'Step 2. Basic Info'!$E$29*'Step 3. Lease Payments'!D293,0))","v":""},null,"",""]
[null,{"$f":"IF(C293<'Step 2. Basic Info'!$E$12,B293+1,\"\")","v":""},{"$f":"VLOOKUP(B294,'Output OP Lease Amort'!A:B,2,)","v":""},null,{"$f":"IF(B294=\"\",\"\",IF(D294>0,'Step 2. Basic Info'!$E$29*'Step 3. Lease Payments'!D294,0))","v":""},null,"",""]
[null,{"$f":"IF(C294<'Step 2. Basic Info'!$E$12,B294+1,\"\")","v":""},{"$f":"VLOOKUP(B295,'Output OP Lease Amort'!A:B,2,)","v":""},null,{"$f":"IF(B295=\"\",\"\",IF(D295>0,'Step 2. Basic Info'!$E$29*'Step 3. Lease Payments'!D295,0))","v":""},null,"",""]
[null,{"$f":"IF(C295<'Step 2. Basic Info'!$E$12,B295+1,\"\")","v":""},{"$f":"VLOOKUP(B296,'Output OP Lease Amort'!A:B,2,)","v":""},null,{"$f":"IF(B296=\"\",\"\",IF(D296>0,'Step 2. Basic Info'!$E$29*'Step 3. Lease Payments'!D296,0))","v":""},null,"",""]
[null,{"$f":"IF(C296<'Step 2. Basic Info'!$E$12,B296+1,\"\")","v":""},{"$f":"VLOOKUP(B297,'Output OP Lease Amort'!A:B,2,)","v":""},null,{"$f":"IF(B297=\"\",\"\",IF(D297>0,'Step 2. Basic Info'!$E$29*'Step 3. Lease Payments'!D297,0))","v":""},null,"",""]
[null,{"$f":"IF(C297<'Step 2. Basic Info'!$E$12,B297+1,\"\")","v":""},{"$f":"VLOOKUP(B298,'Output OP Lease Amort'!A:B,2,)","v":""},null,{"$f":"IF(B298=\"\",\"\",IF(D298>0,'Step 2. Basic Info'!$E$29*'Step 3. Lease Payments'!D298,0))","v":""},null,"",""]
[null,{"$f":"IF(C298<'Step 2. Basic Info'!$E$12,B298+1,\"\")","v":""},{"$f":"VLOOKUP(B299,'Output OP Lease Amort'!A:B,2,)","v":""},null,{"$f":"IF(B299=\"\",\"\",IF(D299>0,'Step 2. Basic Info'!$E$29*'Step 3. Lease Payments'!D299,0))","v":""},null,"",""]
[null,{"$f":"IF(C299<'Step 2. Basic Info'!$E$12,B299+1,\"\")","v":""},{"$f":"VLOOKUP(B300,'Output OP Lease Amort'!A:B,2,)","v":""},null,{"$f":"IF(B300=\"\",\"\",IF(D300>0,'Step 2. Basic Info'!$E$29*'Step 3. Lease Payments'!D300,0))","v":""},null,"",""]
[null,{"$f":"IF(C300<'Step 2. Basic Info'!$E$12,B300+1,\"\")","v":""},{"$f":"VLOOKUP(B301,'Output OP Lease Amort'!A:B,2,)","v":""},null,{"$f":"IF(B301=\"\",\"\",IF(D301>0,'Step 2. Basic Info'!$E$29*'Step 3. Lease Payments'!D301,0))","v":""},null,"",""]
[null,{"$f":"IF(C301<'Step 2. Basic Info'!$E$12,B301+1,\"\")","v":""},{"$f":"VLOOKUP(B302,'Output OP Lease Amort'!A:B,2,)","v":""},null,{"$f":"IF(B302=\"\",\"\",IF(D302>0,'Step 2. Basic Info'!$E$29*'Step 3. Lease Payments'!D302,0))","v":""},null,"",""]
[null,{"$f":"IF(C302<'Step 2. Basic Info'!$E$12,B302+1,\"\")","v":""},{"$f":"VLOOKUP(B303,'Output OP Lease Amort'!A:B,2,)","v":""},null,{"$f":"IF(B303=\"\",\"\",IF(D303>0,'Step 2. Basic Info'!$E$29*'Step 3. Lease Payments'!D303,0))","v":""},null,"",""]
[null,{"$f":"IF(C303<'Step 2. Basic Info'!$E$12,B303+1,\"\")","v":""},{"$f":"VLOOKUP(B304,'Output OP Lease Amort'!A:B,2,)","v":""},null,{"$f":"IF(B304=\"\",\"\",IF(D304>0,'Step 2. Basic Info'!$E$29*'Step 3. Lease Payments'!D304,0))","v":""},null,"",""]
[null,{"$f":"IF(C304<'Step 2. Basic Info'!$E$12,B304+1,\"\")","v":""},{"$f":"VLOOKUP(B305,'Output OP Lease Amort'!A:B,2,)","v":""},null,{"$f":"IF(B305=\"\",\"\",IF(D305>0,'Step 2. Basic Info'!$E$29*'Step 3. Lease Payments'!D305,0))","v":""},null,"",""]
[null,{"$f":"IF(C305<'Step 2. Basic Info'!$E$12,B305+1,\"\")","v":""},{"$f":"VLOOKUP(B306,'Output OP Lease Amort'!A:B,2,)","v":""},null,{"$f":"IF(B306=\"\",\"\",IF(D306>0,'Step 2. Basic Info'!$E$29*'Step 3. Lease Payments'!D306,0))","v":""},null,"",""]
[null,{"$f":"IF(C306<'Step 2. Basic Info'!$E$12,B306+1,\"\")","v":""},{"$f":"VLOOKUP(B307,'Output OP Lease Amort'!A:B,2,)","v":""},null,{"$f":"IF(B307=\"\",\"\",IF(D307>0,'Step 2. Basic Info'!$E$29*'Step 3. Lease Payments'!D307,0))","v":""},null,"",""]
[null,{"$f":"IF(C307<'Step 2. Basic Info'!$E$12,B307+1,\"\")","v":""},{"$f":"VLOOKUP(B308,'Output OP Lease Amort'!A:B,2,)","v":""},null,{"$f":"IF(B308=\"\",\"\",IF(D308>0,'Step 2. Basic Info'!$E$29*'Step 3. Lease Payments'!D308,0))","v":""},null,"",""]
[null,{"$f":"IF(C308<'Step 2. Basic Info'!$E$12,B308+1,\"\")","v":""},{"$f":"VLOOKUP(B309,'Output OP Lease Amort'!A:B,2,)","v":""},null,{"$f":"IF(B309=\"\",\"\",IF(D309>0,'Step 2. Basic Info'!$E$29*'Step 3. Lease Payments'!D309,0))","v":""},null,"",""]
[null,{"$f":"IF(C309<'Step 2. Basic Info'!$E$12,B309+1,\"\")","v":""},{"$f":"VLOOKUP(B310,'Output OP Lease Amort'!A:B,2,)","v":""},null,{"$f":"IF(B310=\"\",\"\",IF(D310>0,'Step 2. Basic Info'!$E$29*'Step 3. Lease Payments'!D310,0))","v":""},null,"",""]
[null,{"$f":"IF(C310<'Step 2. Basic Info'!$E$12,B310+1,\"\")","v":""},{"$f":"VLOOKUP(B311,'Output OP Lease Amort'!A:B,2,)","v":""},null,{"$f":"IF(B311=\"\",\"\",IF(D311>0,'Step 2. Basic Info'!$E$29*'Step 3. Lease Payments'!D311,0))","v":""},null,"",""]
[null,{"$f":"IF(C311<'Step 2. Basic Info'!$E$12,B311+1,\"\")","v":""},{"$f":"VLOOKUP(B312,'Output OP Lease Amort'!A:B,2,)","v":""},null,{"$f":"IF(B312=\"\",\"\",IF(D312>0,'Step 2. Basic Info'!$E$29*'Step 3. Lease Payments'!D312,0))","v":""},null,"",""]
[null,{"$f":"IF(C312<'Step 2. Basic Info'!$E$12,B312+1,\"\")","v":""},{"$f":"VLOOKUP(B313,'Output OP Lease Amort'!A:B,2,)","v":""},null,{"$f":"IF(B313=\"\",\"\",IF(D313>0,'Step 2. Basic Info'!$E$29*'Step 3. Lease Payments'!D313,0))","v":""},null,"",""]
[null,{"$f":"IF(C313<'Step 2. Basic Info'!$E$12,B313+1,\"\")","v":""},{"$f":"VLOOKUP(B314,'Output OP Lease Amort'!A:B,2,)","v":""},null,{"$f":"IF(B314=\"\",\"\",IF(D314>0,'Step 2. Basic Info'!$E$29*'Step 3. Lease Payments'!D314,0))","v":""},null,"",""]
[null,{"$f":"IF(C314<'Step 2. Basic Info'!$E$12,B314+1,\"\")","v":""},{"$f":"VLOOKUP(B315,'Output OP Lease Amort'!A:B,2,)","v":""},null,{"$f":"IF(B315=\"\",\"\",IF(D315>0,'Step 2. Basic Info'!$E$29*'Step 3. Lease Payments'!D315,0))","v":""},null,"",""]
[null,{"$f":"IF(C315<'Step 2. Basic Info'!$E$12,B315+1,\"\")","v":""},{"$f":"VLOOKUP(B316,'Output OP Lease Amort'!A:B,2,)","v":""},null,{"$f":"IF(B316=\"\",\"\",IF(D316>0,'Step 2. Basic Info'!$E$29*'Step 3. Lease Payments'!D316,0))","v":""},null,"",""]
[null,{"$f":"IF(C316<'Step 2. Basic Info'!$E$12,B316+1,\"\")","v":""},{"$f":"VLOOKUP(B317,'Output OP Lease Amort'!A:B,2,)","v":""},null,{"$f":"IF(B317=\"\",\"\",IF(D317>0,'Step 2. Basic Info'!$E$29*'Step 3. Lease Payments'!D317,0))","v":""},null,"",""]
[null,{"$f":"IF(C317<'Step 2. Basic Info'!$E$12,B317+1,\"\")","v":""},{"$f":"VLOOKUP(B318,'Output OP Lease Amort'!A:B,2,)","v":""},null,{"$f":"IF(B318=\"\",\"\",IF(D318>0,'Step 2. Basic Info'!$E$29*'Step 3. Lease Payments'!D318,0))","v":""},null,"",""]
[null,{"$f":"IF(C318<'Step 2. Basic Info'!$E$12,B318+1,\"\")","v":""},{"$f":"VLOOKUP(B319,'Output OP Lease Amort'!A:B,2,)","v":""},null,{"$f":"IF(B319=\"\",\"\",IF(D319>0,'Step 2. Basic Info'!$E$29*'Step 3. Lease Payments'!D319,0))","v":""},null,"",""]
[null,{"$f":"IF(C319<'Step 2. Basic Info'!$E$12,B319+1,\"\")","v":""},{"$f":"VLOOKUP(B320,'Output OP Lease Amort'!A:B,2,)","v":""},null,{"$f":"IF(B320=\"\",\"\",IF(D320>0,'Step 2. Basic Info'!$E$29*'Step 3. Lease Payments'!D320,0))","v":""},null,"",""]
[null,{"$f":"IF(C320<'Step 2. Basic Info'!$E$12,B320+1,\"\")","v":""},{"$f":"VLOOKUP(B321,'Output OP Lease Amort'!A:B,2,)","v":""},null,{"$f":"IF(B321=\"\",\"\",IF(D321>0,'Step 2. Basic Info'!$E$29*'Step 3. Lease Payments'!D321,0))","v":""},null,"",""]
[null,{"$f":"IF(C321<'Step 2. Basic Info'!$E$12,B321+1,\"\")","v":""},{"$f":"VLOOKUP(B322,'Output OP Lease Amort'!A:B,2,)","v":""},null,{"$f":"IF(B322=\"\",\"\",IF(D322>0,'Step 2. Basic Info'!$E$29*'Step 3. Lease Payments'!D322,0))","v":""},null,"",""]
[null,{"$f":"IF(C322<'Step 2. Basic Info'!$E$12,B322+1,\"\")","v":""},{"$f":"VLOOKUP(B323,'Output OP Lease Amort'!A:B,2,)","v":""},null,{"$f":"IF(B323=\"\",\"\",IF(D323>0,'Step 2. Basic Info'!$E$29*'Step 3. Lease Payments'!D323,0))","v":""},null,"",""]
[null,{"$f":"IF(C323<'Step 2. Basic Info'!$E$12,B323+1,\"\")","v":""},{"$f":"VLOOKUP(B324,'Output OP Lease Amort'!A:B,2,)","v":""},null,{"$f":"IF(B324=\"\",\"\",IF(D324>0,'Step 2. Basic Info'!$E$29*'Step 3. Lease Payments'!D324,0))","v":""},null,"",""]
[null,{"$f":"IF(C324<'Step 2. Basic Info'!$E$12,B324+1,\"\")","v":""},{"$f":"VLOOKUP(B325,'Output OP Lease Amort'!A:B,2,)","v":""},null,{"$f":"IF(B325=\"\",\"\",IF(D325>0,'Step 2. Basic Info'!$E$29*'Step 3. Lease Payments'!D325,0))","v":""},null,"",""]
[null,{"$f":"IF(C325<'Step 2. Basic Info'!$E$12,B325+1,\"\")","v":""},{"$f":"VLOOKUP(B326,'Output OP Lease Amort'!A:B,2,)","v":""},null,{"$f":"IF(B326=\"\",\"\",IF(D326>0,'Step 2. Basic Info'!$E$29*'Step 3. Lease Payments'!D326,0))","v":""},null,"",""]
[null,{"$f":"IF(C326<'Step 2. Basic Info'!$E$12,B326+1,\"\")","v":""},{"$f":"VLOOKUP(B327,'Output OP Lease Amort'!A:B,2,)","v":""},null,{"$f":"IF(B327=\"\",\"\",IF(D327>0,'Step 2. Basic Info'!$E$29*'Step 3. Lease Payments'!D327,0))","v":""},null,"",""]
[null,{"$f":"IF(C327<'Step 2. Basic Info'!$E$12,B327+1,\"\")","v":""},{"$f":"VLOOKUP(B328,'Output OP Lease Amort'!A:B,2,)","v":""},null,{"$f":"IF(B328=\"\",\"\",IF(D328>0,'Step 2. Basic Info'!$E$29*'Step 3. Lease Payments'!D328,0))","v":""},null,"",""]
[null,{"$f":"IF(C328<'Step 2. Basic Info'!$E$12,B328+1,\"\")","v":""},{"$f":"VLOOKUP(B329,'Output OP Lease Amort'!A:B,2,)","v":""},null,{"$f":"IF(B329=\"\",\"\",IF(D329>0,'Step 2. Basic Info'!$E$29*'Step 3. Lease Payments'!D329,0))","v":""},null,"",""]
[null,{"$f":"IF(C329<'Step 2. Basic Info'!$E$12,B329+1,\"\")","v":""},{"$f":"VLOOKUP(B330,'Output OP Lease Amort'!A:B,2,)","v":""},null,{"$f":"IF(B330=\"\",\"\",IF(D330>0,'Step 2. Basic Info'!$E$29*'Step 3. Lease Payments'!D330,0))","v":""},null,"",""]
[null,{"$f":"IF(C330<'Step 2. Basic Info'!$E$12,B330+1,\"\")","v":""},{"$f":"VLOOKUP(B331,'Output OP Lease Amort'!A:B,2,)","v":""},null,{"$f":"IF(B331=\"\",\"\",IF(D331>0,'Step 2. Basic Info'!$E$29*'Step 3. Lease Payments'!D331,0))","v":""},null,{"$f":"IF(B331=\"\",\"\",IFERROR(E331+F331,0))","v":""},{"$f":"IF(G331 = \"\",\"\",-PV($G$8,B331,,G331,))","v":""}]
[null,{"$f":"IF(C331<'Step 2. Basic Info'!$E$12,B331+1,\"\")","v":""},{"$f":"VLOOKUP(B332,'Output OP Lease Amort'!A:B,2,)","v":""},null,{"$f":"IF(B332=\"\",\"\",IF(D332>0,'Step 2. Basic Info'!$E$29*'Step 3. Lease Payments'!D332,0))","v":""},null,"",""]
[null,{"$f":"IF(C332<'Step 2. Basic Info'!$E$12,B332+1,\"\")","v":""},{"$f":"VLOOKUP(B333,'Output OP Lease Amort'!A:B,2,)","v":""},null,{"$f":"IF(B333=\"\",\"\",IF(D333>0,'Step 2. Basic Info'!$E$29*'Step 3. Lease Payments'!D333,0))","v":""},null,"",""]
[null,{"$f":"IF(C333<'Step 2. Basic Info'!$E$12,B333+1,\"\")","v":""},{"$f":"VLOOKUP(B334,'Output OP Lease Amort'!A:B,2,)","v":""},null,{"$f":"IF(B334=\"\",\"\",IF(D334>0,'Step 2. Basic Info'!$E$29*'Step 3. Lease Payments'!D334,0))","v":""},null,"",""]
[null,{"$f":"IF(C334<'Step 2. Basic Info'!$E$12,B334+1,\"\")","v":""},{"$f":"VLOOKUP(B335,'Output OP Lease Amort'!A:B,2,)","v":""},null,{"$f":"IF(B335=\"\",\"\",IF(D335>0,'Step 2. Basic Info'!$E$29*'Step 3. Lease Payments'!D335,0))","v":""},null,"",""]
[null,{"$f":"IF(C335<'Step 2. Basic Info'!$E$12,B335+1,\"\")","v":""},{"$f":"VLOOKUP(B336,'Output OP Lease Amort'!A:B,2,)","v":""},null,{"$f":"IF(B336=\"\",\"\",IF(D336>0,'Step 2. Basic Info'!$E$29*'Step 3. Lease Payments'!D336,0))","v":""},null,"",""]
[null,{"$f":"IF(C336<'Step 2. Basic Info'!$E$12,B336+1,\"\")","v":""},{"$f":"VLOOKUP(B337,'Output OP Lease Amort'!A:B,2,)","v":""},null,{"$f":"IF(B337=\"\",\"\",IF(D337>0,'Step 2. Basic Info'!$E$29*'Step 3. Lease Payments'!D337,0))","v":""},null,"",""]
[null,{"$f":"IF(C337<'Step 2. Basic Info'!$E$12,B337+1,\"\")","v":""},{"$f":"VLOOKUP(B338,'Output OP Lease Amort'!A:B,2,)","v":""},null,{"$f":"IF(B338=\"\",\"\",IF(D338>0,'Step 2. Basic Info'!$E$29*'Step 3. Lease Payments'!D338,0))","v":""},null,"",""]
[null,{"$f":"IF(C338<'Step 2. Basic Info'!$E$12,B338+1,\"\")","v":""},{"$f":"VLOOKUP(B339,'Output OP Lease Amort'!A:B,2,)","v":""},null,{"$f":"IF(B339=\"\",\"\",IF(D339>0,'Step 2. Basic Info'!$E$29*'Step 3. Lease Payments'!D339,0))","v":""},null,"",""]
[null,{"$f":"IF(C339<'Step 2. Basic Info'!$E$12,B339+1,\"\")","v":""},{"$f":"VLOOKUP(B340,'Output OP Lease Amort'!A:B,2,)","v":""},null,{"$f":"IF(B340=\"\",\"\",IF(D340>0,'Step 2. Basic Info'!$E$29*'Step 3. Lease Payments'!D340,0))","v":""},null,"",""]
[null,{"$f":"IF(C340<'Step 2. Basic Info'!$E$12,B340+1,\"\")","v":""},{"$f":"VLOOKUP(B341,'Output OP Lease Amort'!A:B,2,)","v":""},null,{"$f":"IF(B341=\"\",\"\",IF(D341>0,'Step 2. Basic Info'!$E$29*'Step 3. Lease Payments'!D341,0))","v":""},null,"",""]
[null,{"$f":"IF(C341<'Step 2. Basic Info'!$E$12,B341+1,\"\")","v":""},{"$f":"VLOOKUP(B342,'Output OP Lease Amort'!A:B,2,)","v":""},null,{"$f":"IF(B342=\"\",\"\",IF(D342>0,'Step 2. Basic Info'!$E$29*'Step 3. Lease Payments'!D342,0))","v":""},null,"",""]
[null,{"$f":"IF(C342<'Step 2. Basic Info'!$E$12,B342+1,\"\")","v":""},{"$f":"VLOOKUP(B343,'Output OP Lease Amort'!A:B,2,)","v":""},null,{"$f":"IF(B343=\"\",\"\",IF(D343>0,'Step 2. Basic Info'!$E$29*'Step 3. Lease Payments'!D343,0))","v":""},null,"",""]
[null,{"$f":"IF(C343<'Step 2. Basic Info'!$E$12,B343+1,\"\")","v":""},{"$f":"VLOOKUP(B344,'Output OP Lease Amort'!A:B,2,)","v":""},null,{"$f":"IF(B344=\"\",\"\",IF(D344>0,'Step 2. Basic Info'!$E$29*'Step 3. Lease Payments'!D344,0))","v":""},null,"",""]
[null,{"$f":"IF(C344<'Step 2. Basic Info'!$E$12,B344+1,\"\")","v":""},{"$f":"VLOOKUP(B345,'Output OP Lease Amort'!A:B,2,)","v":""},null,{"$f":"IF(B345=\"\",\"\",IF(D345>0,'Step 2. Basic Info'!$E$29*'Step 3. Lease Payments'!D345,0))","v":""},null,"",""]
[null,{"$f":"IF(C345<'Step 2. Basic Info'!$E$12,B345+1,\"\")","v":""},{"$f":"VLOOKUP(B346,'Output OP Lease Amort'!A:B,2,)","v":""},null,{"$f":"IF(B346=\"\",\"\",IF(D346>0,'Step 2. Basic Info'!$E$29*'Step 3. Lease Payments'!D346,0))","v":""},null,"",""]
[null,{"$f":"IF(C346<'Step 2. Basic Info'!$E$12,B346+1,\"\")","v":""},{"$f":"VLOOKUP(B347,'Output OP Lease Amort'!A:B,2,)","v":""},null,{"$f":"IF(B347=\"\",\"\",IF(D347>0,'Step 2. Basic Info'!$E$29*'Step 3. Lease Payments'!D347,0))","v":""},null,"",""]
[null,{"$f":"IF(C347<'Step 2. Basic Info'!$E$12,B347+1,\"\")","v":""},{"$f":"VLOOKUP(B348,'Output OP Lease Amort'!A:B,2,)","v":""},null,{"$f":"IF(B348=\"\",\"\",IF(D348>0,'Step 2. Basic Info'!$E$29*'Step 3. Lease Payments'!D348,0))","v":""},null,"",""]
[null,{"$f":"IF(C348<'Step 2. Basic Info'!$E$12,B348+1,\"\")","v":""},{"$f":"VLOOKUP(B349,'Output OP Lease Amort'!A:B,2,)","v":""},null,{"$f":"IF(B349=\"\",\"\",IF(D349>0,'Step 2. Basic Info'!$E$29*'Step 3. Lease Payments'!D349,0))","v":""},null,"",""]
[null,{"$f":"IF(C349<'Step 2. Basic Info'!$E$12,B349+1,\"\")","v":""},{"$f":"VLOOKUP(B350,'Output OP Lease Amort'!A:B,2,)","v":""},null,{"$f":"IF(B350=\"\",\"\",IF(D350>0,'Step 2. Basic Info'!$E$29*'Step 3. Lease Payments'!D350,0))","v":""},null,"",""]
[null,{"$f":"IF(C350<'Step 2. Basic Info'!$E$12,B350+1,\"\")","v":""},{"$f":"VLOOKUP(B351,'Output OP Lease Amort'!A:B,2,)","v":""},null,{"$f":"IF(B351=\"\",\"\",IF(D351>0,'Step 2. Basic Info'!$E$29*'Step 3. Lease Payments'!D351,0))","v":""},null,"",""]
[null,{"$f":"IF(C351<'Step 2. Basic Info'!$E$12,B351+1,\"\")","v":""},{"$f":"VLOOKUP(B352,'Output OP Lease Amort'!A:B,2,)","v":""},null,{"$f":"IF(B352=\"\",\"\",IF(D352>0,'Step 2. Basic Info'!$E$29*'Step 3. Lease Payments'!D352,0))","v":""},null,"",""]
[null,{"$f":"IF(C352<'Step 2. Basic Info'!$E$12,B352+1,\"\")","v":""},{"$f":"VLOOKUP(B353,'Output OP Lease Amort'!A:B,2,)","v":""},null,{"$f":"IF(B353=\"\",\"\",IF(D353>0,'Step 2. Basic Info'!$E$29*'Step 3. Lease Payments'!D353,0))","v":""},null,"",""]
[null,{"$f":"IF(C353<'Step 2. Basic Info'!$E$12,B353+1,\"\")","v":""},{"$f":"VLOOKUP(B354,'Output OP Lease Amort'!A:B,2,)","v":""},null,{"$f":"IF(B354=\"\",\"\",IF(D354>0,'Step 2. Basic Info'!$E$29*'Step 3. Lease Payments'!D354,0))","v":""},null,"",""]
[null,{"$f":"IF(C354<'Step 2. Basic Info'!$E$12,B354+1,\"\")","v":""},{"$f":"VLOOKUP(B355,'Output OP Lease Amort'!A:B,2,)","v":""},null,{"$f":"IF(B355=\"\",\"\",IF(D355>0,'Step 2. Basic Info'!$E$29*'Step 3. Lease Payments'!D355,0))","v":""},null,"",""]
[null,{"$f":"IF(C355<'Step 2. Basic Info'!$E$12,B355+1,\"\")","v":""},{"$f":"VLOOKUP(B356,'Output OP Lease Amort'!A:B,2,)","v":""},null,{"$f":"IF(B356=\"\",\"\",IF(D356>0,'Step 2. Basic Info'!$E$29*'Step 3. Lease Payments'!D356,0))","v":""},null,"",""]
[null,{"$f":"IF(C356<'Step 2. Basic Info'!$E$12,B356+1,\"\")","v":""},{"$f":"VLOOKUP(B357,'Output OP Lease Amort'!A:B,2,)","v":""},null,{"$f":"IF(B357=\"\",\"\",IF(D357>0,'Step 2. Basic Info'!$E$29*'Step 3. Lease Payments'!D357,0))","v":""},null,"",""]
[null,{"$f":"IF(C357<'Step 2. Basic Info'!$E$12,B357+1,\"\")","v":""},{"$f":"VLOOKUP(B358,'Output OP Lease Amort'!A:B,2,)","v":""},null,{"$f":"IF(B358=\"\",\"\",IF(D358>0,'Step 2. Basic Info'!$E$29*'Step 3. Lease Payments'!D358,0))","v":""},null,"",""]
[null,{"$f":"IF(C358<'Step 2. Basic Info'!$E$12,B358+1,\"\")","v":""},{"$f":"VLOOKUP(B359,'Output OP Lease Amort'!A:B,2,)","v":""},null,{"$f":"IF(B359=\"\",\"\",IF(D359>0,'Step 2. Basic Info'!$E$29*'Step 3. Lease Payments'!D359,0))","v":""},null,"",""]
[null,{"$f":"IF(C359<'Step 2. Basic Info'!$E$12,B359+1,\"\")","v":""},{"$f":"VLOOKUP(B360,'Output OP Lease Amort'!A:B,2,)","v":""},null,{"$f":"IF(B360=\"\",\"\",IF(D360>0,'Step 2. Basic Info'!$E$29*'Step 3. Lease Payments'!D360,0))","v":""},null,"",""]
[null,{"$f":"IF(C360<'Step 2. Basic Info'!$E$12,B360+1,\"\")","v":""},{"$f":"VLOOKUP(B361,'Output OP Lease Amort'!A:B,2,)","v":""},null,{"$f":"IF(B361=\"\",\"\",IF(D361>0,'Step 2. Basic Info'!$E$29*'Step 3. Lease Payments'!D361,0))","v":""},null,"",""]
[null,{"$f":"IF(C361<'Step 2. Basic Info'!$E$12,B361+1,\"\")","v":""},{"$f":"VLOOKUP(B362,'Output OP Lease Amort'!A:B,2,)","v":""},null,{"$f":"IF(B362=\"\",\"\",IF(D362>0,'Step 2. Basic Info'!$E$29*'Step 3. Lease Payments'!D362,0))","v":""},null,"",""]
[null,{"$f":"IF(C362<'Step 2. Basic Info'!$E$12,B362+1,\"\")","v":""},{"$f":"VLOOKUP(B363,'Output OP Lease Amort'!A:B,2,)","v":""},null,{"$f":"IF(B363=\"\",\"\",IF(D363>0,'Step 2. Basic Info'!$E$29*'Step 3. Lease Payments'!D363,0))","v":""},null,"",""]
[null,{"$f":"IF(C363<'Step 2. Basic Info'!$E$12,B363+1,\"\")","v":""},{"$f":"VLOOKUP(B364,'Output OP Lease Amort'!A:B,2,)","v":""},null,{"$f":"IF(B364=\"\",\"\",IF(D364>0,'Step 2. Basic Info'!$E$29*'Step 3. Lease Payments'!D364,0))","v":""},null,"",""]
[null,{"$f":"IF(C364<'Step 2. Basic Info'!$E$12,B364+1,\"\")","v":""},{"$f":"VLOOKUP(B365,'Output OP Lease Amort'!A:B,2,)","v":""},null,{"$f":"IF(B365=\"\",\"\",IF(D365>0,'Step 2. Basic Info'!$E$29*'Step 3. Lease Payments'!D365,0))","v":""},null,"",""]
[null,{"$f":"IF(C365<'Step 2. Basic Info'!$E$12,B365+1,\"\")","v":""},{"$f":"VLOOKUP(B366,'Output OP Lease Amort'!A:B,2,)","v":""},null,{"$f":"IF(B366=\"\",\"\",IF(D366>0,'Step 2. Basic Info'!$E$29*'Step 3. Lease Payments'!D366,0))","v":""},null,"",""]
[null,{"$f":"IF(C366<'Step 2. Basic Info'!$E$12,B366+1,\"\")","v":""},{"$f":"VLOOKUP(B367,'Output OP Lease Amort'!A:B,2,)","v":""},null,{"$f":"IF(B367=\"\",\"\",IF(D367>0,'Step 2. Basic Info'!$E$29*'Step 3. Lease Payments'!D367,0))","v":""},null,"",""]
[null,{"$f":"IF(C367<'Step 2. Basic Info'!$E$12,B367+1,\"\")","v":""},{"$f":"VLOOKUP(B368,'Output OP Lease Amort'!A:B,2,)","v":""},null,{"$f":"IF(B368=\"\",\"\",IF(D368>0,'Step 2. Basic Info'!$E$29*'Step 3. Lease Payments'!D368,0))","v":""},null,"",""]
[null,{"$f":"IF(C368<'Step 2. Basic Info'!$E$12,B368+1,\"\")","v":""},{"$f":"VLOOKUP(B369,'Output OP Lease Amort'!A:B,2,)","v":""},null,{"$f":"IF(B369=\"\",\"\",IF(D369>0,'Step 2. Basic Info'!$E$29*'Step 3. Lease Payments'!D369,0))","v":""},null,"",""]
[null,{"$f":"IF(C369<'Step 2. Basic Info'!$E$12,B369+1,\"\")","v":""},{"$f":"VLOOKUP(B370,'Output OP Lease Amort'!A:B,2,)","v":""},null,{"$f":"IF(B370=\"\",\"\",IF(D370>0,'Step 2. Basic Info'!$E$29*'Step 3. Lease Payments'!D370,0))","v":""},null,"",""]
[null,{"$f":"IF(C370<'Step 2. Basic Info'!$E$12,B370+1,\"\")","v":""},{"$f":"VLOOKUP(B371,'Output OP Lease Amort'!A:B,2,)","v":""},null,{"$f":"IF(B371=\"\",\"\",IF(D371>0,'Step 2. Basic Info'!$E$29*'Step 3. Lease Payments'!D371,0))","v":""},null,"",""]
[null,{"$f":"IF(C371<'Step 2. Basic Info'!$E$12,B371+1,\"\")","v":""},{"$f":"VLOOKUP(B372,'Output OP Lease Amort'!A:B,2,)","v":""},null,{"$f":"IF(B372=\"\",\"\",IF(D372>0,'Step 2. Basic Info'!$E$29*'Step 3. Lease Payments'!D372,0))","v":""},null,"",""]
[null,{"$f":"IF(C372<'Step 2. Basic Info'!$E$12,B372+1,\"\")","v":""},{"$f":"VLOOKUP(B373,'Output OP Lease Amort'!A:B,2,)","v":""},null,{"$f":"IF(B373=\"\",\"\",IF(D373>0,'Step 2. Basic Info'!$E$29*'Step 3. Lease Payments'!D373,0))","v":""},null,"",""]
[null,{"$f":"IF(C373<'Step 2. Basic Info'!$E$12,B373+1,\"\")","v":""},{"$f":"VLOOKUP(B374,'Output OP Lease Amort'!A:B,2,)","v":""},null,{"$f":"IF(B374=\"\",\"\",IF(D374>0,'Step 2. Basic Info'!$E$29*'Step 3. Lease Payments'!D374,0))","v":""},null,"",""]
[null,{"$f":"IF(C374<'Step 2. Basic Info'!$E$12,B374+1,\"\")","v":""},{"$f":"VLOOKUP(B375,'Output OP Lease Amort'!A:B,2,)","v":""},null,{"$f":"IF(B375=\"\",\"\",IF(D375>0,'Step 2. Basic Info'!$E$29*'Step 3. Lease Payments'!D375,0))","v":""},null,"",""]
[null,{"$f":"IF(C375<'Step 2. Basic Info'!$E$12,B375+1,\"\")","v":""},{"$f":"VLOOKUP(B376,'Output OP Lease Amort'!A:B,2,)","v":""},null,{"$f":"IF(B376=\"\",\"\",IF(D376>0,'Step 2. Basic Info'!$E$29*'Step 3. Lease Payments'!D376,0))","v":""},null,"",""]
[null,{"$f":"IF(C376<'Step 2. Basic Info'!$E$12,B376+1,\"\")","v":""},{"$f":"VLOOKUP(B377,'Output OP Lease Amort'!A:B,2,)","v":""},null,{"$f":"IF(B377=\"\",\"\",IF(D377>0,'Step 2. Basic Info'!$E$29*'Step 3. Lease Payments'!D377,0))","v":""},null,"",""]
[null,{"$f":"IF(C377<'Step 2. Basic Info'!$E$12,B377+1,\"\")","v":""},{"$f":"VLOOKUP(B378,'Output OP Lease Amort'!A:B,2,)","v":""},null,{"$f":"IF(B378=\"\",\"\",IF(D378>0,'Step 2. Basic Info'!$E$29*'Step 3. Lease Payments'!D378,0))","v":""},null,"",""]
[null,{"$f":"IF(C378<'Step 2. Basic Info'!$E$12,B378+1,\"\")","v":""},{"$f":"VLOOKUP(B379,'Output OP Lease Amort'!A:B,2,)","v":""},null,{"$f":"IF(B379=\"\",\"\",IF(D379>0,'Step 2. Basic Info'!$E$29*'Step 3. Lease Payments'!D379,0))","v":""},null,"",""]
[null,{"$f":"IF(C379<'Step 2. Basic Info'!$E$12,B379+1,\"\")","v":""},{"$f":"VLOOKUP(B380,'Output OP Lease Amort'!A:B,2,)","v":""},null,{"$f":"IF(B380=\"\",\"\",IF(D380>0,'Step 2. Basic Info'!$E$29*'Step 3. Lease Payments'!D380,0))","v":""},null,"",""]
[null,{"$f":"IF(C380<'Step 2. Basic Info'!$E$12,B380+1,\"\")","v":""},{"$f":"VLOOKUP(B381,'Output OP Lease Amort'!A:B,2,)","v":""},null,{"$f":"IF(B381=\"\",\"\",IF(D381>0,'Step 2. Basic Info'!$E$29*'Step 3. Lease Payments'!D381,0))","v":""},null,"",""]
[null,{"$f":"IF(C381<'Step 2. Basic Info'!$E$12,B381+1,\"\")","v":""},{"$f":"VLOOKUP(B382,'Output OP Lease Amort'!A:B,2,)","v":""},null,{"$f":"IF(B382=\"\",\"\",IF(D382>0,'Step 2. Basic Info'!$E$29*'Step 3. Lease Payments'!D382,0))","v":""},null,"",""]
[null,{"$f":"IF(C382<'Step 2. Basic Info'!$E$12,B382+1,\"\")","v":""},{"$f":"VLOOKUP(B383,'Output OP Lease Amort'!A:B,2,)","v":""},null,{"$f":"IF(B383=\"\",\"\",IF(D383>0,'Step 2. Basic Info'!$E$29*'Step 3. Lease Payments'!D383,0))","v":""},null,"",""]
[null,{"$f":"IF(C383<'Step 2. Basic Info'!$E$12,B383+1,\"\")","v":""},{"$f":"VLOOKUP(B384,'Output OP Lease Amort'!A:B,2,)","v":""},null,{"$f":"IF(B384=\"\",\"\",IF(D384>0,'Step 2. Basic Info'!$E$29*'Step 3. Lease Payments'!D384,0))","v":""},null,"",""]
[null,{"$f":"IF(C384<'Step 2. Basic Info'!$E$12,B384+1,\"\")","v":""},{"$f":"VLOOKUP(B385,'Output OP Lease Amort'!A:B,2,)","v":""},null,{"$f":"IF(B385=\"\",\"\",IF(D385>0,'Step 2. Basic Info'!$E$29*'Step 3. Lease Payments'!D385,0))","v":""},null,"",""]
[null,{"$f":"IF(C385<'Step 2. Basic Info'!$E$12,B385+1,\"\")","v":""},{"$f":"VLOOKUP(B386,'Output OP Lease Amort'!A:B,2,)","v":""},null,{"$f":"IF(B386=\"\",\"\",IF(D386>0,'Step 2. Basic Info'!$E$29*'Step 3. Lease Payments'!D386,0))","v":""},null,"",""]
[null,{"$f":"IF(C386<'Step 2. Basic Info'!$E$12,B386+1,\"\")","v":""},{"$f":"VLOOKUP(B387,'Output OP Lease Amort'!A:B,2,)","v":""},null,{"$f":"IF(B387=\"\",\"\",IF(D387>0,'Step 2. Basic Info'!$E$29*'Step 3. Lease Payments'!D387,0))","v":""},null,"",""]
[null,{"$f":"IF(C387<'Step 2. Basic Info'!$E$12,B387+1,\"\")","v":""},{"$f":"VLOOKUP(B388,'Output OP Lease Amort'!A:B,2,)","v":""},null,{"$f":"IF(B388=\"\",\"\",IF(D388>0,'Step 2. Basic Info'!$E$29*'Step 3. Lease Payments'!D388,0))","v":""},null,"",""]
[null,{"$f":"IF(C388<'Step 2. Basic Info'!$E$12,B388+1,\"\")","v":""},{"$f":"VLOOKUP(B389,'Output OP Lease Amort'!A:B,2,)","v":""},null,{"$f":"IF(B389=\"\",\"\",IF(D389>0,'Step 2. Basic Info'!$E$29*'Step 3. Lease Payments'!D389,0))","v":""},null,"",""]
[null,{"$f":"IF(C389<'Step 2. Basic Info'!$E$12,B389+1,\"\")","v":""},{"$f":"VLOOKUP(B390,'Output OP Lease Amort'!A:B,2,)","v":""},null,{"$f":"IF(B390=\"\",\"\",IF(D390>0,'Step 2. Basic Info'!$E$29*'Step 3. Lease Payments'!D390,0))","v":""},null,"",""]
[null,{"$f":"IF(C390<'Step 2. Basic Info'!$E$12,B390+1,\"\")","v":""},{"$f":"VLOOKUP(B391,'Output OP Lease Amort'!A:B,2,)","v":""},null,{"$f":"IF(B391=\"\",\"\",IF(D391>0,'Step 2. Basic Info'!$E$29*'Step 3. Lease Payments'!D391,0))","v":""},null,"",""]
[null,{"$f":"IF(C391<'Step 2. Basic Info'!$E$12,B391+1,\"\")","v":""},{"$f":"VLOOKUP(B392,'Output OP Lease Amort'!A:B,2,)","v":""},null,{"$f":"IF(B392=\"\",\"\",IF(D392>0,'Step 2. Basic Info'!$E$29*'Step 3. Lease Payments'!D392,0))","v":""},null,"",""]
[null,{"$f":"IF(C392<'Step 2. Basic Info'!$E$12,B392+1,\"\")","v":""},{"$f":"VLOOKUP(B393,'Output OP Lease Amort'!A:B,2,)","v":""},null,{"$f":"IF(B393=\"\",\"\",IF(D393>0,'Step 2. Basic Info'!$E$29*'Step 3. Lease Payments'!D393,0))","v":""},null,"",""]
[null,{"$f":"IF(C393<'Step 2. Basic Info'!$E$12,B393+1,\"\")","v":""},{"$f":"VLOOKUP(B394,'Output OP Lease Amort'!A:B,2,)","v":""},null,{"$f":"IF(B394=\"\",\"\",IF(D394>0,'Step 2. Basic Info'!$E$29*'Step 3. Lease Payments'!D394,0))","v":""},null,"",""]
[null,{"$f":"IF(C394<'Step 2. Basic Info'!$E$12,B394+1,\"\")","v":""},{"$f":"VLOOKUP(B395,'Output OP Lease Amort'!A:B,2,)","v":""},null,{"$f":"IF(B395=\"\",\"\",IF(D395>0,'Step 2. Basic Info'!$E$29*'Step 3. Lease Payments'!D395,0))","v":""},null,{"$f":"IF(B395=\"\",\"\",IFERROR(E395+F395,0))","v":""},{"$f":"IF(G395 = \"\",\"\",-PV($G$8,B395,,G395,))","v":""}]
[null,{"$f":"IF(C395<'Step 2. Basic Info'!$E$12,B395+1,\"\")","v":""},{"$f":"VLOOKUP(B396,'Output OP Lease Amort'!A:B,2,)","v":""},null,{"$f":"IF(B396=\"\",\"\",IF(D396>0,'Step 2. Basic Info'!$E$29*'Step 3. Lease Payments'!D396,0))","v":""},null,"",""]
[null,{"$f":"IF(C396<'Step 2. Basic Info'!$E$12,B396+1,\"\")","v":""},{"$f":"VLOOKUP(B397,'Output OP Lease Amort'!A:B,2,)","v":""},null,{"$f":"IF(B397=\"\",\"\",IF(D397>0,'Step 2. Basic Info'!$E$29*'Step 3. Lease Payments'!D397,0))","v":""},null,"",""]
[null,{"$f":"IF(C397<'Step 2. Basic Info'!$E$12,B397+1,\"\")","v":""},{"$f":"VLOOKUP(B398,'Output OP Lease Amort'!A:B,2,)","v":""},null,{"$f":"IF(B398=\"\",\"\",IF(D398>0,'Step 2. Basic Info'!$E$29*'Step 3. Lease Payments'!D398,0))","v":""},null,"",""]
[null,{"$f":"IF(C398<'Step 2. Basic Info'!$E$12,B398+1,\"\")","v":""},{"$f":"VLOOKUP(B399,'Output OP Lease Amort'!A:B,2,)","v":""},null,{"$f":"IF(B399=\"\",\"\",IF(D399>0,'Step 2. Basic Info'!$E$29*'Step 3. Lease Payments'!D399,0))","v":""},null,"",""]
[null,{"$f":"IF(C399<'Step 2. Basic Info'!$E$12,B399+1,\"\")","v":""},{"$f":"VLOOKUP(B400,'Output OP Lease Amort'!A:B,2,)","v":""},null,{"$f":"IF(B400=\"\",\"\",IF(D400>0,'Step 2. Basic Info'!$E$29*'Step 3. Lease Payments'!D400,0))","v":""},null,"",""]
[null,{"$f":"IF(C400<'Step 2. Basic Info'!$E$12,B400+1,\"\")","v":""},{"$f":"VLOOKUP(B401,'Output OP Lease Amort'!A:B,2,)","v":""},null,{"$f":"IF(B401=\"\",\"\",IF(D401>0,'Step 2. Basic Info'!$E$29*'Step 3. Lease Payments'!D401,0))","v":""},null,"",""]
[null,{"$f":"IF(C401<'Step 2. Basic Info'!$E$12,B401+1,\"\")","v":""},{"$f":"VLOOKUP(B402,'Output OP Lease Amort'!A:B,2,)","v":""},null,{"$f":"IF(B402=\"\",\"\",IF(D402>0,'Step 2. Basic Info'!$E$29*'Step 3. Lease Payments'!D402,0))","v":""},null,"",""]
[null,{"$f":"IF(C402<'Step 2. Basic Info'!$E$12,B402+1,\"\")","v":""},{"$f":"VLOOKUP(B403,'Output OP Lease Amort'!A:B,2,)","v":""},null,{"$f":"IF(B403=\"\",\"\",IF(D403>0,'Step 2. Basic Info'!$E$29*'Step 3. Lease Payments'!D403,0))","v":""},null,"",""]
[null,{"$f":"IF(C403<'Step 2. Basic Info'!$E$12,B403+1,\"\")","v":""},{"$f":"VLOOKUP(B404,'Output OP Lease Amort'!A:B,2,)","v":""},null,{"$f":"IF(B404=\"\",\"\",IF(D404>0,'Step 2. Basic Info'!$E$29*'Step 3. Lease Payments'!D404,0))","v":""},null,"",""]
[null,{"$f":"IF(C404<'Step 2. Basic Info'!$E$12,B404+1,\"\")","v":""},{"$f":"VLOOKUP(B405,'Output OP Lease Amort'!A:B,2,)","v":""},null,{"$f":"IF(B405=\"\",\"\",IF(D405>0,'Step 2. Basic Info'!$E$29*'Step 3. Lease Payments'!D405,0))","v":""},null,"",""]
[null,{"$f":"IF(C405<'Step 2. Basic Info'!$E$12,B405+1,\"\")","v":""},{"$f":"VLOOKUP(B406,'Output OP Lease Amort'!A:B,2,)","v":""},null,{"$f":"IF(B406=\"\",\"\",IF(D406>0,'Step 2. Basic Info'!$E$29*'Step 3. Lease Payments'!D406,0))","v":""},null,"",""]
[null,{"$f":"IF(C406<'Step 2. Basic Info'!$E$12,B406+1,\"\")","v":""},{"$f":"VLOOKUP(B407,'Output OP Lease Amort'!A:B,2,)","v":""},null,{"$f":"IF(B407=\"\",\"\",IF(D407>0,'Step 2. Basic Info'!$E$29*'Step 3. Lease Payments'!D407,0))","v":""},null,"",""]
[null,{"$f":"IF(C407<'Step 2. Basic Info'!$E$12,B407+1,\"\")","v":""},{"$f":"VLOOKUP(B408,'Output OP Lease Amort'!A:B,2,)","v":""},null,{"$f":"IF(B408=\"\",\"\",IF(D408>0,'Step 2. Basic Info'!$E$29*'Step 3. Lease Payments'!D408,0))","v":""},null,"",""]
[null,{"$f":"IF(C408<'Step 2. Basic Info'!$E$12,B408+1,\"\")","v":""},{"$f":"VLOOKUP(B409,'Output OP Lease Amort'!A:B,2,)","v":""},null,{"$f":"IF(B409=\"\",\"\",IF(D409>0,'Step 2. Basic Info'!$E$29*'Step 3. Lease Payments'!D409,0))","v":""},null,"",""]
[null,{"$f":"IF(C409<'Step 2. Basic Info'!$E$12,B409+1,\"\")","v":""},{"$f":"VLOOKUP(B410,'Output OP Lease Amort'!A:B,2,)","v":""},null,{"$f":"IF(B410=\"\",\"\",IF(D410>0,'Step 2. Basic Info'!$E$29*'Step 3. Lease Payments'!D410,0))","v":""},null,"",""]
[null,{"$f":"IF(C410<'Step 2. Basic Info'!$E$12,B410+1,\"\")","v":""},{"$f":"VLOOKUP(B411,'Output OP Lease Amort'!A:B,2,)","v":""},null,{"$f":"IF(B411=\"\",\"\",IF(D411>0,'Step 2. Basic Info'!$E$29*'Step 3. Lease Payments'!D411,0))","v":""},null,"",""]
[null,{"$f":"IF(C411<'Step 2. Basic Info'!$E$12,B411+1,\"\")","v":""},{"$f":"VLOOKUP(B412,'Output OP Lease Amort'!A:B,2,)","v":""},null,{"$f":"IF(B412=\"\",\"\",IF(D412>0,'Step 2. Basic Info'!$E$29*'Step 3. Lease Payments'!D412,0))","v":""},null,"",""]
[null,{"$f":"IF(C412<'Step 2. Basic Info'!$E$12,B412+1,\"\")","v":""},{"$f":"VLOOKUP(B413,'Output OP Lease Amort'!A:B,2,)","v":""},null,{"$f":"IF(B413=\"\",\"\",IF(D413>0,'Step 2. Basic Info'!$E$29*'Step 3. Lease Payments'!D413,0))","v":""},null,"",""]
[null,{"$f":"IF(C413<'Step 2. Basic Info'!$E$12,B413+1,\"\")","v":""},{"$f":"VLOOKUP(B414,'Output OP Lease Amort'!A:B,2,)","v":""},null,{"$f":"IF(B414=\"\",\"\",IF(D414>0,'Step 2. Basic Info'!$E$29*'Step 3. Lease Payments'!D414,0))","v":""},null,"",""]
[null,{"$f":"IF(C414<'Step 2. Basic Info'!$E$12,B414+1,\"\")","v":""},{"$f":"VLOOKUP(B415,'Output OP Lease Amort'!A:B,2,)","v":""},null,{"$f":"IF(B415=\"\",\"\",IF(D415>0,'Step 2. Basic Info'!$E$29*'Step 3. Lease Payments'!D415,0))","v":""},null,"",""]
[null,{"$f":"IF(C415<'Step 2. Basic Info'!$E$12,B415+1,\"\")","v":""},{"$f":"VLOOKUP(B416,'Output OP Lease Amort'!A:B,2,)","v":""},null,{"$f":"IF(B416=\"\",\"\",IF(D416>0,'Step 2. Basic Info'!$E$29*'Step 3. Lease Payments'!D416,0))","v":""},null,"",""]
[null,{"$f":"IF(C416<'Step 2. Basic Info'!$E$12,B416+1,\"\")","v":""},{"$f":"VLOOKUP(B417,'Output OP Lease Amort'!A:B,2,)","v":""},null,{"$f":"IF(B417=\"\",\"\",IF(D417>0,'Step 2. Basic Info'!$E$29*'Step 3. Lease Payments'!D417,0))","v":""},null,"",""]
[null,{"$f":"IF(C417<'Step 2. Basic Info'!$E$12,B417+1,\"\")","v":""},{"$f":"VLOOKUP(B418,'Output OP Lease Amort'!A:B,2,)","v":""},null,{"$f":"IF(B418=\"\",\"\",IF(D418>0,'Step 2. Basic Info'!$E$29*'Step 3. Lease Payments'!D418,0))","v":""},null,"",""]
[null,{"$f":"IF(C418<'Step 2. Basic Info'!$E$12,B418+1,\"\")","v":""},{"$f":"VLOOKUP(B419,'Output OP Lease Amort'!A:B,2,)","v":""},null,{"$f":"IF(B419=\"\",\"\",IF(D419>0,'Step 2. Basic Info'!$E$29*'Step 3. Lease Payments'!D419,0))","v":""},null,"",""]
[null,{"$f":"IF(C419<'Step 2. Basic Info'!$E$12,B419+1,\"\")","v":""},{"$f":"VLOOKUP(B420,'Output OP Lease Amort'!A:B,2,)","v":""},null,{"$f":"IF(B420=\"\",\"\",IF(D420>0,'Step 2. Basic Info'!$E$29*'Step 3. Lease Payments'!D420,0))","v":""},null,"",""]
[null,{"$f":"IF(C420<'Step 2. Basic Info'!$E$12,B420+1,\"\")","v":""},{"$f":"VLOOKUP(B421,'Output OP Lease Amort'!A:B,2,)","v":""},null,{"$f":"IF(B421=\"\",\"\",IF(D421>0,'Step 2. Basic Info'!$E$29*'Step 3. Lease Payments'!D421,0))","v":""},null,"",""]
[null,{"$f":"IF(C421<'Step 2. Basic Info'!$E$12,B421+1,\"\")","v":""},{"$f":"VLOOKUP(B422,'Output OP Lease Amort'!A:B,2,)","v":""},null,{"$f":"IF(B422=\"\",\"\",IF(D422>0,'Step 2. Basic Info'!$E$29*'Step 3. Lease Payments'!D422,0))","v":""},null,"",""]
[null,{"$f":"IF(C422<'Step 2. Basic Info'!$E$12,B422+1,\"\")","v":""},{"$f":"VLOOKUP(B423,'Output OP Lease Amort'!A:B,2,)","v":""},null,{"$f":"IF(B423=\"\",\"\",IF(D423>0,'Step 2. Basic Info'!$E$29*'Step 3. Lease Payments'!D423,0))","v":""},null,"",""]
[null,{"$f":"IF(C423<'Step 2. Basic Info'!$E$12,B423+1,\"\")","v":""},{"$f":"VLOOKUP(B424,'Output OP Lease Amort'!A:B,2,)","v":""},null,{"$f":"IF(B424=\"\",\"\",IF(D424>0,'Step 2. Basic Info'!$E$29*'Step 3. Lease Payments'!D424,0))","v":""},null,"",""]
[null,{"$f":"IF(C424<'Step 2. Basic Info'!$E$12,B424+1,\"\")","v":""},{"$f":"VLOOKUP(B425,'Output OP Lease Amort'!A:B,2,)","v":""},null,{"$f":"IF(B425=\"\",\"\",IF(D425>0,'Step 2. Basic Info'!$E$29*'Step 3. Lease Payments'!D425,0))","v":""},null,"",""]
[null,{"$f":"IF(C425<'Step 2. Basic Info'!$E$12,B425+1,\"\")","v":""},{"$f":"VLOOKUP(B426,'Output OP Lease Amort'!A:B,2,)","v":""},null,{"$f":"IF(B426=\"\",\"\",IF(D426>0,'Step 2. Basic Info'!$E$29*'Step 3. Lease Payments'!D426,0))","v":""},null,"",""]
[null,{"$f":"IF(C426<'Step 2. Basic Info'!$E$12,B426+1,\"\")","v":""},{"$f":"VLOOKUP(B427,'Output OP Lease Amort'!A:B,2,)","v":""},null,{"$f":"IF(B427=\"\",\"\",IF(D427>0,'Step 2. Basic Info'!$E$29*'Step 3. Lease Payments'!D427,0))","v":""},null,"",""]
[null,{"$f":"IF(C427<'Step 2. Basic Info'!$E$12,B427+1,\"\")","v":""},{"$f":"VLOOKUP(B428,'Output OP Lease Amort'!A:B,2,)","v":""},null,{"$f":"IF(B428=\"\",\"\",IF(D428>0,'Step 2. Basic Info'!$E$29*'Step 3. Lease Payments'!D428,0))","v":""},null,"",""]
[null,{"$f":"IF(C428<'Step 2. Basic Info'!$E$12,B428+1,\"\")","v":""},{"$f":"VLOOKUP(B429,'Output OP Lease Amort'!A:B,2,)","v":""},null,{"$f":"IF(B429=\"\",\"\",IF(D429>0,'Step 2. Basic Info'!$E$29*'Step 3. Lease Payments'!D429,0))","v":""},null,"",""]
[null,{"$f":"IF(C429<'Step 2. Basic Info'!$E$12,B429+1,\"\")","v":""},{"$f":"VLOOKUP(B430,'Output OP Lease Amort'!A:B,2,)","v":""},null,{"$f":"IF(B430=\"\",\"\",IF(D430>0,'Step 2. Basic Info'!$E$29*'Step 3. Lease Payments'!D430,0))","v":""},null,"",""]
[null,{"$f":"IF(C430<'Step 2. Basic Info'!$E$12,B430+1,\"\")","v":""},{"$f":"VLOOKUP(B431,'Output OP Lease Amort'!A:B,2,)","v":""},null,{"$f":"IF(B431=\"\",\"\",IF(D431>0,'Step 2. Basic Info'!$E$29*'Step 3. Lease Payments'!D431,0))","v":""},null,"",""]
[null,{"$f":"IF(C431<'Step 2. Basic Info'!$E$12,B431+1,\"\")","v":""},{"$f":"VLOOKUP(B432,'Output OP Lease Amort'!A:B,2,)","v":""},null,{"$f":"IF(B432=\"\",\"\",IF(D432>0,'Step 2. Basic Info'!$E$29*'Step 3. Lease Payments'!D432,0))","v":""},null,"",""]
[null,{"$f":"IF(C432<'Step 2. Basic Info'!$E$12,B432+1,\"\")","v":""},{"$f":"VLOOKUP(B433,'Output OP Lease Amort'!A:B,2,)","v":""},null,{"$f":"IF(B433=\"\",\"\",IF(D433>0,'Step 2. Basic Info'!$E$29*'Step 3. Lease Payments'!D433,0))","v":""},null,"",""]
[null,{"$f":"IF(C433<'Step 2. Basic Info'!$E$12,B433+1,\"\")","v":""},{"$f":"VLOOKUP(B434,'Output OP Lease Amort'!A:B,2,)","v":""},null,{"$f":"IF(B434=\"\",\"\",IF(D434>0,'Step 2. Basic Info'!$E$29*'Step 3. Lease Payments'!D434,0))","v":""},null,"",""]
[null,{"$f":"IF(C434<'Step 2. Basic Info'!$E$12,B434+1,\"\")","v":""},{"$f":"VLOOKUP(B435,'Output OP Lease Amort'!A:B,2,)","v":""},null,{"$f":"IF(B435=\"\",\"\",IF(D435>0,'Step 2. Basic Info'!$E$29*'Step 3. Lease Payments'!D435,0))","v":""},null,"",""]
[null,{"$f":"IF(C435<'Step 2. Basic Info'!$E$12,B435+1,\"\")","v":""},{"$f":"VLOOKUP(B436,'Output OP Lease Amort'!A:B,2,)","v":""},null,{"$f":"IF(B436=\"\",\"\",IF(D436>0,'Step 2. Basic Info'!$E$29*'Step 3. Lease Payments'!D436,0))","v":""},null,"",""]
[null,{"$f":"IF(C436<'Step 2. Basic Info'!$E$12,B436+1,\"\")","v":""},{"$f":"VLOOKUP(B437,'Output OP Lease Amort'!A:B,2,)","v":""},null,{"$f":"IF(B437=\"\",\"\",IF(D437>0,'Step 2. Basic Info'!$E$29*'Step 3. Lease Payments'!D437,0))","v":""},null,"",""]
[null,{"$f":"IF(C437<'Step 2. Basic Info'!$E$12,B437+1,\"\")","v":""},{"$f":"VLOOKUP(B438,'Output OP Lease Amort'!A:B,2,)","v":""},null,{"$f":"IF(B438=\"\",\"\",IF(D438>0,'Step 2. Basic Info'!$E$29*'Step 3. Lease Payments'!D438,0))","v":""},null,"",""]
[null,{"$f":"IF(C438<'Step 2. Basic Info'!$E$12,B438+1,\"\")","v":""},{"$f":"VLOOKUP(B439,'Output OP Lease Amort'!A:B,2,)","v":""},null,{"$f":"IF(B439=\"\",\"\",IF(D439>0,'Step 2. Basic Info'!$E$29*'Step 3. Lease Payments'!D439,0))","v":""},null,"",""]
[null,{"$f":"IF(C439<'Step 2. Basic Info'!$E$12,B439+1,\"\")","v":""},{"$f":"VLOOKUP(B440,'Output OP Lease Amort'!A:B,2,)","v":""},null,{"$f":"IF(B440=\"\",\"\",IF(D440>0,'Step 2. Basic Info'!$E$29*'Step 3. Lease Payments'!D440,0))","v":""},null,"",""]
[null,{"$f":"IF(C440<'Step 2. Basic Info'!$E$12,B440+1,\"\")","v":""},{"$f":"VLOOKUP(B441,'Output OP Lease Amort'!A:B,2,)","v":""},null,{"$f":"IF(B441=\"\",\"\",IF(D441>0,'Step 2. Basic Info'!$E$29*'Step 3. Lease Payments'!D441,0))","v":""},null,"",""]
[null,{"$f":"IF(C441<'Step 2. Basic Info'!$E$12,B441+1,\"\")","v":""},{"$f":"VLOOKUP(B442,'Output OP Lease Amort'!A:B,2,)","v":""},null,{"$f":"IF(B442=\"\",\"\",IF(D442>0,'Step 2. Basic Info'!$E$29*'Step 3. Lease Payments'!D442,0))","v":""},null,"",""]
[null,{"$f":"IF(C442<'Step 2. Basic Info'!$E$12,B442+1,\"\")","v":""},{"$f":"VLOOKUP(B443,'Output OP Lease Amort'!A:B,2,)","v":""},null,{"$f":"IF(B443=\"\",\"\",IF(D443>0,'Step 2. Basic Info'!$E$29*'Step 3. Lease Payments'!D443,0))","v":""},null,"",""]
[null,{"$f":"IF(C443<'Step 2. Basic Info'!$E$12,B443+1,\"\")","v":""},{"$f":"VLOOKUP(B444,'Output OP Lease Amort'!A:B,2,)","v":""},null,{"$f":"IF(B444=\"\",\"\",IF(D444>0,'Step 2. Basic Info'!$E$29*'Step 3. Lease Payments'!D444,0))","v":""},null,"",""]
[null,{"$f":"IF(C444<'Step 2. Basic Info'!$E$12,B444+1,\"\")","v":""},{"$f":"VLOOKUP(B445,'Output OP Lease Amort'!A:B,2,)","v":""},null,{"$f":"IF(B445=\"\",\"\",IF(D445>0,'Step 2. Basic Info'!$E$29*'Step 3. Lease Payments'!D445,0))","v":""},null,"",""]
[null,{"$f":"IF(C445<'Step 2. Basic Info'!$E$12,B445+1,\"\")","v":""},{"$f":"VLOOKUP(B446,'Output OP Lease Amort'!A:B,2,)","v":""},null,{"$f":"IF(B446=\"\",\"\",IF(D446>0,'Step 2. Basic Info'!$E$29*'Step 3. Lease Payments'!D446,0))","v":""},null,"",""]
[null,{"$f":"IF(C446<'Step 2. Basic Info'!$E$12,B446+1,\"\")","v":""},{"$f":"VLOOKUP(B447,'Output OP Lease Amort'!A:B,2,)","v":""},null,{"$f":"IF(B447=\"\",\"\",IF(D447>0,'Step 2. Basic Info'!$E$29*'Step 3. Lease Payments'!D447,0))","v":""},null,"",""]
[null,{"$f":"IF(C447<'Step 2. Basic Info'!$E$12,B447+1,\"\")","v":""},{"$f":"VLOOKUP(B448,'Output OP Lease Amort'!A:B,2,)","v":""},null,{"$f":"IF(B448=\"\",\"\",IF(D448>0,'Step 2. Basic Info'!$E$29*'Step 3. Lease Payments'!D448,0))","v":""},null,"",""]
[null,{"$f":"IF(C448<'Step 2. Basic Info'!$E$12,B448+1,\"\")","v":""},{"$f":"VLOOKUP(B449,'Output OP Lease Amort'!A:B,2,)","v":""},null,{"$f":"IF(B449=\"\",\"\",IF(D449>0,'Step 2. Basic Info'!$E$29*'Step 3. Lease Payments'!D449,0))","v":""},null,"",""]
[null,{"$f":"IF(C449<'Step 2. Basic Info'!$E$12,B449+1,\"\")","v":""},{"$f":"VLOOKUP(B450,'Output OP Lease Amort'!A:B,2,)","v":""},null,{"$f":"IF(B450=\"\",\"\",IF(D450>0,'Step 2. Basic Info'!$E$29*'Step 3. Lease Payments'!D450,0))","v":""},null,"",""]
[null,{"$f":"IF(C450<'Step 2. Basic Info'!$E$12,B450+1,\"\")","v":""},{"$f":"VLOOKUP(B451,'Output OP Lease Amort'!A:B,2,)","v":""},null,{"$f":"IF(B451=\"\",\"\",IF(D451>0,'Step 2. Basic Info'!$E$29*'Step 3. Lease Payments'!D451,0))","v":""},null,"",""]
[null,{"$f":"IF(C451<'Step 2. Basic Info'!$E$12,B451+1,\"\")","v":""},{"$f":"VLOOKUP(B452,'Output OP Lease Amort'!A:B,2,)","v":""},null,{"$f":"IF(B452=\"\",\"\",IF(D452>0,'Step 2. Basic Info'!$E$29*'Step 3. Lease Payments'!D452,0))","v":""},null,"",""]
[null,{"$f":"IF(C452<'Step 2. Basic Info'!$E$12,B452+1,\"\")","v":""},{"$f":"VLOOKUP(B453,'Output OP Lease Amort'!A:B,2,)","v":""},null,{"$f":"IF(B453=\"\",\"\",IF(D453>0,'Step 2. Basic Info'!$E$29*'Step 3. Lease Payments'!D453,0))","v":""},null,"",""]
[null,{"$f":"IF(C453<'Step 2. Basic Info'!$E$12,B453+1,\"\")","v":""},{"$f":"VLOOKUP(B454,'Output OP Lease Amort'!A:B,2,)","v":""},null,{"$f":"IF(B454=\"\",\"\",IF(D454>0,'Step 2. Basic Info'!$E$29*'Step 3. Lease Payments'!D454,0))","v":""},null,"",""]
[null,{"$f":"IF(C454<'Step 2. Basic Info'!$E$12,B454+1,\"\")","v":""},{"$f":"VLOOKUP(B455,'Output OP Lease Amort'!A:B,2,)","v":""},null,{"$f":"IF(B455=\"\",\"\",IF(D455>0,'Step 2. Basic Info'!$E$29*'Step 3. Lease Payments'!D455,0))","v":""},null,"",""]
[null,{"$f":"IF(C455<'Step 2. Basic Info'!$E$12,B455+1,\"\")","v":""},{"$f":"VLOOKUP(B456,'Output OP Lease Amort'!A:B,2,)","v":""},null,{"$f":"IF(B456=\"\",\"\",IF(D456>0,'Step 2. Basic Info'!$E$29*'Step 3. Lease Payments'!D456,0))","v":""},null,"",""]
[null,{"$f":"IF(C456<'Step 2. Basic Info'!$E$12,B456+1,\"\")","v":""},{"$f":"VLOOKUP(B457,'Output OP Lease Amort'!A:B,2,)","v":""},null,{"$f":"IF(B457=\"\",\"\",IF(D457>0,'Step 2. Basic Info'!$E$29*'Step 3. Lease Payments'!D457,0))","v":""},null,"",""]
[null,{"$f":"IF(C457<'Step 2. Basic Info'!$E$12,B457+1,\"\")","v":""},{"$f":"VLOOKUP(B458,'Output OP Lease Amort'!A:B,2,)","v":""},null,{"$f":"IF(B458=\"\",\"\",IF(D458>0,'Step 2. Basic Info'!$E$29*'Step 3. Lease Payments'!D458,0))","v":""},null,"",""]
[null,{"$f":"IF(C458<'Step 2. Basic Info'!$E$12,B458+1,\"\")","v":""},{"$f":"VLOOKUP(B459,'Output OP Lease Amort'!A:B,2,)","v":""},null,{"$f":"IF(B459=\"\",\"\",IF(D459>0,'Step 2. Basic Info'!$E$29*'Step 3. Lease Payments'!D459,0))","v":""},null,{"$f":"IF(B459=\"\",\"\",IFERROR(E459+F459,0))","v":""},{"$f":"IF(G459 = \"\",\"\",-PV($G$8,B459,,G459,))","v":""}]
[null,{"$f":"IF(C459<'Step 2. Basic Info'!$E$12,B459+1,\"\")","v":""},{"$f":"VLOOKUP(B460,'Output OP Lease Amort'!A:B,2,)","v":""},null,{"$f":"IF(B460=\"\",\"\",IF(D460>0,'Step 2. Basic Info'!$E$29*'Step 3. Lease Payments'!D460,0))","v":""},null,"",""]
[null,{"$f":"IF(C460<'Step 2. Basic Info'!$E$12,B460+1,\"\")","v":""},{"$f":"VLOOKUP(B461,'Output OP Lease Amort'!A:B,2,)","v":""},null,{"$f":"IF(B461=\"\",\"\",IF(D461>0,'Step 2. Basic Info'!$E$29*'Step 3. Lease Payments'!D461,0))","v":""},null,"",""]
[null,{"$f":"IF(C461<'Step 2. Basic Info'!$E$12,B461+1,\"\")","v":""},{"$f":"VLOOKUP(B462,'Output OP Lease Amort'!A:B,2,)","v":""},null,{"$f":"IF(B462=\"\",\"\",IF(D462>0,'Step 2. Basic Info'!$E$29*'Step 3. Lease Payments'!D462,0))","v":""},null,"",""]
[null,{"$f":"IF(C462<'Step 2. Basic Info'!$E$12,B462+1,\"\")","v":""},{"$f":"VLOOKUP(B463,'Output OP Lease Amort'!A:B,2,)","v":""},null,{"$f":"IF(B463=\"\",\"\",IF(D463>0,'Step 2. Basic Info'!$E$29*'Step 3. Lease Payments'!D463,0))","v":""},null,"",""]
[null,{"$f":"IF(C463<'Step 2. Basic Info'!$E$12,B463+1,\"\")","v":""},{"$f":"VLOOKUP(B464,'Output OP Lease Amort'!A:B,2,)","v":""},null,{"$f":"IF(B464=\"\",\"\",IF(D464>0,'Step 2. Basic Info'!$E$29*'Step 3. Lease Payments'!D464,0))","v":""},null,"",""]
[null,{"$f":"IF(C464<'Step 2. Basic Info'!$E$12,B464+1,\"\")","v":""},{"$f":"VLOOKUP(B465,'Output OP Lease Amort'!A:B,2,)","v":""},null,{"$f":"IF(B465=\"\",\"\",IF(D465>0,'Step 2. Basic Info'!$E$29*'Step 3. Lease Payments'!D465,0))","v":""},null,"",""]
[null,{"$f":"IF(C465<'Step 2. Basic Info'!$E$12,B465+1,\"\")","v":""},{"$f":"VLOOKUP(B466,'Output OP Lease Amort'!A:B,2,)","v":""},null,{"$f":"IF(B466=\"\",\"\",IF(D466>0,'Step 2. Basic Info'!$E$29*'Step 3. Lease Payments'!D466,0))","v":""},null,"",""]
[null,{"$f":"IF(C466<'Step 2. Basic Info'!$E$12,B466+1,\"\")","v":""},{"$f":"VLOOKUP(B467,'Output OP Lease Amort'!A:B,2,)","v":""},null,{"$f":"IF(B467=\"\",\"\",IF(D467>0,'Step 2. Basic Info'!$E$29*'Step 3. Lease Payments'!D467,0))","v":""},null,"",""]
[null,{"$f":"IF(C467<'Step 2. Basic Info'!$E$12,B467+1,\"\")","v":""},{"$f":"VLOOKUP(B468,'Output OP Lease Amort'!A:B,2,)","v":""},null,{"$f":"IF(B468=\"\",\"\",IF(D468>0,'Step 2. Basic Info'!$E$29*'Step 3. Lease Payments'!D468,0))","v":""},null,"",""]
[null,{"$f":"IF(C468<'Step 2. Basic Info'!$E$12,B468+1,\"\")","v":""},{"$f":"VLOOKUP(B469,'Output OP Lease Amort'!A:B,2,)","v":""},null,{"$f":"IF(B469=\"\",\"\",IF(D469>0,'Step 2. Basic Info'!$E$29*'Step 3. Lease Payments'!D469,0))","v":""},null,"",""]
[null,{"$f":"IF(C469<'Step 2. Basic Info'!$E$12,B469+1,\"\")","v":""},{"$f":"VLOOKUP(B470,'Output OP Lease Amort'!A:B,2,)","v":""},null,{"$f":"IF(B470=\"\",\"\",IF(D470>0,'Step 2. Basic Info'!$E$29*'Step 3. Lease Payments'!D470,0))","v":""},null,"",""]
[null,{"$f":"IF(C470<'Step 2. Basic Info'!$E$12,B470+1,\"\")","v":""},{"$f":"VLOOKUP(B471,'Output OP Lease Amort'!A:B,2,)","v":""},null,{"$f":"IF(B471=\"\",\"\",IF(D471>0,'Step 2. Basic Info'!$E$29*'Step 3. Lease Payments'!D471,0))","v":""},null,"",""]
[null,{"$f":"IF(C471<'Step 2. Basic Info'!$E$12,B471+1,\"\")","v":""},{"$f":"VLOOKUP(B472,'Output OP Lease Amort'!A:B,2,)","v":""},null,{"$f":"IF(B472=\"\",\"\",IF(D472>0,'Step 2. Basic Info'!$E$29*'Step 3. Lease Payments'!D472,0))","v":""},null,"",""]
[null,{"$f":"IF(C472<'Step 2. Basic Info'!$E$12,B472+1,\"\")","v":""},{"$f":"VLOOKUP(B473,'Output OP Lease Amort'!A:B,2,)","v":""},null,{"$f":"IF(B473=\"\",\"\",IF(D473>0,'Step 2. Basic Info'!$E$29*'Step 3. Lease Payments'!D473,0))","v":""},null,"",""]
[null,{"$f":"IF(C473<'Step 2. Basic Info'!$E$12,B473+1,\"\")","v":""},{"$f":"VLOOKUP(B474,'Output OP Lease Amort'!A:B,2,)","v":""},null,{"$f":"IF(B474=\"\",\"\",IF(D474>0,'Step 2. Basic Info'!$E$29*'Step 3. Lease Payments'!D474,0))","v":""},null,"",""]
[null,{"$f":"IF(C474<'Step 2. Basic Info'!$E$12,B474+1,\"\")","v":""},{"$f":"VLOOKUP(B475,'Output OP Lease Amort'!A:B,2,)","v":""},null,{"$f":"IF(B475=\"\",\"\",IF(D475>0,'Step 2. Basic Info'!$E$29*'Step 3. Lease Payments'!D475,0))","v":""},null,"",""]
[null,{"$f":"IF(C475<'Step 2. Basic Info'!$E$12,B475+1,\"\")","v":""},{"$f":"VLOOKUP(B476,'Output OP Lease Amort'!A:B,2,)","v":""},null,{"$f":"IF(B476=\"\",\"\",IF(D476>0,'Step 2. Basic Info'!$E$29*'Step 3. Lease Payments'!D476,0))","v":""},null,"",""]
[null,{"$f":"IF(C476<'Step 2. Basic Info'!$E$12,B476+1,\"\")","v":""},{"$f":"VLOOKUP(B477,'Output OP Lease Amort'!A:B,2,)","v":""},null,{"$f":"IF(B477=\"\",\"\",IF(D477>0,'Step 2. Basic Info'!$E$29*'Step 3. Lease Payments'!D477,0))","v":""},null,"",""]
[null,{"$f":"IF(C477<'Step 2. Basic Info'!$E$12,B477+1,\"\")","v":""},{"$f":"VLOOKUP(B478,'Output OP Lease Amort'!A:B,2,)","v":""},null,{"$f":"IF(B478=\"\",\"\",IF(D478>0,'Step 2. Basic Info'!$E$29*'Step 3. Lease Payments'!D478,0))","v":""},null,"",""]
[null,{"$f":"IF(C478<'Step 2. Basic Info'!$E$12,B478+1,\"\")","v":""},{"$f":"VLOOKUP(B479,'Output OP Lease Amort'!A:B,2,)","v":""},null,{"$f":"IF(B479=\"\",\"\",IF(D479>0,'Step 2. Basic Info'!$E$29*'Step 3. Lease Payments'!D479,0))","v":""},null,"",""]
[null,{"$f":"IF(C479<'Step 2. Basic Info'!$E$12,B479+1,\"\")","v":""},{"$f":"VLOOKUP(B480,'Output OP Lease Amort'!A:B,2,)","v":""},null,{"$f":"IF(B480=\"\",\"\",IF(D480>0,'Step 2. Basic Info'!$E$29*'Step 3. Lease Payments'!D480,0))","v":""},null,"",""]
[null,{"$f":"IF(C480<'Step 2. Basic Info'!$E$12,B480+1,\"\")","v":""},{"$f":"VLOOKUP(B481,'Output OP Lease Amort'!A:B,2,)","v":""},null,{"$f":"IF(B481=\"\",\"\",IF(D481>0,'Step 2. Basic Info'!$E$29*'Step 3. Lease Payments'!D481,0))","v":""},null,"",""]
[null,{"$f":"IF(C481<'Step 2. Basic Info'!$E$12,B481+1,\"\")","v":""},{"$f":"VLOOKUP(B482,'Output OP Lease Amort'!A:B,2,)","v":""},null,{"$f":"IF(B482=\"\",\"\",IF(D482>0,'Step 2. Basic Info'!$E$29*'Step 3. Lease Payments'!D482,0))","v":""},null,"",""]
[null,{"$f":"IF(C482<'Step 2. Basic Info'!$E$12,B482+1,\"\")","v":""},{"$f":"VLOOKUP(B483,'Output OP Lease Amort'!A:B,2,)","v":""},null,{"$f":"IF(B483=\"\",\"\",IF(D483>0,'Step 2. Basic Info'!$E$29*'Step 3. Lease Payments'!D483,0))","v":""},null,"",""]
[null,{"$f":"IF(C483<'Step 2. Basic Info'!$E$12,B483+1,\"\")","v":""},{"$f":"VLOOKUP(B484,'Output OP Lease Amort'!A:B,2,)","v":""},null,{"$f":"IF(B484=\"\",\"\",IF(D484>0,'Step 2. Basic Info'!$E$29*'Step 3. Lease Payments'!D484,0))","v":""},null,"",""]
[null,{"$f":"IF(C484<'Step 2. Basic Info'!$E$12,B484+1,\"\")","v":""},{"$f":"VLOOKUP(B485,'Output OP Lease Amort'!A:B,2,)","v":""},null,{"$f":"IF(B485=\"\",\"\",IF(D485>0,'Step 2. Basic Info'!$E$29*'Step 3. Lease Payments'!D485,0))","v":""},null,"",""]
[null,{"$f":"IF(C485<'Step 2. Basic Info'!$E$12,B485+1,\"\")","v":""},{"$f":"VLOOKUP(B486,'Output OP Lease Amort'!A:B,2,)","v":""},null,{"$f":"IF(B486=\"\",\"\",IF(D486>0,'Step 2. Basic Info'!$E$29*'Step 3. Lease Payments'!D486,0))","v":""},null,"",""]
[null,{"$f":"IF(C486<'Step 2. Basic Info'!$E$12,B486+1,\"\")","v":""},{"$f":"VLOOKUP(B487,'Output OP Lease Amort'!A:B,2,)","v":""},null,{"$f":"IF(B487=\"\",\"\",IF(D487>0,'Step 2. Basic Info'!$E$29*'Step 3. Lease Payments'!D487,0))","v":""},null,"",""]
[null,{"$f":"IF(C487<'Step 2. Basic Info'!$E$12,B487+1,\"\")","v":""},{"$f":"VLOOKUP(B488,'Output OP Lease Amort'!A:B,2,)","v":""},null,{"$f":"IF(B488=\"\",\"\",IF(D488>0,'Step 2. Basic Info'!$E$29*'Step 3. Lease Payments'!D488,0))","v":""},null,"",""]
[null,{"$f":"IF(C488<'Step 2. Basic Info'!$E$12,B488+1,\"\")","v":""},{"$f":"VLOOKUP(B489,'Output OP Lease Amort'!A:B,2,)","v":""},null,{"$f":"IF(B489=\"\",\"\",IF(D489>0,'Step 2. Basic Info'!$E$29*'Step 3. Lease Payments'!D489,0))","v":""},null,"",""]
[null,{"$f":"IF(C489<'Step 2. Basic Info'!$E$12,B489+1,\"\")","v":""},{"$f":"VLOOKUP(B490,'Output OP Lease Amort'!A:B,2,)","v":""},null,{"$f":"IF(B490=\"\",\"\",IF(D490>0,'Step 2. Basic Info'!$E$29*'Step 3. Lease Payments'!D490,0))","v":""},null,"",""]
[null,{"$f":"IF(C490<'Step 2. Basic Info'!$E$12,B490+1,\"\")","v":""},{"$f":"VLOOKUP(B491,'Output OP Lease Amort'!A:B,2,)","v":""},null,{"$f":"IF(B491=\"\",\"\",IF(D491>0,'Step 2. Basic Info'!$E$29*'Step 3. Lease Payments'!D491,0))","v":""},null,"",""]
[null,{"$f":"IF(C491<'Step 2. Basic Info'!$E$12,B491+1,\"\")","v":""},{"$f":"VLOOKUP(B492,'Output OP Lease Amort'!A:B,2,)","v":""},null,{"$f":"IF(B492=\"\",\"\",IF(D492>0,'Step 2. Basic Info'!$E$29*'Step 3. Lease Payments'!D492,0))","v":""},null,"",""]
[null,{"$f":"IF(C492<'Step 2. Basic Info'!$E$12,B492+1,\"\")","v":""},{"$f":"VLOOKUP(B493,'Output OP Lease Amort'!A:B,2,)","v":""},null,{"$f":"IF(B493=\"\",\"\",IF(D493>0,'Step 2. Basic Info'!$E$29*'Step 3. Lease Payments'!D493,0))","v":""},null,"",""]
[null,{"$f":"IF(C493<'Step 2. Basic Info'!$E$12,B493+1,\"\")","v":""},{"$f":"VLOOKUP(B494,'Output OP Lease Amort'!A:B,2,)","v":""},null,{"$f":"IF(B494=\"\",\"\",IF(D494>0,'Step 2. Basic Info'!$E$29*'Step 3. Lease Payments'!D494,0))","v":""},null,"",""]
[null,{"$f":"IF(C494<'Step 2. Basic Info'!$E$12,B494+1,\"\")","v":""},{"$f":"VLOOKUP(B495,'Output OP Lease Amort'!A:B,2,)","v":""},null,{"$f":"IF(B495=\"\",\"\",IF(D495>0,'Step 2. Basic Info'!$E$29*'Step 3. Lease Payments'!D495,0))","v":""},null,"",""]
[null,{"$f":"IF(C495<'Step 2. Basic Info'!$E$12,B495+1,\"\")","v":""},{"$f":"VLOOKUP(B496,'Output OP Lease Amort'!A:B,2,)","v":""},null,{"$f":"IF(B496=\"\",\"\",IF(D496>0,'Step 2. Basic Info'!$E$29*'Step 3. Lease Payments'!D496,0))","v":""},null,"",""]
[null,{"$f":"IF(C496<'Step 2. Basic Info'!$E$12,B496+1,\"\")","v":""},{"$f":"VLOOKUP(B497,'Output OP Lease Amort'!A:B,2,)","v":""},null,{"$f":"IF(B497=\"\",\"\",IF(D497>0,'Step 2. Basic Info'!$E$29*'Step 3. Lease Payments'!D497,0))","v":""},null,"",""]
[null,{"$f":"IF(C497<'Step 2. Basic Info'!$E$12,B497+1,\"\")","v":""},{"$f":"VLOOKUP(B498,'Output OP Lease Amort'!A:B,2,)","v":""},null,{"$f":"IF(B498=\"\",\"\",IF(D498>0,'Step 2. Basic Info'!$E$29*'Step 3. Lease Payments'!D498,0))","v":""},null,"",""]
[null,{"$f":"IF(C498<'Step 2. Basic Info'!$E$12,B498+1,\"\")","v":""},{"$f":"VLOOKUP(B499,'Output OP Lease Amort'!A:B,2,)","v":""},null,{"$f":"IF(B499=\"\",\"\",IF(D499>0,'Step 2. Basic Info'!$E$29*'Step 3. Lease Payments'!D499,0))","v":""},null,"",""]
[null,{"$f":"IF(C499<'Step 2. Basic Info'!$E$12,B499+1,\"\")","v":""},{"$f":"VLOOKUP(B500,'Output OP Lease Amort'!A:B,2,)","v":""},null,{"$f":"IF(B500=\"\",\"\",IF(D500>0,'Step 2. Basic Info'!$E$29*'Step 3. Lease Payments'!D500,0))","v":""},null,"",""]
[null,{"$f":"IF(C500<'Step 2. Basic Info'!$E$12,B500+1,\"\")","v":""},{"$f":"VLOOKUP(B501,'Output OP Lease Amort'!A:B,2,)","v":""},null,{"$f":"IF(B501=\"\",\"\",IF(D501>0,'Step 2. Basic Info'!$E$29*'Step 3. Lease Payments'!D501,0))","v":""},null,"",""]
[null,{"$f":"IF(C501<'Step 2. Basic Info'!$E$12,B501+1,\"\")","v":""},{"$f":"VLOOKUP(B502,'Output OP Lease Amort'!A:B,2,)","v":""},null,{"$f":"IF(B502=\"\",\"\",IF(D502>0,'Step 2. Basic Info'!$E$29*'Step 3. Lease Payments'!D502,0))","v":""},null,"",""]
[null,{"$f":"IF(C502<'Step 2. Basic Info'!$E$12,B502+1,\"\")","v":""},{"$f":"VLOOKUP(B503,'Output OP Lease Amort'!A:B,2,)","v":""},null,{"$f":"IF(B503=\"\",\"\",IF(D503>0,'Step 2. Basic Info'!$E$29*'Step 3. Lease Payments'!D503,0))","v":""},null,"",""]
[null,{"$f":"IF(C503<'Step 2. Basic Info'!$E$12,B503+1,\"\")","v":""},{"$f":"VLOOKUP(B504,'Output OP Lease Amort'!A:B,2,)","v":""},null,{"$f":"IF(B504=\"\",\"\",IF(D504>0,'Step 2. Basic Info'!$E$29*'Step 3. Lease Payments'!D504,0))","v":""},null,"",""]
[null,{"$f":"IF(C504<'Step 2. Basic Info'!$E$12,B504+1,\"\")","v":""},{"$f":"VLOOKUP(B505,'Output OP Lease Amort'!A:B,2,)","v":""},null,{"$f":"IF(B505=\"\",\"\",IF(D505>0,'Step 2. Basic Info'!$E$29*'Step 3. Lease Payments'!D505,0))","v":""},null,"",""]
[null,{"$f":"IF(C505<'Step 2. Basic Info'!$E$12,B505+1,\"\")","v":""},{"$f":"VLOOKUP(B506,'Output OP Lease Amort'!A:B,2,)","v":""},null,{"$f":"IF(B506=\"\",\"\",IF(D506>0,'Step 2. Basic Info'!$E$29*'Step 3. Lease Payments'!D506,0))","v":""},null,"",""]
[null,{"$f":"IF(C506<'Step 2. Basic Info'!$E$12,B506+1,\"\")","v":""},{"$f":"VLOOKUP(B507,'Output OP Lease Amort'!A:B,2,)","v":""},null,{"$f":"IF(B507=\"\",\"\",IF(D507>0,'Step 2. Basic Info'!$E$29*'Step 3. Lease Payments'!D507,0))","v":""},null,"",""]
[null,{"$f":"IF(C507<'Step 2. Basic Info'!$E$12,B507+1,\"\")","v":""},{"$f":"VLOOKUP(B508,'Output OP Lease Amort'!A:B,2,)","v":""},null,{"$f":"IF(B508=\"\",\"\",IF(D508>0,'Step 2. Basic Info'!$E$29*'Step 3. Lease Payments'!D508,0))","v":""},null,"",""]
[null,{"$f":"IF(C508<'Step 2. Basic Info'!$E$12,B508+1,\"\")","v":""},{"$f":"VLOOKUP(B509,'Output OP Lease Amort'!A:B,2,)","v":""},null,{"$f":"IF(B509=\"\",\"\",IF(D509>0,'Step 2. Basic Info'!$E$29*'Step 3. Lease Payments'!D509,0))","v":""},null,"",""]
[null,{"$f":"IF(C509<'Step 2. Basic Info'!$E$12,B509+1,\"\")","v":""},{"$f":"VLOOKUP(B510,'Output OP Lease Amort'!A:B,2,)","v":""},null,{"$f":"IF(B510=\"\",\"\",IF(D510>0,'Step 2. Basic Info'!$E$29*'Step 3. Lease Payments'!D510,0))","v":""},null,"",""]
[null,{"$f":"IF(C510<'Step 2. Basic Info'!$E$12,B510+1,\"\")","v":""},{"$f":"VLOOKUP(B511,'Output OP Lease Amort'!A:B,2,)","v":""},null,{"$f":"IF(B511=\"\",\"\",IF(D511>0,'Step 2. Basic Info'!$E$29*'Step 3. Lease Payments'!D511,0))","v":""},null,"",""]
[null,{"$f":"IF(C511<'Step 2. Basic Info'!$E$12,B511+1,\"\")","v":""},{"$f":"VLOOKUP(B512,'Output OP Lease Amort'!A:B,2,)","v":""},null,{"$f":"IF(B512=\"\",\"\",IF(D512>0,'Step 2. Basic Info'!$E$29*'Step 3. Lease Payments'!D512,0))","v":""},null,"",""]
[null,{"$f":"IF(C512<'Step 2. Basic Info'!$E$12,B512+1,\"\")","v":""},{"$f":"VLOOKUP(B513,'Output OP Lease Amort'!A:B,2,)","v":""},null,{"$f":"IF(B513=\"\",\"\",IF(D513>0,'Step 2. Basic Info'!$E$29*'Step 3. Lease Payments'!D513,0))","v":""},null,"",""]
[null,{"$f":"IF(C513<'Step 2. Basic Info'!$E$12,B513+1,\"\")","v":""},{"$f":"VLOOKUP(B514,'Output OP Lease Amort'!A:B,2,)","v":""},null,{"$f":"IF(B514=\"\",\"\",IF(D514>0,'Step 2. Basic Info'!$E$29*'Step 3. Lease Payments'!D514,0))","v":""},null,"",""]
[null,{"$f":"IF(C514<'Step 2. Basic Info'!$E$12,B514+1,\"\")","v":""},{"$f":"VLOOKUP(B515,'Output OP Lease Amort'!A:B,2,)","v":""},null,{"$f":"IF(B515=\"\",\"\",IF(D515>0,'Step 2. Basic Info'!$E$29*'Step 3. Lease Payments'!D515,0))","v":""},null,"",""]
[null,{"$f":"IF(C515<'Step 2. Basic Info'!$E$12,B515+1,\"\")","v":""},{"$f":"VLOOKUP(B516,'Output OP Lease Amort'!A:B,2,)","v":""},null,{"$f":"IF(B516=\"\",\"\",IF(D516>0,'Step 2. Basic Info'!$E$29*'Step 3. Lease Payments'!D516,0))","v":""},null,"",""]
[null,{"$f":"IF(C516<'Step 2. Basic Info'!$E$12,B516+1,\"\")","v":""},{"$f":"VLOOKUP(B517,'Output OP Lease Amort'!A:B,2,)","v":""},null,{"$f":"IF(B517=\"\",\"\",IF(D517>0,'Step 2. Basic Info'!$E$29*'Step 3. Lease Payments'!D517,0))","v":""},null,"",""]
[null,{"$f":"IF(C517<'Step 2. Basic Info'!$E$12,B517+1,\"\")","v":""},{"$f":"VLOOKUP(B518,'Output OP Lease Amort'!A:B,2,)","v":""},null,{"$f":"IF(B518=\"\",\"\",IF(D518>0,'Step 2. Basic Info'!$E$29*'Step 3. Lease Payments'!D518,0))","v":""},null,"",""]
[null,{"$f":"IF(C518<'Step 2. Basic Info'!$E$12,B518+1,\"\")","v":""},{"$f":"VLOOKUP(B519,'Output OP Lease Amort'!A:B,2,)","v":""},null,{"$f":"IF(B519=\"\",\"\",IF(D519>0,'Step 2. Basic Info'!$E$29*'Step 3. Lease Payments'!D519,0))","v":""},null,"",""]
[null,{"$f":"IF(C519<'Step 2. Basic Info'!$E$12,B519+1,\"\")","v":""},{"$f":"VLOOKUP(B520,'Output OP Lease Amort'!A:B,2,)","v":""},null,{"$f":"IF(B520=\"\",\"\",IF(D520>0,'Step 2. Basic Info'!$E$29*'Step 3. Lease Payments'!D520,0))","v":""},null,"",""]
[null,{"$f":"IF(C520<'Step 2. Basic Info'!$E$12,B520+1,\"\")","v":""},{"$f":"VLOOKUP(B521,'Output OP Lease Amort'!A:B,2,)","v":""},null,{"$f":"IF(B521=\"\",\"\",IF(D521>0,'Step 2. Basic Info'!$E$29*'Step 3. Lease Payments'!D521,0))","v":""},null,"",""]
[null,{"$f":"IF(C521<'Step 2. Basic Info'!$E$12,B521+1,\"\")","v":""},{"$f":"VLOOKUP(B522,'Output OP Lease Amort'!A:B,2,)","v":""},null,{"$f":"IF(B522=\"\",\"\",IF(D522>0,'Step 2. Basic Info'!$E$29*'Step 3. Lease Payments'!D522,0))","v":""},null,"",""]
[null,{"$f":"IF(C522<'Step 2. Basic Info'!$E$12,B522+1,\"\")","v":""},{"$f":"VLOOKUP(B523,'Output OP Lease Amort'!A:B,2,)","v":""},null,{"$f":"IF(B523=\"\",\"\",IF(D523>0,'Step 2. Basic Info'!$E$29*'Step 3. Lease Payments'!D523,0))","v":""},null,{"$f":"IF(B523=\"\",\"\",IFERROR(E523+F523,0))","v":""},{"$f":"IF(G523 = \"\",\"\",-PV($G$8,B523,,G523,))","v":""}]
[null,{"$f":"IF(C523<'Step 2. Basic Info'!$E$12,B523+1,\"\")","v":""},{"$f":"VLOOKUP(B524,'Output OP Lease Amort'!A:B,2,)","v":""},null,{"$f":"IF(B524=\"\",\"\",IF(D524>0,'Step 2. Basic Info'!$E$29*'Step 3. Lease Payments'!D524,0))","v":""},null,"",""]
[null,{"$f":"IF(C524<'Step 2. Basic Info'!$E$12,B524+1,\"\")","v":""},{"$f":"VLOOKUP(B525,'Output OP Lease Amort'!A:B,2,)","v":""},null,{"$f":"IF(B525=\"\",\"\",IF(D525>0,'Step 2. Basic Info'!$E$29*'Step 3. Lease Payments'!D525,0))","v":""},null,"",""]
[null,{"$f":"IF(C525<'Step 2. Basic Info'!$E$12,B525+1,\"\")","v":""},{"$f":"VLOOKUP(B526,'Output OP Lease Amort'!A:B,2,)","v":""},null,{"$f":"IF(B526=\"\",\"\",IF(D526>0,'Step 2. Basic Info'!$E$29*'Step 3. Lease Payments'!D526,0))","v":""},null,"",""]
[null,{"$f":"IF(C526<'Step 2. Basic Info'!$E$12,B526+1,\"\")","v":""},{"$f":"VLOOKUP(B527,'Output OP Lease Amort'!A:B,2,)","v":""},null,{"$f":"IF(B527=\"\",\"\",IF(D527>0,'Step 2. Basic Info'!$E$29*'Step 3. Lease Payments'!D527,0))","v":""},null,"",""]
[null,{"$f":"IF(C527<'Step 2. Basic Info'!$E$12,B527+1,\"\")","v":""},{"$f":"VLOOKUP(B528,'Output OP Lease Amort'!A:B,2,)","v":""},null,{"$f":"IF(B528=\"\",\"\",IF(D528>0,'Step 2. Basic Info'!$E$29*'Step 3. Lease Payments'!D528,0))","v":""},null,"",""]
[null,{"$f":"IF(C528<'Step 2. Basic Info'!$E$12,B528+1,\"\")","v":""},{"$f":"VLOOKUP(B529,'Output OP Lease Amort'!A:B,2,)","v":""},null,{"$f":"IF(B529=\"\",\"\",IF(D529>0,'Step 2. Basic Info'!$E$29*'Step 3. Lease Payments'!D529,0))","v":""},null,"",""]
[null,{"$f":"IF(C529<'Step 2. Basic Info'!$E$12,B529+1,\"\")","v":""},{"$f":"VLOOKUP(B530,'Output OP Lease Amort'!A:B,2,)","v":""},null,{"$f":"IF(B530=\"\",\"\",IF(D530>0,'Step 2. Basic Info'!$E$29*'Step 3. Lease Payments'!D530,0))","v":""},null,"",""]
[null,{"$f":"IF(C530<'Step 2. Basic Info'!$E$12,B530+1,\"\")","v":""},{"$f":"VLOOKUP(B531,'Output OP Lease Amort'!A:B,2,)","v":""},null,{"$f":"IF(B531=\"\",\"\",IF(D531>0,'Step 2. Basic Info'!$E$29*'Step 3. Lease Payments'!D531,0))","v":""},null,"",""]
[null,{"$f":"IF(C531<'Step 2. Basic Info'!$E$12,B531+1,\"\")","v":""},{"$f":"VLOOKUP(B532,'Output OP Lease Amort'!A:B,2,)","v":""},null,{"$f":"IF(B532=\"\",\"\",IF(D532>0,'Step 2. Basic Info'!$E$29*'Step 3. Lease Payments'!D532,0))","v":""},null,"",""]
[null,{"$f":"IF(C532<'Step 2. Basic Info'!$E$12,B532+1,\"\")","v":""},{"$f":"VLOOKUP(B533,'Output OP Lease Amort'!A:B,2,)","v":""},null,{"$f":"IF(B533=\"\",\"\",IF(D533>0,'Step 2. Basic Info'!$E$29*'Step 3. Lease Payments'!D533,0))","v":""},null,"",""]
[null,{"$f":"IF(C533<'Step 2. Basic Info'!$E$12,B533+1,\"\")","v":""},{"$f":"VLOOKUP(B534,'Output OP Lease Amort'!A:B,2,)","v":""},null,{"$f":"IF(B534=\"\",\"\",IF(D534>0,'Step 2. Basic Info'!$E$29*'Step 3. Lease Payments'!D534,0))","v":""},null,"",""]
[null,{"$f":"IF(C534<'Step 2. Basic Info'!$E$12,B534+1,\"\")","v":""},{"$f":"VLOOKUP(B535,'Output OP Lease Amort'!A:B,2,)","v":""},null,{"$f":"IF(B535=\"\",\"\",IF(D535>0,'Step 2. Basic Info'!$E$29*'Step 3. Lease Payments'!D535,0))","v":""},null,"",""]
[null,{"$f":"IF(C535<'Step 2. Basic Info'!$E$12,B535+1,\"\")","v":""},{"$f":"VLOOKUP(B536,'Output OP Lease Amort'!A:B,2,)","v":""},null,{"$f":"IF(B536=\"\",\"\",IF(D536>0,'Step 2. Basic Info'!$E$29*'Step 3. Lease Payments'!D536,0))","v":""},null,"",""]
[null,{"$f":"IF(C536<'Step 2. Basic Info'!$E$12,B536+1,\"\")","v":""},{"$f":"VLOOKUP(B537,'Output OP Lease Amort'!A:B,2,)","v":""},null,{"$f":"IF(B537=\"\",\"\",IF(D537>0,'Step 2. Basic Info'!$E$29*'Step 3. Lease Payments'!D537,0))","v":""},null,"",""]
[null,{"$f":"IF(C537<'Step 2. Basic Info'!$E$12,B537+1,\"\")","v":""},{"$f":"VLOOKUP(B538,'Output OP Lease Amort'!A:B,2,)","v":""},null,{"$f":"IF(B538=\"\",\"\",IF(D538>0,'Step 2. Basic Info'!$E$29*'Step 3. Lease Payments'!D538,0))","v":""},null,"",""]
[null,{"$f":"IF(C538<'Step 2. Basic Info'!$E$12,B538+1,\"\")","v":""},{"$f":"VLOOKUP(B539,'Output OP Lease Amort'!A:B,2,)","v":""},null,{"$f":"IF(B539=\"\",\"\",IF(D539>0,'Step 2. Basic Info'!$E$29*'Step 3. Lease Payments'!D539,0))","v":""},null,"",""]
[null,{"$f":"IF(C539<'Step 2. Basic Info'!$E$12,B539+1,\"\")","v":""},{"$f":"VLOOKUP(B540,'Output OP Lease Amort'!A:B,2,)","v":""},null,{"$f":"IF(B540=\"\",\"\",IF(D540>0,'Step 2. Basic Info'!$E$29*'Step 3. Lease Payments'!D540,0))","v":""},null,"",""]
[null,{"$f":"IF(C540<'Step 2. Basic Info'!$E$12,B540+1,\"\")","v":""},{"$f":"VLOOKUP(B541,'Output OP Lease Amort'!A:B,2,)","v":""},null,{"$f":"IF(B541=\"\",\"\",IF(D541>0,'Step 2. Basic Info'!$E$29*'Step 3. Lease Payments'!D541,0))","v":""},null,"",""]
[null,{"$f":"IF(C541<'Step 2. Basic Info'!$E$12,B541+1,\"\")","v":""},{"$f":"VLOOKUP(B542,'Output OP Lease Amort'!A:B,2,)","v":""},null,{"$f":"IF(B542=\"\",\"\",IF(D542>0,'Step 2. Basic Info'!$E$29*'Step 3. Lease Payments'!D542,0))","v":""},null,"",""]
[null,{"$f":"IF(C542<'Step 2. Basic Info'!$E$12,B542+1,\"\")","v":""},{"$f":"VLOOKUP(B543,'Output OP Lease Amort'!A:B,2,)","v":""},null,{"$f":"IF(B543=\"\",\"\",IF(D543>0,'Step 2. Basic Info'!$E$29*'Step 3. Lease Payments'!D543,0))","v":""},null,"",""]
[null,{"$f":"IF(C543<'Step 2. Basic Info'!$E$12,B543+1,\"\")","v":""},{"$f":"VLOOKUP(B544,'Output OP Lease Amort'!A:B,2,)","v":""},null,{"$f":"IF(B544=\"\",\"\",IF(D544>0,'Step 2. Basic Info'!$E$29*'Step 3. Lease Payments'!D544,0))","v":""},null,"",""]
[null,{"$f":"IF(C544<'Step 2. Basic Info'!$E$12,B544+1,\"\")","v":""},{"$f":"VLOOKUP(B545,'Output OP Lease Amort'!A:B,2,)","v":""},null,{"$f":"IF(B545=\"\",\"\",IF(D545>0,'Step 2. Basic Info'!$E$29*'Step 3. Lease Payments'!D545,0))","v":""},null,"",""]
[null,{"$f":"IF(C545<'Step 2. Basic Info'!$E$12,B545+1,\"\")","v":""},{"$f":"VLOOKUP(B546,'Output OP Lease Amort'!A:B,2,)","v":""},null,{"$f":"IF(B546=\"\",\"\",IF(D546>0,'Step 2. Basic Info'!$E$29*'Step 3. Lease Payments'!D546,0))","v":""},null,"",""]
[null,{"$f":"IF(C546<'Step 2. Basic Info'!$E$12,B546+1,\"\")","v":""},{"$f":"VLOOKUP(B547,'Output OP Lease Amort'!A:B,2,)","v":""},null,{"$f":"IF(B547=\"\",\"\",IF(D547>0,'Step 2. Basic Info'!$E$29*'Step 3. Lease Payments'!D547,0))","v":""},null,"",""]
[null,{"$f":"IF(C547<'Step 2. Basic Info'!$E$12,B547+1,\"\")","v":""},{"$f":"VLOOKUP(B548,'Output OP Lease Amort'!A:B,2,)","v":""},null,{"$f":"IF(B548=\"\",\"\",IF(D548>0,'Step 2. Basic Info'!$E$29*'Step 3. Lease Payments'!D548,0))","v":""},null,"",""]
[null,{"$f":"IF(C548<'Step 2. Basic Info'!$E$12,B548+1,\"\")","v":""},{"$f":"VLOOKUP(B549,'Output OP Lease Amort'!A:B,2,)","v":""},null,{"$f":"IF(B549=\"\",\"\",IF(D549>0,'Step 2. Basic Info'!$E$29*'Step 3. Lease Payments'!D549,0))","v":""},null,"",""]
[null,{"$f":"IF(C549<'Step 2. Basic Info'!$E$12,B549+1,\"\")","v":""},{"$f":"VLOOKUP(B550,'Output OP Lease Amort'!A:B,2,)","v":""},null,{"$f":"IF(B550=\"\",\"\",IF(D550>0,'Step 2. Basic Info'!$E$29*'Step 3. Lease Payments'!D550,0))","v":""},null,"",""]
[null,{"$f":"IF(C550<'Step 2. Basic Info'!$E$12,B550+1,\"\")","v":""},{"$f":"VLOOKUP(B551,'Output OP Lease Amort'!A:B,2,)","v":""},null,{"$f":"IF(B551=\"\",\"\",IF(D551>0,'Step 2. Basic Info'!$E$29*'Step 3. Lease Payments'!D551,0))","v":""},null,"",""]
[null,{"$f":"IF(C551<'Step 2. Basic Info'!$E$12,B551+1,\"\")","v":""},{"$f":"VLOOKUP(B552,'Output OP Lease Amort'!A:B,2,)","v":""},null,{"$f":"IF(B552=\"\",\"\",IF(D552>0,'Step 2. Basic Info'!$E$29*'Step 3. Lease Payments'!D552,0))","v":""},null,"",""]
[null,{"$f":"IF(C552<'Step 2. Basic Info'!$E$12,B552+1,\"\")","v":""},{"$f":"VLOOKUP(B553,'Output OP Lease Amort'!A:B,2,)","v":""},null,{"$f":"IF(B553=\"\",\"\",IF(D553>0,'Step 2. Basic Info'!$E$29*'Step 3. Lease Payments'!D553,0))","v":""},null,"",""]
[null,{"$f":"IF(C553<'Step 2. Basic Info'!$E$12,B553+1,\"\")","v":""},{"$f":"VLOOKUP(B554,'Output OP Lease Amort'!A:B,2,)","v":""},null,{"$f":"IF(B554=\"\",\"\",IF(D554>0,'Step 2. Basic Info'!$E$29*'Step 3. Lease Payments'!D554,0))","v":""},null,"",""]
[null,{"$f":"IF(C554<'Step 2. Basic Info'!$E$12,B554+1,\"\")","v":""},{"$f":"VLOOKUP(B555,'Output OP Lease Amort'!A:B,2,)","v":""},null,{"$f":"IF(B555=\"\",\"\",IF(D555>0,'Step 2. Basic Info'!$E$29*'Step 3. Lease Payments'!D555,0))","v":""},null,"",""]
[null,{"$f":"IF(C555<'Step 2. Basic Info'!$E$12,B555+1,\"\")","v":""},{"$f":"VLOOKUP(B556,'Output OP Lease Amort'!A:B,2,)","v":""},null,{"$f":"IF(B556=\"\",\"\",IF(D556>0,'Step 2. Basic Info'!$E$29*'Step 3. Lease Payments'!D556,0))","v":""},null,"",""]
[null,{"$f":"IF(C556<'Step 2. Basic Info'!$E$12,B556+1,\"\")","v":""},{"$f":"VLOOKUP(B557,'Output OP Lease Amort'!A:B,2,)","v":""},null,{"$f":"IF(B557=\"\",\"\",IF(D557>0,'Step 2. Basic Info'!$E$29*'Step 3. Lease Payments'!D557,0))","v":""},null,"",""]
[null,{"$f":"IF(C557<'Step 2. Basic Info'!$E$12,B557+1,\"\")","v":""},{"$f":"VLOOKUP(B558,'Output OP Lease Amort'!A:B,2,)","v":""},null,{"$f":"IF(B558=\"\",\"\",IF(D558>0,'Step 2. Basic Info'!$E$29*'Step 3. Lease Payments'!D558,0))","v":""},null,"",""]
[null,{"$f":"IF(C558<'Step 2. Basic Info'!$E$12,B558+1,\"\")","v":""},{"$f":"VLOOKUP(B559,'Output OP Lease Amort'!A:B,2,)","v":""},null,{"$f":"IF(B559=\"\",\"\",IF(D559>0,'Step 2. Basic Info'!$E$29*'Step 3. Lease Payments'!D559,0))","v":""},null,"",""]
[null,{"$f":"IF(C559<'Step 2. Basic Info'!$E$12,B559+1,\"\")","v":""},{"$f":"VLOOKUP(B560,'Output OP Lease Amort'!A:B,2,)","v":""},null,{"$f":"IF(B560=\"\",\"\",IF(D560>0,'Step 2. Basic Info'!$E$29*'Step 3. Lease Payments'!D560,0))","v":""},null,"",""]
[null,{"$f":"IF(C560<'Step 2. Basic Info'!$E$12,B560+1,\"\")","v":""},{"$f":"VLOOKUP(B561,'Output OP Lease Amort'!A:B,2,)","v":""},null,{"$f":"IF(B561=\"\",\"\",IF(D561>0,'Step 2. Basic Info'!$E$29*'Step 3. Lease Payments'!D561,0))","v":""},null,"",""]
[null,{"$f":"IF(C561<'Step 2. Basic Info'!$E$12,B561+1,\"\")","v":""},{"$f":"VLOOKUP(B562,'Output OP Lease Amort'!A:B,2,)","v":""},null,{"$f":"IF(B562=\"\",\"\",IF(D562>0,'Step 2. Basic Info'!$E$29*'Step 3. Lease Payments'!D562,0))","v":""},null,"",""]
[null,{"$f":"IF(C562<'Step 2. Basic Info'!$E$12,B562+1,\"\")","v":""},{"$f":"VLOOKUP(B563,'Output OP Lease Amort'!A:B,2,)","v":""},null,{"$f":"IF(B563=\"\",\"\",IF(D563>0,'Step 2. Basic Info'!$E$29*'Step 3. Lease Payments'!D563,0))","v":""},null,"",""]
[null,{"$f":"IF(C563<'Step 2. Basic Info'!$E$12,B563+1,\"\")","v":""},{"$f":"VLOOKUP(B564,'Output OP Lease Amort'!A:B,2,)","v":""},null,{"$f":"IF(B564=\"\",\"\",IF(D564>0,'Step 2. Basic Info'!$E$29*'Step 3. Lease Payments'!D564,0))","v":""},null,"",""]
[null,{"$f":"IF(C564<'Step 2. Basic Info'!$E$12,B564+1,\"\")","v":""},{"$f":"VLOOKUP(B565,'Output OP Lease Amort'!A:B,2,)","v":""},null,{"$f":"IF(B565=\"\",\"\",IF(D565>0,'Step 2. Basic Info'!$E$29*'Step 3. Lease Payments'!D565,0))","v":""},null,"",""]
[null,{"$f":"IF(C565<'Step 2. Basic Info'!$E$12,B565+1,\"\")","v":""},{"$f":"VLOOKUP(B566,'Output OP Lease Amort'!A:B,2,)","v":""},null,{"$f":"IF(B566=\"\",\"\",IF(D566>0,'Step 2. Basic Info'!$E$29*'Step 3. Lease Payments'!D566,0))","v":""},null,"",""]
[null,{"$f":"IF(C566<'Step 2. Basic Info'!$E$12,B566+1,\"\")","v":""},{"$f":"VLOOKUP(B567,'Output OP Lease Amort'!A:B,2,)","v":""},null,{"$f":"IF(B567=\"\",\"\",IF(D567>0,'Step 2. Basic Info'!$E$29*'Step 3. Lease Payments'!D567,0))","v":""},null,"",""]
[null,{"$f":"IF(C567<'Step 2. Basic Info'!$E$12,B567+1,\"\")","v":""},{"$f":"VLOOKUP(B568,'Output OP Lease Amort'!A:B,2,)","v":""},null,{"$f":"IF(B568=\"\",\"\",IF(D568>0,'Step 2. Basic Info'!$E$29*'Step 3. Lease Payments'!D568,0))","v":""},null,"",""]
[null,{"$f":"IF(C568<'Step 2. Basic Info'!$E$12,B568+1,\"\")","v":""},{"$f":"VLOOKUP(B569,'Output OP Lease Amort'!A:B,2,)","v":""},null,{"$f":"IF(B569=\"\",\"\",IF(D569>0,'Step 2. Basic Info'!$E$29*'Step 3. Lease Payments'!D569,0))","v":""},null,"",""]
[null,{"$f":"IF(C569<'Step 2. Basic Info'!$E$12,B569+1,\"\")","v":""},{"$f":"VLOOKUP(B570,'Output OP Lease Amort'!A:B,2,)","v":""},null,{"$f":"IF(B570=\"\",\"\",IF(D570>0,'Step 2. Basic Info'!$E$29*'Step 3. Lease Payments'!D570,0))","v":""},null,"",""]
[null,{"$f":"IF(C570<'Step 2. Basic Info'!$E$12,B570+1,\"\")","v":""},{"$f":"VLOOKUP(B571,'Output OP Lease Amort'!A:B,2,)","v":""},null,{"$f":"IF(B571=\"\",\"\",IF(D571>0,'Step 2. Basic Info'!$E$29*'Step 3. Lease Payments'!D571,0))","v":""},null,"",""]
[null,{"$f":"IF(C571<'Step 2. Basic Info'!$E$12,B571+1,\"\")","v":""},{"$f":"VLOOKUP(B572,'Output OP Lease Amort'!A:B,2,)","v":""},null,{"$f":"IF(B572=\"\",\"\",IF(D572>0,'Step 2. Basic Info'!$E$29*'Step 3. Lease Payments'!D572,0))","v":""},null,"",""]
[null,{"$f":"IF(C572<'Step 2. Basic Info'!$E$12,B572+1,\"\")","v":""},{"$f":"VLOOKUP(B573,'Output OP Lease Amort'!A:B,2,)","v":""},null,{"$f":"IF(B573=\"\",\"\",IF(D573>0,'Step 2. Basic Info'!$E$29*'Step 3. Lease Payments'!D573,0))","v":""},null,"",""]
[null,{"$f":"IF(C573<'Step 2. Basic Info'!$E$12,B573+1,\"\")","v":""},{"$f":"VLOOKUP(B574,'Output OP Lease Amort'!A:B,2,)","v":""},null,{"$f":"IF(B574=\"\",\"\",IF(D574>0,'Step 2. Basic Info'!$E$29*'Step 3. Lease Payments'!D574,0))","v":""},null,"",""]
[null,{"$f":"IF(C574<'Step 2. Basic Info'!$E$12,B574+1,\"\")","v":""},{"$f":"VLOOKUP(B575,'Output OP Lease Amort'!A:B,2,)","v":""},null,{"$f":"IF(B575=\"\",\"\",IF(D575>0,'Step 2. Basic Info'!$E$29*'Step 3. Lease Payments'!D575,0))","v":""},null,"",""]
[null,{"$f":"IF(C575<'Step 2. Basic Info'!$E$12,B575+1,\"\")","v":""},{"$f":"VLOOKUP(B576,'Output OP Lease Amort'!A:B,2,)","v":""},null,{"$f":"IF(B576=\"\",\"\",IF(D576>0,'Step 2. Basic Info'!$E$29*'Step 3. Lease Payments'!D576,0))","v":""},null,"",""]
[null,{"$f":"IF(C576<'Step 2. Basic Info'!$E$12,B576+1,\"\")","v":""},{"$f":"VLOOKUP(B577,'Output OP Lease Amort'!A:B,2,)","v":""},null,{"$f":"IF(B577=\"\",\"\",IF(D577>0,'Step 2. Basic Info'!$E$29*'Step 3. Lease Payments'!D577,0))","v":""},null,"",""]
[null,{"$f":"IF(C577<'Step 2. Basic Info'!$E$12,B577+1,\"\")","v":""},{"$f":"VLOOKUP(B578,'Output OP Lease Amort'!A:B,2,)","v":""},null,{"$f":"IF(B578=\"\",\"\",IF(D578>0,'Step 2. Basic Info'!$E$29*'Step 3. Lease Payments'!D578,0))","v":""},null,"",""]
[null,{"$f":"IF(C578<'Step 2. Basic Info'!$E$12,B578+1,\"\")","v":""},{"$f":"VLOOKUP(B579,'Output OP Lease Amort'!A:B,2,)","v":""},null,{"$f":"IF(B579=\"\",\"\",IF(D579>0,'Step 2. Basic Info'!$E$29*'Step 3. Lease Payments'!D579,0))","v":""},null,"",""]
[null,{"$f":"IF(C579<'Step 2. Basic Info'!$E$12,B579+1,\"\")","v":""},{"$f":"VLOOKUP(B580,'Output OP Lease Amort'!A:B,2,)","v":""},null,{"$f":"IF(B580=\"\",\"\",IF(D580>0,'Step 2. Basic Info'!$E$29*'Step 3. Lease Payments'!D580,0))","v":""},null,"",""]
[null,{"$f":"IF(C580<'Step 2. Basic Info'!$E$12,B580+1,\"\")","v":""},{"$f":"VLOOKUP(B581,'Output OP Lease Amort'!A:B,2,)","v":""},null,{"$f":"IF(B581=\"\",\"\",IF(D581>0,'Step 2. Basic Info'!$E$29*'Step 3. Lease Payments'!D581,0))","v":""},null,"",""]
[null,{"$f":"IF(C581<'Step 2. Basic Info'!$E$12,B581+1,\"\")","v":""},{"$f":"VLOOKUP(B582,'Output OP Lease Amort'!A:B,2,)","v":""},null,{"$f":"IF(B582=\"\",\"\",IF(D582>0,'Step 2. Basic Info'!$E$29*'Step 3. Lease Payments'!D582,0))","v":""},null,"",""]
[null,{"$f":"IF(C582<'Step 2. Basic Info'!$E$12,B582+1,\"\")","v":""},{"$f":"VLOOKUP(B583,'Output OP Lease Amort'!A:B,2,)","v":""},null,{"$f":"IF(B583=\"\",\"\",IF(D583>0,'Step 2. Basic Info'!$E$29*'Step 3. Lease Payments'!D583,0))","v":""},null,"",""]
[null,{"$f":"IF(C583<'Step 2. Basic Info'!$E$12,B583+1,\"\")","v":""},{"$f":"VLOOKUP(B584,'Output OP Lease Amort'!A:B,2,)","v":""},null,{"$f":"IF(B584=\"\",\"\",IF(D584>0,'Step 2. Basic Info'!$E$29*'Step 3. Lease Payments'!D584,0))","v":""},null,"",""]
[null,{"$f":"IF(C584<'Step 2. Basic Info'!$E$12,B584+1,\"\")","v":""},{"$f":"VLOOKUP(B585,'Output OP Lease Amort'!A:B,2,)","v":""},null,{"$f":"IF(B585=\"\",\"\",IF(D585>0,'Step 2. Basic Info'!$E$29*'Step 3. Lease Payments'!D585,0))","v":""},null,"",""]
[null,{"$f":"IF(C585<'Step 2. Basic Info'!$E$12,B585+1,\"\")","v":""},{"$f":"VLOOKUP(B586,'Output OP Lease Amort'!A:B,2,)","v":""},null,{"$f":"IF(B586=\"\",\"\",IF(D586>0,'Step 2. Basic Info'!$E$29*'Step 3. Lease Payments'!D586,0))","v":""},null,"",""]
[null,{"$f":"IF(C586<'Step 2. Basic Info'!$E$12,B586+1,\"\")","v":""},{"$f":"VLOOKUP(B587,'Output OP Lease Amort'!A:B,2,)","v":""},null,{"$f":"IF(B587=\"\",\"\",IF(D587>0,'Step 2. Basic Info'!$E$29*'Step 3. Lease Payments'!D587,0))","v":""},null,{"$f":"IF(B587=\"\",\"\",IFERROR(E587+F587,0))","v":""},{"$f":"IF(G587 = \"\",\"\",-PV($G$8,B587,,G587,))","v":""}]
[null,{"$f":"IF(C587<'Step 2. Basic Info'!$E$12,B587+1,\"\")","v":""},{"$f":"VLOOKUP(B588,'Output OP Lease Amort'!A:B,2,)","v":""},null,{"$f":"IF(B588=\"\",\"\",IF(D588>0,'Step 2. Basic Info'!$E$29*'Step 3. Lease Payments'!D588,0))","v":""},null,"",""]
[null,{"$f":"IF(C588<'Step 2. Basic Info'!$E$12,B588+1,\"\")","v":""},{"$f":"VLOOKUP(B589,'Output OP Lease Amort'!A:B,2,)","v":""},null,{"$f":"IF(B589=\"\",\"\",IF(D589>0,'Step 2. Basic Info'!$E$29*'Step 3. Lease Payments'!D589,0))","v":""},null,"",""]
[null,{"$f":"IF(C589<'Step 2. Basic Info'!$E$12,B589+1,\"\")","v":""},{"$f":"VLOOKUP(B590,'Output OP Lease Amort'!A:B,2,)","v":""},null,{"$f":"IF(B590=\"\",\"\",IF(D590>0,'Step 2. Basic Info'!$E$29*'Step 3. Lease Payments'!D590,0))","v":""},null,"",""]
[null,{"$f":"IF(C590<'Step 2. Basic Info'!$E$12,B590+1,\"\")","v":""},{"$f":"VLOOKUP(B591,'Output OP Lease Amort'!A:B,2,)","v":""},null,{"$f":"IF(B591=\"\",\"\",IF(D591>0,'Step 2. Basic Info'!$E$29*'Step 3. Lease Payments'!D591,0))","v":""},null,"",""]
[null,{"$f":"IF(C591<'Step 2. Basic Info'!$E$12,B591+1,\"\")","v":""},{"$f":"VLOOKUP(B592,'Output OP Lease Amort'!A:B,2,)","v":""},null,{"$f":"IF(B592=\"\",\"\",IF(D592>0,'Step 2. Basic Info'!$E$29*'Step 3. Lease Payments'!D592,0))","v":""},null,"",""]
[null,{"$f":"IF(C592<'Step 2. Basic Info'!$E$12,B592+1,\"\")","v":""},{"$f":"VLOOKUP(B593,'Output OP Lease Amort'!A:B,2,)","v":""},null,{"$f":"IF(B593=\"\",\"\",IF(D593>0,'Step 2. Basic Info'!$E$29*'Step 3. Lease Payments'!D593,0))","v":""},null,"",""]
[null,{"$f":"IF(C593<'Step 2. Basic Info'!$E$12,B593+1,\"\")","v":""},{"$f":"VLOOKUP(B594,'Output OP Lease Amort'!A:B,2,)","v":""},null,{"$f":"IF(B594=\"\",\"\",IF(D594>0,'Step 2. Basic Info'!$E$29*'Step 3. Lease Payments'!D594,0))","v":""},null,"",""]
[null,{"$f":"IF(C594<'Step 2. Basic Info'!$E$12,B594+1,\"\")","v":""},{"$f":"VLOOKUP(B595,'Output OP Lease Amort'!A:B,2,)","v":""},null,{"$f":"IF(B595=\"\",\"\",IF(D595>0,'Step 2. Basic Info'!$E$29*'Step 3. Lease Payments'!D595,0))","v":""},null,"",""]
[null,{"$f":"IF(C595<'Step 2. Basic Info'!$E$12,B595+1,\"\")","v":""},{"$f":"VLOOKUP(B596,'Output OP Lease Amort'!A:B,2,)","v":""},null,{"$f":"IF(B596=\"\",\"\",IF(D596>0,'Step 2. Basic Info'!$E$29*'Step 3. Lease Payments'!D596,0))","v":""},null,"",""]
[null,{"$f":"IF(C596<'Step 2. Basic Info'!$E$12,B596+1,\"\")","v":""},{"$f":"VLOOKUP(B597,'Output OP Lease Amort'!A:B,2,)","v":""},null,{"$f":"IF(B597=\"\",\"\",IF(D597>0,'Step 2. Basic Info'!$E$29*'Step 3. Lease Payments'!D597,0))","v":""},null,"",""]
[null,{"$f":"IF(C597<'Step 2. Basic Info'!$E$12,B597+1,\"\")","v":""},{"$f":"VLOOKUP(B598,'Output OP Lease Amort'!A:B,2,)","v":""},null,{"$f":"IF(B598=\"\",\"\",IF(D598>0,'Step 2. Basic Info'!$E$29*'Step 3. Lease Payments'!D598,0))","v":""},null,"",""]
[null,{"$f":"IF(C598<'Step 2. Basic Info'!$E$12,B598+1,\"\")","v":""},{"$f":"VLOOKUP(B599,'Output OP Lease Amort'!A:B,2,)","v":""},null,{"$f":"IF(B599=\"\",\"\",IF(D599>0,'Step 2. Basic Info'!$E$29*'Step 3. Lease Payments'!D599,0))","v":""},null,"",""]
[null,{"$f":"IF(C599<'Step 2. Basic Info'!$E$12,B599+1,\"\")","v":""},{"$f":"VLOOKUP(B600,'Output OP Lease Amort'!A:B,2,)","v":""},null,{"$f":"IF(B600=\"\",\"\",IF(D600>0,'Step 2. Basic Info'!$E$29*'Step 3. Lease Payments'!D600,0))","v":""},null,"",""]
[null,{"$f":"IF(C600<'Step 2. Basic Info'!$E$12,B600+1,\"\")","v":""},{"$f":"VLOOKUP(B601,'Output OP Lease Amort'!A:B,2,)","v":""},null,{"$f":"IF(B601=\"\",\"\",IF(D601>0,'Step 2. Basic Info'!$E$29*'Step 3. Lease Payments'!D601,0))","v":""},null,"",""]
[null,{"$f":"IF(C601<'Step 2. Basic Info'!$E$12,B601+1,\"\")","v":""},{"$f":"VLOOKUP(B602,'Output OP Lease Amort'!A:B,2,)","v":""},null,{"$f":"IF(B602=\"\",\"\",IF(D602>0,'Step 2. Basic Info'!$E$29*'Step 3. Lease Payments'!D602,0))","v":""},null,"",""]
[null,{"$f":"IF(C602<'Step 2. Basic Info'!$E$12,B602+1,\"\")","v":""},{"$f":"VLOOKUP(B603,'Output OP Lease Amort'!A:B,2,)","v":""},null,{"$f":"IF(B603=\"\",\"\",IF(D603>0,'Step 2. Basic Info'!$E$29*'Step 3. Lease Payments'!D603,0))","v":""},null,"",""]
[null,{"$f":"IF(C603<'Step 2. Basic Info'!$E$12,B603+1,\"\")","v":""},{"$f":"VLOOKUP(B604,'Output OP Lease Amort'!A:B,2,)","v":""},null,{"$f":"IF(B604=\"\",\"\",IF(D604>0,'Step 2. Basic Info'!$E$29*'Step 3. Lease Payments'!D604,0))","v":""},null,"",""]
[null,{"$f":"IF(C604<'Step 2. Basic Info'!$E$12,B604+1,\"\")","v":""},{"$f":"VLOOKUP(B605,'Output OP Lease Amort'!A:B,2,)","v":""},null,{"$f":"IF(B605=\"\",\"\",IF(D605>0,'Step 2. Basic Info'!$E$29*'Step 3. Lease Payments'!D605,0))","v":""},null,"",""]
[null,{"$f":"IF(C605<'Step 2. Basic Info'!$E$12,B605+1,\"\")","v":""},{"$f":"VLOOKUP(B606,'Output OP Lease Amort'!A:B,2,)","v":""},null,{"$f":"IF(B606=\"\",\"\",IF(D606>0,'Step 2. Basic Info'!$E$29*'Step 3. Lease Payments'!D606,0))","v":""},null,"",""]
[null,{"$f":"IF(C606<'Step 2. Basic Info'!$E$12,B606+1,\"\")","v":""},{"$f":"VLOOKUP(B607,'Output OP Lease Amort'!A:B,2,)","v":""},null,{"$f":"IF(B607=\"\",\"\",IF(D607>0,'Step 2. Basic Info'!$E$29*'Step 3. Lease Payments'!D607,0))","v":""},null,"",""]
[null,{"$f":"IF(C607<'Step 2. Basic Info'!$E$12,B607+1,\"\")","v":""},{"$f":"VLOOKUP(B608,'Output OP Lease Amort'!A:B,2,)","v":""},null,{"$f":"IF(B608=\"\",\"\",IF(D608>0,'Step 2. Basic Info'!$E$29*'Step 3. Lease Payments'!D608,0))","v":""},null,"",""]
[null,{"$f":"IF(C608<'Step 2. Basic Info'!$E$12,B608+1,\"\")","v":""},{"$f":"VLOOKUP(B609,'Output OP Lease Amort'!A:B,2,)","v":""},null,{"$f":"IF(B609=\"\",\"\",IF(D609>0,'Step 2. Basic Info'!$E$29*'Step 3. Lease Payments'!D609,0))","v":""},null,"",""]
[null,{"$f":"IF(C609<'Step 2. Basic Info'!$E$12,B609+1,\"\")","v":""},{"$f":"VLOOKUP(B610,'Output OP Lease Amort'!A:B,2,)","v":""},null,{"$f":"IF(B610=\"\",\"\",IF(D610>0,'Step 2. Basic Info'!$E$29*'Step 3. Lease Payments'!D610,0))","v":""},null,"",""]
[null,{"$f":"IF(C610<'Step 2. Basic Info'!$E$12,B610+1,\"\")","v":""},{"$f":"VLOOKUP(B611,'Output OP Lease Amort'!A:B,2,)","v":""},null,{"$f":"IF(B611=\"\",\"\",IF(D611>0,'Step 2. Basic Info'!$E$29*'Step 3. Lease Payments'!D611,0))","v":""},null,"",""]
[null,{"$f":"IF(C611<'Step 2. Basic Info'!$E$12,B611+1,\"\")","v":""},{"$f":"VLOOKUP(B612,'Output OP Lease Amort'!A:B,2,)","v":""},null,{"$f":"IF(B612=\"\",\"\",IF(D612>0,'Step 2. Basic Info'!$E$29*'Step 3. Lease Payments'!D612,0))","v":""},null,"",""]
[null,{"$f":"IF(C612<'Step 2. Basic Info'!$E$12,B612+1,\"\")","v":""},{"$f":"VLOOKUP(B613,'Output OP Lease Amort'!A:B,2,)","v":""},null,{"$f":"IF(B613=\"\",\"\",IF(D613>0,'Step 2. Basic Info'!$E$29*'Step 3. Lease Payments'!D613,0))","v":""},null,"",""]
[null,{"$f":"IF(C613<'Step 2. Basic Info'!$E$12,B613+1,\"\")","v":""},{"$f":"VLOOKUP(B614,'Output OP Lease Amort'!A:B,2,)","v":""},null,{"$f":"IF(B614=\"\",\"\",IF(D614>0,'Step 2. Basic Info'!$E$29*'Step 3. Lease Payments'!D614,0))","v":""},null,"",""]
[null,{"$f":"IF(C614<'Step 2. Basic Info'!$E$12,B614+1,\"\")","v":""},{"$f":"VLOOKUP(B615,'Output OP Lease Amort'!A:B,2,)","v":""},null,{"$f":"IF(B615=\"\",\"\",IF(D615>0,'Step 2. Basic Info'!$E$29*'Step 3. Lease Payments'!D615,0))","v":""},null,"",""]
[null,{"$f":"IF(C615<'Step 2. Basic Info'!$E$12,B615+1,\"\")","v":""},{"$f":"VLOOKUP(B616,'Output OP Lease Amort'!A:B,2,)","v":""},null,{"$f":"IF(B616=\"\",\"\",IF(D616>0,'Step 2. Basic Info'!$E$29*'Step 3. Lease Payments'!D616,0))","v":""},null,"",""]
[null,{"$f":"IF(C616<'Step 2. Basic Info'!$E$12,B616+1,\"\")","v":""},{"$f":"VLOOKUP(B617,'Output OP Lease Amort'!A:B,2,)","v":""},null,{"$f":"IF(B617=\"\",\"\",IF(D617>0,'Step 2. Basic Info'!$E$29*'Step 3. Lease Payments'!D617,0))","v":""},null,"",""]
[null,{"$f":"IF(C617<'Step 2. Basic Info'!$E$12,B617+1,\"\")","v":""},{"$f":"VLOOKUP(B618,'Output OP Lease Amort'!A:B,2,)","v":""},null,{"$f":"IF(B618=\"\",\"\",IF(D618>0,'Step 2. Basic Info'!$E$29*'Step 3. Lease Payments'!D618,0))","v":""},null,"",""]
[null,{"$f":"IF(C618<'Step 2. Basic Info'!$E$12,B618+1,\"\")","v":""},{"$f":"VLOOKUP(B619,'Output OP Lease Amort'!A:B,2,)","v":""},null,{"$f":"IF(B619=\"\",\"\",IF(D619>0,'Step 2. Basic Info'!$E$29*'Step 3. Lease Payments'!D619,0))","v":""},null,"",""]
[null,{"$f":"IF(C619<'Step 2. Basic Info'!$E$12,B619+1,\"\")","v":""},{"$f":"VLOOKUP(B620,'Output OP Lease Amort'!A:B,2,)","v":""},null,{"$f":"IF(B620=\"\",\"\",IF(D620>0,'Step 2. Basic Info'!$E$29*'Step 3. Lease Payments'!D620,0))","v":""},null,"",""]
[null,{"$f":"IF(C620<'Step 2. Basic Info'!$E$12,B620+1,\"\")","v":""},{"$f":"VLOOKUP(B621,'Output OP Lease Amort'!A:B,2,)","v":""},null,{"$f":"IF(B621=\"\",\"\",IF(D621>0,'Step 2. Basic Info'!$E$29*'Step 3. Lease Payments'!D621,0))","v":""},null,"",""]
[null,{"$f":"IF(C621<'Step 2. Basic Info'!$E$12,B621+1,\"\")","v":""},{"$f":"VLOOKUP(B622,'Output OP Lease Amort'!A:B,2,)","v":""},null,{"$f":"IF(B622=\"\",\"\",IF(D622>0,'Step 2. Basic Info'!$E$29*'Step 3. Lease Payments'!D622,0))","v":""},null,"",""]
[null,{"$f":"IF(C622<'Step 2. Basic Info'!$E$12,B622+1,\"\")","v":""},{"$f":"VLOOKUP(B623,'Output OP Lease Amort'!A:B,2,)","v":""},null,{"$f":"IF(B623=\"\",\"\",IF(D623>0,'Step 2. Basic Info'!$E$29*'Step 3. Lease Payments'!D623,0))","v":""},null,"",""]
[null,{"$f":"IF(C623<'Step 2. Basic Info'!$E$12,B623+1,\"\")","v":""},{"$f":"VLOOKUP(B624,'Output OP Lease Amort'!A:B,2,)","v":""},null,{"$f":"IF(B624=\"\",\"\",IF(D624>0,'Step 2. Basic Info'!$E$29*'Step 3. Lease Payments'!D624,0))","v":""},null,"",""]
[null,{"$f":"IF(C624<'Step 2. Basic Info'!$E$12,B624+1,\"\")","v":""},{"$f":"VLOOKUP(B625,'Output OP Lease Amort'!A:B,2,)","v":""},null,{"$f":"IF(B625=\"\",\"\",IF(D625>0,'Step 2. Basic Info'!$E$29*'Step 3. Lease Payments'!D625,0))","v":""},null,"",""]
[null,{"$f":"IF(C625<'Step 2. Basic Info'!$E$12,B625+1,\"\")","v":""},{"$f":"VLOOKUP(B626,'Output OP Lease Amort'!A:B,2,)","v":""},null,{"$f":"IF(B626=\"\",\"\",IF(D626>0,'Step 2. Basic Info'!$E$29*'Step 3. Lease Payments'!D626,0))","v":""},null,"",""]
[null,{"$f":"IF(C626<'Step 2. Basic Info'!$E$12,B626+1,\"\")","v":""},{"$f":"VLOOKUP(B627,'Output OP Lease Amort'!A:B,2,)","v":""},null,{"$f":"IF(B627=\"\",\"\",IF(D627>0,'Step 2. Basic Info'!$E$29*'Step 3. Lease Payments'!D627,0))","v":""},null,"",""]
[null,{"$f":"IF(C627<'Step 2. Basic Info'!$E$12,B627+1,\"\")","v":""},{"$f":"VLOOKUP(B628,'Output OP Lease Amort'!A:B,2,)","v":""},null,{"$f":"IF(B628=\"\",\"\",IF(D628>0,'Step 2. Basic Info'!$E$29*'Step 3. Lease Payments'!D628,0))","v":""},null,"",""]
[null,{"$f":"IF(C628<'Step 2. Basic Info'!$E$12,B628+1,\"\")","v":""},{"$f":"VLOOKUP(B629,'Output OP Lease Amort'!A:B,2,)","v":""},null,{"$f":"IF(B629=\"\",\"\",IF(D629>0,'Step 2. Basic Info'!$E$29*'Step 3. Lease Payments'!D629,0))","v":""},null,"",""]
[null,{"$f":"IF(C629<'Step 2. Basic Info'!$E$12,B629+1,\"\")","v":""},{"$f":"VLOOKUP(B630,'Output OP Lease Amort'!A:B,2,)","v":""},null,{"$f":"IF(B630=\"\",\"\",IF(D630>0,'Step 2. Basic Info'!$E$29*'Step 3. Lease Payments'!D630,0))","v":""},null,"",""]
[null,{"$f":"IF(C630<'Step 2. Basic Info'!$E$12,B630+1,\"\")","v":""},{"$f":"VLOOKUP(B631,'Output OP Lease Amort'!A:B,2,)","v":""},null,{"$f":"IF(B631=\"\",\"\",IF(D631>0,'Step 2. Basic Info'!$E$29*'Step 3. Lease Payments'!D631,0))","v":""},null,"",""]
[null,{"$f":"IF(C631<'Step 2. Basic Info'!$E$12,B631+1,\"\")","v":""},{"$f":"VLOOKUP(B632,'Output OP Lease Amort'!A:B,2,)","v":""},null,{"$f":"IF(B632=\"\",\"\",IF(D632>0,'Step 2. Basic Info'!$E$29*'Step 3. Lease Payments'!D632,0))","v":""},null,"",""]
[null,{"$f":"IF(C632<'Step 2. Basic Info'!$E$12,B632+1,\"\")","v":""},{"$f":"VLOOKUP(B633,'Output OP Lease Amort'!A:B,2,)","v":""},null,{"$f":"IF(B633=\"\",\"\",IF(D633>0,'Step 2. Basic Info'!$E$29*'Step 3. Lease Payments'!D633,0))","v":""},null,"",""]
[null,{"$f":"IF(C633<'Step 2. Basic Info'!$E$12,B633+1,\"\")","v":""},{"$f":"VLOOKUP(B634,'Output OP Lease Amort'!A:B,2,)","v":""},null,{"$f":"IF(B634=\"\",\"\",IF(D634>0,'Step 2. Basic Info'!$E$29*'Step 3. Lease Payments'!D634,0))","v":""},null,"",""]
[null,{"$f":"IF(C634<'Step 2. Basic Info'!$E$12,B634+1,\"\")","v":""},{"$f":"VLOOKUP(B635,'Output OP Lease Amort'!A:B,2,)","v":""},null,{"$f":"IF(B635=\"\",\"\",IF(D635>0,'Step 2. Basic Info'!$E$29*'Step 3. Lease Payments'!D635,0))","v":""},null,"",""]
[null,{"$f":"IF(C635<'Step 2. Basic Info'!$E$12,B635+1,\"\")","v":""},{"$f":"VLOOKUP(B636,'Output OP Lease Amort'!A:B,2,)","v":""},null,{"$f":"IF(B636=\"\",\"\",IF(D636>0,'Step 2. Basic Info'!$E$29*'Step 3. Lease Payments'!D636,0))","v":""},null,"",""]
[null,{"$f":"IF(C636<'Step 2. Basic Info'!$E$12,B636+1,\"\")","v":""},{"$f":"VLOOKUP(B637,'Output OP Lease Amort'!A:B,2,)","v":""},null,{"$f":"IF(B637=\"\",\"\",IF(D637>0,'Step 2. Basic Info'!$E$29*'Step 3. Lease Payments'!D637,0))","v":""},null,"",""]
[null,{"$f":"IF(C637<'Step 2. Basic Info'!$E$12,B637+1,\"\")","v":""},{"$f":"VLOOKUP(B638,'Output OP Lease Amort'!A:B,2,)","v":""},null,{"$f":"IF(B638=\"\",\"\",IF(D638>0,'Step 2. Basic Info'!$E$29*'Step 3. Lease Payments'!D638,0))","v":""},null,"",""]
[null,{"$f":"IF(C638<'Step 2. Basic Info'!$E$12,B638+1,\"\")","v":""},{"$f":"VLOOKUP(B639,'Output OP Lease Amort'!A:B,2,)","v":""},null,{"$f":"IF(B639=\"\",\"\",IF(D639>0,'Step 2. Basic Info'!$E$29*'Step 3. Lease Payments'!D639,0))","v":""},null,"",""]
[null,{"$f":"IF(C639<'Step 2. Basic Info'!$E$12,B639+1,\"\")","v":""},{"$f":"VLOOKUP(B640,'Output OP Lease Amort'!A:B,2,)","v":""},null,{"$f":"IF(B640=\"\",\"\",IF(D640>0,'Step 2. Basic Info'!$E$29*'Step 3. Lease Payments'!D640,0))","v":""},null,"",""]
[null,{"$f":"IF(C640<'Step 2. Basic Info'!$E$12,B640+1,\"\")","v":""},{"$f":"VLOOKUP(B641,'Output OP Lease Amort'!A:B,2,)","v":""},null,{"$f":"IF(B641=\"\",\"\",IF(D641>0,'Step 2. Basic Info'!$E$29*'Step 3. Lease Payments'!D641,0))","v":""},null,"",""]
[null,{"$f":"IF(C641<'Step 2. Basic Info'!$E$12,B641+1,\"\")","v":""},{"$f":"VLOOKUP(B642,'Output OP Lease Amort'!A:B,2,)","v":""},null,{"$f":"IF(B642=\"\",\"\",IF(D642>0,'Step 2. Basic Info'!$E$29*'Step 3. Lease Payments'!D642,0))","v":""},null,"",""]
[null,{"$f":"IF(C642<'Step 2. Basic Info'!$E$12,B642+1,\"\")","v":""},{"$f":"VLOOKUP(B643,'Output OP Lease Amort'!A:B,2,)","v":""},null,{"$f":"IF(B643=\"\",\"\",IF(D643>0,'Step 2. Basic Info'!$E$29*'Step 3. Lease Payments'!D643,0))","v":""},null,"",""]
[null,{"$f":"IF(C643<'Step 2. Basic Info'!$E$12,B643+1,\"\")","v":""},{"$f":"VLOOKUP(B644,'Output OP Lease Amort'!A:B,2,)","v":""},null,{"$f":"IF(B644=\"\",\"\",IF(D644>0,'Step 2. Basic Info'!$E$29*'Step 3. Lease Payments'!D644,0))","v":""},null,"",""]
[null,{"$f":"IF(C644<'Step 2. Basic Info'!$E$12,B644+1,\"\")","v":""},{"$f":"VLOOKUP(B645,'Output OP Lease Amort'!A:B,2,)","v":""},null,{"$f":"IF(B645=\"\",\"\",IF(D645>0,'Step 2. Basic Info'!$E$29*'Step 3. Lease Payments'!D645,0))","v":""},null,"",""]
[null,{"$f":"IF(C645<'Step 2. Basic Info'!$E$12,B645+1,\"\")","v":""},{"$f":"VLOOKUP(B646,'Output OP Lease Amort'!A:B,2,)","v":""},null,{"$f":"IF(B646=\"\",\"\",IF(D646>0,'Step 2. Basic Info'!$E$29*'Step 3. Lease Payments'!D646,0))","v":""},null,"",""]
[null,{"$f":"IF(C646<'Step 2. Basic Info'!$E$12,B646+1,\"\")","v":""},{"$f":"VLOOKUP(B647,'Output OP Lease Amort'!A:B,2,)","v":""},null,{"$f":"IF(B647=\"\",\"\",IF(D647>0,'Step 2. Basic Info'!$E$29*'Step 3. Lease Payments'!D647,0))","v":""},null,"",""]
[null,{"$f":"IF(C647<'Step 2. Basic Info'!$E$12,B647+1,\"\")","v":""},{"$f":"VLOOKUP(B648,'Output OP Lease Amort'!A:B,2,)","v":""},null,{"$f":"IF(B648=\"\",\"\",IF(D648>0,'Step 2. Basic Info'!$E$29*'Step 3. Lease Payments'!D648,0))","v":""},null,"",""]
[null,{"$f":"IF(C648<'Step 2. Basic Info'!$E$12,B648+1,\"\")","v":""},{"$f":"VLOOKUP(B649,'Output OP Lease Amort'!A:B,2,)","v":""},null,{"$f":"IF(B649=\"\",\"\",IF(D649>0,'Step 2. Basic Info'!$E$29*'Step 3. Lease Payments'!D649,0))","v":""},null,"",""]
[null,{"$f":"IF(C649<'Step 2. Basic Info'!$E$12,B649+1,\"\")","v":""},{"$f":"VLOOKUP(B650,'Output OP Lease Amort'!A:B,2,)","v":""},null,{"$f":"IF(B650=\"\",\"\",IF(D650>0,'Step 2. Basic Info'!$E$29*'Step 3. Lease Payments'!D650,0))","v":""},null,"",""]
[null,{"$f":"IF(C650<'Step 2. Basic Info'!$E$12,B650+1,\"\")","v":""},{"$f":"VLOOKUP(B651,'Output OP Lease Amort'!A:B,2,)","v":""},null,{"$f":"IF(B651=\"\",\"\",IF(D651>0,'Step 2. Basic Info'!$E$29*'Step 3. Lease Payments'!D651,0))","v":""},null,{"$f":"IF(B651=\"\",\"\",IFERROR(E651+F651,0))","v":""},{"$f":"IF(G651 = \"\",\"\",-PV($G$8,B651,,G651,))","v":""}]
[null,{"$f":"IF(C651<'Step 2. Basic Info'!$E$12,B651+1,\"\")","v":""},{"$f":"VLOOKUP(B652,'Output OP Lease Amort'!A:B,2,)","v":""},null,{"$f":"IF(B652=\"\",\"\",IF(D652>0,'Step 2. Basic Info'!$E$29*'Step 3. Lease Payments'!D652,0))","v":""},null,"",""]
[null,{"$f":"IF(C652<'Step 2. Basic Info'!$E$12,B652+1,\"\")","v":""},{"$f":"VLOOKUP(B653,'Output OP Lease Amort'!A:B,2,)","v":""},null,{"$f":"IF(B653=\"\",\"\",IF(D653>0,'Step 2. Basic Info'!$E$29*'Step 3. Lease Payments'!D653,0))","v":""},null,"",""]
[null,{"$f":"IF(C653<'Step 2. Basic Info'!$E$12,B653+1,\"\")","v":""},{"$f":"VLOOKUP(B654,'Output OP Lease Amort'!A:B,2,)","v":""},null,{"$f":"IF(B654=\"\",\"\",IF(D654>0,'Step 2. Basic Info'!$E$29*'Step 3. Lease Payments'!D654,0))","v":""},null,"",""]
[null,{"$f":"IF(C654<'Step 2. Basic Info'!$E$12,B654+1,\"\")","v":""},{"$f":"VLOOKUP(B655,'Output OP Lease Amort'!A:B,2,)","v":""},null,{"$f":"IF(B655=\"\",\"\",IF(D655>0,'Step 2. Basic Info'!$E$29*'Step 3. Lease Payments'!D655,0))","v":""},null,"",""]
[null,{"$f":"IF(C655<'Step 2. Basic Info'!$E$12,B655+1,\"\")","v":""},{"$f":"VLOOKUP(B656,'Output OP Lease Amort'!A:B,2,)","v":""},null,{"$f":"IF(B656=\"\",\"\",IF(D656>0,'Step 2. Basic Info'!$E$29*'Step 3. Lease Payments'!D656,0))","v":""},null,"",""]
[null,{"$f":"IF(C656<'Step 2. Basic Info'!$E$12,B656+1,\"\")","v":""},{"$f":"VLOOKUP(B657,'Output OP Lease Amort'!A:B,2,)","v":""},null,{"$f":"IF(B657=\"\",\"\",IF(D657>0,'Step 2. Basic Info'!$E$29*'Step 3. Lease Payments'!D657,0))","v":""},null,"",""]
[null,{"$f":"IF(C657<'Step 2. Basic Info'!$E$12,B657+1,\"\")","v":""},{"$f":"VLOOKUP(B658,'Output OP Lease Amort'!A:B,2,)","v":""},null,{"$f":"IF(B658=\"\",\"\",IF(D658>0,'Step 2. Basic Info'!$E$29*'Step 3. Lease Payments'!D658,0))","v":""},null,"",""]
[null,{"$f":"IF(C658<'Step 2. Basic Info'!$E$12,B658+1,\"\")","v":""},{"$f":"VLOOKUP(B659,'Output OP Lease Amort'!A:B,2,)","v":""},null,{"$f":"IF(B659=\"\",\"\",IF(D659>0,'Step 2. Basic Info'!$E$29*'Step 3. Lease Payments'!D659,0))","v":""},null,"",""]
[null,{"$f":"IF(C659<'Step 2. Basic Info'!$E$12,B659+1,\"\")","v":""},{"$f":"VLOOKUP(B660,'Output OP Lease Amort'!A:B,2,)","v":""},null,{"$f":"IF(B660=\"\",\"\",IF(D660>0,'Step 2. Basic Info'!$E$29*'Step 3. Lease Payments'!D660,0))","v":""},null,"",""]
[null,{"$f":"IF(C660<'Step 2. Basic Info'!$E$12,B660+1,\"\")","v":""},{"$f":"VLOOKUP(B661,'Output OP Lease Amort'!A:B,2,)","v":""},null,{"$f":"IF(B661=\"\",\"\",IF(D661>0,'Step 2. Basic Info'!$E$29*'Step 3. Lease Payments'!D661,0))","v":""},null,"",""]
[null,{"$f":"IF(C661<'Step 2. Basic Info'!$E$12,B661+1,\"\")","v":""},{"$f":"VLOOKUP(B662,'Output OP Lease Amort'!A:B,2,)","v":""},null,{"$f":"IF(B662=\"\",\"\",IF(D662>0,'Step 2. Basic Info'!$E$29*'Step 3. Lease Payments'!D662,0))","v":""},null,"",""]
[null,{"$f":"IF(C662<'Step 2. Basic Info'!$E$12,B662+1,\"\")","v":""},{"$f":"VLOOKUP(B663,'Output OP Lease Amort'!A:B,2,)","v":""},null,{"$f":"IF(B663=\"\",\"\",IF(D663>0,'Step 2. Basic Info'!$E$29*'Step 3. Lease Payments'!D663,0))","v":""},null,"",""]
[null,{"$f":"IF(C663<'Step 2. Basic Info'!$E$12,B663+1,\"\")","v":""},{"$f":"VLOOKUP(B664,'Output OP Lease Amort'!A:B,2,)","v":""},null,{"$f":"IF(B664=\"\",\"\",IF(D664>0,'Step 2. Basic Info'!$E$29*'Step 3. Lease Payments'!D664,0))","v":""},null,"",""]
[null,{"$f":"IF(C664<'Step 2. Basic Info'!$E$12,B664+1,\"\")","v":""},{"$f":"VLOOKUP(B665,'Output OP Lease Amort'!A:B,2,)","v":""},null,{"$f":"IF(B665=\"\",\"\",IF(D665>0,'Step 2. Basic Info'!$E$29*'Step 3. Lease Payments'!D665,0))","v":""},null,"",""]
[null,{"$f":"IF(C665<'Step 2. Basic Info'!$E$12,B665+1,\"\")","v":""},{"$f":"VLOOKUP(B666,'Output OP Lease Amort'!A:B,2,)","v":""},null,{"$f":"IF(B666=\"\",\"\",IF(D666>0,'Step 2. Basic Info'!$E$29*'Step 3. Lease Payments'!D666,0))","v":""},null,"",""]
[null,{"$f":"IF(C666<'Step 2. Basic Info'!$E$12,B666+1,\"\")","v":""},{"$f":"VLOOKUP(B667,'Output OP Lease Amort'!A:B,2,)","v":""},null,{"$f":"IF(B667=\"\",\"\",IF(D667>0,'Step 2. Basic Info'!$E$29*'Step 3. Lease Payments'!D667,0))","v":""},null,"",""]
[null,{"$f":"IF(C667<'Step 2. Basic Info'!$E$12,B667+1,\"\")","v":""},{"$f":"VLOOKUP(B668,'Output OP Lease Amort'!A:B,2,)","v":""},null,{"$f":"IF(B668=\"\",\"\",IF(D668>0,'Step 2. Basic Info'!$E$29*'Step 3. Lease Payments'!D668,0))","v":""},null,"",""]
[null,{"$f":"IF(C668<'Step 2. Basic Info'!$E$12,B668+1,\"\")","v":""},{"$f":"VLOOKUP(B669,'Output OP Lease Amort'!A:B,2,)","v":""},null,{"$f":"IF(B669=\"\",\"\",IF(D669>0,'Step 2. Basic Info'!$E$29*'Step 3. Lease Payments'!D669,0))","v":""},null,"",""]
[null,{"$f":"IF(C669<'Step 2. Basic Info'!$E$12,B669+1,\"\")","v":""},{"$f":"VLOOKUP(B670,'Output OP Lease Amort'!A:B,2,)","v":""},null,{"$f":"IF(B670=\"\",\"\",IF(D670>0,'Step 2. Basic Info'!$E$29*'Step 3. Lease Payments'!D670,0))","v":""},null,"",""]
[null,{"$f":"IF(C670<'Step 2. Basic Info'!$E$12,B670+1,\"\")","v":""},{"$f":"VLOOKUP(B671,'Output OP Lease Amort'!A:B,2,)","v":""},null,{"$f":"IF(B671=\"\",\"\",IF(D671>0,'Step 2. Basic Info'!$E$29*'Step 3. Lease Payments'!D671,0))","v":""},null,"",""]
[null,{"$f":"IF(C671<'Step 2. Basic Info'!$E$12,B671+1,\"\")","v":""},{"$f":"VLOOKUP(B672,'Output OP Lease Amort'!A:B,2,)","v":""},null,{"$f":"IF(B672=\"\",\"\",IF(D672>0,'Step 2. Basic Info'!$E$29*'Step 3. Lease Payments'!D672,0))","v":""},null,"",""]
[null,{"$f":"IF(C672<'Step 2. Basic Info'!$E$12,B672+1,\"\")","v":""},{"$f":"VLOOKUP(B673,'Output OP Lease Amort'!A:B,2,)","v":""},null,{"$f":"IF(B673=\"\",\"\",IF(D673>0,'Step 2. Basic Info'!$E$29*'Step 3. Lease Payments'!D673,0))","v":""},null,"",""]
[null,{"$f":"IF(C673<'Step 2. Basic Info'!$E$12,B673+1,\"\")","v":""},{"$f":"VLOOKUP(B674,'Output OP Lease Amort'!A:B,2,)","v":""},null,{"$f":"IF(B674=\"\",\"\",IF(D674>0,'Step 2. Basic Info'!$E$29*'Step 3. Lease Payments'!D674,0))","v":""},null,"",""]
[null,{"$f":"IF(C674<'Step 2. Basic Info'!$E$12,B674+1,\"\")","v":""},{"$f":"VLOOKUP(B675,'Output OP Lease Amort'!A:B,2,)","v":""},null,{"$f":"IF(B675=\"\",\"\",IF(D675>0,'Step 2. Basic Info'!$E$29*'Step 3. Lease Payments'!D675,0))","v":""},null,"",""]
[null,{"$f":"IF(C675<'Step 2. Basic Info'!$E$12,B675+1,\"\")","v":""},{"$f":"VLOOKUP(B676,'Output OP Lease Amort'!A:B,2,)","v":""},null,{"$f":"IF(B676=\"\",\"\",IF(D676>0,'Step 2. Basic Info'!$E$29*'Step 3. Lease Payments'!D676,0))","v":""},null,"",""]
[null,{"$f":"IF(C676<'Step 2. Basic Info'!$E$12,B676+1,\"\")","v":""},{"$f":"VLOOKUP(B677,'Output OP Lease Amort'!A:B,2,)","v":""},null,{"$f":"IF(B677=\"\",\"\",IF(D677>0,'Step 2. Basic Info'!$E$29*'Step 3. Lease Payments'!D677,0))","v":""},null,"",""]
[null,{"$f":"IF(C677<'Step 2. Basic Info'!$E$12,B677+1,\"\")","v":""},{"$f":"VLOOKUP(B678,'Output OP Lease Amort'!A:B,2,)","v":""},null,{"$f":"IF(B678=\"\",\"\",IF(D678>0,'Step 2. Basic Info'!$E$29*'Step 3. Lease Payments'!D678,0))","v":""},null,"",""]
[null,{"$f":"IF(C678<'Step 2. Basic Info'!$E$12,B678+1,\"\")","v":""},{"$f":"VLOOKUP(B679,'Output OP Lease Amort'!A:B,2,)","v":""},null,{"$f":"IF(B679=\"\",\"\",IF(D679>0,'Step 2. Basic Info'!$E$29*'Step 3. Lease Payments'!D679,0))","v":""},null,"",""]
[null,{"$f":"IF(C679<'Step 2. Basic Info'!$E$12,B679+1,\"\")","v":""},{"$f":"VLOOKUP(B680,'Output OP Lease Amort'!A:B,2,)","v":""},null,{"$f":"IF(B680=\"\",\"\",IF(D680>0,'Step 2. Basic Info'!$E$29*'Step 3. Lease Payments'!D680,0))","v":""},null,"",""]
[null,{"$f":"IF(C680<'Step 2. Basic Info'!$E$12,B680+1,\"\")","v":""},{"$f":"VLOOKUP(B681,'Output OP Lease Amort'!A:B,2,)","v":""},null,{"$f":"IF(B681=\"\",\"\",IF(D681>0,'Step 2. Basic Info'!$E$29*'Step 3. Lease Payments'!D681,0))","v":""},null,"",""]
[null,{"$f":"IF(C681<'Step 2. Basic Info'!$E$12,B681+1,\"\")","v":""},{"$f":"VLOOKUP(B682,'Output OP Lease Amort'!A:B,2,)","v":""},null,{"$f":"IF(B682=\"\",\"\",IF(D682>0,'Step 2. Basic Info'!$E$29*'Step 3. Lease Payments'!D682,0))","v":""},null,"",""]
[null,{"$f":"IF(C682<'Step 2. Basic Info'!$E$12,B682+1,\"\")","v":""},{"$f":"VLOOKUP(B683,'Output OP Lease Amort'!A:B,2,)","v":""},null,{"$f":"IF(B683=\"\",\"\",IF(D683>0,'Step 2. Basic Info'!$E$29*'Step 3. Lease Payments'!D683,0))","v":""},null,"",""]
[null,{"$f":"IF(C683<'Step 2. Basic Info'!$E$12,B683+1,\"\")","v":""},{"$f":"VLOOKUP(B684,'Output OP Lease Amort'!A:B,2,)","v":""},null,{"$f":"IF(B684=\"\",\"\",IF(D684>0,'Step 2. Basic Info'!$E$29*'Step 3. Lease Payments'!D684,0))","v":""},null,"",""]
[null,{"$f":"IF(C684<'Step 2. Basic Info'!$E$12,B684+1,\"\")","v":""},{"$f":"VLOOKUP(B685,'Output OP Lease Amort'!A:B,2,)","v":""},null,{"$f":"IF(B685=\"\",\"\",IF(D685>0,'Step 2. Basic Info'!$E$29*'Step 3. Lease Payments'!D685,0))","v":""},null,"",""]
[null,{"$f":"IF(C685<'Step 2. Basic Info'!$E$12,B685+1,\"\")","v":""},{"$f":"VLOOKUP(B686,'Output OP Lease Amort'!A:B,2,)","v":""},null,{"$f":"IF(B686=\"\",\"\",IF(D686>0,'Step 2. Basic Info'!$E$29*'Step 3. Lease Payments'!D686,0))","v":""},null,"",""]
[null,{"$f":"IF(C686<'Step 2. Basic Info'!$E$12,B686+1,\"\")","v":""},{"$f":"VLOOKUP(B687,'Output OP Lease Amort'!A:B,2,)","v":""},null,{"$f":"IF(B687=\"\",\"\",IF(D687>0,'Step 2. Basic Info'!$E$29*'Step 3. Lease Payments'!D687,0))","v":""},null,"",""]
[null,{"$f":"IF(C687<'Step 2. Basic Info'!$E$12,B687+1,\"\")","v":""},{"$f":"VLOOKUP(B688,'Output OP Lease Amort'!A:B,2,)","v":""},null,{"$f":"IF(B688=\"\",\"\",IF(D688>0,'Step 2. Basic Info'!$E$29*'Step 3. Lease Payments'!D688,0))","v":""},null,"",""]
[null,{"$f":"IF(C688<'Step 2. Basic Info'!$E$12,B688+1,\"\")","v":""},{"$f":"VLOOKUP(B689,'Output OP Lease Amort'!A:B,2,)","v":""},null,{"$f":"IF(B689=\"\",\"\",IF(D689>0,'Step 2. Basic Info'!$E$29*'Step 3. Lease Payments'!D689,0))","v":""},null,"",""]
[null,{"$f":"IF(C689<'Step 2. Basic Info'!$E$12,B689+1,\"\")","v":""},{"$f":"VLOOKUP(B690,'Output OP Lease Amort'!A:B,2,)","v":""},null,{"$f":"IF(B690=\"\",\"\",IF(D690>0,'Step 2. Basic Info'!$E$29*'Step 3. Lease Payments'!D690,0))","v":""},null,"",""]
[null,{"$f":"IF(C690<'Step 2. Basic Info'!$E$12,B690+1,\"\")","v":""},{"$f":"VLOOKUP(B691,'Output OP Lease Amort'!A:B,2,)","v":""},null,{"$f":"IF(B691=\"\",\"\",IF(D691>0,'Step 2. Basic Info'!$E$29*'Step 3. Lease Payments'!D691,0))","v":""},null,"",""]
[null,{"$f":"IF(C691<'Step 2. Basic Info'!$E$12,B691+1,\"\")","v":""},{"$f":"VLOOKUP(B692,'Output OP Lease Amort'!A:B,2,)","v":""},null,{"$f":"IF(B692=\"\",\"\",IF(D692>0,'Step 2. Basic Info'!$E$29*'Step 3. Lease Payments'!D692,0))","v":""},null,"",""]
[null,{"$f":"IF(C692<'Step 2. Basic Info'!$E$12,B692+1,\"\")","v":""},{"$f":"VLOOKUP(B693,'Output OP Lease Amort'!A:B,2,)","v":""},null,{"$f":"IF(B693=\"\",\"\",IF(D693>0,'Step 2. Basic Info'!$E$29*'Step 3. Lease Payments'!D693,0))","v":""},null,"",""]
[null,{"$f":"IF(C693<'Step 2. Basic Info'!$E$12,B693+1,\"\")","v":""},{"$f":"VLOOKUP(B694,'Output OP Lease Amort'!A:B,2,)","v":""},null,{"$f":"IF(B694=\"\",\"\",IF(D694>0,'Step 2. Basic Info'!$E$29*'Step 3. Lease Payments'!D694,0))","v":""},null,"",""]
[null,{"$f":"IF(C694<'Step 2. Basic Info'!$E$12,B694+1,\"\")","v":""},{"$f":"VLOOKUP(B695,'Output OP Lease Amort'!A:B,2,)","v":""},null,{"$f":"IF(B695=\"\",\"\",IF(D695>0,'Step 2. Basic Info'!$E$29*'Step 3. Lease Payments'!D695,0))","v":""},null,"",""]
[null,{"$f":"IF(C695<'Step 2. Basic Info'!$E$12,B695+1,\"\")","v":""},{"$f":"VLOOKUP(B696,'Output OP Lease Amort'!A:B,2,)","v":""},null,{"$f":"IF(B696=\"\",\"\",IF(D696>0,'Step 2. Basic Info'!$E$29*'Step 3. Lease Payments'!D696,0))","v":""},null,"",""]
[null,{"$f":"IF(C696<'Step 2. Basic Info'!$E$12,B696+1,\"\")","v":""},{"$f":"VLOOKUP(B697,'Output OP Lease Amort'!A:B,2,)","v":""},null,{"$f":"IF(B697=\"\",\"\",IF(D697>0,'Step 2. Basic Info'!$E$29*'Step 3. Lease Payments'!D697,0))","v":""},null,"",""]
[null,{"$f":"IF(C697<'Step 2. Basic Info'!$E$12,B697+1,\"\")","v":""},{"$f":"VLOOKUP(B698,'Output OP Lease Amort'!A:B,2,)","v":""},null,{"$f":"IF(B698=\"\",\"\",IF(D698>0,'Step 2. Basic Info'!$E$29*'Step 3. Lease Payments'!D698,0))","v":""},null,"",""]
[null,{"$f":"IF(C698<'Step 2. Basic Info'!$E$12,B698+1,\"\")","v":""},{"$f":"VLOOKUP(B699,'Output OP Lease Amort'!A:B,2,)","v":""},null,{"$f":"IF(B699=\"\",\"\",IF(D699>0,'Step 2. Basic Info'!$E$29*'Step 3. Lease Payments'!D699,0))","v":""},null,"",""]
[null,{"$f":"IF(C699<'Step 2. Basic Info'!$E$12,B699+1,\"\")","v":""},{"$f":"VLOOKUP(B700,'Output OP Lease Amort'!A:B,2,)","v":""},null,{"$f":"IF(B700=\"\",\"\",IF(D700>0,'Step 2. Basic Info'!$E$29*'Step 3. Lease Payments'!D700,0))","v":""},null,"",""]
[null,{"$f":"IF(C700<'Step 2. Basic Info'!$E$12,B700+1,\"\")","v":""},{"$f":"VLOOKUP(B701,'Output OP Lease Amort'!A:B,2,)","v":""},null,{"$f":"IF(B701=\"\",\"\",IF(D701>0,'Step 2. Basic Info'!$E$29*'Step 3. Lease Payments'!D701,0))","v":""},null,"",""]
[null,{"$f":"IF(C701<'Step 2. Basic Info'!$E$12,B701+1,\"\")","v":""},{"$f":"VLOOKUP(B702,'Output OP Lease Amort'!A:B,2,)","v":""},null,{"$f":"IF(B702=\"\",\"\",IF(D702>0,'Step 2. Basic Info'!$E$29*'Step 3. Lease Payments'!D702,0))","v":""},null,"",""]
[null,{"$f":"IF(C702<'Step 2. Basic Info'!$E$12,B702+1,\"\")","v":""},{"$f":"VLOOKUP(B703,'Output OP Lease Amort'!A:B,2,)","v":""},null,{"$f":"IF(B703=\"\",\"\",IF(D703>0,'Step 2. Basic Info'!$E$29*'Step 3. Lease Payments'!D703,0))","v":""},null,"",""]
[null,{"$f":"IF(C703<'Step 2. Basic Info'!$E$12,B703+1,\"\")","v":""},{"$f":"VLOOKUP(B704,'Output OP Lease Amort'!A:B,2,)","v":""},null,{"$f":"IF(B704=\"\",\"\",IF(D704>0,'Step 2. Basic Info'!$E$29*'Step 3. Lease Payments'!D704,0))","v":""},null,"",""]
[null,{"$f":"IF(C704<'Step 2. Basic Info'!$E$12,B704+1,\"\")","v":""},{"$f":"VLOOKUP(B705,'Output OP Lease Amort'!A:B,2,)","v":""},null,{"$f":"IF(B705=\"\",\"\",IF(D705>0,'Step 2. Basic Info'!$E$29*'Step 3. Lease Payments'!D705,0))","v":""},null,"",""]
[null,{"$f":"IF(C705<'Step 2. Basic Info'!$E$12,B705+1,\"\")","v":""},{"$f":"VLOOKUP(B706,'Output OP Lease Amort'!A:B,2,)","v":""},null,{"$f":"IF(B706=\"\",\"\",IF(D706>0,'Step 2. Basic Info'!$E$29*'Step 3. Lease Payments'!D706,0))","v":""},null,"",""]
[null,{"$f":"IF(C706<'Step 2. Basic Info'!$E$12,B706+1,\"\")","v":""},{"$f":"VLOOKUP(B707,'Output OP Lease Amort'!A:B,2,)","v":""},null,{"$f":"IF(B707=\"\",\"\",IF(D707>0,'Step 2. Basic Info'!$E$29*'Step 3. Lease Payments'!D707,0))","v":""},null,"",""]
[null,{"$f":"IF(C707<'Step 2. Basic Info'!$E$12,B707+1,\"\")","v":""},{"$f":"VLOOKUP(B708,'Output OP Lease Amort'!A:B,2,)","v":""},null,{"$f":"IF(B708=\"\",\"\",IF(D708>0,'Step 2. Basic Info'!$E$29*'Step 3. Lease Payments'!D708,0))","v":""},null,"",""]
[null,{"$f":"IF(C708<'Step 2. Basic Info'!$E$12,B708+1,\"\")","v":""},{"$f":"VLOOKUP(B709,'Output OP Lease Amort'!A:B,2,)","v":""},null,{"$f":"IF(B709=\"\",\"\",IF(D709>0,'Step 2. Basic Info'!$E$29*'Step 3. Lease Payments'!D709,0))","v":""},null,"",""]
[null,{"$f":"IF(C709<'Step 2. Basic Info'!$E$12,B709+1,\"\")","v":""},{"$f":"VLOOKUP(B710,'Output OP Lease Amort'!A:B,2,)","v":""},null,{"$f":"IF(B710=\"\",\"\",IF(D710>0,'Step 2. Basic Info'!$E$29*'Step 3. Lease Payments'!D710,0))","v":""},null,"",""]
[null,{"$f":"IF(C710<'Step 2. Basic Info'!$E$12,B710+1,\"\")","v":""},{"$f":"VLOOKUP(B711,'Output OP Lease Amort'!A:B,2,)","v":""},null,{"$f":"IF(B711=\"\",\"\",IF(D711>0,'Step 2. Basic Info'!$E$29*'Step 3. Lease Payments'!D711,0))","v":""},null,"",""]
[null,{"$f":"IF(C711<'Step 2. Basic Info'!$E$12,B711+1,\"\")","v":""},{"$f":"VLOOKUP(B712,'Output OP Lease Amort'!A:B,2,)","v":""},null,{"$f":"IF(B712=\"\",\"\",IF(D712>0,'Step 2. Basic Info'!$E$29*'Step 3. Lease Payments'!D712,0))","v":""},null,"",""]
[null,{"$f":"IF(C712<'Step 2. Basic Info'!$E$12,B712+1,\"\")","v":""},{"$f":"VLOOKUP(B713,'Output OP Lease Amort'!A:B,2,)","v":""},null,{"$f":"IF(B713=\"\",\"\",IF(D713>0,'Step 2. Basic Info'!$E$29*'Step 3. Lease Payments'!D713,0))","v":""},null,"",""]
[null,{"$f":"IF(C713<'Step 2. Basic Info'!$E$12,B713+1,\"\")","v":""},{"$f":"VLOOKUP(B714,'Output OP Lease Amort'!A:B,2,)","v":""},null,{"$f":"IF(B714=\"\",\"\",IF(D714>0,'Step 2. Basic Info'!$E$29*'Step 3. Lease Payments'!D714,0))","v":""},null,"",""]
[null,{"$f":"IF(C714<'Step 2. Basic Info'!$E$12,B714+1,\"\")","v":""},{"$f":"VLOOKUP(B715,'Output OP Lease Amort'!A:B,2,)","v":""},null,{"$f":"IF(B715=\"\",\"\",IF(D715>0,'Step 2. Basic Info'!$E$29*'Step 3. Lease Payments'!D715,0))","v":""},null,{"$f":"IF(B715=\"\",\"\",IFERROR(E715+F715,0))","v":""},{"$f":"IF(G715 = \"\",\"\",-PV($G$8,B715,,G715,))","v":""}]
[null,{"$f":"IF(C715<'Step 2. Basic Info'!$E$12,B715+1,\"\")","v":""},{"$f":"VLOOKUP(B716,'Output OP Lease Amort'!A:B,2,)","v":""},null,{"$f":"IF(B716=\"\",\"\",IF(D716>0,'Step 2. Basic Info'!$E$29*'Step 3. Lease Payments'!D716,0))","v":""},null,"",""]
[null,{"$f":"IF(C716<'Step 2. Basic Info'!$E$12,B716+1,\"\")","v":""},{"$f":"VLOOKUP(B717,'Output OP Lease Amort'!A:B,2,)","v":""},null,{"$f":"IF(B717=\"\",\"\",IF(D717>0,'Step 2. Basic Info'!$E$29*'Step 3. Lease Payments'!D717,0))","v":""},null,"",""]
[null,{"$f":"IF(C717<'Step 2. Basic Info'!$E$12,B717+1,\"\")","v":""},{"$f":"VLOOKUP(B718,'Output OP Lease Amort'!A:B,2,)","v":""},null,{"$f":"IF(B718=\"\",\"\",IF(D718>0,'Step 2. Basic Info'!$E$29*'Step 3. Lease Payments'!D718,0))","v":""},null,"",""]
[null,{"$f":"IF(C718<'Step 2. Basic Info'!$E$12,B718+1,\"\")","v":""},{"$f":"VLOOKUP(B719,'Output OP Lease Amort'!A:B,2,)","v":""},null,{"$f":"IF(B719=\"\",\"\",IF(D719>0,'Step 2. Basic Info'!$E$29*'Step 3. Lease Payments'!D719,0))","v":""},null,"",""]
[null,{"$f":"IF(C719<'Step 2. Basic Info'!$E$12,B719+1,\"\")","v":""},{"$f":"VLOOKUP(B720,'Output OP Lease Amort'!A:B,2,)","v":""},null,{"$f":"IF(B720=\"\",\"\",IF(D720>0,'Step 2. Basic Info'!$E$29*'Step 3. Lease Payments'!D720,0))","v":""},null,"",""]
[null,{"$f":"IF(C720<'Step 2. Basic Info'!$E$12,B720+1,\"\")","v":""},{"$f":"VLOOKUP(B721,'Output OP Lease Amort'!A:B,2,)","v":""},null,{"$f":"IF(B721=\"\",\"\",IF(D721>0,'Step 2. Basic Info'!$E$29*'Step 3. Lease Payments'!D721,0))","v":""},null,"",""]
[null,{"$f":"IF(C721<'Step 2. Basic Info'!$E$12,B721+1,\"\")","v":""},{"$f":"VLOOKUP(B722,'Output OP Lease Amort'!A:B,2,)","v":""},null,{"$f":"IF(B722=\"\",\"\",IF(D722>0,'Step 2. Basic Info'!$E$29*'Step 3. Lease Payments'!D722,0))","v":""},null,"",""]
[null,{"$f":"IF(C722<'Step 2. Basic Info'!$E$12,B722+1,\"\")","v":""},{"$f":"VLOOKUP(B723,'Output OP Lease Amort'!A:B,2,)","v":""},null,{"$f":"IF(B723=\"\",\"\",IF(D723>0,'Step 2. Basic Info'!$E$29*'Step 3. Lease Payments'!D723,0))","v":""},null,"",""]
[null,{"$f":"IF(C723<'Step 2. Basic Info'!$E$12,B723+1,\"\")","v":""},{"$f":"VLOOKUP(B724,'Output OP Lease Amort'!A:B,2,)","v":""},null,{"$f":"IF(B724=\"\",\"\",IF(D724>0,'Step 2. Basic Info'!$E$29*'Step 3. Lease Payments'!D724,0))","v":""},null,"",""]
[null,{"$f":"IF(C724<'Step 2. Basic Info'!$E$12,B724+1,\"\")","v":""},{"$f":"VLOOKUP(B725,'Output OP Lease Amort'!A:B,2,)","v":""},null,{"$f":"IF(B725=\"\",\"\",IF(D725>0,'Step 2. Basic Info'!$E$29*'Step 3. Lease Payments'!D725,0))","v":""},null,"",""]
[null,{"$f":"IF(C725<'Step 2. Basic Info'!$E$12,B725+1,\"\")","v":""},{"$f":"VLOOKUP(B726,'Output OP Lease Amort'!A:B,2,)","v":""},null,{"$f":"IF(B726=\"\",\"\",IF(D726>0,'Step 2. Basic Info'!$E$29*'Step 3. Lease Payments'!D726,0))","v":""},null,"",""]
[null,{"$f":"IF(C726<'Step 2. Basic Info'!$E$12,B726+1,\"\")","v":""},{"$f":"VLOOKUP(B727,'Output OP Lease Amort'!A:B,2,)","v":""},null,{"$f":"IF(B727=\"\",\"\",IF(D727>0,'Step 2. Basic Info'!$E$29*'Step 3. Lease Payments'!D727,0))","v":""},null,"",""]
[null,{"$f":"IF(C727<'Step 2. Basic Info'!$E$12,B727+1,\"\")","v":""},{"$f":"VLOOKUP(B728,'Output OP Lease Amort'!A:B,2,)","v":""},null,{"$f":"IF(B728=\"\",\"\",IF(D728>0,'Step 2. Basic Info'!$E$29*'Step 3. Lease Payments'!D728,0))","v":""},null,"",""]
[null,{"$f":"IF(C728<'Step 2. Basic Info'!$E$12,B728+1,\"\")","v":""},{"$f":"VLOOKUP(B729,'Output OP Lease Amort'!A:B,2,)","v":""},null,{"$f":"IF(B729=\"\",\"\",IF(D729>0,'Step 2. Basic Info'!$E$29*'Step 3. Lease Payments'!D729,0))","v":""},null,"",""]
[null,{"$f":"IF(C729<'Step 2. Basic Info'!$E$12,B729+1,\"\")","v":""},{"$f":"VLOOKUP(B730,'Output OP Lease Amort'!A:B,2,)","v":""},null,{"$f":"IF(B730=\"\",\"\",IF(D730>0,'Step 2. Basic Info'!$E$29*'Step 3. Lease Payments'!D730,0))","v":""},null,"",""]
[null,{"$f":"IF(C730<'Step 2. Basic Info'!$E$12,B730+1,\"\")","v":""},{"$f":"VLOOKUP(B731,'Output OP Lease Amort'!A:B,2,)","v":""},null,{"$f":"IF(B731=\"\",\"\",IF(D731>0,'Step 2. Basic Info'!$E$29*'Step 3. Lease Payments'!D731,0))","v":""},null,"",""]
[null,{"$f":"IF(C731<'Step 2. Basic Info'!$E$12,B731+1,\"\")","v":""},{"$f":"VLOOKUP(B732,'Output OP Lease Amort'!A:B,2,)","v":""},null,{"$f":"IF(B732=\"\",\"\",IF(D732>0,'Step 2. Basic Info'!$E$29*'Step 3. Lease Payments'!D732,0))","v":""},null,"",""]
[null,{"$f":"IF(C732<'Step 2. Basic Info'!$E$12,B732+1,\"\")","v":""},{"$f":"VLOOKUP(B733,'Output OP Lease Amort'!A:B,2,)","v":""},null,{"$f":"IF(B733=\"\",\"\",IF(D733>0,'Step 2. Basic Info'!$E$29*'Step 3. Lease Payments'!D733,0))","v":""},null,"",""]
[null,{"$f":"IF(C733<'Step 2. Basic Info'!$E$12,B733+1,\"\")","v":""},{"$f":"VLOOKUP(B734,'Output OP Lease Amort'!A:B,2,)","v":""},null,{"$f":"IF(B734=\"\",\"\",IF(D734>0,'Step 2. Basic Info'!$E$29*'Step 3. Lease Payments'!D734,0))","v":""},null,"",""]
[null,{"$f":"IF(C734<'Step 2. Basic Info'!$E$12,B734+1,\"\")","v":""},{"$f":"VLOOKUP(B735,'Output OP Lease Amort'!A:B,2,)","v":""},null,{"$f":"IF(B735=\"\",\"\",IF(D735>0,'Step 2. Basic Info'!$E$29*'Step 3. Lease Payments'!D735,0))","v":""},null,"",""]
[null,{"$f":"IF(C735<'Step 2. Basic Info'!$E$12,B735+1,\"\")","v":""},{"$f":"VLOOKUP(B736,'Output OP Lease Amort'!A:B,2,)","v":""},null,{"$f":"IF(B736=\"\",\"\",IF(D736>0,'Step 2. Basic Info'!$E$29*'Step 3. Lease Payments'!D736,0))","v":""},null,"",""]
[null,{"$f":"IF(C736<'Step 2. Basic Info'!$E$12,B736+1,\"\")","v":""},{"$f":"VLOOKUP(B737,'Output OP Lease Amort'!A:B,2,)","v":""},null,{"$f":"IF(B737=\"\",\"\",IF(D737>0,'Step 2. Basic Info'!$E$29*'Step 3. Lease Payments'!D737,0))","v":""},null,"",""]
[null,{"$f":"IF(C737<'Step 2. Basic Info'!$E$12,B737+1,\"\")","v":""},{"$f":"VLOOKUP(B738,'Output OP Lease Amort'!A:B,2,)","v":""},null,{"$f":"IF(B738=\"\",\"\",IF(D738>0,'Step 2. Basic Info'!$E$29*'Step 3. Lease Payments'!D738,0))","v":""},null,"",""]
[null,{"$f":"IF(C738<'Step 2. Basic Info'!$E$12,B738+1,\"\")","v":""},{"$f":"VLOOKUP(B739,'Output OP Lease Amort'!A:B,2,)","v":""},null,{"$f":"IF(B739=\"\",\"\",IF(D739>0,'Step 2. Basic Info'!$E$29*'Step 3. Lease Payments'!D739,0))","v":""},null,"",""]
[null,{"$f":"IF(C739<'Step 2. Basic Info'!$E$12,B739+1,\"\")","v":""},{"$f":"VLOOKUP(B740,'Output OP Lease Amort'!A:B,2,)","v":""},null,{"$f":"IF(B740=\"\",\"\",IF(D740>0,'Step 2. Basic Info'!$E$29*'Step 3. Lease Payments'!D740,0))","v":""},null,"",""]
[null,{"$f":"IF(C740<'Step 2. Basic Info'!$E$12,B740+1,\"\")","v":""},{"$f":"VLOOKUP(B741,'Output OP Lease Amort'!A:B,2,)","v":""},null,{"$f":"IF(B741=\"\",\"\",IF(D741>0,'Step 2. Basic Info'!$E$29*'Step 3. Lease Payments'!D741,0))","v":""},null,"",""]
[null,{"$f":"IF(C741<'Step 2. Basic Info'!$E$12,B741+1,\"\")","v":""},{"$f":"VLOOKUP(B742,'Output OP Lease Amort'!A:B,2,)","v":""},null,{"$f":"IF(B742=\"\",\"\",IF(D742>0,'Step 2. Basic Info'!$E$29*'Step 3. Lease Payments'!D742,0))","v":""},null,"",""]
[null,{"$f":"IF(C742<'Step 2. Basic Info'!$E$12,B742+1,\"\")","v":""},{"$f":"VLOOKUP(B743,'Output OP Lease Amort'!A:B,2,)","v":""},null,{"$f":"IF(B743=\"\",\"\",IF(D743>0,'Step 2. Basic Info'!$E$29*'Step 3. Lease Payments'!D743,0))","v":""},null,"",""]
[null,{"$f":"IF(C743<'Step 2. Basic Info'!$E$12,B743+1,\"\")","v":""},{"$f":"VLOOKUP(B744,'Output OP Lease Amort'!A:B,2,)","v":""},null,{"$f":"IF(B744=\"\",\"\",IF(D744>0,'Step 2. Basic Info'!$E$29*'Step 3. Lease Payments'!D744,0))","v":""},null,"",""]
[null,{"$f":"IF(C744<'Step 2. Basic Info'!$E$12,B744+1,\"\")","v":""},{"$f":"VLOOKUP(B745,'Output OP Lease Amort'!A:B,2,)","v":""},null,{"$f":"IF(B745=\"\",\"\",IF(D745>0,'Step 2. Basic Info'!$E$29*'Step 3. Lease Payments'!D745,0))","v":""},null,"",""]
[null,{"$f":"IF(C745<'Step 2. Basic Info'!$E$12,B745+1,\"\")","v":""},{"$f":"VLOOKUP(B746,'Output OP Lease Amort'!A:B,2,)","v":""},null,{"$f":"IF(B746=\"\",\"\",IF(D746>0,'Step 2. Basic Info'!$E$29*'Step 3. Lease Payments'!D746,0))","v":""},null,"",""]
[null,{"$f":"IF(C746<'Step 2. Basic Info'!$E$12,B746+1,\"\")","v":""},{"$f":"VLOOKUP(B747,'Output OP Lease Amort'!A:B,2,)","v":""},null,{"$f":"IF(B747=\"\",\"\",IF(D747>0,'Step 2. Basic Info'!$E$29*'Step 3. Lease Payments'!D747,0))","v":""},null,"",""]
[null,{"$f":"IF(C747<'Step 2. Basic Info'!$E$12,B747+1,\"\")","v":""},{"$f":"VLOOKUP(B748,'Output OP Lease Amort'!A:B,2,)","v":""},null,{"$f":"IF(B748=\"\",\"\",IF(D748>0,'Step 2. Basic Info'!$E$29*'Step 3. Lease Payments'!D748,0))","v":""},null,"",""]
[null,{"$f":"IF(C748<'Step 2. Basic Info'!$E$12,B748+1,\"\")","v":""},{"$f":"VLOOKUP(B749,'Output OP Lease Amort'!A:B,2,)","v":""},null,{"$f":"IF(B749=\"\",\"\",IF(D749>0,'Step 2. Basic Info'!$E$29*'Step 3. Lease Payments'!D749,0))","v":""},null,"",""]
[null,{"$f":"IF(C749<'Step 2. Basic Info'!$E$12,B749+1,\"\")","v":""},{"$f":"VLOOKUP(B750,'Output OP Lease Amort'!A:B,2,)","v":""},null,{"$f":"IF(B750=\"\",\"\",IF(D750>0,'Step 2. Basic Info'!$E$29*'Step 3. Lease Payments'!D750,0))","v":""},null,"",""]
[null,{"$f":"IF(C750<'Step 2. Basic Info'!$E$12,B750+1,\"\")","v":""},{"$f":"VLOOKUP(B751,'Output OP Lease Amort'!A:B,2,)","v":""},null,{"$f":"IF(B751=\"\",\"\",IF(D751>0,'Step 2. Basic Info'!$E$29*'Step 3. Lease Payments'!D751,0))","v":""},null,"",""]
[null,{"$f":"IF(C751<'Step 2. Basic Info'!$E$12,B751+1,\"\")","v":""},{"$f":"VLOOKUP(B752,'Output OP Lease Amort'!A:B,2,)","v":""},null,{"$f":"IF(B752=\"\",\"\",IF(D752>0,'Step 2. Basic Info'!$E$29*'Step 3. Lease Payments'!D752,0))","v":""},null,"",""]
[null,{"$f":"IF(C752<'Step 2. Basic Info'!$E$12,B752+1,\"\")","v":""},{"$f":"VLOOKUP(B753,'Output OP Lease Amort'!A:B,2,)","v":""},null,{"$f":"IF(B753=\"\",\"\",IF(D753>0,'Step 2. Basic Info'!$E$29*'Step 3. Lease Payments'!D753,0))","v":""},null,"",""]
[null,{"$f":"IF(C753<'Step 2. Basic Info'!$E$12,B753+1,\"\")","v":""},{"$f":"VLOOKUP(B754,'Output OP Lease Amort'!A:B,2,)","v":""},null,{"$f":"IF(B754=\"\",\"\",IF(D754>0,'Step 2. Basic Info'!$E$29*'Step 3. Lease Payments'!D754,0))","v":""},null,"",""]
[null,{"$f":"IF(C754<'Step 2. Basic Info'!$E$12,B754+1,\"\")","v":""},{"$f":"VLOOKUP(B755,'Output OP Lease Amort'!A:B,2,)","v":""},null,{"$f":"IF(B755=\"\",\"\",IF(D755>0,'Step 2. Basic Info'!$E$29*'Step 3. Lease Payments'!D755,0))","v":""},null,"",""]
[null,{"$f":"IF(C755<'Step 2. Basic Info'!$E$12,B755+1,\"\")","v":""},{"$f":"VLOOKUP(B756,'Output OP Lease Amort'!A:B,2,)","v":""},null,{"$f":"IF(B756=\"\",\"\",IF(D756>0,'Step 2. Basic Info'!$E$29*'Step 3. Lease Payments'!D756,0))","v":""},null,"",""]
[null,{"$f":"IF(C756<'Step 2. Basic Info'!$E$12,B756+1,\"\")","v":""},{"$f":"VLOOKUP(B757,'Output OP Lease Amort'!A:B,2,)","v":""},null,{"$f":"IF(B757=\"\",\"\",IF(D757>0,'Step 2. Basic Info'!$E$29*'Step 3. Lease Payments'!D757,0))","v":""},null,"",""]
[null,{"$f":"IF(C757<'Step 2. Basic Info'!$E$12,B757+1,\"\")","v":""},{"$f":"VLOOKUP(B758,'Output OP Lease Amort'!A:B,2,)","v":""},null,{"$f":"IF(B758=\"\",\"\",IF(D758>0,'Step 2. Basic Info'!$E$29*'Step 3. Lease Payments'!D758,0))","v":""},null,"",""]
[null,{"$f":"IF(C758<'Step 2. Basic Info'!$E$12,B758+1,\"\")","v":""},{"$f":"VLOOKUP(B759,'Output OP Lease Amort'!A:B,2,)","v":""},null,{"$f":"IF(B759=\"\",\"\",IF(D759>0,'Step 2. Basic Info'!$E$29*'Step 3. Lease Payments'!D759,0))","v":""},null,"",""]
[null,{"$f":"IF(C759<'Step 2. Basic Info'!$E$12,B759+1,\"\")","v":""},{"$f":"VLOOKUP(B760,'Output OP Lease Amort'!A:B,2,)","v":""},null,{"$f":"IF(B760=\"\",\"\",IF(D760>0,'Step 2. Basic Info'!$E$29*'Step 3. Lease Payments'!D760,0))","v":""},null,"",""]
[null,{"$f":"IF(C760<'Step 2. Basic Info'!$E$12,B760+1,\"\")","v":""},{"$f":"VLOOKUP(B761,'Output OP Lease Amort'!A:B,2,)","v":""},null,{"$f":"IF(B761=\"\",\"\",IF(D761>0,'Step 2. Basic Info'!$E$29*'Step 3. Lease Payments'!D761,0))","v":""},null,"",""]
[null,{"$f":"IF(C761<'Step 2. Basic Info'!$E$12,B761+1,\"\")","v":""},{"$f":"VLOOKUP(B762,'Output OP Lease Amort'!A:B,2,)","v":""},null,{"$f":"IF(B762=\"\",\"\",IF(D762>0,'Step 2. Basic Info'!$E$29*'Step 3. Lease Payments'!D762,0))","v":""},null,"",""]
[null,{"$f":"IF(C762<'Step 2. Basic Info'!$E$12,B762+1,\"\")","v":""},{"$f":"VLOOKUP(B763,'Output OP Lease Amort'!A:B,2,)","v":""},null,{"$f":"IF(B763=\"\",\"\",IF(D763>0,'Step 2. Basic Info'!$E$29*'Step 3. Lease Payments'!D763,0))","v":""},null,"",""]
[null,{"$f":"IF(C763<'Step 2. Basic Info'!$E$12,B763+1,\"\")","v":""},{"$f":"VLOOKUP(B764,'Output OP Lease Amort'!A:B,2,)","v":""},null,{"$f":"IF(B764=\"\",\"\",IF(D764>0,'Step 2. Basic Info'!$E$29*'Step 3. Lease Payments'!D764,0))","v":""},null,"",""]
[null,{"$f":"IF(C764<'Step 2. Basic Info'!$E$12,B764+1,\"\")","v":""},{"$f":"VLOOKUP(B765,'Output OP Lease Amort'!A:B,2,)","v":""},null,{"$f":"IF(B765=\"\",\"\",IF(D765>0,'Step 2. Basic Info'!$E$29*'Step 3. Lease Payments'!D765,0))","v":""},null,"",""]
[null,{"$f":"IF(C765<'Step 2. Basic Info'!$E$12,B765+1,\"\")","v":""},{"$f":"VLOOKUP(B766,'Output OP Lease Amort'!A:B,2,)","v":""},null,{"$f":"IF(B766=\"\",\"\",IF(D766>0,'Step 2. Basic Info'!$E$29*'Step 3. Lease Payments'!D766,0))","v":""},null,"",""]
[null,{"$f":"IF(C766<'Step 2. Basic Info'!$E$12,B766+1,\"\")","v":""},{"$f":"VLOOKUP(B767,'Output OP Lease Amort'!A:B,2,)","v":""},null,{"$f":"IF(B767=\"\",\"\",IF(D767>0,'Step 2. Basic Info'!$E$29*'Step 3. Lease Payments'!D767,0))","v":""},null,"",""]
[null,{"$f":"IF(C767<'Step 2. Basic Info'!$E$12,B767+1,\"\")","v":""},{"$f":"VLOOKUP(B768,'Output OP Lease Amort'!A:B,2,)","v":""},null,{"$f":"IF(B768=\"\",\"\",IF(D768>0,'Step 2. Basic Info'!$E$29*'Step 3. Lease Payments'!D768,0))","v":""},null,"",""]
[null,{"$f":"IF(C768<'Step 2. Basic Info'!$E$12,B768+1,\"\")","v":""},{"$f":"VLOOKUP(B769,'Output OP Lease Amort'!A:B,2,)","v":""},null,{"$f":"IF(B769=\"\",\"\",IF(D769>0,'Step 2. Basic Info'!$E$29*'Step 3. Lease Payments'!D769,0))","v":""},null,"",""]
[null,{"$f":"IF(C769<'Step 2. Basic Info'!$E$12,B769+1,\"\")","v":""},{"$f":"VLOOKUP(B770,'Output OP Lease Amort'!A:B,2,)","v":""},null,{"$f":"IF(B770=\"\",\"\",IF(D770>0,'Step 2. Basic Info'!$E$29*'Step 3. Lease Payments'!D770,0))","v":""},null,"",""]
[null,{"$f":"IF(C770<'Step 2. Basic Info'!$E$12,B770+1,\"\")","v":""},{"$f":"VLOOKUP(B771,'Output OP Lease Amort'!A:B,2,)","v":""},null,{"$f":"IF(B771=\"\",\"\",IF(D771>0,'Step 2. Basic Info'!$E$29*'Step 3. Lease Payments'!D771,0))","v":""},null,"",""]
[null,{"$f":"IF(C771<'Step 2. Basic Info'!$E$12,B771+1,\"\")","v":""},{"$f":"VLOOKUP(B772,'Output OP Lease Amort'!A:B,2,)","v":""},null,{"$f":"IF(B772=\"\",\"\",IF(D772>0,'Step 2. Basic Info'!$E$29*'Step 3. Lease Payments'!D772,0))","v":""},null,"",""]
[null,{"$f":"IF(C772<'Step 2. Basic Info'!$E$12,B772+1,\"\")","v":""},{"$f":"VLOOKUP(B773,'Output OP Lease Amort'!A:B,2,)","v":""},null,{"$f":"IF(B773=\"\",\"\",IF(D773>0,'Step 2. Basic Info'!$E$29*'Step 3. Lease Payments'!D773,0))","v":""},null,"",""]
[null,{"$f":"IF(C773<'Step 2. Basic Info'!$E$12,B773+1,\"\")","v":""},{"$f":"VLOOKUP(B774,'Output OP Lease Amort'!A:B,2,)","v":""},null,{"$f":"IF(B774=\"\",\"\",IF(D774>0,'Step 2. Basic Info'!$E$29*'Step 3. Lease Payments'!D774,0))","v":""},null,"",""]
[null,{"$f":"IF(C774<'Step 2. Basic Info'!$E$12,B774+1,\"\")","v":""},{"$f":"VLOOKUP(B775,'Output OP Lease Amort'!A:B,2,)","v":""},null,{"$f":"IF(B775=\"\",\"\",IF(D775>0,'Step 2. Basic Info'!$E$29*'Step 3. Lease Payments'!D775,0))","v":""},null,"",""]
[null,{"$f":"IF(C775<'Step 2. Basic Info'!$E$12,B775+1,\"\")","v":""},{"$f":"VLOOKUP(B776,'Output OP Lease Amort'!A:B,2,)","v":""},null,{"$f":"IF(B776=\"\",\"\",IF(D776>0,'Step 2. Basic Info'!$E$29*'Step 3. Lease Payments'!D776,0))","v":""},null,"",""]
[null,{"$f":"IF(C776<'Step 2. Basic Info'!$E$12,B776+1,\"\")","v":""},{"$f":"VLOOKUP(B777,'Output OP Lease Amort'!A:B,2,)","v":""},null,{"$f":"IF(B777=\"\",\"\",IF(D777>0,'Step 2. Basic Info'!$E$29*'Step 3. Lease Payments'!D777,0))","v":""},null,"",""]
[null,{"$f":"IF(C777<'Step 2. Basic Info'!$E$12,B777+1,\"\")","v":""},{"$f":"VLOOKUP(B778,'Output OP Lease Amort'!A:B,2,)","v":""},null,{"$f":"IF(B778=\"\",\"\",IF(D778>0,'Step 2. Basic Info'!$E$29*'Step 3. Lease Payments'!D778,0))","v":""},null,"",""]
[null,{"$f":"IF(C778<'Step 2. Basic Info'!$E$12,B778+1,\"\")","v":""},{"$f":"VLOOKUP(B779,'Output OP Lease Amort'!A:B,2,)","v":""},null,{"$f":"IF(B779=\"\",\"\",IF(D779>0,'Step 2. Basic Info'!$E$29*'Step 3. Lease Payments'!D779,0))","v":""},null,{"$f":"IF(B779=\"\",\"\",IFERROR(E779+F779,0))","v":""},{"$f":"IF(G779 = \"\",\"\",-PV($G$8,B779,,G779,))","v":""}]
[null,{"$f":"IF(C779<'Step 2. Basic Info'!$E$12,B779+1,\"\")","v":""},{"$f":"VLOOKUP(B780,'Output OP Lease Amort'!A:B,2,)","v":""},null,{"$f":"IF(B780=\"\",\"\",IF(D780>0,'Step 2. Basic Info'!$E$29*'Step 3. Lease Payments'!D780,0))","v":""},null,"",""]
[null,{"$f":"IF(C780<'Step 2. Basic Info'!$E$12,B780+1,\"\")","v":""},{"$f":"VLOOKUP(B781,'Output OP Lease Amort'!A:B,2,)","v":""},null,{"$f":"IF(B781=\"\",\"\",IF(D781>0,'Step 2. Basic Info'!$E$29*'Step 3. Lease Payments'!D781,0))","v":""},null,"",""]
[null,{"$f":"IF(C781<'Step 2. Basic Info'!$E$12,B781+1,\"\")","v":""},{"$f":"VLOOKUP(B782,'Output OP Lease Amort'!A:B,2,)","v":""},null,{"$f":"IF(B782=\"\",\"\",IF(D782>0,'Step 2. Basic Info'!$E$29*'Step 3. Lease Payments'!D782,0))","v":""},null,"",""]
[null,{"$f":"IF(C782<'Step 2. Basic Info'!$E$12,B782+1,\"\")","v":""},{"$f":"VLOOKUP(B783,'Output OP Lease Amort'!A:B,2,)","v":""},null,{"$f":"IF(B783=\"\",\"\",IF(D783>0,'Step 2. Basic Info'!$E$29*'Step 3. Lease Payments'!D783,0))","v":""},null,"",""]
[null,{"$f":"IF(C783<'Step 2. Basic Info'!$E$12,B783+1,\"\")","v":""},{"$f":"VLOOKUP(B784,'Output OP Lease Amort'!A:B,2,)","v":""},null,{"$f":"IF(B784=\"\",\"\",IF(D784>0,'Step 2. Basic Info'!$E$29*'Step 3. Lease Payments'!D784,0))","v":""},null,"",""]
[null,{"$f":"IF(C784<'Step 2. Basic Info'!$E$12,B784+1,\"\")","v":""},{"$f":"VLOOKUP(B785,'Output OP Lease Amort'!A:B,2,)","v":""},null,{"$f":"IF(B785=\"\",\"\",IF(D785>0,'Step 2. Basic Info'!$E$29*'Step 3. Lease Payments'!D785,0))","v":""},null,"",""]
[null,{"$f":"IF(C785<'Step 2. Basic Info'!$E$12,B785+1,\"\")","v":""},{"$f":"VLOOKUP(B786,'Output OP Lease Amort'!A:B,2,)","v":""},null,{"$f":"IF(B786=\"\",\"\",IF(D786>0,'Step 2. Basic Info'!$E$29*'Step 3. Lease Payments'!D786,0))","v":""},null,"",""]
[null,{"$f":"IF(C786<'Step 2. Basic Info'!$E$12,B786+1,\"\")","v":""},{"$f":"VLOOKUP(B787,'Output OP Lease Amort'!A:B,2,)","v":""},null,{"$f":"IF(B787=\"\",\"\",IF(D787>0,'Step 2. Basic Info'!$E$29*'Step 3. Lease Payments'!D787,0))","v":""},null,"",""]
[null,{"$f":"IF(C787<'Step 2. Basic Info'!$E$12,B787+1,\"\")","v":""},{"$f":"VLOOKUP(B788,'Output OP Lease Amort'!A:B,2,)","v":""},null,{"$f":"IF(B788=\"\",\"\",IF(D788>0,'Step 2. Basic Info'!$E$29*'Step 3. Lease Payments'!D788,0))","v":""},null,"",""]
[null,{"$f":"IF(C788<'Step 2. Basic Info'!$E$12,B788+1,\"\")","v":""},{"$f":"VLOOKUP(B789,'Output OP Lease Amort'!A:B,2,)","v":""},null,{"$f":"IF(B789=\"\",\"\",IF(D789>0,'Step 2. Basic Info'!$E$29*'Step 3. Lease Payments'!D789,0))","v":""},null,"",""]
[null,{"$f":"IF(C789<'Step 2. Basic Info'!$E$12,B789+1,\"\")","v":""},{"$f":"VLOOKUP(B790,'Output OP Lease Amort'!A:B,2,)","v":""},null,{"$f":"IF(B790=\"\",\"\",IF(D790>0,'Step 2. Basic Info'!$E$29*'Step 3. Lease Payments'!D790,0))","v":""},null,"",""]
[null,{"$f":"IF(C790<'Step 2. Basic Info'!$E$12,B790+1,\"\")","v":""},{"$f":"VLOOKUP(B791,'Output OP Lease Amort'!A:B,2,)","v":""},null,{"$f":"IF(B791=\"\",\"\",IF(D791>0,'Step 2. Basic Info'!$E$29*'Step 3. Lease Payments'!D791,0))","v":""},null,"",""]
[null,{"$f":"IF(C791<'Step 2. Basic Info'!$E$12,B791+1,\"\")","v":""},{"$f":"VLOOKUP(B792,'Output OP Lease Amort'!A:B,2,)","v":""},null,{"$f":"IF(B792=\"\",\"\",IF(D792>0,'Step 2. Basic Info'!$E$29*'Step 3. Lease Payments'!D792,0))","v":""},null,"",""]
[null,{"$f":"IF(C792<'Step 2. Basic Info'!$E$12,B792+1,\"\")","v":""},{"$f":"VLOOKUP(B793,'Output OP Lease Amort'!A:B,2,)","v":""},null,{"$f":"IF(B793=\"\",\"\",IF(D793>0,'Step 2. Basic Info'!$E$29*'Step 3. Lease Payments'!D793,0))","v":""},null,"",""]
[null,{"$f":"IF(C793<'Step 2. Basic Info'!$E$12,B793+1,\"\")","v":""},{"$f":"VLOOKUP(B794,'Output OP Lease Amort'!A:B,2,)","v":""},null,{"$f":"IF(B794=\"\",\"\",IF(D794>0,'Step 2. Basic Info'!$E$29*'Step 3. Lease Payments'!D794,0))","v":""},null,"",""]
[null,{"$f":"IF(C794<'Step 2. Basic Info'!$E$12,B794+1,\"\")","v":""},{"$f":"VLOOKUP(B795,'Output OP Lease Amort'!A:B,2,)","v":""},null,{"$f":"IF(B795=\"\",\"\",IF(D795>0,'Step 2. Basic Info'!$E$29*'Step 3. Lease Payments'!D795,0))","v":""},null,"",""]
[null,{"$f":"IF(C795<'Step 2. Basic Info'!$E$12,B795+1,\"\")","v":""},{"$f":"VLOOKUP(B796,'Output OP Lease Amort'!A:B,2,)","v":""},null,{"$f":"IF(B796=\"\",\"\",IF(D796>0,'Step 2. Basic Info'!$E$29*'Step 3. Lease Payments'!D796,0))","v":""},null,"",""]
[null,{"$f":"IF(C796<'Step 2. Basic Info'!$E$12,B796+1,\"\")","v":""},{"$f":"VLOOKUP(B797,'Output OP Lease Amort'!A:B,2,)","v":""},null,{"$f":"IF(B797=\"\",\"\",IF(D797>0,'Step 2. Basic Info'!$E$29*'Step 3. Lease Payments'!D797,0))","v":""},null,"",""]
[null,{"$f":"IF(C797<'Step 2. Basic Info'!$E$12,B797+1,\"\")","v":""},{"$f":"VLOOKUP(B798,'Output OP Lease Amort'!A:B,2,)","v":""},null,{"$f":"IF(B798=\"\",\"\",IF(D798>0,'Step 2. Basic Info'!$E$29*'Step 3. Lease Payments'!D798,0))","v":""},null,"",""]
[null,{"$f":"IF(C798<'Step 2. Basic Info'!$E$12,B798+1,\"\")","v":""},{"$f":"VLOOKUP(B799,'Output OP Lease Amort'!A:B,2,)","v":""},null,{"$f":"IF(B799=\"\",\"\",IF(D799>0,'Step 2. Basic Info'!$E$29*'Step 3. Lease Payments'!D799,0))","v":""},null,"",""]
[null,{"$f":"IF(C799<'Step 2. Basic Info'!$E$12,B799+1,\"\")","v":""},{"$f":"VLOOKUP(B800,'Output OP Lease Amort'!A:B,2,)","v":""},null,{"$f":"IF(B800=\"\",\"\",IF(D800>0,'Step 2. Basic Info'!$E$29*'Step 3. Lease Payments'!D800,0))","v":""},null,"",""]
[null,{"$f":"IF(C800<'Step 2. Basic Info'!$E$12,B800+1,\"\")","v":""},{"$f":"VLOOKUP(B801,'Output OP Lease Amort'!A:B,2,)","v":""},null,{"$f":"IF(B801=\"\",\"\",IF(D801>0,'Step 2. Basic Info'!$E$29*'Step 3. Lease Payments'!D801,0))","v":""},null,"",""]
[null,{"$f":"IF(C801<'Step 2. Basic Info'!$E$12,B801+1,\"\")","v":""},{"$f":"VLOOKUP(B802,'Output OP Lease Amort'!A:B,2,)","v":""},null,{"$f":"IF(B802=\"\",\"\",IF(D802>0,'Step 2. Basic Info'!$E$29*'Step 3. Lease Payments'!D802,0))","v":""},null,"",""]
[null,{"$f":"IF(C802<'Step 2. Basic Info'!$E$12,B802+1,\"\")","v":""},{"$f":"VLOOKUP(B803,'Output OP Lease Amort'!A:B,2,)","v":""},null,{"$f":"IF(B803=\"\",\"\",IF(D803>0,'Step 2. Basic Info'!$E$29*'Step 3. Lease Payments'!D803,0))","v":""},null,"",""]
[null,{"$f":"IF(C803<'Step 2. Basic Info'!$E$12,B803+1,\"\")","v":""},{"$f":"VLOOKUP(B804,'Output OP Lease Amort'!A:B,2,)","v":""},null,{"$f":"IF(B804=\"\",\"\",IF(D804>0,'Step 2. Basic Info'!$E$29*'Step 3. Lease Payments'!D804,0))","v":""},null,"",""]
[null,{"$f":"IF(C804<'Step 2. Basic Info'!$E$12,B804+1,\"\")","v":""},{"$f":"VLOOKUP(B805,'Output OP Lease Amort'!A:B,2,)","v":""},null,{"$f":"IF(B805=\"\",\"\",IF(D805>0,'Step 2. Basic Info'!$E$29*'Step 3. Lease Payments'!D805,0))","v":""},null,"",""]
[null,{"$f":"IF(C805<'Step 2. Basic Info'!$E$12,B805+1,\"\")","v":""},{"$f":"VLOOKUP(B806,'Output OP Lease Amort'!A:B,2,)","v":""},null,{"$f":"IF(B806=\"\",\"\",IF(D806>0,'Step 2. Basic Info'!$E$29*'Step 3. Lease Payments'!D806,0))","v":""},null,"",""]
[null,{"$f":"IF(C806<'Step 2. Basic Info'!$E$12,B806+1,\"\")","v":""},{"$f":"VLOOKUP(B807,'Output OP Lease Amort'!A:B,2,)","v":""},null,{"$f":"IF(B807=\"\",\"\",IF(D807>0,'Step 2. Basic Info'!$E$29*'Step 3. Lease Payments'!D807,0))","v":""},null,"",""]
[null,{"$f":"IF(C807<'Step 2. Basic Info'!$E$12,B807+1,\"\")","v":""},{"$f":"VLOOKUP(B808,'Output OP Lease Amort'!A:B,2,)","v":""},null,{"$f":"IF(B808=\"\",\"\",IF(D808>0,'Step 2. Basic Info'!$E$29*'Step 3. Lease Payments'!D808,0))","v":""},null,"",""]
[null,{"$f":"IF(C808<'Step 2. Basic Info'!$E$12,B808+1,\"\")","v":""},{"$f":"VLOOKUP(B809,'Output OP Lease Amort'!A:B,2,)","v":""},null,{"$f":"IF(B809=\"\",\"\",IF(D809>0,'Step 2. Basic Info'!$E$29*'Step 3. Lease Payments'!D809,0))","v":""},null,"",""]
[null,{"$f":"IF(C809<'Step 2. Basic Info'!$E$12,B809+1,\"\")","v":""},{"$f":"VLOOKUP(B810,'Output OP Lease Amort'!A:B,2,)","v":""},null,{"$f":"IF(B810=\"\",\"\",IF(D810>0,'Step 2. Basic Info'!$E$29*'Step 3. Lease Payments'!D810,0))","v":""},null,"",""]
[null,{"$f":"IF(C810<'Step 2. Basic Info'!$E$12,B810+1,\"\")","v":""},{"$f":"VLOOKUP(B811,'Output OP Lease Amort'!A:B,2,)","v":""},null,{"$f":"IF(B811=\"\",\"\",IF(D811>0,'Step 2. Basic Info'!$E$29*'Step 3. Lease Payments'!D811,0))","v":""},null,"",""]
[null,{"$f":"IF(C811<'Step 2. Basic Info'!$E$12,B811+1,\"\")","v":""},{"$f":"VLOOKUP(B812,'Output OP Lease Amort'!A:B,2,)","v":""},null,{"$f":"IF(B812=\"\",\"\",IF(D812>0,'Step 2. Basic Info'!$E$29*'Step 3. Lease Payments'!D812,0))","v":""},null,"",""]
[null,{"$f":"IF(C812<'Step 2. Basic Info'!$E$12,B812+1,\"\")","v":""},{"$f":"VLOOKUP(B813,'Output OP Lease Amort'!A:B,2,)","v":""},null,{"$f":"IF(B813=\"\",\"\",IF(D813>0,'Step 2. Basic Info'!$E$29*'Step 3. Lease Payments'!D813,0))","v":""},null,"",""]
[null,{"$f":"IF(C813<'Step 2. Basic Info'!$E$12,B813+1,\"\")","v":""},{"$f":"VLOOKUP(B814,'Output OP Lease Amort'!A:B,2,)","v":""},null,{"$f":"IF(B814=\"\",\"\",IF(D814>0,'Step 2. Basic Info'!$E$29*'Step 3. Lease Payments'!D814,0))","v":""},null,"",""]
[null,{"$f":"IF(C814<'Step 2. Basic Info'!$E$12,B814+1,\"\")","v":""},{"$f":"VLOOKUP(B815,'Output OP Lease Amort'!A:B,2,)","v":""},null,{"$f":"IF(B815=\"\",\"\",IF(D815>0,'Step 2. Basic Info'!$E$29*'Step 3. Lease Payments'!D815,0))","v":""},null,"",""]
[null,{"$f":"IF(C815<'Step 2. Basic Info'!$E$12,B815+1,\"\")","v":""},{"$f":"VLOOKUP(B816,'Output OP Lease Amort'!A:B,2,)","v":""},null,{"$f":"IF(B816=\"\",\"\",IF(D816>0,'Step 2. Basic Info'!$E$29*'Step 3. Lease Payments'!D816,0))","v":""},null,"",""]
[null,{"$f":"IF(C816<'Step 2. Basic Info'!$E$12,B816+1,\"\")","v":""},{"$f":"VLOOKUP(B817,'Output OP Lease Amort'!A:B,2,)","v":""},null,{"$f":"IF(B817=\"\",\"\",IF(D817>0,'Step 2. Basic Info'!$E$29*'Step 3. Lease Payments'!D817,0))","v":""},null,"",""]
[null,{"$f":"IF(C817<'Step 2. Basic Info'!$E$12,B817+1,\"\")","v":""},{"$f":"VLOOKUP(B818,'Output OP Lease Amort'!A:B,2,)","v":""},null,{"$f":"IF(B818=\"\",\"\",IF(D818>0,'Step 2. Basic Info'!$E$29*'Step 3. Lease Payments'!D818,0))","v":""},null,"",""]
[null,{"$f":"IF(C818<'Step 2. Basic Info'!$E$12,B818+1,\"\")","v":""},{"$f":"VLOOKUP(B819,'Output OP Lease Amort'!A:B,2,)","v":""},null,{"$f":"IF(B819=\"\",\"\",IF(D819>0,'Step 2. Basic Info'!$E$29*'Step 3. Lease Payments'!D819,0))","v":""},null,"",""]
[null,{"$f":"IF(C819<'Step 2. Basic Info'!$E$12,B819+1,\"\")","v":""},{"$f":"VLOOKUP(B820,'Output OP Lease Amort'!A:B,2,)","v":""},null,{"$f":"IF(B820=\"\",\"\",IF(D820>0,'Step 2. Basic Info'!$E$29*'Step 3. Lease Payments'!D820,0))","v":""},null,"",""]
[null,{"$f":"IF(C820<'Step 2. Basic Info'!$E$12,B820+1,\"\")","v":""},{"$f":"VLOOKUP(B821,'Output OP Lease Amort'!A:B,2,)","v":""},null,{"$f":"IF(B821=\"\",\"\",IF(D821>0,'Step 2. Basic Info'!$E$29*'Step 3. Lease Payments'!D821,0))","v":""},null,"",""]
[null,{"$f":"IF(C821<'Step 2. Basic Info'!$E$12,B821+1,\"\")","v":""},{"$f":"VLOOKUP(B822,'Output OP Lease Amort'!A:B,2,)","v":""},null,{"$f":"IF(B822=\"\",\"\",IF(D822>0,'Step 2. Basic Info'!$E$29*'Step 3. Lease Payments'!D822,0))","v":""},null,"",""]
[null,{"$f":"IF(C822<'Step 2. Basic Info'!$E$12,B822+1,\"\")","v":""},{"$f":"VLOOKUP(B823,'Output OP Lease Amort'!A:B,2,)","v":""},null,{"$f":"IF(B823=\"\",\"\",IF(D823>0,'Step 2. Basic Info'!$E$29*'Step 3. Lease Payments'!D823,0))","v":""},null,"",""]
[null,{"$f":"IF(C823<'Step 2. Basic Info'!$E$12,B823+1,\"\")","v":""},{"$f":"VLOOKUP(B824,'Output OP Lease Amort'!A:B,2,)","v":""},null,{"$f":"IF(B824=\"\",\"\",IF(D824>0,'Step 2. Basic Info'!$E$29*'Step 3. Lease Payments'!D824,0))","v":""},null,"",""]
[null,{"$f":"IF(C824<'Step 2. Basic Info'!$E$12,B824+1,\"\")","v":""},{"$f":"VLOOKUP(B825,'Output OP Lease Amort'!A:B,2,)","v":""},null,{"$f":"IF(B825=\"\",\"\",IF(D825>0,'Step 2. Basic Info'!$E$29*'Step 3. Lease Payments'!D825,0))","v":""},null,"",""]
[null,{"$f":"IF(C825<'Step 2. Basic Info'!$E$12,B825+1,\"\")","v":""},{"$f":"VLOOKUP(B826,'Output OP Lease Amort'!A:B,2,)","v":""},null,{"$f":"IF(B826=\"\",\"\",IF(D826>0,'Step 2. Basic Info'!$E$29*'Step 3. Lease Payments'!D826,0))","v":""},null,"",""]
[null,{"$f":"IF(C826<'Step 2. Basic Info'!$E$12,B826+1,\"\")","v":""},{"$f":"VLOOKUP(B827,'Output OP Lease Amort'!A:B,2,)","v":""},null,{"$f":"IF(B827=\"\",\"\",IF(D827>0,'Step 2. Basic Info'!$E$29*'Step 3. Lease Payments'!D827,0))","v":""},null,"",""]
[null,{"$f":"IF(C827<'Step 2. Basic Info'!$E$12,B827+1,\"\")","v":""},{"$f":"VLOOKUP(B828,'Output OP Lease Amort'!A:B,2,)","v":""},null,{"$f":"IF(B828=\"\",\"\",IF(D828>0,'Step 2. Basic Info'!$E$29*'Step 3. Lease Payments'!D828,0))","v":""},null,"",""]
[null,{"$f":"IF(C828<'Step 2. Basic Info'!$E$12,B828+1,\"\")","v":""},{"$f":"VLOOKUP(B829,'Output OP Lease Amort'!A:B,2,)","v":""},null,{"$f":"IF(B829=\"\",\"\",IF(D829>0,'Step 2. Basic Info'!$E$29*'Step 3. Lease Payments'!D829,0))","v":""},null,"",""]
[null,{"$f":"IF(C829<'Step 2. Basic Info'!$E$12,B829+1,\"\")","v":""},{"$f":"VLOOKUP(B830,'Output OP Lease Amort'!A:B,2,)","v":""},null,{"$f":"IF(B830=\"\",\"\",IF(D830>0,'Step 2. Basic Info'!$E$29*'Step 3. Lease Payments'!D830,0))","v":""},null,"",""]
[null,{"$f":"IF(C830<'Step 2. Basic Info'!$E$12,B830+1,\"\")","v":""},{"$f":"VLOOKUP(B831,'Output OP Lease Amort'!A:B,2,)","v":""},null,{"$f":"IF(B831=\"\",\"\",IF(D831>0,'Step 2. Basic Info'!$E$29*'Step 3. Lease Payments'!D831,0))","v":""},null,"",""]
[null,{"$f":"IF(C831<'Step 2. Basic Info'!$E$12,B831+1,\"\")","v":""},{"$f":"VLOOKUP(B832,'Output OP Lease Amort'!A:B,2,)","v":""},null,{"$f":"IF(B832=\"\",\"\",IF(D832>0,'Step 2. Basic Info'!$E$29*'Step 3. Lease Payments'!D832,0))","v":""},null,"",""]
[null,{"$f":"IF(C832<'Step 2. Basic Info'!$E$12,B832+1,\"\")","v":""},{"$f":"VLOOKUP(B833,'Output OP Lease Amort'!A:B,2,)","v":""},null,{"$f":"IF(B833=\"\",\"\",IF(D833>0,'Step 2. Basic Info'!$E$29*'Step 3. Lease Payments'!D833,0))","v":""},null,"",""]
[null,{"$f":"IF(C833<'Step 2. Basic Info'!$E$12,B833+1,\"\")","v":""},{"$f":"VLOOKUP(B834,'Output OP Lease Amort'!A:B,2,)","v":""},null,{"$f":"IF(B834=\"\",\"\",IF(D834>0,'Step 2. Basic Info'!$E$29*'Step 3. Lease Payments'!D834,0))","v":""},null,"",""]
[null,{"$f":"IF(C834<'Step 2. Basic Info'!$E$12,B834+1,\"\")","v":""},{"$f":"VLOOKUP(B835,'Output OP Lease Amort'!A:B,2,)","v":""},null,{"$f":"IF(B835=\"\",\"\",IF(D835>0,'Step 2. Basic Info'!$E$29*'Step 3. Lease Payments'!D835,0))","v":""},null,"",""]
[null,{"$f":"IF(C835<'Step 2. Basic Info'!$E$12,B835+1,\"\")","v":""},{"$f":"VLOOKUP(B836,'Output OP Lease Amort'!A:B,2,)","v":""},null,{"$f":"IF(B836=\"\",\"\",IF(D836>0,'Step 2. Basic Info'!$E$29*'Step 3. Lease Payments'!D836,0))","v":""},null,"",""]
[null,{"$f":"IF(C836<'Step 2. Basic Info'!$E$12,B836+1,\"\")","v":""},{"$f":"VLOOKUP(B837,'Output OP Lease Amort'!A:B,2,)","v":""},null,{"$f":"IF(B837=\"\",\"\",IF(D837>0,'Step 2. Basic Info'!$E$29*'Step 3. Lease Payments'!D837,0))","v":""},null,"",""]
[null,{"$f":"IF(C837<'Step 2. Basic Info'!$E$12,B837+1,\"\")","v":""},{"$f":"VLOOKUP(B838,'Output OP Lease Amort'!A:B,2,)","v":""},null,{"$f":"IF(B838=\"\",\"\",IF(D838>0,'Step 2. Basic Info'!$E$29*'Step 3. Lease Payments'!D838,0))","v":""},null,"",""]
[null,{"$f":"IF(C838<'Step 2. Basic Info'!$E$12,B838+1,\"\")","v":""},{"$f":"VLOOKUP(B839,'Output OP Lease Amort'!A:B,2,)","v":""},null,{"$f":"IF(B839=\"\",\"\",IF(D839>0,'Step 2. Basic Info'!$E$29*'Step 3. Lease Payments'!D839,0))","v":""},null,"",""]
[null,{"$f":"IF(C839<'Step 2. Basic Info'!$E$12,B839+1,\"\")","v":""},{"$f":"VLOOKUP(B840,'Output OP Lease Amort'!A:B,2,)","v":""},null,{"$f":"IF(B840=\"\",\"\",IF(D840>0,'Step 2. Basic Info'!$E$29*'Step 3. Lease Payments'!D840,0))","v":""},null,"",""]
[null,{"$f":"IF(C840<'Step 2. Basic Info'!$E$12,B840+1,\"\")","v":""},{"$f":"VLOOKUP(B841,'Output OP Lease Amort'!A:B,2,)","v":""},null,{"$f":"IF(B841=\"\",\"\",IF(D841>0,'Step 2. Basic Info'!$E$29*'Step 3. Lease Payments'!D841,0))","v":""},null,"",""]
[null,{"$f":"IF(C841<'Step 2. Basic Info'!$E$12,B841+1,\"\")","v":""},{"$f":"VLOOKUP(B842,'Output OP Lease Amort'!A:B,2,)","v":""},null,{"$f":"IF(B842=\"\",\"\",IF(D842>0,'Step 2. Basic Info'!$E$29*'Step 3. Lease Payments'!D842,0))","v":""},null,"",""]
[null,{"$f":"IF(C842<'Step 2. Basic Info'!$E$12,B842+1,\"\")","v":""},{"$f":"VLOOKUP(B843,'Output OP Lease Amort'!A:B,2,)","v":""},null,{"$f":"IF(B843=\"\",\"\",IF(D843>0,'Step 2. Basic Info'!$E$29*'Step 3. Lease Payments'!D843,0))","v":""},null,{"$f":"IF(B843=\"\",\"\",IFERROR(E843+F843,0))","v":""},{"$f":"IF(G843 = \"\",\"\",-PV($G$8,B843,,G843,))","v":""}]
[null,{"$f":"IF(C843<'Step 2. Basic Info'!$E$12,B843+1,\"\")","v":""},{"$f":"VLOOKUP(B844,'Output OP Lease Amort'!A:B,2,)","v":""},null,{"$f":"IF(B844=\"\",\"\",IF(D844>0,'Step 2. Basic Info'!$E$29*'Step 3. Lease Payments'!D844,0))","v":""},null,"",""]
[null,{"$f":"IF(C844<'Step 2. Basic Info'!$E$12,B844+1,\"\")","v":""},{"$f":"VLOOKUP(B845,'Output OP Lease Amort'!A:B,2,)","v":""},null,{"$f":"IF(B845=\"\",\"\",IF(D845>0,'Step 2. Basic Info'!$E$29*'Step 3. Lease Payments'!D845,0))","v":""},null,"",""]
[null,{"$f":"IF(C845<'Step 2. Basic Info'!$E$12,B845+1,\"\")","v":""},{"$f":"VLOOKUP(B846,'Output OP Lease Amort'!A:B,2,)","v":""},null,{"$f":"IF(B846=\"\",\"\",IF(D846>0,'Step 2. Basic Info'!$E$29*'Step 3. Lease Payments'!D846,0))","v":""},null,"",""]
[null,{"$f":"IF(C846<'Step 2. Basic Info'!$E$12,B846+1,\"\")","v":""},{"$f":"VLOOKUP(B847,'Output OP Lease Amort'!A:B,2,)","v":""},null,{"$f":"IF(B847=\"\",\"\",IF(D847>0,'Step 2. Basic Info'!$E$29*'Step 3. Lease Payments'!D847,0))","v":""},null,"",""]
[null,{"$f":"IF(C847<'Step 2. Basic Info'!$E$12,B847+1,\"\")","v":""},{"$f":"VLOOKUP(B848,'Output OP Lease Amort'!A:B,2,)","v":""},null,{"$f":"IF(B848=\"\",\"\",IF(D848>0,'Step 2. Basic Info'!$E$29*'Step 3. Lease Payments'!D848,0))","v":""},null,"",""]
[null,{"$f":"IF(C848<'Step 2. Basic Info'!$E$12,B848+1,\"\")","v":""},{"$f":"VLOOKUP(B849,'Output OP Lease Amort'!A:B,2,)","v":""},null,{"$f":"IF(B849=\"\",\"\",IF(D849>0,'Step 2. Basic Info'!$E$29*'Step 3. Lease Payments'!D849,0))","v":""},null,"",""]
[null,{"$f":"IF(C849<'Step 2. Basic Info'!$E$12,B849+1,\"\")","v":""},{"$f":"VLOOKUP(B850,'Output OP Lease Amort'!A:B,2,)","v":""},null,{"$f":"IF(B850=\"\",\"\",IF(D850>0,'Step 2. Basic Info'!$E$29*'Step 3. Lease Payments'!D850,0))","v":""},null,"",""]
[null,{"$f":"IF(C850<'Step 2. Basic Info'!$E$12,B850+1,\"\")","v":""},{"$f":"VLOOKUP(B851,'Output OP Lease Amort'!A:B,2,)","v":""},null,{"$f":"IF(B851=\"\",\"\",IF(D851>0,'Step 2. Basic Info'!$E$29*'Step 3. Lease Payments'!D851,0))","v":""},null,"",""]
[null,{"$f":"IF(C851<'Step 2. Basic Info'!$E$12,B851+1,\"\")","v":""},{"$f":"VLOOKUP(B852,'Output OP Lease Amort'!A:B,2,)","v":""},null,{"$f":"IF(B852=\"\",\"\",IF(D852>0,'Step 2. Basic Info'!$E$29*'Step 3. Lease Payments'!D852,0))","v":""},null,"",""]
[null,{"$f":"IF(C852<'Step 2. Basic Info'!$E$12,B852+1,\"\")","v":""},{"$f":"VLOOKUP(B853,'Output OP Lease Amort'!A:B,2,)","v":""},null,{"$f":"IF(B853=\"\",\"\",IF(D853>0,'Step 2. Basic Info'!$E$29*'Step 3. Lease Payments'!D853,0))","v":""},null,"",""]
[null,{"$f":"IF(C853<'Step 2. Basic Info'!$E$12,B853+1,\"\")","v":""},{"$f":"VLOOKUP(B854,'Output OP Lease Amort'!A:B,2,)","v":""},null,{"$f":"IF(B854=\"\",\"\",IF(D854>0,'Step 2. Basic Info'!$E$29*'Step 3. Lease Payments'!D854,0))","v":""},null,"",""]
[null,{"$f":"IF(C854<'Step 2. Basic Info'!$E$12,B854+1,\"\")","v":""},{"$f":"VLOOKUP(B855,'Output OP Lease Amort'!A:B,2,)","v":""},null,{"$f":"IF(B855=\"\",\"\",IF(D855>0,'Step 2. Basic Info'!$E$29*'Step 3. Lease Payments'!D855,0))","v":""},null,"",""]
[null,{"$f":"IF(C855<'Step 2. Basic Info'!$E$12,B855+1,\"\")","v":""},{"$f":"VLOOKUP(B856,'Output OP Lease Amort'!A:B,2,)","v":""},null,{"$f":"IF(B856=\"\",\"\",IF(D856>0,'Step 2. Basic Info'!$E$29*'Step 3. Lease Payments'!D856,0))","v":""},null,"",""]
[null,{"$f":"IF(C856<'Step 2. Basic Info'!$E$12,B856+1,\"\")","v":""},{"$f":"VLOOKUP(B857,'Output OP Lease Amort'!A:B,2,)","v":""},null,{"$f":"IF(B857=\"\",\"\",IF(D857>0,'Step 2. Basic Info'!$E$29*'Step 3. Lease Payments'!D857,0))","v":""},null,"",""]
[null,{"$f":"IF(C857<'Step 2. Basic Info'!$E$12,B857+1,\"\")","v":""},{"$f":"VLOOKUP(B858,'Output OP Lease Amort'!A:B,2,)","v":""},null,{"$f":"IF(B858=\"\",\"\",IF(D858>0,'Step 2. Basic Info'!$E$29*'Step 3. Lease Payments'!D858,0))","v":""},null,"",""]
[null,{"$f":"IF(C858<'Step 2. Basic Info'!$E$12,B858+1,\"\")","v":""},{"$f":"VLOOKUP(B859,'Output OP Lease Amort'!A:B,2,)","v":""},null,{"$f":"IF(B859=\"\",\"\",IF(D859>0,'Step 2. Basic Info'!$E$29*'Step 3. Lease Payments'!D859,0))","v":""},null,"",""]
[null,{"$f":"IF(C859<'Step 2. Basic Info'!$E$12,B859+1,\"\")","v":""},{"$f":"VLOOKUP(B860,'Output OP Lease Amort'!A:B,2,)","v":""},null,{"$f":"IF(B860=\"\",\"\",IF(D860>0,'Step 2. Basic Info'!$E$29*'Step 3. Lease Payments'!D860,0))","v":""},null,"",""]
[null,{"$f":"IF(C860<'Step 2. Basic Info'!$E$12,B860+1,\"\")","v":""},{"$f":"VLOOKUP(B861,'Output OP Lease Amort'!A:B,2,)","v":""},null,{"$f":"IF(B861=\"\",\"\",IF(D861>0,'Step 2. Basic Info'!$E$29*'Step 3. Lease Payments'!D861,0))","v":""},null,"",""]
[null,{"$f":"IF(C861<'Step 2. Basic Info'!$E$12,B861+1,\"\")","v":""},{"$f":"VLOOKUP(B862,'Output OP Lease Amort'!A:B,2,)","v":""},null,{"$f":"IF(B862=\"\",\"\",IF(D862>0,'Step 2. Basic Info'!$E$29*'Step 3. Lease Payments'!D862,0))","v":""},null,"",""]
[null,{"$f":"IF(C862<'Step 2. Basic Info'!$E$12,B862+1,\"\")","v":""},{"$f":"VLOOKUP(B863,'Output OP Lease Amort'!A:B,2,)","v":""},null,{"$f":"IF(B863=\"\",\"\",IF(D863>0,'Step 2. Basic Info'!$E$29*'Step 3. Lease Payments'!D863,0))","v":""},null,"",""]
[null,{"$f":"IF(C863<'Step 2. Basic Info'!$E$12,B863+1,\"\")","v":""},{"$f":"VLOOKUP(B864,'Output OP Lease Amort'!A:B,2,)","v":""},null,{"$f":"IF(B864=\"\",\"\",IF(D864>0,'Step 2. Basic Info'!$E$29*'Step 3. Lease Payments'!D864,0))","v":""},null,"",""]
[null,{"$f":"IF(C864<'Step 2. Basic Info'!$E$12,B864+1,\"\")","v":""},{"$f":"VLOOKUP(B865,'Output OP Lease Amort'!A:B,2,)","v":""},null,{"$f":"IF(B865=\"\",\"\",IF(D865>0,'Step 2. Basic Info'!$E$29*'Step 3. Lease Payments'!D865,0))","v":""},null,"",""]
[null,{"$f":"IF(C865<'Step 2. Basic Info'!$E$12,B865+1,\"\")","v":""},{"$f":"VLOOKUP(B866,'Output OP Lease Amort'!A:B,2,)","v":""},null,{"$f":"IF(B866=\"\",\"\",IF(D866>0,'Step 2. Basic Info'!$E$29*'Step 3. Lease Payments'!D866,0))","v":""},null,"",""]
[null,{"$f":"IF(C866<'Step 2. Basic Info'!$E$12,B866+1,\"\")","v":""},{"$f":"VLOOKUP(B867,'Output OP Lease Amort'!A:B,2,)","v":""},null,{"$f":"IF(B867=\"\",\"\",IF(D867>0,'Step 2. Basic Info'!$E$29*'Step 3. Lease Payments'!D867,0))","v":""},null,"",""]
[null,{"$f":"IF(C867<'Step 2. Basic Info'!$E$12,B867+1,\"\")","v":""},{"$f":"VLOOKUP(B868,'Output OP Lease Amort'!A:B,2,)","v":""},null,{"$f":"IF(B868=\"\",\"\",IF(D868>0,'Step 2. Basic Info'!$E$29*'Step 3. Lease Payments'!D868,0))","v":""},null,"",""]
[null,{"$f":"IF(C868<'Step 2. Basic Info'!$E$12,B868+1,\"\")","v":""},{"$f":"VLOOKUP(B869,'Output OP Lease Amort'!A:B,2,)","v":""},null,{"$f":"IF(B869=\"\",\"\",IF(D869>0,'Step 2. Basic Info'!$E$29*'Step 3. Lease Payments'!D869,0))","v":""},null,"",""]
[null,{"$f":"IF(C869<'Step 2. Basic Info'!$E$12,B869+1,\"\")","v":""},{"$f":"VLOOKUP(B870,'Output OP Lease Amort'!A:B,2,)","v":""},null,{"$f":"IF(B870=\"\",\"\",IF(D870>0,'Step 2. Basic Info'!$E$29*'Step 3. Lease Payments'!D870,0))","v":""},null,"",""]
[null,{"$f":"IF(C870<'Step 2. Basic Info'!$E$12,B870+1,\"\")","v":""},{"$f":"VLOOKUP(B871,'Output OP Lease Amort'!A:B,2,)","v":""},null,{"$f":"IF(B871=\"\",\"\",IF(D871>0,'Step 2. Basic Info'!$E$29*'Step 3. Lease Payments'!D871,0))","v":""},null,"",""]
[null,{"$f":"IF(C871<'Step 2. Basic Info'!$E$12,B871+1,\"\")","v":""},{"$f":"VLOOKUP(B872,'Output OP Lease Amort'!A:B,2,)","v":""},null,{"$f":"IF(B872=\"\",\"\",IF(D872>0,'Step 2. Basic Info'!$E$29*'Step 3. Lease Payments'!D872,0))","v":""},null,"",""]
[null,{"$f":"IF(C872<'Step 2. Basic Info'!$E$12,B872+1,\"\")","v":""},{"$f":"VLOOKUP(B873,'Output OP Lease Amort'!A:B,2,)","v":""},null,{"$f":"IF(B873=\"\",\"\",IF(D873>0,'Step 2. Basic Info'!$E$29*'Step 3. Lease Payments'!D873,0))","v":""},null,"",""]
[null,{"$f":"IF(C873<'Step 2. Basic Info'!$E$12,B873+1,\"\")","v":""},{"$f":"VLOOKUP(B874,'Output OP Lease Amort'!A:B,2,)","v":""},null,{"$f":"IF(B874=\"\",\"\",IF(D874>0,'Step 2. Basic Info'!$E$29*'Step 3. Lease Payments'!D874,0))","v":""},null,"",""]
[null,{"$f":"IF(C874<'Step 2. Basic Info'!$E$12,B874+1,\"\")","v":""},{"$f":"VLOOKUP(B875,'Output OP Lease Amort'!A:B,2,)","v":""},null,{"$f":"IF(B875=\"\",\"\",IF(D875>0,'Step 2. Basic Info'!$E$29*'Step 3. Lease Payments'!D875,0))","v":""},null,"",""]
[null,{"$f":"IF(C875<'Step 2. Basic Info'!$E$12,B875+1,\"\")","v":""},{"$f":"VLOOKUP(B876,'Output OP Lease Amort'!A:B,2,)","v":""},null,{"$f":"IF(B876=\"\",\"\",IF(D876>0,'Step 2. Basic Info'!$E$29*'Step 3. Lease Payments'!D876,0))","v":""},null,"",""]
[null,{"$f":"IF(C876<'Step 2. Basic Info'!$E$12,B876+1,\"\")","v":""},{"$f":"VLOOKUP(B877,'Output OP Lease Amort'!A:B,2,)","v":""},null,{"$f":"IF(B877=\"\",\"\",IF(D877>0,'Step 2. Basic Info'!$E$29*'Step 3. Lease Payments'!D877,0))","v":""},null,"",""]
[null,{"$f":"IF(C877<'Step 2. Basic Info'!$E$12,B877+1,\"\")","v":""},{"$f":"VLOOKUP(B878,'Output OP Lease Amort'!A:B,2,)","v":""},null,{"$f":"IF(B878=\"\",\"\",IF(D878>0,'Step 2. Basic Info'!$E$29*'Step 3. Lease Payments'!D878,0))","v":""},null,"",""]
[null,{"$f":"IF(C878<'Step 2. Basic Info'!$E$12,B878+1,\"\")","v":""},{"$f":"VLOOKUP(B879,'Output OP Lease Amort'!A:B,2,)","v":""},null,{"$f":"IF(B879=\"\",\"\",IF(D879>0,'Step 2. Basic Info'!$E$29*'Step 3. Lease Payments'!D879,0))","v":""},null,"",""]
[null,{"$f":"IF(C879<'Step 2. Basic Info'!$E$12,B879+1,\"\")","v":""},{"$f":"VLOOKUP(B880,'Output OP Lease Amort'!A:B,2,)","v":""},null,{"$f":"IF(B880=\"\",\"\",IF(D880>0,'Step 2. Basic Info'!$E$29*'Step 3. Lease Payments'!D880,0))","v":""},null,"",""]
[null,{"$f":"IF(C880<'Step 2. Basic Info'!$E$12,B880+1,\"\")","v":""},{"$f":"VLOOKUP(B881,'Output OP Lease Amort'!A:B,2,)","v":""},null,{"$f":"IF(B881=\"\",\"\",IF(D881>0,'Step 2. Basic Info'!$E$29*'Step 3. Lease Payments'!D881,0))","v":""},null,"",""]
[null,{"$f":"IF(C881<'Step 2. Basic Info'!$E$12,B881+1,\"\")","v":""},{"$f":"VLOOKUP(B882,'Output OP Lease Amort'!A:B,2,)","v":""},null,{"$f":"IF(B882=\"\",\"\",IF(D882>0,'Step 2. Basic Info'!$E$29*'Step 3. Lease Payments'!D882,0))","v":""},null,"",""]
[null,{"$f":"IF(C882<'Step 2. Basic Info'!$E$12,B882+1,\"\")","v":""},{"$f":"VLOOKUP(B883,'Output OP Lease Amort'!A:B,2,)","v":""},null,{"$f":"IF(B883=\"\",\"\",IF(D883>0,'Step 2. Basic Info'!$E$29*'Step 3. Lease Payments'!D883,0))","v":""},null,"",""]
[null,{"$f":"IF(C883<'Step 2. Basic Info'!$E$12,B883+1,\"\")","v":""},{"$f":"VLOOKUP(B884,'Output OP Lease Amort'!A:B,2,)","v":""},null,{"$f":"IF(B884=\"\",\"\",IF(D884>0,'Step 2. Basic Info'!$E$29*'Step 3. Lease Payments'!D884,0))","v":""},null,"",""]
[null,{"$f":"IF(C884<'Step 2. Basic Info'!$E$12,B884+1,\"\")","v":""},{"$f":"VLOOKUP(B885,'Output OP Lease Amort'!A:B,2,)","v":""},null,{"$f":"IF(B885=\"\",\"\",IF(D885>0,'Step 2. Basic Info'!$E$29*'Step 3. Lease Payments'!D885,0))","v":""},null,"",""]
[null,{"$f":"IF(C885<'Step 2. Basic Info'!$E$12,B885+1,\"\")","v":""},{"$f":"VLOOKUP(B886,'Output OP Lease Amort'!A:B,2,)","v":""},null,{"$f":"IF(B886=\"\",\"\",IF(D886>0,'Step 2. Basic Info'!$E$29*'Step 3. Lease Payments'!D886,0))","v":""},null,"",""]
[null,{"$f":"IF(C886<'Step 2. Basic Info'!$E$12,B886+1,\"\")","v":""},{"$f":"VLOOKUP(B887,'Output OP Lease Amort'!A:B,2,)","v":""},null,{"$f":"IF(B887=\"\",\"\",IF(D887>0,'Step 2. Basic Info'!$E$29*'Step 3. Lease Payments'!D887,0))","v":""},null,"",""]
[null,{"$f":"IF(C887<'Step 2. Basic Info'!$E$12,B887+1,\"\")","v":""},{"$f":"VLOOKUP(B888,'Output OP Lease Amort'!A:B,2,)","v":""},null,{"$f":"IF(B888=\"\",\"\",IF(D888>0,'Step 2. Basic Info'!$E$29*'Step 3. Lease Payments'!D888,0))","v":""},null,"",""]
[null,{"$f":"IF(C888<'Step 2. Basic Info'!$E$12,B888+1,\"\")","v":""},{"$f":"VLOOKUP(B889,'Output OP Lease Amort'!A:B,2,)","v":""},null,{"$f":"IF(B889=\"\",\"\",IF(D889>0,'Step 2. Basic Info'!$E$29*'Step 3. Lease Payments'!D889,0))","v":""},null,"",""]
[null,{"$f":"IF(C889<'Step 2. Basic Info'!$E$12,B889+1,\"\")","v":""},{"$f":"VLOOKUP(B890,'Output OP Lease Amort'!A:B,2,)","v":""},null,{"$f":"IF(B890=\"\",\"\",IF(D890>0,'Step 2. Basic Info'!$E$29*'Step 3. Lease Payments'!D890,0))","v":""},null,"",""]
[null,{"$f":"IF(C890<'Step 2. Basic Info'!$E$12,B890+1,\"\")","v":""},{"$f":"VLOOKUP(B891,'Output OP Lease Amort'!A:B,2,)","v":""},null,{"$f":"IF(B891=\"\",\"\",IF(D891>0,'Step 2. Basic Info'!$E$29*'Step 3. Lease Payments'!D891,0))","v":""},null,"",""]
[null,{"$f":"IF(C891<'Step 2. Basic Info'!$E$12,B891+1,\"\")","v":""},{"$f":"VLOOKUP(B892,'Output OP Lease Amort'!A:B,2,)","v":""},null,{"$f":"IF(B892=\"\",\"\",IF(D892>0,'Step 2. Basic Info'!$E$29*'Step 3. Lease Payments'!D892,0))","v":""},null,"",""]
[null,{"$f":"IF(C892<'Step 2. Basic Info'!$E$12,B892+1,\"\")","v":""},{"$f":"VLOOKUP(B893,'Output OP Lease Amort'!A:B,2,)","v":""},null,{"$f":"IF(B893=\"\",\"\",IF(D893>0,'Step 2. Basic Info'!$E$29*'Step 3. Lease Payments'!D893,0))","v":""},null,"",""]
[null,{"$f":"IF(C893<'Step 2. Basic Info'!$E$12,B893+1,\"\")","v":""},{"$f":"VLOOKUP(B894,'Output OP Lease Amort'!A:B,2,)","v":""},null,{"$f":"IF(B894=\"\",\"\",IF(D894>0,'Step 2. Basic Info'!$E$29*'Step 3. Lease Payments'!D894,0))","v":""},null,"",""]
[null,{"$f":"IF(C894<'Step 2. Basic Info'!$E$12,B894+1,\"\")","v":""},{"$f":"VLOOKUP(B895,'Output OP Lease Amort'!A:B,2,)","v":""},null,{"$f":"IF(B895=\"\",\"\",IF(D895>0,'Step 2. Basic Info'!$E$29*'Step 3. Lease Payments'!D895,0))","v":""},null,"",""]
[null,{"$f":"IF(C895<'Step 2. Basic Info'!$E$12,B895+1,\"\")","v":""},{"$f":"VLOOKUP(B896,'Output OP Lease Amort'!A:B,2,)","v":""},null,{"$f":"IF(B896=\"\",\"\",IF(D896>0,'Step 2. Basic Info'!$E$29*'Step 3. Lease Payments'!D896,0))","v":""},null,"",""]
[null,{"$f":"IF(C896<'Step 2. Basic Info'!$E$12,B896+1,\"\")","v":""},{"$f":"VLOOKUP(B897,'Output OP Lease Amort'!A:B,2,)","v":""},null,{"$f":"IF(B897=\"\",\"\",IF(D897>0,'Step 2. Basic Info'!$E$29*'Step 3. Lease Payments'!D897,0))","v":""},null,"",""]
[null,{"$f":"IF(C897<'Step 2. Basic Info'!$E$12,B897+1,\"\")","v":""},{"$f":"VLOOKUP(B898,'Output OP Lease Amort'!A:B,2,)","v":""},null,{"$f":"IF(B898=\"\",\"\",IF(D898>0,'Step 2. Basic Info'!$E$29*'Step 3. Lease Payments'!D898,0))","v":""},null,"",""]
[null,{"$f":"IF(C898<'Step 2. Basic Info'!$E$12,B898+1,\"\")","v":""},{"$f":"VLOOKUP(B899,'Output OP Lease Amort'!A:B,2,)","v":""},null,{"$f":"IF(B899=\"\",\"\",IF(D899>0,'Step 2. Basic Info'!$E$29*'Step 3. Lease Payments'!D899,0))","v":""},null,"",""]
[null,{"$f":"IF(C899<'Step 2. Basic Info'!$E$12,B899+1,\"\")","v":""},{"$f":"VLOOKUP(B900,'Output OP Lease Amort'!A:B,2,)","v":""},null,{"$f":"IF(B900=\"\",\"\",IF(D900>0,'Step 2. Basic Info'!$E$29*'Step 3. Lease Payments'!D900,0))","v":""},null,"",""]
[null,{"$f":"IF(C900<'Step 2. Basic Info'!$E$12,B900+1,\"\")","v":""},{"$f":"VLOOKUP(B901,'Output OP Lease Amort'!A:B,2,)","v":""},null,{"$f":"IF(B901=\"\",\"\",IF(D901>0,'Step 2. Basic Info'!$E$29*'Step 3. Lease Payments'!D901,0))","v":""},null,"",""]
[null,{"$f":"IF(C901<'Step 2. Basic Info'!$E$12,B901+1,\"\")","v":""},{"$f":"VLOOKUP(B902,'Output OP Lease Amort'!A:B,2,)","v":""},null,{"$f":"IF(B902=\"\",\"\",IF(D902>0,'Step 2. Basic Info'!$E$29*'Step 3. Lease Payments'!D902,0))","v":""},null,"",""]
[null,{"$f":"IF(C902<'Step 2. Basic Info'!$E$12,B902+1,\"\")","v":""},{"$f":"VLOOKUP(B903,'Output OP Lease Amort'!A:B,2,)","v":""},null,{"$f":"IF(B903=\"\",\"\",IF(D903>0,'Step 2. Basic Info'!$E$29*'Step 3. Lease Payments'!D903,0))","v":""},null,"",""]
[null,{"$f":"IF(C903<'Step 2. Basic Info'!$E$12,B903+1,\"\")","v":""},{"$f":"VLOOKUP(B904,'Output OP Lease Amort'!A:B,2,)","v":""},null,{"$f":"IF(B904=\"\",\"\",IF(D904>0,'Step 2. Basic Info'!$E$29*'Step 3. Lease Payments'!D904,0))","v":""},null,"",""]
[null,{"$f":"IF(C904<'Step 2. Basic Info'!$E$12,B904+1,\"\")","v":""},{"$f":"VLOOKUP(B905,'Output OP Lease Amort'!A:B,2,)","v":""},null,{"$f":"IF(B905=\"\",\"\",IF(D905>0,'Step 2. Basic Info'!$E$29*'Step 3. Lease Payments'!D905,0))","v":""},null,"",""]
[null,{"$f":"IF(C905<'Step 2. Basic Info'!$E$12,B905+1,\"\")","v":""},{"$f":"VLOOKUP(B906,'Output OP Lease Amort'!A:B,2,)","v":""},null,{"$f":"IF(B906=\"\",\"\",IF(D906>0,'Step 2. Basic Info'!$E$29*'Step 3. Lease Payments'!D906,0))","v":""},null,"",""]
[null,{"$f":"IF(C906<'Step 2. Basic Info'!$E$12,B906+1,\"\")","v":""},{"$f":"VLOOKUP(B907,'Output OP Lease Amort'!A:B,2,)","v":""},null,{"$f":"IF(B907=\"\",\"\",IF(D907>0,'Step 2. Basic Info'!$E$29*'Step 3. Lease Payments'!D907,0))","v":""},null,{"$f":"IF(B907=\"\",\"\",IFERROR(E907+F907,0))","v":""},{"$f":"IF(G907 = \"\",\"\",-PV($G$8,B907,,G907,))","v":""}]
[null,{"$f":"IF(C907<'Step 2. Basic Info'!$E$12,B907+1,\"\")","v":""},{"$f":"VLOOKUP(B908,'Output OP Lease Amort'!A:B,2,)","v":""},null,{"$f":"IF(B908=\"\",\"\",IF(D908>0,'Step 2. Basic Info'!$E$29*'Step 3. Lease Payments'!D908,0))","v":""},null,"",""]
[null,{"$f":"IF(C908<'Step 2. Basic Info'!$E$12,B908+1,\"\")","v":""},{"$f":"VLOOKUP(B909,'Output OP Lease Amort'!A:B,2,)","v":""},null,{"$f":"IF(B909=\"\",\"\",IF(D909>0,'Step 2. Basic Info'!$E$29*'Step 3. Lease Payments'!D909,0))","v":""},null,"",""]
[null,{"$f":"IF(C909<'Step 2. Basic Info'!$E$12,B909+1,\"\")","v":""},{"$f":"VLOOKUP(B910,'Output OP Lease Amort'!A:B,2,)","v":""},null,{"$f":"IF(B910=\"\",\"\",IF(D910>0,'Step 2. Basic Info'!$E$29*'Step 3. Lease Payments'!D910,0))","v":""},null,"",""]
[null,{"$f":"IF(C910<'Step 2. Basic Info'!$E$12,B910+1,\"\")","v":""},{"$f":"VLOOKUP(B911,'Output OP Lease Amort'!A:B,2,)","v":""},null,{"$f":"IF(B911=\"\",\"\",IF(D911>0,'Step 2. Basic Info'!$E$29*'Step 3. Lease Payments'!D911,0))","v":""},null,"",""]
[null,{"$f":"IF(C911<'Step 2. Basic Info'!$E$12,B911+1,\"\")","v":""},{"$f":"VLOOKUP(B912,'Output OP Lease Amort'!A:B,2,)","v":""},null,{"$f":"IF(B912=\"\",\"\",IF(D912>0,'Step 2. Basic Info'!$E$29*'Step 3. Lease Payments'!D912,0))","v":""},null,"",""]
[null,{"$f":"IF(C912<'Step 2. Basic Info'!$E$12,B912+1,\"\")","v":""},{"$f":"VLOOKUP(B913,'Output OP Lease Amort'!A:B,2,)","v":""},null,{"$f":"IF(B913=\"\",\"\",IF(D913>0,'Step 2. Basic Info'!$E$29*'Step 3. Lease Payments'!D913,0))","v":""},null,"",""]
[null,{"$f":"IF(C913<'Step 2. Basic Info'!$E$12,B913+1,\"\")","v":""},{"$f":"VLOOKUP(B914,'Output OP Lease Amort'!A:B,2,)","v":""},null,{"$f":"IF(B914=\"\",\"\",IF(D914>0,'Step 2. Basic Info'!$E$29*'Step 3. Lease Payments'!D914,0))","v":""},null,"",""]
[null,{"$f":"IF(C914<'Step 2. Basic Info'!$E$12,B914+1,\"\")","v":""},{"$f":"VLOOKUP(B915,'Output OP Lease Amort'!A:B,2,)","v":""},null,{"$f":"IF(B915=\"\",\"\",IF(D915>0,'Step 2. Basic Info'!$E$29*'Step 3. Lease Payments'!D915,0))","v":""},null,"",""]
[null,{"$f":"IF(C915<'Step 2. Basic Info'!$E$12,B915+1,\"\")","v":""},{"$f":"VLOOKUP(B916,'Output OP Lease Amort'!A:B,2,)","v":""},null,{"$f":"IF(B916=\"\",\"\",IF(D916>0,'Step 2. Basic Info'!$E$29*'Step 3. Lease Payments'!D916,0))","v":""},null,"",""]
[null,{"$f":"IF(C916<'Step 2. Basic Info'!$E$12,B916+1,\"\")","v":""},{"$f":"VLOOKUP(B917,'Output OP Lease Amort'!A:B,2,)","v":""},null,{"$f":"IF(B917=\"\",\"\",IF(D917>0,'Step 2. Basic Info'!$E$29*'Step 3. Lease Payments'!D917,0))","v":""},null,"",""]
[null,{"$f":"IF(C917<'Step 2. Basic Info'!$E$12,B917+1,\"\")","v":""},{"$f":"VLOOKUP(B918,'Output OP Lease Amort'!A:B,2,)","v":""},null,{"$f":"IF(B918=\"\",\"\",IF(D918>0,'Step 2. Basic Info'!$E$29*'Step 3. Lease Payments'!D918,0))","v":""},null,"",""]
[null,{"$f":"IF(C918<'Step 2. Basic Info'!$E$12,B918+1,\"\")","v":""},{"$f":"VLOOKUP(B919,'Output OP Lease Amort'!A:B,2,)","v":""},null,{"$f":"IF(B919=\"\",\"\",IF(D919>0,'Step 2. Basic Info'!$E$29*'Step 3. Lease Payments'!D919,0))","v":""},null,"",""]
[null,{"$f":"IF(C919<'Step 2. Basic Info'!$E$12,B919+1,\"\")","v":""},{"$f":"VLOOKUP(B920,'Output OP Lease Amort'!A:B,2,)","v":""},null,{"$f":"IF(B920=\"\",\"\",IF(D920>0,'Step 2. Basic Info'!$E$29*'Step 3. Lease Payments'!D920,0))","v":""},null,"",""]
[null,{"$f":"IF(C920<'Step 2. Basic Info'!$E$12,B920+1,\"\")","v":""},{"$f":"VLOOKUP(B921,'Output OP Lease Amort'!A:B,2,)","v":""},null,{"$f":"IF(B921=\"\",\"\",IF(D921>0,'Step 2. Basic Info'!$E$29*'Step 3. Lease Payments'!D921,0))","v":""},null,"",""]
[null,{"$f":"IF(C921<'Step 2. Basic Info'!$E$12,B921+1,\"\")","v":""},{"$f":"VLOOKUP(B922,'Output OP Lease Amort'!A:B,2,)","v":""},null,{"$f":"IF(B922=\"\",\"\",IF(D922>0,'Step 2. Basic Info'!$E$29*'Step 3. Lease Payments'!D922,0))","v":""},null,"",""]
[null,{"$f":"IF(C922<'Step 2. Basic Info'!$E$12,B922+1,\"\")","v":""},{"$f":"VLOOKUP(B923,'Output OP Lease Amort'!A:B,2,)","v":""},null,{"$f":"IF(B923=\"\",\"\",IF(D923>0,'Step 2. Basic Info'!$E$29*'Step 3. Lease Payments'!D923,0))","v":""},null,"",""]
[null,{"$f":"IF(C923<'Step 2. Basic Info'!$E$12,B923+1,\"\")","v":""},{"$f":"VLOOKUP(B924,'Output OP Lease Amort'!A:B,2,)","v":""},null,{"$f":"IF(B924=\"\",\"\",IF(D924>0,'Step 2. Basic Info'!$E$29*'Step 3. Lease Payments'!D924,0))","v":""},null,"",""]
[null,{"$f":"IF(C924<'Step 2. Basic Info'!$E$12,B924+1,\"\")","v":""},{"$f":"VLOOKUP(B925,'Output OP Lease Amort'!A:B,2,)","v":""},null,{"$f":"IF(B925=\"\",\"\",IF(D925>0,'Step 2. Basic Info'!$E$29*'Step 3. Lease Payments'!D925,0))","v":""},null,"",""]
[null,{"$f":"IF(C925<'Step 2. Basic Info'!$E$12,B925+1,\"\")","v":""},{"$f":"VLOOKUP(B926,'Output OP Lease Amort'!A:B,2,)","v":""},null,{"$f":"IF(B926=\"\",\"\",IF(D926>0,'Step 2. Basic Info'!$E$29*'Step 3. Lease Payments'!D926,0))","v":""},null,"",""]
[null,{"$f":"IF(C926<'Step 2. Basic Info'!$E$12,B926+1,\"\")","v":""},{"$f":"VLOOKUP(B927,'Output OP Lease Amort'!A:B,2,)","v":""},null,{"$f":"IF(B927=\"\",\"\",IF(D927>0,'Step 2. Basic Info'!$E$29*'Step 3. Lease Payments'!D927,0))","v":""},null,"",""]
[null,{"$f":"IF(C927<'Step 2. Basic Info'!$E$12,B927+1,\"\")","v":""},{"$f":"VLOOKUP(B928,'Output OP Lease Amort'!A:B,2,)","v":""},null,{"$f":"IF(B928=\"\",\"\",IF(D928>0,'Step 2. Basic Info'!$E$29*'Step 3. Lease Payments'!D928,0))","v":""},null,"",""]
[null,{"$f":"IF(C928<'Step 2. Basic Info'!$E$12,B928+1,\"\")","v":""},{"$f":"VLOOKUP(B929,'Output OP Lease Amort'!A:B,2,)","v":""},null,{"$f":"IF(B929=\"\",\"\",IF(D929>0,'Step 2. Basic Info'!$E$29*'Step 3. Lease Payments'!D929,0))","v":""},null,"",""]
[null,{"$f":"IF(C929<'Step 2. Basic Info'!$E$12,B929+1,\"\")","v":""},{"$f":"VLOOKUP(B930,'Output OP Lease Amort'!A:B,2,)","v":""},null,{"$f":"IF(B930=\"\",\"\",IF(D930>0,'Step 2. Basic Info'!$E$29*'Step 3. Lease Payments'!D930,0))","v":""},null,"",""]
[null,{"$f":"IF(C930<'Step 2. Basic Info'!$E$12,B930+1,\"\")","v":""},{"$f":"VLOOKUP(B931,'Output OP Lease Amort'!A:B,2,)","v":""},null,{"$f":"IF(B931=\"\",\"\",IF(D931>0,'Step 2. Basic Info'!$E$29*'Step 3. Lease Payments'!D931,0))","v":""},null,"",""]
[null,{"$f":"IF(C931<'Step 2. Basic Info'!$E$12,B931+1,\"\")","v":""},{"$f":"VLOOKUP(B932,'Output OP Lease Amort'!A:B,2,)","v":""},null,{"$f":"IF(B932=\"\",\"\",IF(D932>0,'Step 2. Basic Info'!$E$29*'Step 3. Lease Payments'!D932,0))","v":""},null,"",""]
[null,{"$f":"IF(C932<'Step 2. Basic Info'!$E$12,B932+1,\"\")","v":""},{"$f":"VLOOKUP(B933,'Output OP Lease Amort'!A:B,2,)","v":""},null,{"$f":"IF(B933=\"\",\"\",IF(D933>0,'Step 2. Basic Info'!$E$29*'Step 3. Lease Payments'!D933,0))","v":""},null,"",""]
[null,{"$f":"IF(C933<'Step 2. Basic Info'!$E$12,B933+1,\"\")","v":""},{"$f":"VLOOKUP(B934,'Output OP Lease Amort'!A:B,2,)","v":""},null,{"$f":"IF(B934=\"\",\"\",IF(D934>0,'Step 2. Basic Info'!$E$29*'Step 3. Lease Payments'!D934,0))","v":""},null,"",""]
[null,{"$f":"IF(C934<'Step 2. Basic Info'!$E$12,B934+1,\"\")","v":""},{"$f":"VLOOKUP(B935,'Output OP Lease Amort'!A:B,2,)","v":""},null,{"$f":"IF(B935=\"\",\"\",IF(D935>0,'Step 2. Basic Info'!$E$29*'Step 3. Lease Payments'!D935,0))","v":""},null,"",""]
[null,{"$f":"IF(C935<'Step 2. Basic Info'!$E$12,B935+1,\"\")","v":""},{"$f":"VLOOKUP(B936,'Output OP Lease Amort'!A:B,2,)","v":""},null,{"$f":"IF(B936=\"\",\"\",IF(D936>0,'Step 2. Basic Info'!$E$29*'Step 3. Lease Payments'!D936,0))","v":""},null,"",""]
[null,{"$f":"IF(C936<'Step 2. Basic Info'!$E$12,B936+1,\"\")","v":""},{"$f":"VLOOKUP(B937,'Output OP Lease Amort'!A:B,2,)","v":""},null,{"$f":"IF(B937=\"\",\"\",IF(D937>0,'Step 2. Basic Info'!$E$29*'Step 3. Lease Payments'!D937,0))","v":""},null,"",""]
[null,{"$f":"IF(C937<'Step 2. Basic Info'!$E$12,B937+1,\"\")","v":""},{"$f":"VLOOKUP(B938,'Output OP Lease Amort'!A:B,2,)","v":""},null,{"$f":"IF(B938=\"\",\"\",IF(D938>0,'Step 2. Basic Info'!$E$29*'Step 3. Lease Payments'!D938,0))","v":""},null,"",""]
[null,{"$f":"IF(C938<'Step 2. Basic Info'!$E$12,B938+1,\"\")","v":""},{"$f":"VLOOKUP(B939,'Output OP Lease Amort'!A:B,2,)","v":""},null,{"$f":"IF(B939=\"\",\"\",IF(D939>0,'Step 2. Basic Info'!$E$29*'Step 3. Lease Payments'!D939,0))","v":""},null,"",""]
[null,{"$f":"IF(C939<'Step 2. Basic Info'!$E$12,B939+1,\"\")","v":""},{"$f":"VLOOKUP(B940,'Output OP Lease Amort'!A:B,2,)","v":""},null,{"$f":"IF(B940=\"\",\"\",IF(D940>0,'Step 2. Basic Info'!$E$29*'Step 3. Lease Payments'!D940,0))","v":""},null,"",""]
[null,{"$f":"IF(C940<'Step 2. Basic Info'!$E$12,B940+1,\"\")","v":""},{"$f":"VLOOKUP(B941,'Output OP Lease Amort'!A:B,2,)","v":""},null,{"$f":"IF(B941=\"\",\"\",IF(D941>0,'Step 2. Basic Info'!$E$29*'Step 3. Lease Payments'!D941,0))","v":""},null,"",""]
[null,{"$f":"IF(C941<'Step 2. Basic Info'!$E$12,B941+1,\"\")","v":""},{"$f":"VLOOKUP(B942,'Output OP Lease Amort'!A:B,2,)","v":""},null,{"$f":"IF(B942=\"\",\"\",IF(D942>0,'Step 2. Basic Info'!$E$29*'Step 3. Lease Payments'!D942,0))","v":""},null,"",""]
[null,{"$f":"IF(C942<'Step 2. Basic Info'!$E$12,B942+1,\"\")","v":""},{"$f":"VLOOKUP(B943,'Output OP Lease Amort'!A:B,2,)","v":""},null,{"$f":"IF(B943=\"\",\"\",IF(D943>0,'Step 2. Basic Info'!$E$29*'Step 3. Lease Payments'!D943,0))","v":""},null,"",""]
[null,{"$f":"IF(C943<'Step 2. Basic Info'!$E$12,B943+1,\"\")","v":""},{"$f":"VLOOKUP(B944,'Output OP Lease Amort'!A:B,2,)","v":""},null,{"$f":"IF(B944=\"\",\"\",IF(D944>0,'Step 2. Basic Info'!$E$29*'Step 3. Lease Payments'!D944,0))","v":""},null,"",""]
[null,{"$f":"IF(C944<'Step 2. Basic Info'!$E$12,B944+1,\"\")","v":""},{"$f":"VLOOKUP(B945,'Output OP Lease Amort'!A:B,2,)","v":""},null,{"$f":"IF(B945=\"\",\"\",IF(D945>0,'Step 2. Basic Info'!$E$29*'Step 3. Lease Payments'!D945,0))","v":""},null,"",""]
[null,{"$f":"IF(C945<'Step 2. Basic Info'!$E$12,B945+1,\"\")","v":""},{"$f":"VLOOKUP(B946,'Output OP Lease Amort'!A:B,2,)","v":""},null,{"$f":"IF(B946=\"\",\"\",IF(D946>0,'Step 2. Basic Info'!$E$29*'Step 3. Lease Payments'!D946,0))","v":""},null,"",""]
[null,{"$f":"IF(C946<'Step 2. Basic Info'!$E$12,B946+1,\"\")","v":""},{"$f":"VLOOKUP(B947,'Output OP Lease Amort'!A:B,2,)","v":""},null,{"$f":"IF(B947=\"\",\"\",IF(D947>0,'Step 2. Basic Info'!$E$29*'Step 3. Lease Payments'!D947,0))","v":""},null,"",""]
[null,{"$f":"IF(C947<'Step 2. Basic Info'!$E$12,B947+1,\"\")","v":""},{"$f":"VLOOKUP(B948,'Output OP Lease Amort'!A:B,2,)","v":""},null,{"$f":"IF(B948=\"\",\"\",IF(D948>0,'Step 2. Basic Info'!$E$29*'Step 3. Lease Payments'!D948,0))","v":""},null,"",""]
[null,{"$f":"IF(C948<'Step 2. Basic Info'!$E$12,B948+1,\"\")","v":""},{"$f":"VLOOKUP(B949,'Output OP Lease Amort'!A:B,2,)","v":""},null,{"$f":"IF(B949=\"\",\"\",IF(D949>0,'Step 2. Basic Info'!$E$29*'Step 3. Lease Payments'!D949,0))","v":""},null,"",""]
[null,{"$f":"IF(C949<'Step 2. Basic Info'!$E$12,B949+1,\"\")","v":""},{"$f":"VLOOKUP(B950,'Output OP Lease Amort'!A:B,2,)","v":""},null,{"$f":"IF(B950=\"\",\"\",IF(D950>0,'Step 2. Basic Info'!$E$29*'Step 3. Lease Payments'!D950,0))","v":""},null,"",""]
[null,{"$f":"IF(C950<'Step 2. Basic Info'!$E$12,B950+1,\"\")","v":""},{"$f":"VLOOKUP(B951,'Output OP Lease Amort'!A:B,2,)","v":""},null,{"$f":"IF(B951=\"\",\"\",IF(D951>0,'Step 2. Basic Info'!$E$29*'Step 3. Lease Payments'!D951,0))","v":""},null,"",""]
[null,{"$f":"IF(C951<'Step 2. Basic Info'!$E$12,B951+1,\"\")","v":""},{"$f":"VLOOKUP(B952,'Output OP Lease Amort'!A:B,2,)","v":""},null,{"$f":"IF(B952=\"\",\"\",IF(D952>0,'Step 2. Basic Info'!$E$29*'Step 3. Lease Payments'!D952,0))","v":""},null,"",""]
[null,{"$f":"IF(C952<'Step 2. Basic Info'!$E$12,B952+1,\"\")","v":""},{"$f":"VLOOKUP(B953,'Output OP Lease Amort'!A:B,2,)","v":""},null,{"$f":"IF(B953=\"\",\"\",IF(D953>0,'Step 2. Basic Info'!$E$29*'Step 3. Lease Payments'!D953,0))","v":""},null,"",""]
[null,{"$f":"IF(C953<'Step 2. Basic Info'!$E$12,B953+1,\"\")","v":""},{"$f":"VLOOKUP(B954,'Output OP Lease Amort'!A:B,2,)","v":""},null,{"$f":"IF(B954=\"\",\"\",IF(D954>0,'Step 2. Basic Info'!$E$29*'Step 3. Lease Payments'!D954,0))","v":""},null,"",""]
[null,{"$f":"IF(C954<'Step 2. Basic Info'!$E$12,B954+1,\"\")","v":""},{"$f":"VLOOKUP(B955,'Output OP Lease Amort'!A:B,2,)","v":""},null,{"$f":"IF(B955=\"\",\"\",IF(D955>0,'Step 2. Basic Info'!$E$29*'Step 3. Lease Payments'!D955,0))","v":""},null,"",""]
[null,{"$f":"IF(C955<'Step 2. Basic Info'!$E$12,B955+1,\"\")","v":""},{"$f":"VLOOKUP(B956,'Output OP Lease Amort'!A:B,2,)","v":""},null,{"$f":"IF(B956=\"\",\"\",IF(D956>0,'Step 2. Basic Info'!$E$29*'Step 3. Lease Payments'!D956,0))","v":""},null,"",""]
[null,{"$f":"IF(C956<'Step 2. Basic Info'!$E$12,B956+1,\"\")","v":""},{"$f":"VLOOKUP(B957,'Output OP Lease Amort'!A:B,2,)","v":""},null,{"$f":"IF(B957=\"\",\"\",IF(D957>0,'Step 2. Basic Info'!$E$29*'Step 3. Lease Payments'!D957,0))","v":""},null,"",""]
[null,{"$f":"IF(C957<'Step 2. Basic Info'!$E$12,B957+1,\"\")","v":""},{"$f":"VLOOKUP(B958,'Output OP Lease Amort'!A:B,2,)","v":""},null,{"$f":"IF(B958=\"\",\"\",IF(D958>0,'Step 2. Basic Info'!$E$29*'Step 3. Lease Payments'!D958,0))","v":""},null,"",""]
[null,{"$f":"IF(C958<'Step 2. Basic Info'!$E$12,B958+1,\"\")","v":""},{"$f":"VLOOKUP(B959,'Output OP Lease Amort'!A:B,2,)","v":""},null,{"$f":"IF(B959=\"\",\"\",IF(D959>0,'Step 2. Basic Info'!$E$29*'Step 3. Lease Payments'!D959,0))","v":""},null,"",""]
[null,{"$f":"IF(C959<'Step 2. Basic Info'!$E$12,B959+1,\"\")","v":""},{"$f":"VLOOKUP(B960,'Output OP Lease Amort'!A:B,2,)","v":""},null,{"$f":"IF(B960=\"\",\"\",IF(D960>0,'Step 2. Basic Info'!$E$29*'Step 3. Lease Payments'!D960,0))","v":""},null,"",""]
[null,{"$f":"IF(C960<'Step 2. Basic Info'!$E$12,B960+1,\"\")","v":""},{"$f":"VLOOKUP(B961,'Output OP Lease Amort'!A:B,2,)","v":""},null,{"$f":"IF(B961=\"\",\"\",IF(D961>0,'Step 2. Basic Info'!$E$29*'Step 3. Lease Payments'!D961,0))","v":""},null,"",""]
[null,{"$f":"IF(C961<'Step 2. Basic Info'!$E$12,B961+1,\"\")","v":""},{"$f":"VLOOKUP(B962,'Output OP Lease Amort'!A:B,2,)","v":""},null,{"$f":"IF(B962=\"\",\"\",IF(D962>0,'Step 2. Basic Info'!$E$29*'Step 3. Lease Payments'!D962,0))","v":""},null,"",""]
[null,{"$f":"IF(C962<'Step 2. Basic Info'!$E$12,B962+1,\"\")","v":""},{"$f":"VLOOKUP(B963,'Output OP Lease Amort'!A:B,2,)","v":""},null,{"$f":"IF(B963=\"\",\"\",IF(D963>0,'Step 2. Basic Info'!$E$29*'Step 3. Lease Payments'!D963,0))","v":""},null,"",""]
[null,{"$f":"IF(C963<'Step 2. Basic Info'!$E$12,B963+1,\"\")","v":""},{"$f":"VLOOKUP(B964,'Output OP Lease Amort'!A:B,2,)","v":""},null,{"$f":"IF(B964=\"\",\"\",IF(D964>0,'Step 2. Basic Info'!$E$29*'Step 3. Lease Payments'!D964,0))","v":""},null,"",""]
[null,{"$f":"IF(C964<'Step 2. Basic Info'!$E$12,B964+1,\"\")","v":""},{"$f":"VLOOKUP(B965,'Output OP Lease Amort'!A:B,2,)","v":""},null,{"$f":"IF(B965=\"\",\"\",IF(D965>0,'Step 2. Basic Info'!$E$29*'Step 3. Lease Payments'!D965,0))","v":""},null,"",""]
[null,{"$f":"IF(C965<'Step 2. Basic Info'!$E$12,B965+1,\"\")","v":""},{"$f":"VLOOKUP(B966,'Output OP Lease Amort'!A:B,2,)","v":""},null,{"$f":"IF(B966=\"\",\"\",IF(D966>0,'Step 2. Basic Info'!$E$29*'Step 3. Lease Payments'!D966,0))","v":""},null,"",""]
[null,{"$f":"IF(C966<'Step 2. Basic Info'!$E$12,B966+1,\"\")","v":""},{"$f":"VLOOKUP(B967,'Output OP Lease Amort'!A:B,2,)","v":""},null,{"$f":"IF(B967=\"\",\"\",IF(D967>0,'Step 2. Basic Info'!$E$29*'Step 3. Lease Payments'!D967,0))","v":""},null,"",""]
[null,{"$f":"IF(C967<'Step 2. Basic Info'!$E$12,B967+1,\"\")","v":""},{"$f":"VLOOKUP(B968,'Output OP Lease Amort'!A:B,2,)","v":""},null,{"$f":"IF(B968=\"\",\"\",IF(D968>0,'Step 2. Basic Info'!$E$29*'Step 3. Lease Payments'!D968,0))","v":""},null,"",""]
[null,{"$f":"IF(C968<'Step 2. Basic Info'!$E$12,B968+1,\"\")","v":""},{"$f":"VLOOKUP(B969,'Output OP Lease Amort'!A:B,2,)","v":""},null,{"$f":"IF(B969=\"\",\"\",IF(D969>0,'Step 2. Basic Info'!$E$29*'Step 3. Lease Payments'!D969,0))","v":""},null,"",""]
[null,{"$f":"IF(C969<'Step 2. Basic Info'!$E$12,B969+1,\"\")","v":""},{"$f":"VLOOKUP(B970,'Output OP Lease Amort'!A:B,2,)","v":""},null,{"$f":"IF(B970=\"\",\"\",IF(D970>0,'Step 2. Basic Info'!$E$29*'Step 3. Lease Payments'!D970,0))","v":""},null,"",""]
[null,{"$f":"IF(C970<'Step 2. Basic Info'!$E$12,B970+1,\"\")","v":""},{"$f":"VLOOKUP(B971,'Output OP Lease Amort'!A:B,2,)","v":""},null,{"$f":"IF(B971=\"\",\"\",IF(D971>0,'Step 2. Basic Info'!$E$29*'Step 3. Lease Payments'!D971,0))","v":""},null,{"$f":"IF(B971=\"\",\"\",IFERROR(E971+F971,0))","v":""},{"$f":"IF(G971 = \"\",\"\",-PV($G$8,B971,,G971,))","v":""}]
[null,{"$f":"IF(C971<'Step 2. Basic Info'!$E$12,B971+1,\"\")","v":""},{"$f":"VLOOKUP(B972,'Output OP Lease Amort'!A:B,2,)","v":""},null,{"$f":"IF(B972=\"\",\"\",IF(D972>0,'Step 2. Basic Info'!$E$29*'Step 3. Lease Payments'!D972,0))","v":""},null,"",""]
[null,{"$f":"IF(C972<'Step 2. Basic Info'!$E$12,B972+1,\"\")","v":""},{"$f":"VLOOKUP(B973,'Output OP Lease Amort'!A:B,2,)","v":""},null,{"$f":"IF(B973=\"\",\"\",IF(D973>0,'Step 2. Basic Info'!$E$29*'Step 3. Lease Payments'!D973,0))","v":""},null,"",""]
[null,{"$f":"IF(C973<'Step 2. Basic Info'!$E$12,B973+1,\"\")","v":""},{"$f":"VLOOKUP(B974,'Output OP Lease Amort'!A:B,2,)","v":""},null,{"$f":"IF(B974=\"\",\"\",IF(D974>0,'Step 2. Basic Info'!$E$29*'Step 3. Lease Payments'!D974,0))","v":""},null,"",""]
[null,{"$f":"IF(C974<'Step 2. Basic Info'!$E$12,B974+1,\"\")","v":""},{"$f":"VLOOKUP(B975,'Output OP Lease Amort'!A:B,2,)","v":""},null,{"$f":"IF(B975=\"\",\"\",IF(D975>0,'Step 2. Basic Info'!$E$29*'Step 3. Lease Payments'!D975,0))","v":""},null,"",""]
[null,{"$f":"IF(C975<'Step 2. Basic Info'!$E$12,B975+1,\"\")","v":""},{"$f":"VLOOKUP(B976,'Output OP Lease Amort'!A:B,2,)","v":""},null,{"$f":"IF(B976=\"\",\"\",IF(D976>0,'Step 2. Basic Info'!$E$29*'Step 3. Lease Payments'!D976,0))","v":""},null,"",""]
[null,{"$f":"IF(C976<'Step 2. Basic Info'!$E$12,B976+1,\"\")","v":""},{"$f":"VLOOKUP(B977,'Output OP Lease Amort'!A:B,2,)","v":""},null,{"$f":"IF(B977=\"\",\"\",IF(D977>0,'Step 2. Basic Info'!$E$29*'Step 3. Lease Payments'!D977,0))","v":""},null,"",""]
[null,{"$f":"IF(C977<'Step 2. Basic Info'!$E$12,B977+1,\"\")","v":""},{"$f":"VLOOKUP(B978,'Output OP Lease Amort'!A:B,2,)","v":""},null,{"$f":"IF(B978=\"\",\"\",IF(D978>0,'Step 2. Basic Info'!$E$29*'Step 3. Lease Payments'!D978,0))","v":""},null,"",""]
[null,{"$f":"IF(C978<'Step 2. Basic Info'!$E$12,B978+1,\"\")","v":""},{"$f":"VLOOKUP(B979,'Output OP Lease Amort'!A:B,2,)","v":""},null,{"$f":"IF(B979=\"\",\"\",IF(D979>0,'Step 2. Basic Info'!$E$29*'Step 3. Lease Payments'!D979,0))","v":""},null,"",""]
[null,{"$f":"IF(C979<'Step 2. Basic Info'!$E$12,B979+1,\"\")","v":""},{"$f":"VLOOKUP(B980,'Output OP Lease Amort'!A:B,2,)","v":""},null,{"$f":"IF(B980=\"\",\"\",IF(D980>0,'Step 2. Basic Info'!$E$29*'Step 3. Lease Payments'!D980,0))","v":""},null,"",""]
[null,{"$f":"IF(C980<'Step 2. Basic Info'!$E$12,B980+1,\"\")","v":""},{"$f":"VLOOKUP(B981,'Output OP Lease Amort'!A:B,2,)","v":""},null,{"$f":"IF(B981=\"\",\"\",IF(D981>0,'Step 2. Basic Info'!$E$29*'Step 3. Lease Payments'!D981,0))","v":""},null,"",""]
[null,{"$f":"IF(C981<'Step 2. Basic Info'!$E$12,B981+1,\"\")","v":""},{"$f":"VLOOKUP(B982,'Output OP Lease Amort'!A:B,2,)","v":""},null,{"$f":"IF(B982=\"\",\"\",IF(D982>0,'Step 2. Basic Info'!$E$29*'Step 3. Lease Payments'!D982,0))","v":""},null,"",""]
[null,{"$f":"IF(C982<'Step 2. Basic Info'!$E$12,B982+1,\"\")","v":""},{"$f":"VLOOKUP(B983,'Output OP Lease Amort'!A:B,2,)","v":""},null,{"$f":"IF(B983=\"\",\"\",IF(D983>0,'Step 2. Basic Info'!$E$29*'Step 3. Lease Payments'!D983,0))","v":""},null,"",""]
[null,{"$f":"IF(C983<'Step 2. Basic Info'!$E$12,B983+1,\"\")","v":""},{"$f":"VLOOKUP(B984,'Output OP Lease Amort'!A:B,2,)","v":""},null,{"$f":"IF(B984=\"\",\"\",IF(D984>0,'Step 2. Basic Info'!$E$29*'Step 3. Lease Payments'!D984,0))","v":""},null,"",""]
[null,{"$f":"IF(C984<'Step 2. Basic Info'!$E$12,B984+1,\"\")","v":""},{"$f":"VLOOKUP(B985,'Output OP Lease Amort'!A:B,2,)","v":""},null,{"$f":"IF(B985=\"\",\"\",IF(D985>0,'Step 2. Basic Info'!$E$29*'Step 3. Lease Payments'!D985,0))","v":""},null,"",""]
[null,{"$f":"IF(C985<'Step 2. Basic Info'!$E$12,B985+1,\"\")","v":""},{"$f":"VLOOKUP(B986,'Output OP Lease Amort'!A:B,2,)","v":""},null,{"$f":"IF(B986=\"\",\"\",IF(D986>0,'Step 2. Basic Info'!$E$29*'Step 3. Lease Payments'!D986,0))","v":""},null,"",""]
[null,{"$f":"IF(C986<'Step 2. Basic Info'!$E$12,B986+1,\"\")","v":""},{"$f":"VLOOKUP(B987,'Output OP Lease Amort'!A:B,2,)","v":""},null,{"$f":"IF(B987=\"\",\"\",IF(D987>0,'Step 2. Basic Info'!$E$29*'Step 3. Lease Payments'!D987,0))","v":""},null,"",""]
[null,{"$f":"IF(C987<'Step 2. Basic Info'!$E$12,B987+1,\"\")","v":""},{"$f":"VLOOKUP(B988,'Output OP Lease Amort'!A:B,2,)","v":""},null,{"$f":"IF(B988=\"\",\"\",IF(D988>0,'Step 2. Basic Info'!$E$29*'Step 3. Lease Payments'!D988,0))","v":""},null,"",""]
[null,{"$f":"IF(C988<'Step 2. Basic Info'!$E$12,B988+1,\"\")","v":""},{"$f":"VLOOKUP(B989,'Output OP Lease Amort'!A:B,2,)","v":""},null,{"$f":"IF(B989=\"\",\"\",IF(D989>0,'Step 2. Basic Info'!$E$29*'Step 3. Lease Payments'!D989,0))","v":""},null,"",""]
[null,{"$f":"IF(C989<'Step 2. Basic Info'!$E$12,B989+1,\"\")","v":""},{"$f":"VLOOKUP(B990,'Output OP Lease Amort'!A:B,2,)","v":""},null,{"$f":"IF(B990=\"\",\"\",IF(D990>0,'Step 2. Basic Info'!$E$29*'Step 3. Lease Payments'!D990,0))","v":""},null,"",""]
[null,{"$f":"IF(C990<'Step 2. Basic Info'!$E$12,B990+1,\"\")","v":""},{"$f":"VLOOKUP(B991,'Output OP Lease Amort'!A:B,2,)","v":""},null,{"$f":"IF(B991=\"\",\"\",IF(D991>0,'Step 2. Basic Info'!$E$29*'Step 3. Lease Payments'!D991,0))","v":""},null,"",""]
[null,{"$f":"IF(C991<'Step 2. Basic Info'!$E$12,B991+1,\"\")","v":""},{"$f":"VLOOKUP(B992,'Output OP Lease Amort'!A:B,2,)","v":""},null,{"$f":"IF(B992=\"\",\"\",IF(D992>0,'Step 2. Basic Info'!$E$29*'Step 3. Lease Payments'!D992,0))","v":""},null,"",""]
[null,{"$f":"IF(C992<'Step 2. Basic Info'!$E$12,B992+1,\"\")","v":""},{"$f":"VLOOKUP(B993,'Output OP Lease Amort'!A:B,2,)","v":""},null,{"$f":"IF(B993=\"\",\"\",IF(D993>0,'Step 2. Basic Info'!$E$29*'Step 3. Lease Payments'!D993,0))","v":""},null,"",""]
[null,{"$f":"IF(C993<'Step 2. Basic Info'!$E$12,B993+1,\"\")","v":""},{"$f":"VLOOKUP(B994,'Output OP Lease Amort'!A:B,2,)","v":""},null,{"$f":"IF(B994=\"\",\"\",IF(D994>0,'Step 2. Basic Info'!$E$29*'Step 3. Lease Payments'!D994,0))","v":""},null,"",""]
[null,{"$f":"IF(C994<'Step 2. Basic Info'!$E$12,B994+1,\"\")","v":""},{"$f":"VLOOKUP(B995,'Output OP Lease Amort'!A:B,2,)","v":""},null,{"$f":"IF(B995=\"\",\"\",IF(D995>0,'Step 2. Basic Info'!$E$29*'Step 3. Lease Payments'!D995,0))","v":""},null,"",""]
[null,{"$f":"IF(C995<'Step 2. Basic Info'!$E$12,B995+1,\"\")","v":""},{"$f":"VLOOKUP(B996,'Output OP Lease Amort'!A:B,2,)","v":""},null,{"$f":"IF(B996=\"\",\"\",IF(D996>0,'Step 2. Basic Info'!$E$29*'Step 3. Lease Payments'!D996,0))","v":""},null,"",""]
[null,{"$f":"IF(C996<'Step 2. Basic Info'!$E$12,B996+1,\"\")","v":""},{"$f":"VLOOKUP(B997,'Output OP Lease Amort'!A:B,2,)","v":""},null,{"$f":"IF(B997=\"\",\"\",IF(D997>0,'Step 2. Basic Info'!$E$29*'Step 3. Lease Payments'!D997,0))","v":""},null,"",""]
[null,{"$f":"IF(C997<'Step 2. Basic Info'!$E$12,B997+1,\"\")","v":""},{"$f":"VLOOKUP(B998,'Output OP Lease Amort'!A:B,2,)","v":""},null,{"$f":"IF(B998=\"\",\"\",IF(D998>0,'Step 2. Basic Info'!$E$29*'Step 3. Lease Payments'!D998,0))","v":""},null,"",""]
[null,{"$f":"IF(C998<'Step 2. Basic Info'!$E$12,B998+1,\"\")","v":""},{"$f":"VLOOKUP(B999,'Output OP Lease Amort'!A:B,2,)","v":""},null,{"$f":"IF(B999=\"\",\"\",IF(D999>0,'Step 2. Basic Info'!$E$29*'Step 3. Lease Payments'!D999,0))","v":""},null,"",""]
[null,{"$f":"IF(C999<'Step 2. Basic Info'!$E$12,B999+1,\"\")","v":""},{"$f":"VLOOKUP(B1000,'Output OP Lease Amort'!A:B,2,)","v":""},null,{"$f":"IF(B1000=\"\",\"\",IF(D1000>0,'Step 2. Basic Info'!$E$29*'Step 3. Lease Payments'!D1000,0))","v":""},null,"",""]

{"sheet":"Step 4. Classification","index":4,"n_rows":908,"n_cols":16301,"rows_kept":908,"cut":false,"hidden":true,"merged":[[35,4,36,5],[10,1,11,3],[13,1,14,3],[30,1,31,3],[20,1,21,3],[27,1,29,3],[33,1,33,6],[10,6,11,6],[13,6,14,6],[16,6,17,6],[18,6,19,6],[20,6,21,6],[23,6,24,6],[25,6,26,6],[27,6,28,6],[30,6,31,6]]}
[null,null,null,null,null,null,null,null,null,null,null,null,null,null,null,null,null,null,null,null,null,null,null,null,null,null,null,null,null,null,null,null,null,null,null,null,null,null,null,null,null,null,null,null,null,null,null,null,null,null,null,null,null,null,null,null,null,null,null,null,null,null,null,null,null,null,null,null,null,null,null,null,null,null,null,null,null,null,null,null,null,null,null,null,null,null,null,null,null,null,null,null,null,null,null,null,null,null,null,null,null,null,null,null,null,null,null,null,null,null,null,null,null,null,null,null,null,null,null,null,null,null,null,null,null,null,null,null,null,null,null,null,null,null,null,null,null,null,null,null,null,null,null,null,null,null,null,null,null,null,null,null,null,null,null,null,null,null,null,null,null,null,null,null,null,null,null,null,null,null,null,null,null,null,null,null,null,null,null,null,null,null,null,null,null,null,null,null,null,null,null,null,null,null,null,null,null,null,null,null,null,null,null,null,null,null,null,null,null,null,null,null,null,null,null,null,null,null,null,null,null,null,null,null,null,null,null,null,null,null,null,null,null,null,null,null,null,null,null,null,null,null,null,null,null,null,null,null,null,null,null,null,null,null,null,null,null,null,null,null,null,null,null,null,null,null,null,null,null,null,null,null,null,null,null,null,null,null,null,null,null,null,null,null,null,null,null,null,null,null,null,null,null,null,null,null,null,null,null,null,null,null,null,null,null,null,null,null,null,null,null,null,null,null,null,null,null,null,null,null,null,null,null,null,null,null,null,null,null,null,null,null,null,null,null,null,null,null,null,null,null,null,null,null,null,null,null,null,null,null,null,null,null,null,null,null,null,null,null,null,null,null,null,null,null,null,null,null,null,null,null,null,null,null,null,null,null,null,null,null,null,null,null,null,null,null,null,null,null,null,null,null,null,null,null,null,null,null,null,null,null,null,null,null,null,null,null,null,null,null,null,null,null,null,null,null,null,null,null,null,null,null,null,null,null,null,null,null,null,null,null,null,null,null,null,null,null,null,null,null,null,null,null,null,null,null,null,null,null,null,null,null,null,null,null,null,null,null,null,null,null,null,null,null,null,null,null,null,null,null,null,null,null,null,null,null,null,null,null,null,null,null,null,null,null,null,null,null,null,null,null,null,null,null,null,null,null,null,null,null,null,null,null,null,null,null,null,null,null,null,null,null,null,null,null,null,null,null,null,null,null,null,null,null,null,null,null,null,null,null,null,null,null,null,null,null,null,null,null,null,null,null,null,null,null,null,null,null,null,null,null,null,null,null,null,null,null,null,null,null,null,null,null,null,null,null,null,null,null,null,null,null,null,null,null,null,null,null,null,null,null,null,null,null,null,null,null,null,null,null,null,null,null,null,null,null,null,null,null,null,null,null,null,null,null,null,null,null,null,null,null,null,null,null,null,null,null,null,null,null,null,null,null,null,null,null,null,null,null,null,null,null,null,null,null,null,null,null,null,null,null,null,null,null,null,null,null,null,null,null,null,null,null,null,null,null,null,null,null,null,null,null,null,null,null,null,null,null,null,null,null,null,null,null,null,null,null,null,null,null,null,null,null,null,null,null,null,null,null,null,null,null,null,null,null,null,null,null,null,null,null,null,null,null,null,null,null,null,null,null,null,null,null,null,null,null,null,null,null,null,null,null,null,null,null,null,null,null,null,null,null,null,null,null,null,null,null,null,null,null,null,null,null,null,null,null,null,null,null,null,null,null,null,null,null,null,null,null,null,null,null,null,null,null,null,null,null,null,null,null,null,null,null,null,null,null,null,null,null,null,null,null,null,null,null,null,null,null,null,null,null,null,null,null,null,null,null,null,null,null,null,null,null,null,null,null,null,null,null,null,null,null,null,null,null,null,null,null,null,null,null,null,null,null,null,null,null,null,null,null,null,null,null,null,null,null,null,null,null,null,null,null,null,null,null,null,null,null,null,null,null,null,null,null,null,null,null,null,null,null,null,null,null,null,null,null,null,null,null,null,null,null,null,null,null,null,null,null,null,null,null,null,null,null,null,null,null,null,null,null,null,null,null,null,null,null,null,null,null,null,null,null,null,null,null,null,null,null,null,null,null,null,null,null,null,null,null,null,null,null,null,null,null,null,null,null,null,null,null,null,null,null,null,null,null,null,null,null,null,null,null,null,null,null,null,null,null,null,null,null,null,null,null,null,null,null,null,null,null,null,null,null,null,null,null,null,null,null,null,null,null,null,null,null,null,null,null,null,null,null,null,null,null,null,null,null,null,null,null,null,null,null,null,null,null,null,null,null,null,null,null,null,null,null,null,null,null,null,null,null,null,null,null,null,null,null,null,null,null,null,null,null,null,null,null,null,null,null,null,null,null,null,null,null,null,null,null,null,null,null,null,null,null,null,null,null,null,null,null,null,null,null,null,null,null,null,null,null,null,null,null,null,null,null,null,null,null,null,null,null,null,null,null,null,null,null,null,null,null,null,null,null,null,null,null,null,null,null,null,null,null,null,null,null,null,null,null,null,null,null,null,null,null,null,null,null,null,null,null,null,null,null,null,null,null,null,null,null,null,null,null,null,null,null,null,null,null,null,null,null,null,null,null,null,null,null,null,null,null,null,null,null,null,null,null,null,null,null,null,null,null,null,null,null,null,null,null,null,null,null,null,null,null,null,null,null,null,null,null,null,null,null,null,null,null,null,null,null,null,null,null,null,null,null,null,null,null,null,null,null,null,null,null,null,null,null,null,null,null,null,null,null,null,null,null,null,null,null,null,null,null,null,null,null,null,null,null,null,null,null,null,null,null,null,null,null,null,null,null,null,null,null,null,null,null,null,null,null,null,null,null,null,null,null,null,null,null,null,null,null,null,null,null,null,null,null,null,null,null,null,null,null,null,null,null,null,null,null,null,null,null,null,null,null,null,null,null,null,null,null,null,null,null,null,null,null,null,null,null,null,null,null,null,null,null,null,null,null,null,null,null,null,null,null,null,null,null,null,null,null,null,null,null,null,null,null,null,null,null,null,null,null,null,null,null,null,null,null,null,null,null,null,null,null,null,null,null,null,null,null,null,null,null,null,null,null,null,null,null,null,null,null,null,null,null,null,null,null,null,null,null,null,null,null,null,null,null,null,null,null,null,null,null,null,null,null,null,null,null,null,null,null,null,null,null,null,null,null,null,null,null,null,null,null,null,null,null,null,null,null,null,null,null,null,null,null,null,null,null,null,null,null,null,null,null,null,null,null,null,null,null,null,null,null,null,null,null,null,null,null,null,null,"X"]
[null,"BDO"]
[null,"ENTITY NAME",{"$f":"IF(ISBLANK('Step 1. Scoping'!C3)=TRUE,\"\",'Step 1. Scoping'!C3)","v":""},null,"User Input Cells",null,null,null,null,null,null,null,null,null,null,null,null,null,null,null,null,null,null,null,null,null,null,null,null,null,null,null,null,null,null,null,null,null,null,null,null,null,null,null,null,null,null,null,null,null,null,null,null,null,null,null,null,null,null,null,null,null,null,null,null,null,null,null,null,null,null,null,null,null,null,null,null,null,null,null,null,null,null,null,null,null,null,null,null,null,null,null,null,null,null,null,null,null,null,null,null,null,null,null,null,null,null,null,null,null,null,null,null,null,null,null,null,null,null,null,null,null,null,null,null,null,null,null,null,null,null,null,null,null,null,null,null,null,null,null,null,null,null,null,null,null,null,null,null,null,null,null,null,null,null,null,null,null,null,null,null,null,null,null,null,null,null,null,null,null,null,null,null,null,null,null,null,null,null,null,null,null,null,null,null,null,null,null,null,null,null,null,null,null,null,null,null,null,null,null,null,null,null,null,null,null,null,null,null,null,null,null,null,null,null,null,null,null,null,null,null,null,null,null,null,null,null,null,null,null,null,null,null,null,null,null,null,null,null,null,null,null,null,null,null,null,null,null,null,null,null,null,null,null,null,null,null,null,null,null,null,null,null,null,null,null,null,null,null,null,null,null,null,null,null,null,null,null,null,null,null,null,null,null,null,null,null,null,null,null,null,null,null,null,null,null,null,null,null,null,null,null,null,null,null,null,null,null,null,null,null,null,null,null,null,null,null,null,null,null,null,null,null,null,null,null,null,null,null,null,null,null,null,null,null,null,null,null,null,null,null,null,null,null,null,null,null,null,null,null,null,null,null,null,null,null,null,null,null,null,null,null,null,null,null,null,null,null,null,null,null,null,null,null,null,null,null,null,null,null,null,null,null,null,null,null,null,null,null,null,null,null,null,null,null,null,null,null,null,null,null,null,null,null,null,null,null,null,null,null,null,null,null,null,null,null,null,null,null,null,null,null,null,null,null,null,null,null,null,null,null,null,null,null,null,null,null,null,null,null,null,null,null,null,null,null,null,null,null,null,null,null,null,null,null,null,null,null,null,null,null,null,null,null,null,null,null,null,null,null,null,null,null,null,null,null,null,null,null,null,null,null,null,null,null,null,null,null,null,null,null,null,null,null,null,null,null,null,null,null,null,null,null,null,null,null,null,null,null,null,null,null,null,null,null,null,null,null,null,null,null,null,null,null,null,null,null,null,null,null,null,null,null,null,null,null,null,null,null,null,null,null,null,null,null,null,null,null,null,null,null,null,null,null,null,null,null,null,null,null,null,null,null,null,null,null,null,null,null,null,null,null,null,null,null,null,null,null,null,null,null,null,null,null,null,null,null,null,null,null,null,null,null,null,null,null,null,null,null,null,null,null,null,null,null,null,null,null,null,null,null,null,null,null,null,null,null,null,null,null,null,null,null,null,null,null,null,null,null,null,null,null,null,null,null,null,null,null,null,null,null,null,null,null,null,null,null,null,null,null,null,null,null,null,null,null,null,null,null,null,null,null,null,null,null,null,null,null,null,null,null,null,null,null,null,null,null,null,null,null,null,null,null,null,null,null,null,null,null,null,null,null,null,null,null,null,null,null,null,null,null,null,null,null,null,null,null,null,null,null,null,null,null,null,null,null,null,null,null,null,null,null,null,null,null,null,null,null,null,null,null,null,null,null,null,null,null,null,null,null,null,null,null,null,null,null,null,null,null,null,null,null,null,null,null,null,null,null,null,null,null,null,null,null,null,null,null,null,null,null,null,null,null,null,null,null,null,null,null,null,null,null,null,null,null,null,null,null,null,null,null,null,null,null,null,null,null,null,null,null,null,null,null,null,null,null,null,null,null,null,null,null,null,null,null,null,null,null,null,null,null,null,null,null,null,null,null,null,null,null,null,null,null,null,null,null,null,null,null,null,null,null,null,null,null,null,null,null,null,null,null,null,null,null,null,null,null,null,null,null,null,null,null,null,null,null,null,null,null,null,null,null,null,null,null,null,null,null,null,null,null,null,null,null,null,null,null,null,null,null,null,null,null,null,null,null,null,null,null,null,null,null,null,null,null,null,null,null,null,null,null,null,null,null,null,null,null,null,null,null,null,null,null,null,null,null,null,null,null,null,null,null,null,null,null,null,null,null,null,null,null,null,null,null,null,null,null,null,null,null,null,null,null,null,null,null,null,null,null,null,null,null,null,null,null,null,null,null,null,null,null,null,null,null,null,null,null,null,null,null,null,null,null,null,null,null,null,null,null,null,null,null,null,null,null,null,null,null,null,null,null,null,null,null,null,null,null,null,null,null,null,null,null,null,null,null,null,null,null,null,null,null,null,null,null,null,null,null,null,null,null,null,null,null,null,null,null,null,null,null,null,null,null,null,null,null,null,null,null,null,null,null,null,null,null,null,null,null,null,null,null,null,null,null,null,null,null,null,null,null,null,null,null,null,null,null,null,null,null,null,null,null,null,null,null,null,null,null,null,null,null,null,null,null,null,null,null,null,null,null,null,null,null,null,null,null,null,null,null,null,null,null,null,null,null,null,null,null,null,null,null,null,null,null,null,null,null,null,null,null,null,null,null,null,null,null,null,null,null,null,null,null,null,null,null,null,null,null,null,null,null,null,null,null,null,null,null,null,null,null,null,null,null,null,null,null,null,null,null,null,null,null,null,null,null,null,null,null,null,null,null,null,null,null,null,null,null,null,null,null,null,null,null,null,null,null,null,null,null,null,null,null,null,null,null,null,null,null,null,null,null,null,null,null,null,null,null,null,null,null,null,null,null,null,null,null,null,null,null,null,null,null,null,null,null,null,null,null,null,null,null,null,null,null,null,null,null,null,null,null,null,null,null,null,null,null,null,null,null,null,null,null,null,null,null,null,null,null,null,null,null,null,null,null,null,null,null,null,null,null,null,null,null,null,null,null,null,null,null,null,null,null,null,null,null,null,null,null,null,null,null,null,null,null,null,null,null,null,null,null,null,null,null,null,null,null,null,null,null,null,null,null,null,null,null,null,null,null,null,null,null,null,null,null,null,null,null,null,null,null,null,null,null,null,null,null,null,null,null,null,null,null,null,null,null,null,null,null,null,null,null,null,null,null,null,null,null,null,null,null,null,null,null,null,null,null,null,null,null,null,null,null,null,null,null,null,null,null,null,null,null,null,null,null,null,null,null,null,null,null,null,null,null,null,null,null,null,null,null,null,null,null,null,null,null,null,null,null,null,null,null,null,null,null,null,null,null,null,null,null,null,null,null,null,null,null,null,null,null,null,null,null,null,null,null,null,null,null,null,null,null,null,null,null,null,null,null,null,null,null,null,null,null,null,null,null,null,null,null,null,null,null,null,null,null,null,null,null,null,null,null,null,null,null,null,null,null,null,null,null,null,null,null,null,null,null,null,null,null,null,null,null,null,null,null,null,null,null,null,null,null,null,null,null,null,null,null,null,null,null,null,null,null,null,null,null,null,null,null,null,null,null,null,null,null,null,null,null,null,null,null,null,null,null,null,null,null,null,null,null,null,null,null,null,null,null,null,null,null,null,null,null,null,null,null,null,null,null,null,null,null,null,null,null,null,null,null,null,null,null,null,null,null,null,null,null,null,null,null,null,null,null,null,null,null,null,null,null,null,null,null,null,null,null,null,null,null,null,null,null,null,null,null,null,null,null,null,null,null,null,null,null,null,null,null,null,null,null,null,null,null,null,null,null,null,null,null,null,null,null,null,null,null,null,null,null,null,null,null,null,null,null,null,null,null,null,null,null,null,null,null,null,null,null,null,null,null,null,null,null,null,null,null,null,null,null,null,null,null,null,null,null,null,null,null,null,null,null,null,null,null,null,null,null,null,null,null,null,null,null,null,null,null,null,null,null,null,null,null,null,null,null,null,null,null,null,null,null,null,null,null,null,null,null,null,null,null,null,null,null,null,null,null,null,null,null,null,null,null,null,null,null,null,null,null,null,null,null,null,null,null,null,null,null,null,null,null,null,null,null,null,null,null,null,null,null,null,null,null,null,null,null,null,null,null,null,null,null,null,null,null,null,null,null,null,null,null,null,null,null,null,null,null,null,null,null,null,null,null,null,null,null,null,null,null,null,null,null,null,null,null,null,null,null,null,null,null,null,null,null,null,null,null,null,null,null,null,null,null,null,null,null,null,null,null,null,null,null,null,null,null,null,null,null,null,null,null,null,null,null,null,null,null,null,null,null,null,null,null,null,null,null,null,null,null,null,null,null,null,null,null,null,null,null,null,null,null,null,null,null,null,null,null,null,null,null,null,null,null,null,null,null,null,null,null,null,null,null,null,null,null,null,null,null,null,null,null,null,null,null,null,null,null,null,null,null,null,null,null,null,null,null,null,null,null,null,null,null,null,null,null,null,null,null,null,null,null,null,null,null,null,null,null,null,null,null,null,null,null,null,null,null,null,null,null,null,null,null,null,null,null,null,null,null,null,null,null,null,null,null,null,null,null,null,null,null,null,null,null,null,null,null,null,null,null,null,null,null,null,null,null,null,null,null,null,null,null,null,null,null,null,null,null,null,null,null,null,null,null,null,null,null,null,null,null,null,null,null,null,null,null,null,null,null,null,null,null,null,null,null,null,null,null,null,null,null,null,null,null,null,null,null,null,null,null,null,null,null,null,null,null,null,null,null,null,null,null,null,null,null,null,null,null,null,null,null,null,null,null,null,null,null,null,null,null,null,null,null,null,null,null,null,null,null,null,null,null,null,null,null,null,null,null,null,null,null,null,null,null,null,null,null,null,null,null,null,null,null,null,null,null,null,null,null,null,null,null,null,null,null,null,null,null,null,null,null,null,null,null,null,null,null,null,null,null,null,null,null,null,null,null,null,null,null,null,null,null,null,null,null,null,null,null,null,null,null,null,null,null,null,null,null,null,null,null,null,null,null,null,null,null,null,null,null,null,null,null,null,null,null,null,null,null,null,null,null,null,null,null,null,null,null,null,null,null,null,null,null,null,null,null,null,null,null,null,null,null,null,null,null,null,null,null,null,null,null,null,null,null,null,null,null,null,null,null,null,null,null,null,null,null,null,null,null,null,null,null,null,null,null,null,null,null,null,null,null,null,null,null,null,null,null,null,null,null,null,null,null,null,null,null,null,null,null,null,null,null,null,null,null,null,null,null,null,null,null,null,null,null,null,null,null,null,null,null,null,null,null,null,null,null,null,null,null,null,null,null,null,null,null,null,null,null,null,null,null,null,null,null,null,null,null,null,null,null,null,null,null,null,null,null,null,null,null,null,null,null,null,null,null,null,null,null,null,null,null,null,null,null,null,null,null,null,null,null,null,null,null,null,null,null,null,null,null,null,null,null,null,null,null,null,null,null,null,null,null,null,null,null,null,null,null,null,null,null,null,null,null,null,null,null,null,null,null,null,null,null,null,null,null,null,null,null,null,null,null,null,null,null,null,null,null,null,null,null,null,null,null,null,null,null,null,null,null,null,null,null,null,null,null,null,null,null,null,null,null,null,null,null,null,null,null,null,null,null,null,null,null,null,null,null,null,null,null,null,null,null,null,null,null,null,null,null,null,null,null,null,null,null,null,null,null,null,null,null,null,null,null,null,null,null,null,null,null,null,null,null,null,null,null,null,null,null,null,null,null,null,null,null,null,null,null,null,null,null,null,null,null,null,null,null,null,null,null,null,null,null,null,null,null,null,null,null,null,null,null,null,null,null,null,null,null,null,null,null,null,null,null,null,null,null,null,null,null,null,null,null,null,null,null,null,null,null,null,null,null,null,null,null,null,null,null,null,null,null,null,null,null,null,null,null,null,null,null,null,null,null,null,null,null,null,null,null,null,null,null,null,null,null,null,null,null,null,null,null,null,null,null,null,null,null,null,null,null,null,null,null,null,null,null,null,null,null,null,null,null,null,null,null,null,null,null,null,null,null,null,null,null,null,null,null,null,null,null,null,null,null,null,null,null,null,null,null,null,null,null,null,null,null,null,null,null,null,null,null,null,null,null,null,null,null,null,null,null,null,null,null,null,null,null,null,null,null,null,null,null,null,null,null,null,null,null,null,null,null,null,null,null,null,null,null,null,null,null,null,null,null,null,null,null,null,null,null,null,null,null,null,null,null,null,null,null,null,null,null,null,null,null,null,null,null,null,null,null,null,null,null,null,null,null,null,null,null,null,null,null,null,null,null,null,null,null,null,null,null,null,null,null,null,null,null,null,null,null,null,null,null,null,null,null,null,null,null,null,null,null,null,null,null,null,null,null,null,null,null,null,null,null,null,null,null,null,null,null,null,null,null,null,null,null,null,null,null,null,null,null,null,null,null,null,null,null,null,null,null,null,null,null,null,null,null,null,null,null,null,null,null,null,null,null,null,null,null,null,null,null,null,null,null,null,null,null,null,null,null,null,null,null,null,null,null,null,null,null,null,null,null,null,null,null,null,null,null,null,null,null,null,null,null,null,null,null,null,null,null,null,null,null,null,null,null,null,null,null,null,null,null,null,null,null,null,null,null,null,null,null,null,null,null,null,null,null,null,null,null,null,null,null,null,null,null,null,null,null,null,null,null,null,null,null,null,null,null,null,null,null,null,null,null,null,null,null,null,null,null,null,null,null,null,null,null,null,null,null,null,null,null,null,null,null,null,null,null,null,null,null,null,null,null,null,null,null,null,null,null,null,null,null,null,null,null,null,null,null,null,null,null,null,null,null,null,null,null,null,null,null,null,null,null,null,null,null,null,null,null,null,null,null,null,null,null,null,null,null,null,null,null,null,null,null,null,null,null,null,null,null,null,null,null,null,null,null,null,null,null,null,null,null,null,null,null,null,null,null,null,null,null,null,null,null,null,null,null,null,null,null,null,null,null,null,null,null,null,null,null,null,null,null,null,null,null,null,null,null,null,null,null,null,null,null,null,null,null,null,null,null,null,null,null,null,null,null,null,null,null,null,null,null,null,null,null,null,null,null,null,null,null,null,null,null,null,null,null,null,null,null,null,null,null,null,null,null,null,null,null,null,null,null,null,null,null,null,null,null,null,null,null,null,null,null,null,null,null,null,null,null,null,null,null,null,null,null,null,null,null,null,null,null,null,null,null,null,null,null,null,null,null,null,null,null,null,null,null,null,null,null,null,null,null,null,null,null,null,null,null,null,null,null,null,null,null,null,null,null,null,null,null,null,null,null,null,null,null,null,null,null,null,null,null,null,null,null,null,null,null,null,null,null,null,null,null,null,null,null,null,null,null,null,null,null,null,null,null,null,null,null,null,null,null,null,null,null,null,null,null,null,null,null,null,null,null,null,null,null,null,null,null,null,null,null,null,null,null,null,null,null,null,null,null,null,null,null,null,null,null,null,null,null,null,null,null,null,null,null,null,null,null,null,null,null,null,null,null,null,null,null,null,null,null,null,null,null,null,null,null,null,null,null,null,null,null,null,null,null,null,null,null,null,null,null,null,null,null,null,null,null,null,null,null,null,null,null,null,null,null,null,null,null,null,null,null,null,null,null,null,null,null,null,null,null,null,null,null,null,null,null,null,null,null,null,null,null,null,null,null,null,null,null,null,null,null,null,null,null,null,null,null,null,null,null,null,null,null,null,null,null,null,null,null,null,null,null,null,null,null,null,null,null,null,null,null,null,null,null,null,null,null,null,null,null,null,null,null,null,null,null,null,null,null,null,null,null,null,null,null,null,null,null,null,null,null,null,null,null,null,null,null,null,null,null,null,null,null,null,null,null,null,null,null,null,null,null,null,null,null,null,null,null,null,null,null,null,null,null,null,null,null,null,null,null,null,null,null,null,null,null,null,null,null,null,null,null,null,null,null,null,null,null,null,null,null,null,null,null,null,null,null,null,null,null,null,null,null,null,null,null,null,null,null,null,null,null,null,null,null,null,null,null,null,null,null,null,null,null,null,null,null,null,null,null,null,null,null,null,null,null,null,null,null,null,null,null,null,null,null,null,null,null,null,null,null,null,null,null,null,null,null,null,null,null,null,null,null,null,null,null,null,null,null,null,null,null,null,null,null,null,null,null,null,null,null,null,null,null,null,null,null,null,null,null,null,null,null,null,null,null,null,null,null,null,null,null,null,null,null,null,null,null,null,null,null,null,null,null,null,null,null,null,null,null,null,null,null,null,null,null,null,null,null,null,null,null,null,null,null,null,null,null,null,null,null,null,null,null,null,null,null,null,null,null,null,null,null,null,null,null,null,null,null,null,null,null,null,null,null,null,null,null,null,null,null,null,null,null,null,null,null,null,null,null,null,null,null,null,null,null,null,null,null,null,null,null,null,null,null,null,null,null,null,null,null,null,null,null,null,null,null,null,null,null,null,null,null,null,null,null,null,null,null,null,null,null,null,null,null,null,null,null,null,null,null,null,null,null,null,null,null,null,null,null,null,null,null,null,null,null,null,null,null,null,null,null,null,null,null,null,null,null,null,null,null,null,null,null,null,null,null,null,null,null,null,null,null,null,null,null,null,null,null,null,null,null,null,null,null,null,null,null,null,null,null,null,null,null,null,null,null,null,null,null,null,null,null,null,null,null,null,null,null,null,null,null,null,null,null,null,null,null,null,null,null,null,null,null,null,null,null,null,null,null,null,null,null,null,null,null,null,null,null,null,null,null,null,null,null,null,null,null,null,null,null,null,null,null,null,null,null,null,null,null,null,null,null,null,null,null,null,null,null,null,null,null,null,null,null,null,null,null,null,null,null,null,null,null,null,null,null,null,null,null,null,null,null,null,null,null,null,null,null,null,null,null,null,null,null,null,null,null,null,null,null,null,null,null,null,null,null,null,null,null,null,null,null,null,null,null,null,null,null,null,null,null,null,null,null,null,null,null,null,null,null,null,null,null,null,null,null,null,null,null,null,null,null,null,null,null,null,null,null,null,null,null,null,null,null,null,null,null,null,null,null,null,null,null,null,null,null,null,null,null,null,null,null,null,null,null,null,null,null,null,null,null,null,null,null,null,null,null,null,null,null,null,null,null,null,null,null,null,null,null,null,null,null,null,null,null,null,null,null,null,null,null,null,null,null,null,null,null,null,null,null,null,null,null,null,null,null,null,null,null,null,null,null,null,null,null,null,null,null,null,null,null,null,null,null,null,null,null,null,null,null,null,null,null,null,null,null,null,null,null,null,null,null,null,null,null,null,null,null,null,null,null,null,null,null,null,null,null,null,null,null,null,null,null,null,null,null,null,null,null,null,null,null,null,null,null,null,null,null,null,null,null,null,null,null,null,null,null,null,null,null,null,null,null,null,null,null,null,null,null,null,null,null,null,null,null,null,null,null,null,null,null,null,null,null,null,null,null,null,null,null,null,null,null,null,null,null,null,null,null,null,null,null,null,null,null,null,null,null,null,null,null,null,null,null,null,null,null,null,null,null,null,null,null,null,null,null,null,null,null,null,null,null,null,null,null,null,null,null,null,null,null,null,null,null,null,null,null,null,null,null,null,null,null,null,null,null,null,null,null,null,null,null,null,null,null,null,null,null,null,null,null,null,null,null,null,null,null,null,null,null,null,null,null,null,null,null,null,null,null,null,null,null,null,null,null,null,null,null,null,null,null,null,null,null,null,null,null,null,null,null,null,null,null,null,null,null,null,null,null,null,null,null,null,null,null,null,null,null,null,null,null,null,null,null,null,null,null,null,null,null,null,null,null,null,null,null,null,null,null,null,null,null,null,null,null,null,null,null,null,null,null,null,null,null,null,null,null,null,null,null,null,null,null,null,null,null,null,null,null,null,null,null,null,null,null,null,null,null,null,null,null,null,null,null,null,null,null,null,null,null,null,null,null,null,null,null,null,null,null,null,null,null,null,null,null,null,null,null,null,null,null,null,null,null,null,null,null,null,null,null,null,null,null,null,null,null,null,null,null,null,null,null,null,null,null,null,null,null,null,null,null,null,null,null,null,null,null,null,null,null,null,null,null,null,null,null,null,null,null,null,null,null,null,null,null,null,null,null,null,null,null,null,null,null,null,null,null,null,null,null,null,null,null,null,null,null,null,null,null,null,null,null,null,null,null,null,null,null,null,null,null,null,null,null,null,null,null,null,null,null,null,null,null,null,null,null,null,null,null,null,null,null,null,null,null,null,null,null,null,null,null,null,null,null,null,null,null,null,null,null,null,null,null,null,null,null,null,null,null,null,null,null,null,null,null,null,null,null,null,null,null,null,null,null,null,null,null,null,null,null,null,null,null,null,null,null,null,null,null,null,null,null,null,null,null,null,null,null,null,null,null,null,null,null,null,null,null,null,null,null,null,null,null,null,null,null,null,null,null,null,null,null,null,null,null,null,null,null,null,null,null,null,null,null,null,null,null,null,null,null,null,null,null,null,null,null,null,null,null,null,null,null,null,null,null,null,null,null,null,null,null,null,null,null,null,null,null,null,null,null,null,null,null,null,null,null,null,null,null,null,null,null,null,null,null,null,null,null,null,null,null,null,null,null,null,null,null,null,null,null,null,null,null,null,null,null,null,null,null,null,null,null,null,null,null,null,null,null,null,null,null,null,null,null,null,null,null,null,null,null,null,null,null,null,null,null,null,null,null,null,null,null,null,null,null,null,null,null,null,null,null,null,null,null,null,null,null,null,null,null,null,null,null,null,null,null,null,null,null,null,null,null,null,null,null,null,null,null,null,null,null,null,null,null,null,null,null,null,null,null,null,null,null,null,null,null,null,null,null,null,null,null,null,null,null,null,null,null,null,null,null,null,null,null,null,null,null,null,null,null,null,null,null,null,null,null,null,null,null,null,null,null,null,null,null,null,null,null,null,null,null,null,null,null,null,null,null,null,null,null,null,null,null,null,null,null,null,null,null,null,null,null,null,null,null,null,null,null,null,null,null,null,null,null,null,null,null,null,null,null,null,null,null,null,null,null,null,null,null,null,null,null,null,null,null,null,null,null,null,null,null,null,null,null,null,null,null,null,null,null,null,null,null,null,null,null,null,null,null,null,null,null,null,null,null,null,null,null,null,null,null,null,null,null,null,null,null,null,null,null,null,null,null,null,null,null,null,null,null,null,null,null,null,null,null,null,null,null,null,null,null,null,null,null,null,null,null,null,null,null,null,null,null,null,null,null,null,null,null,null,null,null,null,null,null,null,null,null,null,null,null,null,null,null,null,null,null,null,null,null,null,null,null,null,null,null,null,null,null,null,null,null,null,null,null,null,null,null,null,null,null,null,null,null,null,null,null,null,null,null,null,null,null,null,null,null,null,null,null,null,null,null,null,null,null,null,null,null,null,null,null,null,null,null,null,null,null,null,null,null,null,null,null,null,null,null,null,null,null,null,null,null,null,null,null,null,null,null,null,null,null,null,null,null,null,null,null,null,null,null,null,null,null,null,null,null,null,null,null,null,null,null,null,null,null,null,null,null,null,null,null,null,null,null,null,null,null,null,null,null,null,null,null,null,null,null,null,null,null,null,null,null,null,null,null,null,null,null,null,null,null,null,null,null,null,null,null,null,null,null,null,null,null,null,null,null,null,null,null,null,null,null,null,null,null,null,null,null,null,null,null,null,null,null,null,null,null,null,null,null,null,null,null,null,null,null,null,null,null,null,null,null,null,null,null,null,null,null,null,null,null,null,null,null,null,null,null,null,null,null,null,null,null,null,null,null,null,null,null,null,null,null,null,null,null,null,null,null,null,null,null,null,null,null,null,null,null,null,null,null,null,null,null,null,null,null,null,null,null,null,null,null,null,null,null,null,null,null,null,null,null,null,null,null,null,null,null,null,null,null,null,null,null,null,null,null,null,null,null,null,null,null,null,null,null,null,null,null,null,null,null,null,null,null,null,null,null,null,null,null,null,null,null,null,null,null,null,null,null,null,null,null,null,null,null,null,null,null,null,null,null,null,null,null,null,null,null,null,null,null,null,null,null,null,null,null,null,null,null,null,null,null,null,null,null,null,null,null,null,null,null,null,null,null,null,null,null,null,null,null,null,null,null,null,null,null,null,null,null,null,null,null,null,null,null,null,null,null,null,null,null,null,null,null,null,null,null,null,null,null,null,null,null,null,null,null,null,null,null,null,null,null,null,null,null,null,null,null,null,null,null,null,null,null,null,null,null,null,null,null,null,null,null,null,null,null,null,null,null,null,null,null,null,null,null,null,null,null,null,null,null,null,null,null,null,null,null,null,null,null,null,null,null,null,null,null,null,null,null,null,null,null,null,null,null,null,null,null,null,null,null,null,null,null,null,null,null,null,null,null,null,null,null,null,null,null,null,null,null,null,null,null,null,null,null,null,null,null,null,null,null,null,null,null,null,null,null,null,null,null,null,null,null,null,null,null,null,null,null,null,null,null,null,null,null,null,null,null,null,null,null,null,null,null,null,null,null,null,null,null,null,null,null,null,null,null,null,null,null,null,null,null,null,null,null,null,null,null,null,null,null,null,null,null,null,null,null,null,null,null,null,null,null,null,null,null,null,null,null,null,null,null,null,null,null,null,null,null,null,null,null,null,null,null,null,null,null,null,null,null,null,null,null,null,null,null,null,null,null,null,null,null,null,null,null,null,null,null,null,null,null,null,null,null,null,null,null,null,null,null,null,null,null,null,null,null,null,null,null,null,null,null,null,null,null,null,null,null,null,null,null,null,null,null,null,null,null,null,null,null,null,null,null,null,null,null,null,null,null,null,null,null,null,null,null,null,null,null,null,null,null,null,null,null,null,null,null,null,null,null,null,null,null,null,null,null,null,null,null,null,null,null,null,null,null,null,null,null,null,null,null,null,null,null,null,null,null,null,null,null,null,null,null,null,null,null,null,null,null,null,null,null,null,null,null,null,null,null,null,null,null,null,null,null,null,null,null,null,null,null,null,null,null,null,null,null,null,null,null,null,null,null,null,null,null,null,null,null,null,null,null,null,null,null,null,null,null,null,null,null,null,null,null,null,null,null,null,null,null,null,null,null,null,null,null,null,null,null,null,null,null,null,null,null,null,null,null,null,null,null,null,null,null,null,null,null,null,null,null,null,null,null,null,null,null,null,null,null,null,null,null,null,null,null,null,null,null,null,null,null,null,null,null,null,null,null,null,null,null,null,null,null,null,null,null,null,null,null,null,null,null,null,null,null,null,null,null,null,null,null,null,null,null,null,null,null,null,null,null,null,null,null,null,null,null,null,null,null,null,null,null,null,null,null,null,null,null,null,null,null,null,null,null,null,null,null,null,null,null,null,null,null,null,null,null,null,null,null,null,null,null,null,null,null,null,null,null,null,null,null,null,null,null,null,null,null,null,null,null,null,null,null,null,null,null,null,null,null,null,null,null,null,null,null,null,null,null,null,null,null,null,null,null,null,null,null,null,null,null,null,null,null,null,null,null,null,null,null,null,null,null,null,null,null,null,null,null,null,null,null,null,null,null,null,null,null,null,null,null,null,null,null,null,null,null,null,null,null,null,null,null,null,null,null,null,null,null,null,null,null,null,null,null,null,null,null,null,null,null,null,null,null,null,null,null,null,null,null,null,null,null,null,null,null,null,null,null,null,null,null,null,null,null,null,null,null,null,null,null,null,null,null,null,null,null,null,null,null,null,null,null,null,null,null,null,null,null,null,null,null,null,null,null,null,null,null,null,null,null,null,null,null,null,null,null,null,null,null,null,null,null,null,null,null,null,null,null,null,null,null,null,null,null,null,null,null,null,null,null,null,null,null,null,null,null,null,null,null,null,null,null,null,null,null,null,null,null,null,null,null,null,null,null,null,null,null,null,null,null,null,null,null,null,null,null,null,null,null,null,null,null,null,null,null,null,null,null,null,null,null,null,null,null,null,null,null,null,null,null,null,null,null,null,null,null,null,null,null,null,null,null,null,null,null,null,null,null,null,null,null,null,null,null,null,null,null,null,null,null,null,null,null,null,null,null,null,null,null,null,null,null,null,null,null,null,null,null,null,null,null,null,null,null,null,null,null,null,null,null,null,null,null,null,null,null,null,null,null,null,null,null,null,null,null,null,null,null,null,null,null,null,null,null,null,null,null,null,null,null,null,null,null,null,null,null,null,null,null,null,null,null,null,null,null,null,null,null,null,null,null,null,null,null,null,null,null,null,null,null,null,null,null,null,null,null,null,null,null,null,null,null,null,null,null,null,null,null,null,null,null,null,null,null,null,null,null,null,null,null,null,null,null,null,null,null,null,null,null,null,null,null,null,null,null,null,null,null,null,null,null,null,null,null,null,null,null,null,null,null,null,null,null,null,null,null,null,null,null,null,null,null,null,null,null,null,null,null,null,null,null,null,null,null,null,null,null,null,null,null,null,null,null,null,null,null,null,null,null,null,null,null,null,null,null,null,null,null,null,null,null,null,null,null,null,null,null,null,null,null,null,null,null,null,null,null,null,null,null,null,null,null,null,null,null,null,null,null,null,null,null,null,null,null,null,null,null,null,null,null,null,null,null,null,null,null,null,null,null,null,null,null,null,null,null,null,null,null,null,null,null,null,null,null,null,null,null,null,null,null,null,null,null,null,null,null,null,null,null,null,null,null,null,null,null,null,null,null,null,null,null,null,null,null,null,null,null,null,null,null,null,null,null,null,null,null,null,null,null,null,null,null,null,null,null,null,null,null,null,null,null,null,null,null,null,null,null,null,null,null,null,null,null,null,null,null,null,null,null,null,null,null,null,null,null,null,null,null,null,null,null,null,null,null,null,null,null,null,null,null,null,null,null,null,null,null,null,null,null,null,null,null,null,null,null,null,null,null,null,null,null,null,null,null,null,null,null,null,null,null,null,null,null,null,null,null,null,null,null,null,null,null,null,null,null,null,null,null,null,null,null,null,null,null,null,null,null,null,null,null,null,null,null,null,null,null,null,null,null,null,null,null,null,null,null,null,null,null,null,null,null,null,null,null,null,null,null,null,null,null,null,null,null,null,null,null,null,null,null,null,null,null,null,null,null,null,null,null,null,null,null,null,null,null,null,null,null,null,null,null,null,null,null,null,null,null,null,null,null,null,null,null,null,null,null,null,null,null,null,null,null,null,null,null,null,null,null,null,null,null,null,null,null,null,null,null,null,null,null,null,null,null,null,null,null,null,null,null,null,null,null,null,null,null,null,null,null,null,null,null,null,null,null,null,null,null,null,null,null,null,null,null,null,null,null,null,null,null,null,null,null,null,null,null,null,null,null,null,null,null,null,null,null,null,null,null,null,null,null,null,null,null,null,null,null,null,null,null,null,null,null,null,null,null,null,null,null,null,null,null,null,null,null,null,null,null,null,null,null,null,null,null,null,null,null,null,null,null,null,null,null,null,null,null,null,null,null,null,null,null,null,null,null,null,null,null,null,null,null,null,null,null,null,null,null,null,null,null,null,null,null,null,null,null,null,null,null,null,null,null,null,null,null,null,null,null,null,null,null,null,null,null,null,null,null,null,null,null,null,null,null,null,null,null,null,null,null,null,null,null,null,null,null,null,null,null,null,null,null,null,null,null,null,null,null,null,null,null,null,null,null,null,null,null,null,null,null,null,null,null,null,null,null,null,null,null,null,null,null,null,null,null,null,null,null,null,null,null,null,null,null,null,null,null,null,null,null,null,null,null,null,null,null,null,null,null,null,null,null,null,null,null,null,null,null,null,null,null,null,null,null,null,null,null,null,null,null,null,null,null,null,null,null,null,null,null,null,null,null,null,null,null,null,null,null,null,null,null,null,null,null,null,null,null,null,null,null,null,null,null,null,null,null,null,null,null,null,null,null,null,null,null,null,null,null,null,null,null,null,null,null,null,null,null,null,null,null,null,null,null,null,null,null,null,null,null,null,null,null,null,null,null,null,null,null,null,null,null,null,null,null,null,null,null,null,null,null,null,null,null,null,null,null,null,null,null,null,null,null,null,null,null,null,null,null,null,null,null,null,null,null,null,null,null,null,null,null,null,null,null,null,null,null,null,null,null,null,null,null,null,null,null,null,null,null,null,null,null,null,null,null,null,null,null,null,null,null,null,null,null,null,null,null,null,null,null,null,null,null,null,null,null,null,null,null,null,null,null,null,null,null,null,null,null,null,null,null,null,null,null,null,null,null,null,null,null,null,null,null,null,null,null,null,null,null,null,null,null,null,null,null,null,null,null,null,null,null,null,null,null,null,null,null,null,null,null,null,null,null,null,null,null,null,null,null,null,null,null,null,null,null,null,null,null,null,null,null,null,null,null,null,null,null,null,null,null,null,null,null,null,null,null,null,null,null,null,null,null,null,null,null,null,null,null,null,null,null,null,null,null,null,null,null,null,null,null,null,null,null,null,null,null,null,null,null,null,null,null,null,null,null,null,null,null,null,null,null,null,null,null,null,null,null,null,null,null,null,null,null,null,null,null,null,null,null,null,null,null,null,null,null,null,null,null,null,null,null,null,null,null,null,null,null,null,null,null,null,null,null,null,null,null,null,null,null,null,null,null,null,null,null,null,null,null,null,null,null,null,null,null,null,null,null,null,null,null,null,null,null,null,null,null,null,null,null,null,null,null,null,null,null,null,null,null,null,null,null,null,null,null,null,null,null,null,null,null,null,null,null,null,null,null,null,null,null,null,null,null,null,null,null,null,null,null,null,null,null,null,null,null,null,null,null,null,null,null,null,null,null,null,null,null,null,null,null,null,null,null,null,null,null,null,null,null,null,null,null,null,null,null,null,null,null,null,null,null,null,null,null,null,null,null,null,null,null,null,null,null,null,null,null,null,null,null,null,null,null,null,null,null,null,null,null,null,null,null,null,null,null,null,null,null,null,null,null,null,null,null,null,null,null,null,null,null,null,null,null,null,null,null,null,null,null,null,null,null,null,null,null,null,null,null,null,null,null,null,null,null,null,null,null,null,null,null,null,null,null,null,null,null,null,null,null,null,null,null,null,null,null,null,null,null,null,null,null,null,null,null,null,null,null,null,null,null,null,null,null,null,null,null,null,null,null,null,null,null,null,null,null,null,null,null,null,null,null,null,null,null,null,null,null,null,null,null,null,null,null,null,null,null,null,null,null,null,null,null,null,null,null,null,null,null,null,null,null,null,null,null,null,null,null,null,null,null,null,null,null,null,null,null,null,null,null,null,null,null,null,null,null,null,null,null,null,null,null,null,null,null,null,null,null,null,null,null,null,null,null,null,null,null,null,null,null,null,null,null,null,null,null,null,null,null,null,null,null,null,null,null,null,null,null,null,null,null,null,null,null,null,null,null,null,null,null,null,null,null,null,null,null,null,null,null,null,null,null,null,null,null,null,null,null,null,null,null,null,null,null,null,null,null,null,null,null,null,null,null,null,null,null,null,null,null,null,null,null,null,null,null,null,null,null,null,null,null,null,null,null,null,null,null,null,null,null,null,null,null,null,null,null,null,null,null,null,null,null,null,null,null,null,null,null,null,null,null,null,null,null,null,null,null,null,null,null,null,null,null,null,null,null,null,null,null,null,null,null,null,null,null,null,null,null,null,null,null,null,null,null,null,null,null,null,null,null,null,null,null,null,null,null,null,null,null,null,null,null,null,null,null,null,null,null,null,null,null,null,null,null,null,null,null,null,null,null,null,null,null,null,null,null,null,null,null,null,null,null,null,null,null,null,null,null,null,null,null,null,null,null,null,null,null,null,null,null,null,null,null,null,null,null,null,null,null,null,null,null,null,null,null,null,null,null,null,null,null,null,null,null,null,null,null,null,null,null,null,null,null,null,null,null,null,null,null,null,null,null,null,null,null,null,null,null,null,null,null,null,null,null,null,null,null,null,null,null,null,null,null,null,null,null,null,null,null,null,null,null,null,null,null,null,null,null,null,null,null,null,null,null,null,null,null,null,null,null,null,null,null,null,null,null,null,null,null,null,null,null,null,null,null,null,null,null,null,null,null,null,null,null,null,null,null,null,null,null,null,null,null,null,null,null,null,null,null,null,null,null,null,null,null,null,null,null,null,null,null,null,null,null,null,null,null,null,null,null,null,null,null,null,null,null,null,null,null,null,null,null,null,null,null,null,null,null,null,null,null,null,null,null,null,null,null,null,null,null,null,null,null,null,null,null,null,null,null,null,null,null,null,null,null,null,null,null,null,null,null,null,null,null,null,null,null,null,null,null,null,null,null,null,null,null,null,null,null,null,null,null,null,null,null,null,null,null,null,null,null,null,null,null,null,null,null,null,null,null,null,null,null,null,null,null,null,null,null,null,null,null,null,null,null,null,null,null,null,null,null,null,null,null,null,null,null,null,null,null,null,null,null,null,null,null,null,null,null,null,null,null,null,null,null,null,null,null,null,null,null,null,null,null,null,null,null,null,null,null,null,null,null,null,null,null,null,null,null,null,null,null,null,null,null,null,null,null,null,null,null,null,null,null,null,null,null,null,null,null,null,null,null,null,null,null,null,null,null,null,null,null,null,null,null,null,null,null,null,null,null,null,null,null,null,null,null,null,null,null,null,null,null,null,null,null,null,null,null,null,null,null,null,null,null,null,null,null,null,null,null,null,null,null,null,null,null,null,null,null,null,null,null,null,null,null,null,null,null,null,null,null,null,null,null,null,null,null,null,null,null,null,null,null,null,null,null,null,null,null,null,null,null,null,null,null,null,null,null,null,null,null,null,null,null,null,null,null,null,null,null,null,null,null,null,null,null,null,null,null,null,null,null,null,null,null,null,null,null,null,null,null,null,null,null,null,null,null,null,null,null,null,null,null,null,null,null,null,null,null,null,null,null,null,null,null,null,null,null,null,null,null,null,null,null,null,null,null,null,null,null,null,null,null,null,null,null,null,null,null,null,null,null,null,null,null,null,null,null,null,null,null,null,null,null,null,null,null,null,null,null,null,null,null,null,null,null,null,null,null,null,null,null,null,null,null,null,null,null,null,null,null,null,null,null,null,null,null,null,null,null,null,null,null,null,null,null,null,null,null,null,null,null,null,null,null,null,null,null,null,null,null,null,null,null,null,null,null,null,null,null,null,null,null,null,null,null,null,null,null,null,null,null,null,null,null,null,null,null,null,null,null,null,null,null,null,null,null,null,null,null,null,null,null,null,null,null,null,null,null,null,null,null,null,null,null,null,null,null,null,null,null,null,null,null,null,null,null,null,null,null,null,null,null,null,null,null,null,null,null,null,null,null,null,null,null,null,null,null,null,null,null,null,null,null,null,null,null,null,null,null,null,null,null,null,null,null,null,null,null,null,null,null,null,null,null,null,null,null,null,null,null,null,null,null,null,null,null,null,null,null,null,null,null,null,null,null,null,null,null,null,null,null,null,null,null,null,null,null,null,null,null,null,null,null,null,null,null,null,null,null,null,null,null,null,null,null,null,null,null,null,null,null,null,null,null,null,null,null,null,null,null,null,null,null,null,null,null,null,null,null,null,null,null,null,null,null,null,null,null,null,null,null,null,null,null,null,null,null,null,null,null,null,null,null,null,null,null,null,null,null,null,null,null,null,null,null,null,null,null,null,null,null,null,null,null,null,null,null,null,null,null,null,null,null,null,null,null,null,null,null,null,null,null,null,null,null,null,null,null,null,null,null,null,null,null,null,null,null,null,null,null,null,null,null,null,null,null,null,null,null,null,null,null,null,null,null,null,null,null,null,null,null,null,null,null,null,null,null,null,null,null,null,null,null,null,null,null,null,null,null,null,null,null,null,null,null,null,null,null,null,null,null,null,null,null,null,null,null,null,null,null,null,null,null,null,null,null,null,null,null,null,null,null,null,null,null,null,null,null,null,null,null,null,null,null,null,null,null,null,null,null,null,null,null,null,null,null,null,null,null,null,null,null,null,null,null,null,null,null,null,null,null,null,null,null,null,null,null,null,null,null,null,null,null,null,null,null,null,null,null,null,null,null,null,null,null,null,null,null,null,null,null,null,null,null,null,null,null,null,null,null,null,null,null,null,null,null,null,null,null,null,null,null,null,null,null,null,null,null,null,null,null,null,null,null,null,null,null,null,null,null,null,null,null,null,null,null,null,null,null,null,null,null,null,null,null,null,null,null,null,null,null,null,null,null,null,null,null,null,null,null,null,null,null,null,null,null,null,null,null,null,null,null,null,null,null,null,null,null,null,null,null,null,null,null,null,null,null,null,null,null,null,null,null,null,null,null,null,null,null,null,null,null,null,null,null,null,null,null,null,null,null,null,null,null,null,null,null,null,null,null,null,null,null,null,null,null,null,null,null,null,null,null,null,null,null,null,null,null,null,null,null,null,null,null,null,null,null,null,null,null,null,null,null,null,null,null,null,null,null,null,null,null,null,null,null,null,null,null,null,null,null,null,null,null,null,null,null,null,null,null,null,null,null,null,null,null,null,null,null,null,null,null,null,null,null,null,null,null,null,null,null,null,null,null,null,null,null,null,null,null,null,null,null,null,null,null,null,null,null,null,null,null,null,null,null,null,null,null,null,null,null,null,null,null,null,null,null,null,null,null,null,null,null,null,null,null,null,null,null,null,null,null,null,null,null,null,null,null,null,null,null,null,null,null,null,null,null,null,null,null,null,null,null,null,null,null,null,null,null,null,null,null,null,null,null,null,null,null,null,null,null,null,null,null,null,null,null,null,null,null,null,null,null,null,null,null,null,null,null,null,null,null,null,null,null,null,null,null,null,null,null,null,null,null,null,null,null,null,null,null,null,null,null,null,null,null,null,null,null,null,null,null,null,null,null,null,null,null,null,null,null,null,null,null,null,null,null,null,null,null,null,null,null,null,null,null,null,null,null,null,null,null,null,null,null,null,null,null,null,null,null,null,null,null,null,null,null,null,null,null,null,null,null,null,null,null,null,null,null,null,null,null,null,null,null,null,null,null,null,null,null,null,null,null,null,null,null,null,null,null,null,null,null,null,null,null,null,null,null,null,null,null,null,null,null,null,null,null,null,null,null,null,null,null,null,null,null,null,null,null,null,null,null,null,null,null,null,null,null,null,null,null,null,null,null,null,null,null,null,null,null,null,null,null,null,null,null,null,null,null,null,null,null,null,null,null,null,null,null,null,null,null,null,null,null,null,null,null,null,null,null,null,null,null,null,null,null,null,null,null,null,null,null,null,null,null,null,null,null,null,null,null,null,null,null,null,null,null,null,null,null,null,null,null,null,null,null,null,null,null,null,null,null,null,null,null,null,null,null,null,null,null,null,null,null,null,null,null,null,null,null,null,null,null,null,null,null,null,null,null,null,null,null,null,null,null,null,null,null,null,null,null,null,null,null,null,null,null,null,null,null,null,null,null,null,null,null,null,null,null,null,null,null,null,null,null,null,null,null,null,null,null,null,null,null,null,null,null,null,null,null,null,null,null,null,null,null,null,null,null,null,null,null,null,null,null,null,null,null,null,null,null,null,null,null,null,null,null,null,null,null,null,null,null,null,null,null,null,null,null,null,null,null,null,null,null,null,null,null,null,null,null,null,null,null,null,null,null,null,null,null,null,null,null,null,null,null,null,null,null,null,null,null,null,null,null,null,null,null,null,null,null,null,null,null,null,null,null,null,null,null,null,null,null,null,null,null,null,null,null,null,null,null,null,null,null,null,null,null,null,null,null,null,null,null,null,null,null,null,null,null,null,null,null,null,null,null,null,null,null,null,null,null,null,null,null,null,null,null,null,null,null,null,null,null,null,null,null,null,null,null,null,null,null,null,null,null,null,null,null,null,null,null,null,null,null,null,null,null,null,null,null,null,null,null,null,null,null,null,null,null,null,null,null,null,null,null,null,null,null,null,null,null,null,null,null,null,null,null,null,null,null,null,null,null,null,null,null,null,null,null,null,null,null,null,null,null,null,null,null,null,null,null,null,null,null,null,null,null,null,null,null,null,null,null,null,null,null,null,null,null,null,null,null,null,null,null,null,null,null,null,null,null,null,null,null,null,null,null,null,null,null,null,null,null,null,null,null,null,null,null,null,null,null,null,null,null,null,null,null,null,null,null,null,null,null,null,null,null,null,null,null,null,null,null,null,null,null,null,null,null,null,null,null,null,null,null,null,null,null,null,null,null,null,null,null,null,null,null,null,null,null,null,null,null,null,null,null,null,null,null,null,null,null,null,null,null,null,null,null,null,null,null,null,null,null,null,null,null,null,null,null,null,null,null,null,null,null,null,null,null,null,null,null,null,null,null,null,null,null,null,null,null,null,null,null,null,null,null,null,null,null,null,null,null,null,null,null,null,null,null,null,null,null,null,null,null,null,null,null,null,null,null,null,null,null,null,null,null,null,null,null,null,null,null,null,null,null,null,null,null,null,null,null,null,null,null,null,null,null,null,null,null,null,null,null,null,null,null,null,null,null,null,null,null,null,null,null,null,null,null,null,null,null,null,null,null,null,null,null,null,null,null,null,null,null,null,null,null,null,null,null,null,null,null,null,null,null,null,null,null,null,null,null,null,null,null,null,null,null,null,null,null,null,null,null,null,null,null,null,null,null,null,null,null,null,null,null,null,null,null,null,null,null,null,null,null,null,null,null,null,null,null,null,null,null,null,null,null,null,null,null,null,null,null,null,null,null,null,null,null,null,null,null,null,null,null,null,null,null,null,null,null,null,null,null,null,null,null,null,null,null,null,null,null,null,null,null,null,null,null,null,null,null,null,null,null,null,null,null,null,null,null,null,null,null,null,null,null,null,null,null,null,null,null,null,null,null,null,null,null,null,null,null,null,null,null,null,null,null,null,null,null,null,null,null,null,null,null,null,null,null,null,null,null,null,null,null,null,null,null,null,null,null,null,null,null,null,null,null,null,null,null,null,null,null,null,null,null,null,null,null,null,null,null,null,null,null,null,null,null,null,null,null,null,null,null,null,null,null,null,null,null,null,null,null,null,null,null,null,null,null,null,null,null,null,null,null,null,null,null,null,null,null,null,null,null,null,null,null,null,null,null,null,null,null,null,null,null,null,null,null,null,null,null,null,null,null,null,null,null,null,null,null,null,null,null,null,null,null,null,null,null,null,null,null,null,null,null,null,null,null,null,null,null,null,null,null,null,null,null,null,null,null,null,null,null,null,null,null,null,null,null,null,null,null,null,null,null,null,null,null,null,null,null,null,null,null,null,null,null,null,null,null,null,null,null,null,null,null,null,null,null,null,null,null,null,null,null,null,null,null,null,null,null,null,null,null,null,null,null,null,null,null,null,null,null,null,null,null,null,null,null,null,null,null,null,null,null,null,null,null,null,null,null,null,null,null,null,null,null,null,null,null,null,null,null,null,null,null,null,null,null,null,null,null,null,null,null,null,null,null,null,null,null,null,null,null,null,null,null,null,null,null,null,null,null,null,null,null,null,null,null,null,null,null,null,null,null,null,null,null,null,null,null,null,null,null,null,null,null,null,null,null,null,null,null,null,null,null,null,null,null,null,null,null,null,null,null,null,null,null,null,null,null,null,null,null,null,null,null,null,null,null,null,null,null,null,null,null,null,null,null,null,null,null,null,null,null,null,null,null,null,null,null,null,null,null,null,null,null,null,null,null,null,null,null,null,null,null,null,null,null,null,null,null,null,null,null,null,null,null,null,null,null,null,null,null,null,null,null,null,null,null,null,null,null,null,null,null,null,null,null,null,null,null,null,null,null,null,null,null,null,null,null,null,null,null,null,null,null,null,null,null,null,null,null,null,null,null,null,null,null,null,null,null,null,null,null,null,null,null,null,null,null,null,null,null,null,null,null,null,null,null,null,null,null,null,null,null,null,null,null,null,null,null,null,null,null,null,null,null,null,null,null,null,null,null,null,null,null,null,null,null,null,null,null,null,null,null,null,null,null,null,null,null,null,null,null,null,null,null,null,null,null,null,null,null,null,null,null,null,null,null,null,null,null,null,null,null,null,null,null,null,null,null,null,null,null,null,null,null,null,null,null,null,null,null,null,null,null,null,null,null,null,null,null,null,null,null,null,null,null,null,null,null,null,null,null,null,null,null,null,null,null,null,null,null,null,null,null,null,null,null,null,null,null,null,null,null,null,null,null,null,null,null,null,null,null,null,null,null,null,null,null,null,null,null,null,null,null,null,null,null,null,null,null,null,null,null,null,null,null,null,null,null,null,null,null,null,null,null,null,null,null,null,null,null,null,null,null,null,null,null,null,null,null,null,null,null,null,null,null,null,null,null,null,null,null,null,null,null,null,null,null,null,null,null,null,null,null,null,null,null,null,null,null,null,null,null,null,null,null,null,null,null,null,null,null,null,null,null,null,null,null,null,null,null,null,null,null,null,null,null,null,null,null,null,null,null,null,null,null,null,null,null,null,null,null,null,null,null,null,null,null,null,null,null,null,null,null,null,null,null,null,null,null,null,null,null,null,null,null,null,null,null,null,null,null,null,null,null,null,null,null,null,null,null,null,null,null,null,null,null,null,null,null,null,null,null,null,null,null,null,null,null,null,null,null,null,null,null,null,null,null,null,null,null,null,null,null,null,null,null,null,null,null,null,null,null,null,null,null,null,null,null,null,null,null,null,null,null,null,null,null,null,null,null,null,null,null,null,null,null,null,null,null,null,null,null,null,null,null,null,null,null,null,null,null,null,null,null,null,null,null,null,null,null,null,null,null,null,null,null,null,null,null,null,null,null,null,null,null,null,null,null,null,null,null,null,null,null,null,null,null,null,null,null,null,null,null,null,null,null,null,null,null,null,null,null,null,null,null,null,null,null,null,null,null,null,null,null,null,null,null,null,null,null,null,null,null,null,null,null,null,null,null,null,null,null,null,null,null,null,null,null,null,null,null,null,null,null,null,null,null,null,null,null,null,null,null,null,null,null,null,null,null,null,null,null,null,null,null,null,null,null,null,null,null,null,null,null,null,null,null,null,null,null,null,null,null,null,null,null,null,null,null,null,null,null,null,null,null,null,null,null,null,null,null,null,null,null,null,null,null,null,null,null,null,null,null,null,null,null,null,null,null,null,null,null,null,null,null,null,null,null,null,null,null,null,null,null,null,null,null,null,null,null,null,null,null,null,null,null,null,null,null,null,null,null,null,null,null,null,null,null,null,null,null,null,null,null,null,null,null,null,null,null,null,null,null,null,null,null,null,null,null,null,null,null,null,null,null,null,null,null,null,null,null,null,null,null,null,null,null,null,null,null,null,null,null,null,null,null,null,null,null,null,null,null,null,null,null,null,null,null,null,null,null,null,null,null,null,null,null,null,null,null,null,null,null,null,null,null,null,null,null,null,null,null,null,null,null,null,null,null,null,null,null,null,null,null,null,null,null,null,null,null,null,null,null,null,null,null,null,null,null,null,null,null,null,null,null,null,null,null,null,null,null,null,null,null,null,null,null,null,null,null,null,null,null,null,null,null,null,null,null,null,null,null,null,null,null,null,null,null,null,null,null,null,null,null,null,null,null,null,null,null,null,null,null,null,null,null,null,null,null,null,null,null,null,null,null,null,null,null,null,null,null,null,null,null,null,null,null,null,null,null,null,null,null,null,null,null,null,null,null,null,null,null,null,null,null,null,null,null,null,null,null,null,null,null,null,null,null,null,null,null,null,null,null,null,null,null,null,null,null,null,null,null,null,null,null,null,null,null,null,null,null,null,null,null,null,null,null,null,null,null,null,null,null,null,null,null,null,null,null,null,null,null,null,null,null,null,null,null,null,null,null,null,null,null,null,null,null,null,null,null,null,null,null,null,null,null,null,null,null,null,null,null,null,null,null,null,null,null,null,null,null,null,null,null,null,null,null,null,null,null,null,null,null,null,null,null,null,null,null,null,null,null,null,null,null,null,null,null,null,null,null,null,null,null,null,null,null,null,null,null,null,null,null,null,null,null,null,null,null,null,null,null,null,null,null,null,null,null,null,null,null,null,null,null,null,null,null,null,null,null,null,null,null,null,null,null,null,null,null,null,null,null,null,null,null,null,null,null,null,null,null,null,null,null,null,null,null,null,null,null,null,null,null,null,null,null,null,null,null,null,null,null,null,null,null,null,null,null,null,null,null,null,null,null,null,null,null,null,null,null,null,null,null,null,null,null,null,null,null,null,null,null,null,null,null,null,null,null,null,null,null,null,null,null,null,null,null,null,null,null,null,null,null,null,null,null,null,null,null,null,null,null,null,null,null,null,null,null,null,null,null,null,null,null,null,null,null,null,null,null,null,null,null,null,null,null,null,null,null,null,null,null,null,null,null,null,null,null,null,null,null,null,null,null,null,null,null,null,null,null,null,null,null,null,null,null,null,null,null,null,null,null,null,null,null,null,null,null,null,null,null,null,null,null,null,null,null,null,null,null,null,null,null,null,null,null,null,null,null,null,null,null,null,null,null,null,null,null,null,null,null,null,null,null,null,null,null,null,null,null,null,null,null,null,null,null,null,null,null,null,null,null,null,null,null,null,null,null,null,null,null,null,null,null,null,null,null,null,null,null,null,null,null,null,null,null,null,null,null,null,null,null,null,null,null,null,null,null,null,null,null,null,null,null,null,null,null,null,null,null,null,null,null,null,null,null,null,null,null,null,null,null,null,null,null,null,null,null,null,null,null,null,null,null,null,null,null,null,null,null,null,null,null,null,null,null,null,null,null,null,null,null,null,null,null,null,null,null,null,null,null,null,null,null,null,null,null,null,null,null,null,null,null,null,null,null,null,null,null,null,null,null,null,null,null,null,null,null,null,null,null,null,null,null,null,null,null,null,null,null,null,null,null,null,null,null,null,null,null,null,null,null,null,null,null,null,null,null,null,null,null,null,null,null,null,null,null,null,null,null,null,null,null,null,null,null,null,null,null,null,null,null,null,null,null,null,null,null,null,null,null,null,null,null,null,null,null,null,null,null,null,null,null,null,null,null,null,null,null,null,null,null,null,null,null,null,null,null,null,null,null,null,null,null,null,null,null,null,null,null,null,null,null,null,null,null,null,null,null,null,null,null,null,null,null,null,null,null,null,null,null,null,null,null,null,null,null,null,null,null,null,null,null,null,null,null,null,null,null,null,null,null,null,null,null,null,null,null,null,null,null,null,null,null,null,null,null,null,null,null,null,null,null,null,null,null,null,null,null,null,null,null,null,null,null,null,null,null,null,null,null,null,null,null,null,null,null,null,null,null,null,null,null,null,null,null,null,null,null,null,null,null,null,null,null,null,null,null,null,null,null,null,null,null,null,null,null,null,null,null,null,null,null,null,null,null,null,null,null,null,null,null,null,null,null,null,null,null,null,null,null,null,null,null,null,null,null,null,null,null,null,null,null,null,null,null,null,null,null,null,null,null,null,null,null,null,null,null,null,null,null,null,null,null,null,null,null,null,null,null,null,null,null,null,null,null,null,null,null,null,null,null,null,null,null,null,null,null,null,null,null,null,null,null,null,null,null,null,null,null,null,null,null,null,null,null,null,null,null,null,null,null,null,null,null,null,null,null,null,null,null,null,null,null,null,null,null,null,null,null,null,null,null,null,null,null,null,null,null,null,null,null,null,null,null,null,null,null,null,null,null,null,null,null,null,null,null,null,null,null,null,null,null,null,null,null,null,null,null,null,null,null,null,null,null,null,null,null,null,null,null,null,null,null,null,null,null,null,null,null,null,null,null,null,null,null,null,null,null,null,null,null,null,null,null,null,null,null,null,null,null,null,null,null,null,null,null,null,null,null,null,null,null,null,null,null,null,null,null,null,null,null,null,null,null,null,null,null,null,null,null,null,null,null,null,null,null,null,null,null,null,null,null,null,null,null,null,null,null,null,null,null,null,null,null,null,null,null,null,null,null,null,null,null,null,null,null,null,null,null,null,null,null,null,null,null,null,null,null,null,null,null,null,null,null,null,null,null,null,null,null,null,null,null,null,null,null,null,null,null,null,null,null,null,null,null,null,null,null,null,null,null,null,null,null,null,null,null,null,null,null,null,null,null,null,null,null,null,null,null,null,null,null,null,null,null,null,null,null,null,null,null,null,null,null,null,null,null,null,null,null,null,null,null,null,null,null,null,null,null,null,null,null,null,null,null,null,null,null,null,null,null,null,null,null,null,null,null,null,null,null,null,null,null,null,null,null,null,null,null,null,null,null,null,null,null,null,null,null,null,null,null,null,null,null,null,null,null,null,null,null,null,null,null,null,null,null,null,null,null,null,null,null,null,null,null,null,null,null,null,null,null,null,null,null,null,null,null,null,null,null,null,null,null,null,null,null,null,null,null,null,null,null,null,null,null,null,null,null,null,null,null,null,null,null,null,null,null,null,null,null,null,null,null,null,null,null,null,null,null,null,null,null,null,null,null,null,null,null,null,null,null,null,null,null,null,null,null,null,null,null,null,null,null,null,null,null,null,null,null,null,null,null,null,null,null,null,null,null,null,null,null,null,null,null,null,null,null,null,null,null,null,null,null,null,null,null,null,null,null,null,null,null,null,null,null,null,null,null,null,null,null,null,null,null,null,null,null,null,null,null,null,null,null,null,null,null,null,null,null,null,null,null,null,null,null,null,null,null,null,null,null,null,null,null,null,null,null,null,null,null,null,null,null,null,null,null,null,null,null,null,null,null,null,null,null,null,null,null,null,null,null,null,null,null,null,null,null,null,null,null,null,null,null,null,null,null,null,null,null,null,null,null,null,null,null,null,null,null,null,null,null,null,null,null,null,null,null,null,null,null,null,null,null,null,null,null,null,null,null,null,null,null,null,null,null,null,null,null,null,null,null,null,null,null,null,null,null,null,null,null,null,null,null,null,null,null,null,null,null,null,null,null,null,null,null,null,null,null,null,null,null,null,null,null,null,null,null,null,null,null,null,null,null,null,null,null,null,null,null,null,null,null,null,null,null,null,null,null,null,null,null,null,null,null,null,null,null,null,null,null,null,null,null,null,null,null,null,null,null,null,null,null,null,null,null,null,null,null,null,null,null,null,null,null,null,null,null,null,null,null,null,null,null,null,null,null,null,null,null,null,null,null,null,null,null,null,null,null,null,null,null,null,null,null,null,null,null,null,null,null,null,null,null,null,null,null,null,null,null,null,null,null,null,null,null,null,null,null,null,null,null,null,null,null,null,null,null,null,null,null,null,null,null,null,null,null,null,null,null,null,null,null,null,null,null,null,null,null,null,null,null,null,null,null,null,null,null,null,null,null,null,null,null,null,null,null,null,null,null,null,null,null,null,null,null,null,null,null,null,null,null,null,null,null,null,null,null,null,null,null,null,null,null,null,null,null,null,null,null,null,null,null,null,null,null,null,null,null,null,null,null,null,null,null,null,null,null,null,null,null,null,null,null,null,null,null,null,null,null,null,null,null,null,null,null,null,null,null,null,null,null,null,null,null,null,null,null,null,null,null,null,null,null,null,null,null,null,null,null,null,null,null,null,null,null,null,null,null,null,null,null,null,null,null,null,null,null,null,null,null,null,null,null,null,null,null,null,null,null,null,null,null,null,null,null,null,null,null,null,null,null,null,null,null,null,null,null,null,null,null,null,null,null,null,null,null,null,null,null,null,null,null,null,null,null,null,null,null,null,null,null,null,null,null,null,null,null,null,null,null,null,null,null,null,null,null,null,null,null,null,null,null,null,null,null,null,null,null,null,null,null,null,null,null,null,null,null,null,null,null,null,null,null,null,null,null,null,null,null,null,null,null,null,null,null,null,null,null,null,null,null,null,null,null,null,null,null,null,null,null,null,null,null,null,null,null,null,null,null,null,null,null,null,null,null,null,null,null,null,null,null,null,null,null,null,null,null,null,null,null,null,null,null,null,null,null,null,null,null,null,null,null,null,null,null,null,null,null,null,null,null,null,null,null,null,null,null,null,null,null,null,null,null,null,null,null,null,null,null,null,null,null,null,null,null,null,null,null,null,null,null,null,null,null,null,null,null,null,null,null,null,null,null,null,null,null,null,null,null,null,null,null,null,null,null,null,null,null,null,null,null,null,null,null,null,null,null,null,null,null,null,null,null,null,null,null,null,null,null,null,null,null,null,null,null,null,null,null,null,null,null,null,null,null,null,null,null,null,null,null,null,null,null,null,null,null,null,null,null,null,null,null,null,null,null,null,null,null,null,null,null,null,null,null,null,null,null,null,null,null,null,null,null,null,null,null,null,null,null,null,null,null,null,null,null,null,null,null,null,null,null,null,null,null,null,null,null,null,null,null,null,null,null,null,null,null,null,null,null,null,null,null,null,null,null,null,null,null,null,null,null,null,null,null,null,null,null,null,null,null,null,null,null,null,null,null,null,null,null,null,null,null,null,null,null,null,null,null,null,null,null,null,null,null,null,null,null,null,null,null,null,null,null,null,null,null,null,null,null,null,null,null,null,null,null,null,null,null,null,null,null,null,null,null,null,null,null,null,null,null,null,null,null,null,null,null,null,null,null,null,null,null,null,null,null,null,null,null,null,null,null,null,null,null,null,null,null,null,null,null,null,null,null,null,null,null,null,null,null,null,null,null,null,null,null,null,null,null,null,null,null,null,null,null,null,null,null,null,null,null,null,null,null,null,null,null,null,null,null,null,null,null,null,null,null,null,null,null,null,null,null,null,null,null,null,null,null,null,null,null,null,null,null,null,null,null,null,null,null,null,null,null,null,null,null,null,null,null,null,null,null,null,null,null,null,null,null,null,null,null,null,null,null,null,null,null,null,null,null,null,null,null,null,null,null,null,null,null,null,null,null,null,null,null,null,null,null,null,null,null,null,null,null,null,null,null,null,null,null,null,null,null,null,null,null,null,null,null,null,null,null,null,null,null,null,null,null,null,null,null,null,null,null,null,null,null,null,null,null,null,null,null,null,null,null,null,null,null,null,null,null,null,null,null,null,null,null,null,null,null,null,null,null,null,null,null,null,null,null,null,null,null,null,null,null,null,null,null,null,null,null,null,null,null,null,null,null,null,null,null,null,null,null,null,null,null,null,null,null,null,null,null,null,null,null,null,null,null,null,null,null,null,null,null,null,null,null,null,null,null,null,null,null,null,null,null,null,null,null,null,null,null,null,null,null,null,null,null,null,null,null,null,null,null,null,null,null,null,null,null,null,null,null,null,null,null,null,null,null,null,null,null,null,null,null,null,null,null,null,null,null,null,null,null,null,null,null,null,null,null,null,null,null,null,null,null,null,null,null,null,null,null,null,null,null,null,null,null,null,null,null,null,null,null,null,null,null,null,null,null,null,null,null,null,null,null,null,null,null,null,null,null,null,null,null,null,null,null,null,null,null,null,null,null,null,null,null,null,null,null,null,null,null,null,null,null,null,null,null,null,null,null,null,null,null,null,null,null,null,null,null,null,null,null,null,null,null,null,null,null,null,null,null,null,null,null,null,null,null,null,null,null,null,null,null,null,null,null,null,null,null,null,null,null,null,null,null,null,null,null,null,null,null,null,null,null,null,null,null,null,null,null,null,null,null,null,null,null,null,null,null,null,null,null,null,null,null,null,null,null,null,null,null,null,null,null,null,null,null,null,null,null,null,null,null,null,null,null,null,null,null,null,null,null,null,null,null,null,null,null,null,null,null,null,null,null,null,null,null,null,null,null,null,null,null,null,null,null,null,null,null,null,null,null,null,null,null,null,null,null,null,null,null,null,null,null,null,null,null,null,null,null,null,null,null,null,null,null,null,null,null,null,null,null,null,null,null,null,null,null,null,null,null,null,null,null,null,null,null,null,null,null,null,null,null,null,null,null,null,null,null,null,null,null,null,null,null,null,null,null,null,null,null,null,null,null,null,null,null,null,null,null,null,null,null,null,null,null,null,null,null,null,null,null,null,null,null,null,null,null,null,null,null,null,null,null,null,null,null,null,null,null,null,null,null,null,null,null,null,null,null,null,null,null,null,null,null,null,null,null,null,null,null,null,null,null,null,null,null,null,null,null,null,null,null,null,null,null,null,null,null,null,null,null,null,null,null,null,null,null,null,null,null,null,null,null,null,null,null,null,null,null,null,null,null,null,null,null,null,null,null,null,null,null,null,null,null,null,null,null,null,null,null,null,null,null,null,null,null,null,null,null,null,null,null,null,null,null,null,null,null,null,null,null,null,null,null,null,null,null,null,null,null,null,null,null,null,null,null,null,null,null,null,null,null,null,null,null,null,null,null,null,null,null,null,null,null,null,null,null,null,null,null,null,null,null,null,null,null,null,null,null,null,null,null,null,null,null,null,null,null,null,null,null,null,null,null,null,null,null,null,null,null,null,null,null,null,null,null,null,null,null,null,null,null,null,null,null,null,null,null,null,null,null,null,null,null,null,null,null,null,null,null,null,null,null,null,null,null,null,null,null,null,null,null,null,null,null,null,null,null,null,null,null,null,null,null,null,null,null,null,null,null,null,null,null,null,null,null,null,null,null,null,null,null,null,null,null,null,null,null,null,null,null,null,null,null,null,null,null,null,null,null,null,null,null,null,null,null,null,null,null,null,null,null,null,null,null,null,null,null,null,null,null,null,null,null,null,null,null,null,null,null,null,null,null,null,null,null,null,null,null,null,null,null,null,null,null,null,null,null,null,null,null,null,null,null,null,null,null,null,null,null,null,null,null,null,null,null,null,null,null,null,null,null,null,null,null,null,null,null,null,null,null,null,null,null,null,null,null,null,null,null,null,null,null,null,null,null,null,null,null,null,null,null,null,null,null,null,null,null,null,null,null,null,null,null,null,null,null,null,null,null,null,null,null,null,null,null,null,null,null,null,null,null,null,null,null,null,null,null,null,null,null,null,null,null,null,null,null,null,null,null,null,null,null,null,null,null,null,null,null,null,null,null,null,null,null,null,null,null,null,null,null,null,null,null,null,null,null,null,null,null,null,null,null,null,null,null,null,null,null,null,null,null,null,null,null,null,null,null,null,null,null,null,null,null,null,null,null,null,null,null,null,null,null,null,null,null,null,null,null,null,null,null,null,null,null,null,null,null,null,null,null,null,null,null,null,null,null,null,null,null,null,null,null,null,null,null,null,null,null,null,null,null,null,null,null,null,null,null,null,null,null,null,null,null,null,null,null,null,null,null,null,null,null,null,null,null,null,null,null,null,null,null,null,null,null,null,null,null,null,null,null,null,null,null,null,null,null,null,null,null,null,null,null,null,null,null,null,null,null,null,null,null,null,null,null,null,null,null,null,null,null,null,null,null,null,null,null,null,null,null,null,null,null,null,null,null,null,null,null,null,null,null,null,null,null,null,null,null,null,null,null,null,null,null,null,null,null,null,null,null,null,null,null,null,null,null,null,null,null,null,null,null,null,null,null,null,null,null,null,null,null,null,null,null,null,null,null,null,null,null,null,null,null,null,null,null,null,null,null,null,null,null,null,null,null,null,null,null,null,null,null,null,null,null,null,null,null,null,null,null,null,null,null,null,null,null,null,null,null,null,null,null,null,null,null,null,null,null,null,null,null,null,null,null,null,null,null,null,null,null,null,null,null,null,null,null,null,null,null,null,null,null,null,null,null,null,null,null,null,null,null,null,null,null,null,null,null,null,null,null,null,null,null,null,null,null,null,null,null,null,null,null,null,null,null,null,null,null,null,null,null,null,null,null,null,null,null,null,null,null,null,null,null,null,null,null,null,null,null,null,null,null,null,null,null,null,null,null,null,null,null,null,null,null,null,null,null,null,null,null,null,null,null,null,null,null,null,null,null,null,null,null,null,null,null,null,null,null,null,null,null,null,null,null,null,null,null,null,null,null,null,null,null,null,null,null,null,null,null,null,null,null,null,null,null,null,null,null,null,null,null,null,null,null,null,null,null,null,null,null,null,null,null,null,null,null,null,null,null,null,null,null,null,null,null,null,null,null,null,null,null,null,null,null,null,null,null,null,null,null,null,null,null,null,null,null,null,null,null,null,null,null,null,null,null,null,null,null,null,null,null,null,null,null,null,null,null,null,null,null,null,null,null,null,null,null,null,null,null,null,null,null,null,null,null,null,null,null,null,null,null,null,null,null,null,null,null,null,null,null,null,null,null,null,null,null,null,null,null,null,null,null,null,null,null,null,null,null,null,null,null,null,null,null,null,null,null,null,null,null,null,null,null,null,null,null,null,null,null,null,null,null,null,null,null,null,null,null,null,null,null,null,null,null,null,null,null,null,null,null,null,null,null,null,null,null,null,null,null,null,null,null,null,null,null,null,null,null,null,null,null,null,null,null,null,null,null,null,null,null,null,null,null,null,null,null,null,null,null,null,null,null,null,null,null,null,null,null,null,null,null,null,null,null,null,null,null,null,null,null,null,null,null,null,null,null,null,null,null,null,null,null,null,null,null,null,null,null,null,null,null,null,null,null,null,null,null,null,null,null,null,null,null,null,null,null,null,null,null,null,null,null,null,null,null,null,null,null,null,null,null,null,null,null,null,null,null,null,null,null,null,null,null,null,null,null,null,null,null,null,null,null,null,null,null,null,null,null,null,null,null,null,null,null,null,null,null,null,null,null,null,null,null,null,null,null,null,null,null,null,null,null,null,null,null,null,null,null,null,null,null,null,null,null,null,null,null,null,null,null,null,null,null,null,null,null,null,null,null,null,null,null,null,null,null,null,null,null,null,null,null,null,null,null,null,null,null,null,null,null,null,null,null,null,null,null,null,null,null,null,null,null,null,null,null,null,null,null,null,null,null,null,null,null,null,null,null,null,null,null,null,null,null,null,null,null,null,null,null,null,null,null,null,null,null,null,null,null,null,null,null,null,null,null,null,null,null,null,null,null,null,null,null,null,null,null,null,null,null,null,null,null,null,null,null,null,null,null,null,null,null,null,null,null,null,null,null,null,null,null,null,null,null,null,null,null,null,null,null,null,null,null,null,null,null,null,null,null,null,null,null,null,null,null,null,null,null,null,null,null,null,null,null,null,null,null,null,null,null,null,null,null,null,null,null,null,null,null,null,null,null,null,null,null,null,null,null,null,null,null,null,null,null,null,null,null,null,null,null,null,null,null,null,null,null,null,null,null,null,null,null,null,null,null,null,null,null,null,null,null,null,null,null,null,null,null,null,null,null,null,null,null,null,null,null,null,null,null,null,null,null,null,null,null,null,null,null,null,null,null,null,null,null,null,null,null,null,null,null,null,null,null,null,null,null,null,null,null,null,null,null,null,null,null,null,null,null,null,null,null,null,null,null,null,null,null,null,null,null,null,null,null,null,null,null,null,null,null,null,null,null,null,null,null,null,null,null,null,null,null,null,null,null,null,null,null,null,null,null,null,null,null,null,null,null,null,null,null,null,null,null,null,null,null,null,null,null,null,null,null,null,null,null,null,null,null,null,null,null,null,null,null,null,null,null,null,null,null,null,null,null,null,null,null,null,null,null,null,null,null,null,null,null,null,null,null,null,null,null,null,null,null,null,null,null,null,null,null,null,null,null,null,null,null,null,null,null,null,null,null,null,null,null,null,null,null,null,null,null,null,null,null,null,null,null,null,null,null,null,null,null,null,null,null,null,null,null,null,null,null,null,null,null,null,null,null,null,null,null,null,null,null,null,null,null,null,null,null,null,null,null,null,null,null,null,null,null,null,null,null,null,null,null,null,null,null,null,null,null,null,null,null,null,null,null,null,null,null,null,null,null,null,null,null,null,null,null,null,null,null,null,null,null,null,null,null,null,null,null,null,null,null,null,null,null,null,null,null,null,null,null,null,null,null,null,null,null,null,null,null,null,null,null,null,null,null,null,null,null,null,null,null,null,null,null,null,null,null,null,null,null,null,null,null,null,null,null,null,null,null,null,null,null,null,null,null,null,null,null,null,null,null,null,null,null,null,null,null,null,null,null,null,null,null,null,null,null,null,null,null,null,null,null,null,null,null,null,null,null,null,null,null,null,null,null,null,null,null,null,null,null,null,null,null,null,null,null,null,null,null,null,null,null,null,null,null,null,null,null,null,null,null,null,null,null,null,null,null,null,null,null,null,null,null,null,null,null,null,null,null,null,null,null,null,null,null,null,null,null,null,null,null,null,null,null,null,null,null,null,null,null,null,null,null,null,null,null,null,null,null,null,null,null,null,null,null,null,null,null,null,null,null,null,null,null,null,null,null,null,null,null,null,null,null,null,null,null,null,null,null,null,null,null,null,null,null,null,null,null,null,null,null,null,null,null,null,null,null,null,null,null,null,null,null,null,null,null,null,null,null,null,null,null,null,null,null,null,null,null,null,null,null,null,null,null,null,null,null,null,null,null,null,null,null,null,null,null,null,null,null,null,null,null,null,null,null,null,null,null,null,null,null,null,null,null,null,null,null,null,null,null,null,null,null,null,null,null,null,null,null,null,null,null,null,null,null,null,null,null,null,null,null,null,null,null,null,null,null,null,null,null,null,null,null,null,null,null,null,null,null,null,null,null,null,null,null,null,null,null,null,null,null,null,null,null,null,null,null,null,null,null,null,null,null,null,null,null,null,null,null,null,null,null,null,null,null,null,null,null,null,null,null,null,null,null,null,null,null,null,null,null,null,null,null,null,null,null,null,null,null,null,null,null,null,null,null,null,null,null,null,null,null,null,null,null,null,null,null,null,null,null,null,null,null,null,null,null,null,null,null,null,null,null,null,null,null,null,null,null,null,null,null,null,null,null,null,null,null,null,null,null,null,null,null,null,null,null,null,null,null,null,null,null,null,null,null,null,null,null,null,null,null,null,null,null,null,null,null,null,null,null,null,null,null,null,null,null,null,null,null,null,null,null,null,null,null,null,null,null,null,null,null,null,null,null,null,null,null,null,null,null,null,null,null,null,null,null,null,null,null,null,null,null,null,null,null,null,null,null,null,null,null,null,null,null,null,null,null,null,null,null,null,null,null,null,null,null,null,null,null,null,null,null,null,null,null,null,null,null,null,null,null,null,null,null,null,null,null,null,null,null,null,null,null,null,null,null,null,null,null,null,null,null,null,null,null,null,null,null,null,null,null,null,null,null,null,null,null,null,null,null,null,null,"Conclusion Drop Downs"]
[null,"DOCUMENT NAME","ASC 842 - Leases - Template",null,"WP References",null,null,null,null,null,null,null,null,null,null,null,null,null,null,null,null,null,null,null,null,null,null,null,null,null,null,null,null,null,null,null,null,null,null,null,null,null,null,null,null,null,null,null,null,null,null,null,null,null,null,null,null,null,null,null,null,null,null,null,null,null,null,null,null,null,null,null,null,null,null,null,null,null,null,null,null,null,null,null,null,null,null,null,null,null,null,null,null,null,null,null,null,null,null,null,null,null,null,null,null,null,null,null,null,null,null,null,null,null,null,null,null,null,null,null,null,null,null,null,null,null,null,null,null,null,null,null,null,null,null,null,null,null,null,null,null,null,null,null,null,null,null,null,null,null,null,null,null,null,null,null,null,null,null,null,null,null,null,null,null,null,null,null,null,null,null,null,null,null,null,null,null,null,null,null,null,null,null,null,null,null,null,null,null,null,null,null,null,null,null,null,null,null,null,null,null,null,null,null,null,null,null,null,null,null,null,null,null,null,null,null,null,null,null,null,null,null,null,null,null,null,null,null,null,null,null,null,null,null,null,null,null,null,null,null,null,null,null,null,null,null,null,null,null,null,null,null,null,null,null,null,null,null,null,null,null,null,null,null,null,null,null,null,null,null,null,null,null,null,null,null,null,null,null,null,null,null,null,null,null,null,null,null,null,null,null,null,null,null,null,null,null,null,null,null,null,null,null,null,null,null,null,null,null,null,null,null,null,null,null,null,null,null,null,null,null,null,null,null,null,null,null,null,null,null,null,null,null,null,null,null,null,null,null,null,null,null,null,null,null,null,null,null,null,null,null,null,null,null,null,null,null,null,null,null,null,null,null,null,null,null,null,null,null,null,null,null,null,null,null,null,null,null,null,null,null,null,null,null,null,null,null,null,null,null,null,null,null,null,null,null,null,null,null,null,null,null,null,null,null,null,null,null,null,null,null,null,null,null,null,null,null,null,null,null,null,null,null,null,null,null,null,null,null,null,null,null,null,null,null,null,null,null,null,null,null,null,null,null,null,null,null,null,null,null,null,null,null,null,null,null,null,null,null,null,null,null,null,null,null,null,null,null,null,null,null,null,null,null,null,null,null,null,null,null,null,null,null,null,null,null,null,null,null,null,null,null,null,null,null,null,null,null,null,null,null,null,null,null,null,null,null,null,null,null,null,null,null,null,null,null,null,null,null,null,null,null,null,null,null,null,null,null,null,null,null,null,null,null,null,null,null,null,null,null,null,null,null,null,null,null,null,null,null,null,null,null,null,null,null,null,null,null,null,null,null,null,null,null,null,null,null,null,null,null,null,null,null,null,null,null,null,null,null,null,null,null,null,null,null,null,null,null,null,null,null,null,null,null,null,null,null,null,null,null,null,null,null,null,null,null,null,null,null,null,null,null,null,null,null,null,null,null,null,null,null,null,null,null,null,null,null,null,null,null,null,null,null,null,null,null,null,null,null,null,null,null,null,null,null,null,null,null,null,null,null,null,null,null,null,null,null,null,null,null,null,null,null,null,null,null,null,null,null,null,null,null,null,null,null,null,null,null,null,null,null,null,null,null,null,null,null,null,null,null,null,null,null,null,null,null,null,null,null,null,null,null,null,null,null,null,null,null,null,null,null,null,null,null,null,null,null,null,null,null,null,null,null,null,null,null,null,null,null,null,null,null,null,null,null,null,null,null,null,null,null,null,null,null,null,null,null,null,null,null,null,null,null,null,null,null,null,null,null,null,null,null,null,null,null,null,null,null,null,null,null,null,null,null,null,null,null,null,null,null,null,null,null,null,null,null,null,null,null,null,null,null,null,null,null,null,null,null,null,null,null,null,null,null,null,null,null,null,null,null,null,null,null,null,null,null,null,null,null,null,null,null,null,null,null,null,null,null,null,null,null,null,null,null,null,null,null,null,null,null,null,null,null,null,null,null,null,null,null,null,null,null,null,null,null,null,null,null,null,null,null,null,null,null,null,null,null,null,null,null,null,null,null,null,null,null,null,null,null,null,null,null,null,null,null,null,null,null,null,null,null,null,null,null,null,null,null,null,null,null,null,null,null,null,null,null,null,null,null,null,null,null,null,null,null,null,null,null,null,null,null,null,null,null,null,null,null,null,null,null,null,null,null,null,null,null,null,null,null,null,null,null,null,null,null,null,null,null,null,null,null,null,null,null,null,null,null,null,null,null,null,null,null,null,null,null,null,null,null,null,null,null,null,null,null,null,null,null,null,null,null,null,null,null,null,null,null,null,null,null,null,null,null,null,null,null,null,null,null,null,null,null,null,null,null,null,null,null,null,null,null,null,null,null,null,null,null,null,null,null,null,null,null,null,null,null,null,null,null,null,null,null,null,null,null,null,null,null,null,null,null,null,null,null,null,null,null,null,null,null,null,null,null,null,null,null,null,null,null,null,null,null,null,null,null,null,null,null,null,null,null,null,null,null,null,null,null,null,null,null,null,null,null,null,null,null,null,null,null,null,null,null,null,null,null,null,null,null,null,null,null,null,null,null,null,null,null,null,null,null,null,null,null,null,null,null,null,null,null,null,null,null,null,null,null,null,null,null,null,null,null,null,null,null,null,null,null,null,null,null,null,null,null,null,null,null,null,null,null,null,null,null,null,null,null,null,null,null,null,null,null,null,null,null,null,null,null,null,null,null,null,null,null,null,null,null,null,null,null,null,null,null,null,null,null,null,null,null,null,null,null,null,null,null,null,null,null,null,null,null,null,null,null,null,null,null,null,null,null,null,null,null,null,null,null,null,null,null,null,null,null,null,null,null,null,null,null,null,null,null,null,null,null,null,null,null,null,null,null,null,null,null,null,null,null,null,null,null,null,null,null,null,null,null,null,null,null,null,null,null,null,null,null,null,null,null,null,null,null,null,null,null,null,null,null,null,null,null,null,null,null,null,null,null,null,null,null,null,null,null,null,null,null,null,null,null,null,null,null,null,null,null,null,null,null,null,null,null,null,null,null,null,null,null,null,null,null,null,null,null,null,null,null,null,null,null,null,null,null,null,null,null,null,null,null,null,null,null,null,null,null,null,null,null,null,null,null,null,null,null,null,null,null,null,null,null,null,null,null,null,null,null,null,null,null,null,null,null,null,null,null,null,null,null,null,null,null,null,null,null,null,null,null,null,null,null,null,null,null,null,null,null,null,null,null,null,null,null,null,null,null,null,null,null,null,null,null,null,null,null,null,null,null,null,null,null,null,null,null,null,null,null,null,null,null,null,null,null,null,null,null,null,null,null,null,null,null,null,null,null,null,null,null,null,null,null,null,null,null,null,null,null,null,null,null,null,null,null,null,null,null,null,null,null,null,null,null,null,null,null,null,null,null,null,null,null,null,null,null,null,null,null,null,null,null,null,null,null,null,null,null,null,null,null,null,null,null,null,null,null,null,null,null,null,null,null,null,null,null,null,null,null,null,null,null,null,null,null,null,null,null,null,null,null,null,null,null,null,null,null,null,null,null,null,null,null,null,null,null,null,null,null,null,null,null,null,null,null,null,null,null,null,null,null,null,null,null,null,null,null,null,null,null,null,null,null,null,null,null,null,null,null,null,null,null,null,null,null,null,null,null,null,null,null,null,null,null,null,null,null,null,null,null,null,null,null,null,null,null,null,null,null,null,null,null,null,null,null,null,null,null,null,null,null,null,null,null,null,null,null,null,null,null,null,null,null,null,null,null,null,null,null,null,null,null,null,null,null,null,null,null,null,null,null,null,null,null,null,null,null,null,null,null,null,null,null,null,null,null,null,null,null,null,null,null,null,null,null,null,null,null,null,null,null,null,null,null,null,null,null,null,null,null,null,null,null,null,null,null,null,null,null,null,null,null,null,null,null,null,null,null,null,null,null,null,null,null,null,null,null,null,null,null,null,null,null,null,null,null,null,null,null,null,null,null,null,null,null,null,null,null,null,null,null,null,null,null,null,null,null,null,null,null,null,null,null,null,null,null,null,null,null,null,null,null,null,null,null,null,null,null,null,null,null,null,null,null,null,null,null,null,null,null,null,null,null,null,null,null,null,null,null,null,null,null,null,null,null,null,null,null,null,null,null,null,null,null,null,null,null,null,null,null,null,null,null,null,null,null,null,null,null,null,null,null,null,null,null,null,null,null,null,null,null,null,null,null,null,null,null,null,null,null,null,null,null,null,null,null,null,null,null,null,null,null,null,null,null,null,null,null,null,null,null,null,null,null,null,null,null,null,null,null,null,null,null,null,null,null,null,null,null,null,null,null,null,null,null,null,null,null,null,null,null,null,null,null,null,null,null,null,null,null,null,null,null,null,null,null,null,null,null,null,null,null,null,null,null,null,null,null,null,null,null,null,null,null,null,null,null,null,null,null,null,null,null,null,null,null,null,null,null,null,null,null,null,null,null,null,null,null,null,null,null,null,null,null,null,null,null,null,null,null,null,null,null,null,null,null,null,null,null,null,null,null,null,null,null,null,null,null,null,null,null,null,null,null,null,null,null,null,null,null,null,null,null,null,null,null,null,null,null,null,null,null,null,null,null,null,null,null,null,null,null,null,null,null,null,null,null,null,null,null,null,null,null,null,null,null,null,null,null,null,null,null,null,null,null,null,null,null,null,null,null,null,null,null,null,null,null,null,null,null,null,null,null,null,null,null,null,null,null,null,null,null,null,null,null,null,null,null,null,null,null,null,null,null,null,null,null,null,null,null,null,null,null,null,null,null,null,null,null,null,null,null,null,null,null,null,null,null,null,null,null,null,null,null,null,null,null,null,null,null,null,null,null,null,null,null,null,null,null,null,null,null,null,null,null,null,null,null,null,null,null,null,null,null,null,null,null,null,null,null,null,null,null,null,null,null,null,null,null,null,null,null,null,null,null,null,null,null,null,null,null,null,null,null,null,null,null,null,null,null,null,null,null,null,null,null,null,null,null,null,null,null,null,null,null,null,null,null,null,null,null,null,null,null,null,null,null,null,null,null,null,null,null,null,null,null,null,null,null,null,null,null,null,null,null,null,null,null,null,null,null,null,null,null,null,null,null,null,null,null,null,null,null,null,null,null,null,null,null,null,null,null,null,null,null,null,null,null,null,null,null,null,null,null,null,null,null,null,null,null,null,null,null,null,null,null,null,null,null,null,null,null,null,null,null,null,null,null,null,null,null,null,null,null,null,null,null,null,null,null,null,null,null,null,null,null,null,null,null,null,null,null,null,null,null,null,null,null,null,null,null,null,null,null,null,null,null,null,null,null,null,null,null,null,null,null,null,null,null,null,null,null,null,null,null,null,null,null,null,null,null,null,null,null,null,null,null,null,null,null,null,null,null,null,null,null,null,null,null,null,null,null,null,null,null,null,null,null,null,null,null,null,null,null,null,null,null,null,null,null,null,null,null,null,null,null,null,null,null,null,null,null,null,null,null,null,null,null,null,null,null,null,null,null,null,null,null,null,null,null,null,null,null,null,null,null,null,null,null,null,null,null,null,null,null,null,null,null,null,null,null,null,null,null,null,null,null,null,null,null,null,null,null,null,null,null,null,null,null,null,null,null,null,null,null,null,null,null,null,null,null,null,null,null,null,null,null,null,null,null,null,null,null,null,null,null,null,null,null,null,null,null,null,null,null,null,null,null,null,null,null,null,null,null,null,null,null,null,null,null,null,null,null,null,null,null,null,null,null,null,null,null,null,null,null,null,null,null,null,null,null,null,null,null,null,null,null,null,null,null,null,null,null,null,null,null,null,null,null,null,null,null,null,null,null,null,null,null,null,null,null,null,null,null,null,null,null,null,null,null,null,null,null,null,null,null,null,null,null,null,null,null,null,null,null,null,null,null,null,null,null,null,null,null,null,null,null,null,null,null,null,null,null,null,null,null,null,null,null,null,null,null,null,null,null,null,null,null,null,null,null,null,null,null,null,null,null,null,null,null,null,null,null,null,null,null,null,null,null,null,null,null,null,null,null,null,null,null,null,null,null,null,null,null,null,null,null,null,null,null,null,null,null,null,null,null,null,null,null,null,null,null,null,null,null,null,null,null,null,null,null,null,null,null,null,null,null,null,null,null,null,null,null,null,null,null,null,null,null,null,null,null,null,null,null,null,null,null,null,null,null,null,null,null,null,null,null,null,null,null,null,null,null,null,null,null,null,null,null,null,null,null,null,null,null,null,null,null,null,null,null,null,null,null,null,null,null,null,null,null,null,null,null,null,null,null,null,null,null,null,null,null,null,null,null,null,null,null,null,null,null,null,null,null,null,null,null,null,null,null,null,null,null,null,null,null,null,null,null,null,null,null,null,null,null,null,null,null,null,null,null,null,null,null,null,null,null,null,null,null,null,null,null,null,null,null,null,null,null,null,null,null,null,null,null,null,null,null,null,null,null,null,null,null,null,null,null,null,null,null,null,null,null,null,null,null,null,null,null,null,null,null,null,null,null,null,null,null,null,null,null,null,null,null,null,null,null,null,null,null,null,null,null,null,null,null,null,null,null,null,null,null,null,null,null,null,null,null,null,null,null,null,null,null,null,null,null,null,null,null,null,null,null,null,null,null,null,null,null,null,null,null,null,null,null,null,null,null,null,null,null,null,null,null,null,null,null,null,null,null,null,null,null,null,null,null,null,null,null,null,null,null,null,null,null,null,null,null,null,null,null,null,null,null,null,null,null,null,null,null,null,null,null,null,null,null,null,null,null,null,null,null,null,null,null,null,null,null,null,null,null,null,null,null,null,null,null,null,null,null,null,null,null,null,null,null,null,null,null,null,null,null,null,null,null,null,null,null,null,null,null,null,null,null,null,null,null,null,null,null,null,null,null,null,null,null,null,null,null,null,null,null,null,null,null,null,null,null,null,null,null,null,null,null,null,null,null,null,null,null,null,null,null,null,null,null,null,null,null,null,null,null,null,null,null,null,null,null,null,null,null,null,null,null,null,null,null,null,null,null,null,null,null,null,null,null,null,null,null,null,null,null,null,null,null,null,null,null,null,null,null,null,null,null,null,null,null,null,null,null,null,null,null,null,null,null,null,null,null,null,null,null,null,null,null,null,null,null,null,null,null,null,null,null,null,null,null,null,null,null,null,null,null,null,null,null,null,null,null,null,null,null,null,null,null,null,null,null,null,null,null,null,null,null,null,null,null,null,null,null,null,null,null,null,null,null,null,null,null,null,null,null,null,null,null,null,null,null,null,null,null,null,null,null,null,null,null,null,null,null,null,null,null,null,null,null,null,null,null,null,null,null,null,null,null,null,null,null,null,null,null,null,null,null,null,null,null,null,null,null,null,null,null,null,null,null,null,null,null,null,null,null,null,null,null,null,null,null,null,null,null,null,null,null,null,null,null,null,null,null,null,null,null,null,null,null,null,null,null,null,null,null,null,null,null,null,null,null,null,null,null,null,null,null,null,null,null,null,null,null,null,null,null,null,null,null,null,null,null,null,null,null,null,null,null,null,null,null,null,null,null,null,null,null,null,null,null,null,null,null,null,null,null,null,null,null,null,null,null,null,null,null,null,null,null,null,null,null,null,null,null,null,null,null,null,null,null,null,null,null,null,null,null,null,null,null,null,null,null,null,null,null,null,null,null,null,null,null,null,null,null,null,null,null,null,null,null,null,null,null,null,null,null,null,null,null,null,null,null,null,null,null,null,null,null,null,null,null,null,null,null,null,null,null,null,null,null,null,null,null,null,null,null,null,null,null,null,null,null,null,null,null,null,null,null,null,null,null,null,null,null,null,null,null,null,null,null,null,null,null,null,null,null,null,null,null,null,null,null,null,null,null,null,null,null,null,null,null,null,null,null,null,null,null,null,null,null,null,null,null,null,null,null,null,null,null,null,null,null,null,null,null,null,null,null,null,null,null,null,null,null,null,null,null,null,null,null,null,null,null,null,null,null,null,null,null,null,null,null,null,null,null,null,null,null,null,null,null,null,null,null,null,null,null,null,null,null,null,null,null,null,null,null,null,null,null,null,null,null,null,null,null,null,null,null,null,null,null,null,null,null,null,null,null,null,null,null,null,null,null,null,null,null,null,null,null,null,null,null,null,null,null,null,null,null,null,null,null,null,null,null,null,null,null,null,null,null,null,null,null,null,null,null,null,null,null,null,null,null,null,null,null,null,null,null,null,null,null,null,null,null,null,null,null,null,null,null,null,null,null,null,null,null,null,null,null,null,null,null,null,null,null,null,null,null,null,null,null,null,null,null,null,null,null,null,null,null,null,null,null,null,null,null,null,null,null,null,null,null,null,null,null,null,null,null,null,null,null,null,null,null,null,null,null,null,null,null,null,null,null,null,null,null,null,null,null,null,null,null,null,null,null,null,null,null,null,null,null,null,null,null,null,null,null,null,null,null,null,null,null,null,null,null,null,null,null,null,null,null,null,null,null,null,null,null,null,null,null,null,null,null,null,null,null,null,null,null,null,null,null,null,null,null,null,null,null,null,null,null,null,null,null,null,null,null,null,null,null,null,null,null,null,null,null,null,null,null,null,null,null,null,null,null,null,null,null,null,null,null,null,null,null,null,null,null,null,null,null,null,null,null,null,null,null,null,null,null,null,null,null,null,null,null,null,null,null,null,null,null,null,null,null,null,null,null,null,null,null,null,null,null,null,null,null,null,null,null,null,null,null,null,null,null,null,null,null,null,null,null,null,null,null,null,null,null,null,null,null,null,null,null,null,null,null,null,null,null,null,null,null,null,null,null,null,null,null,null,null,null,null,null,null,null,null,null,null,null,null,null,null,null,null,null,null,null,null,null,null,null,null,null,null,null,null,null,null,null,null,null,null,null,null,null,null,null,null,null,null,null,null,null,null,null,null,null,null,null,null,null,null,null,null,null,null,null,null,null,null,null,null,null,null,null,null,null,null,null,null,null,null,null,null,null,null,null,null,null,null,null,null,null,null,null,null,null,null,null,null,null,null,null,null,null,null,null,null,null,null,null,null,null,null,null,null,null,null,null,null,null,null,null,null,null,null,null,null,null,null,null,null,null,null,null,null,null,null,null,null,null,null,null,null,null,null,null,null,null,null,null,null,null,null,null,null,null,null,null,null,null,null,null,null,null,null,null,null,null,null,null,null,null,null,null,null,null,null,null,null,null,null,null,null,null,null,null,null,null,null,null,null,null,null,null,null,null,null,null,null,null,null,null,null,null,null,null,null,null,null,null,null,null,null,null,null,null,null,null,null,null,null,null,null,null,null,null,null,null,null,null,null,null,null,null,null,null,null,null,null,null,null,null,null,null,null,null,null,null,null,null,null,null,null,null,null,null,null,null,null,null,null,null,null,null,null,null,null,null,null,null,null,null,null,null,null,null,null,null,null,null,null,null,null,null,null,null,null,null,null,null,null,null,null,null,null,null,null,null,null,null,null,null,null,null,null,null,null,null,null,null,null,null,null,null,null,null,null,null,null,null,null,null,null,null,null,null,null,null,null,null,null,null,null,null,null,null,null,null,null,null,null,null,null,null,null,null,null,null,null,null,null,null,null,null,null,null,null,null,null,null,null,null,null,null,null,null,null,null,null,null,null,null,null,null,null,null,null,null,null,null,null,null,null,null,null,null,null,null,null,null,null,null,null,null,null,null,null,null,null,null,null,null,null,null,null,null,null,null,null,null,null,null,null,null,null,null,null,null,null,null,null,null,null,null,null,null,null,null,null,null,null,null,null,null,null,null,null,null,null,null,null,null,null,null,null,null,null,null,null,null,null,null,null,null,null,null,null,null,null,null,null,null,null,null,null,null,null,null,null,null,null,null,null,null,null,null,null,null,null,null,null,null,null,null,null,null,null,null,null,null,null,null,null,null,null,null,null,null,null,null,null,null,null,null,null,null,null,null,null,null,null,null,null,null,null,null,null,null,null,null,null,null,null,null,null,null,null,null,null,null,null,null,null,null,null,null,null,null,null,null,null,null,null,null,null,null,null,null,null,null,null,null,null,null,null,null,null,null,null,null,null,null,null,null,null,null,null,null,null,null,null,null,null,null,null,null,null,null,null,null,null,null,null,null,null,null,null,null,null,null,null,null,null,null,null,null,null,null,null,null,null,null,null,null,null,null,null,null,null,null,null,null,null,null,null,null,null,null,null,null,null,null,null,null,null,null,null,null,null,null,null,null,null,null,null,null,null,null,null,null,null,null,null,null,null,null,null,null,null,null,null,null,null,null,null,null,null,null,null,null,null,null,null,null,null,null,null,null,null,null,null,null,null,null,null,null,null,null,null,null,null,null,null,null,null,null,null,null,null,null,null,null,null,null,null,null,null,null,null,null,null,null,null,null,null,null,null,null,null,null,null,null,null,null,null,null,null,null,null,null,null,null,null,null,null,null,null,null,null,null,null,null,null,null,null,null,null,null,null,null,null,null,null,null,null,null,null,null,null,null,null,null,null,null,null,null,null,null,null,null,null,null,null,null,null,null,null,null,null,null,null,null,null,null,null,null,null,null,null,null,null,null,null,null,null,null,null,null,null,null,null,null,null,null,null,null,null,null,null,null,null,null,null,null,null,null,null,null,null,null,null,null,null,null,null,null,null,null,null,null,null,null,null,null,null,null,null,null,null,null,null,null,null,null,null,null,null,null,null,null,null,null,null,null,null,null,null,null,null,null,null,null,null,null,null,null,null,null,null,null,null,null,null,null,null,null,null,null,null,null,null,null,null,null,null,null,null,null,null,null,null,null,null,null,null,null,null,null,null,null,null,null,null,null,null,null,null,null,null,null,null,null,null,null,null,null,null,null,null,null,null,null,null,null,null,null,null,null,null,null,null,null,null,null,null,null,null,null,null,null,null,null,null,null,null,null,null,null,null,null,null,null,null,null,null,null,null,null,null,null,null,null,null,null,null,null,null,null,null,null,null,null,null,null,null,null,null,null,null,null,null,null,null,null,null,null,null,null,null,null,null,null,null,null,null,null,null,null,null,null,null,null,null,null,null,null,null,null,null,null,null,null,null,null,null,null,null,null,null,null,null,null,null,null,null,null,null,null,null,null,null,null,null,null,null,null,null,null,null,null,null,null,null,null,null,null,null,null,null,null,null,null,null,null,null,null,null,null,null,null,null,null,null,null,null,null,null,null,null,null,null,null,null,null,null,null,null,null,null,null,null,null,null,null,null,null,null,null,null,null,null,null,null,null,null,null,null,null,null,null,null,null,null,null,null,null,null,null,null,null,null,null,null,null,null,null,null,null,null,null,null,null,null,null,null,null,null,null,null,null,null,null,null,null,null,null,null,null,null,null,null,null,null,null,null,null,null,null,null,null,null,null,null,null,null,null,null,null,null,null,null,null,null,null,null,null,null,null,null,null,null,null,null,null,null,null,null,null,null,null,null,null,null,null,null,null,null,null,null,null,null,null,null,null,null,null,null,null,null,null,null,null,null,null,null,null,null,null,null,null,null,null,null,null,null,null,null,null,null,null,null,null,null,null,null,null,null,null,null,null,null,null,null,null,null,null,null,null,null,null,null,null,null,null,null,null,null,null,null,null,null,null,null,null,null,null,null,null,null,null,null,null,null,null,null,null,null,null,null,null,null,null,null,null,null,null,null,null,null,null,null,null,null,null,null,null,null,null,null,null,null,null,null,null,null,null,null,null,null,null,null,null,null,null,null,null,null,null,null,null,null,null,null,null,null,null,null,null,null,null,null,null,null,null,null,null,null,null,null,null,null,null,null,null,null,null,null,null,null,null,null,null,null,null,null,null,null,null,null,null,null,null,null,null,null,null,null,null,null,null,null,null,null,null,null,null,null,null,null,null,null,null,null,null,null,null,null,null,null,null,null,null,null,null,null,null,null,null,null,null,null,null,null,null,null,null,null,null,null,null,null,null,null,null,null,null,null,null,null,null,null,null,null,null,null,null,null,null,null,null,null,null,null,null,null,null,null,null,null,null,null,null,null,null,null,null,null,null,null,null,null,null,null,null,null,null,null,null,null,null,null,null,null,null,null,null,null,null,null,null,null,null,null,null,null,null,null,null,null,null,null,null,null,null,null,null,null,null,null,null,null,null,null,null,null,null,null,null,null,null,null,null,null,null,null,null,null,null,null,null,null,null,null,null,null,null,null,null,null,null,null,null,null,null,null,null,null,null,null,null,null,null,null,null,null,null,null,null,null,null,null,null,null,null,null,null,null,null,null,null,null,null,null,null,null,null,null,null,null,null,null,null,null,null,null,null,null,null,null,null,null,null,null,null,null,null,null,null,null,null,null,null,null,null,null,null,null,null,null,null,null,null,null,null,null,null,null,null,null,null,null,null,null,null,null,null,null,null,null,null,null,null,null,null,null,null,null,null,null,null,null,null,null,null,null,null,null,null,null,null,null,null,null,null,null,null,null,null,null,null,null,null,null,null,null,null,null,null,null,null,null,null,null,null,null,null,null,null,null,null,null,null,null,null,null,null,null,null,null,null,null,null,null,null,null,null,null,null,null,null,null,null,null,null,null,null,null,null,null,null,null,null,null,null,null,null,null,null,null,null,null,null,null,null,null,null,null,null,null,null,null,null,null,null,null,null,null,null,null,null,null,null,null,null,null,null,null,null,null,null,null,null,null,null,null,null,null,null,null,null,null,null,null,null,null,null,null,null,null,null,null,null,null,null,null,null,null,null,null,null,null,null,null,null,null,null,null,null,null,null,null,null,null,null,null,null,null,null,null,null,null,null,null,null,null,null,null,null,null,null,null,null,null,null,null,null,null,null,null,null,null,null,null,null,null,null,null,null,null,null,null,null,null,null,null,null,null,null,null,null,null,null,null,null,null,null,null,null,null,null,null,null,null,null,null,null,null,null,null,null,null,null,null,null,null,null,null,null,null,null,null,null,null,null,null,null,null,null,null,null,null,null,null,null,null,null,null,null,null,null,null,null,null,null,null,null,null,null,null,null,null,null,null,null,null,null,null,null,null,null,null,null,null,null,null,null,null,null,null,null,null,null,null,null,null,null,null,null,null,null,null,null,null,null,null,null,null,null,null,null,null,null,null,null,null,null,null,null,null,null,null,null,null,null,null,null,null,null,null,null,null,null,null,null,null,null,null,null,null,null,null,null,null,null,null,null,null,null,null,null,null,null,null,null,null,null,null,null,null,null,null,null,null,null,null,null,null,null,null,null,null,null,null,null,null,null,null,null,null,null,null,null,null,null,null,null,null,null,null,null,null,null,null,null,null,null,null,null,null,null,null,null,null,null,null,null,null,null,null,null,null,null,null,null,null,null,null,null,null,null,null,null,null,null,null,null,null,null,null,null,null,null,null,null,null,null,null,null,null,null,null,null,null,null,null,null,null,null,null,null,null,null,null,null,null,null,null,null,null,null,null,null,null,null,null,null,null,null,null,null,null,null,null,null,null,null,null,null,null,null,null,null,null,null,null,null,null,null,null,null,null,null,null,null,null,null,null,null,null,null,null,null,null,null,null,null,null,null,null,null,null,null,null,null,null,null,null,null,null,null,null,null,null,null,null,null,null,null,null,null,null,null,null,null,null,null,null,null,null,null,null,null,null,null,null,null,null,null,null,null,null,null,null,null,null,null,null,null,null,null,null,null,null,null,null,null,null,null,null,null,null,null,null,null,null,null,null,null,null,null,null,null,null,null,null,null,null,null,null,null,null,null,null,null,null,null,null,null,null,null,null,null,null,null,null,null,null,null,null,null,null,null,null,null,null,null,null,null,null,null,null,null,null,null,null,null,null,null,null,null,null,null,null,null,null,null,null,null,null,null,null,null,null,null,null,null,null,null,null,null,null,null,null,null,null,null,null,null,null,null,null,null,null,null,null,null,null,null,null,null,null,null,null,null,null,null,null,null,null,null,null,null,null,null,null,null,null,null,null,null,null,null,null,null,null,null,null,null,null,null,null,null,null,null,null,null,null,null,null,null,null,null,null,null,null,null,null,null,null,null,null,null,null,null,null,null,null,null,null,null,null,null,null,null,null,null,null,null,null,null,null,null,null,null,null,null,null,null,null,null,null,null,null,null,null,null,null,null,null,null,null,null,null,null,null,null,null,null,null,null,null,null,null,null,null,null,null,null,null,null,null,null,null,null,null,null,null,null,null,null,null,null,null,null,null,null,null,null,null,null,null,null,null,null,null,null,null,null,null,null,null,null,null,null,null,null,null,null,null,null,null,null,null,null,null,null,null,null,null,null,null,null,null,null,null,null,null,null,null,null,null,null,null,null,null,null,null,null,null,null,null,null,null,null,null,null,null,null,null,null,null,null,null,null,null,null,null,null,null,null,null,null,null,null,null,null,null,null,null,null,null,null,null,null,null,null,null,null,null,null,null,null,null,null,null,null,null,null,null,null,null,null,null,null,null,null,null,null,null,null,null,null,null,null,null,null,null,null,null,null,null,null,null,null,null,null,null,null,null,null,null,null,null,null,null,null,null,null,null,null,null,null,null,null,null,null,null,null,null,null,null,null,null,null,null,null,null,null,null,null,null,null,null,null,null,null,null,null,null,null,null,null,null,null,null,null,null,null,null,null,null,null,null,null,null,null,null,null,null,null,null,null,null,null,null,null,null,null,null,null,null,null,null,null,null,null,null,null,null,null,null,null,null,null,null,null,null,null,null,null,null,null,null,null,null,null,null,null,null,null,null,null,null,null,null,null,null,null,null,null,null,null,null,null,null,null,null,null,null,null,null,null,null,null,null,null,null,null,null,null,null,null,null,null,null,null,null,null,null,null,null,null,null,null,null,null,null,null,null,null,null,null,null,null,null,null,null,null,null,null,null,null,null,null,null,null,null,null,null,null,null,null,null,null,null,null,null,null,null,null,null,null,null,null,null,null,null,null,null,null,null,null,null,null,null,null,null,null,null,null,null,null,null,null,null,null,null,null,null,null,null,null,null,null,null,null,null,null,null,null,null,null,null,null,null,null,null,null,null,null,null,null,null,null,null,null,null,null,null,null,null,null,null,null,null,null,null,null,null,null,null,null,null,null,null,null,null,null,null,null,null,null,null,null,null,null,null,null,null,null,null,null,null,null,null,null,null,null,null,null,null,null,null,null,null,null,null,null,null,null,null,null,null,null,null,null,null,null,null,null,null,null,null,null,null,null,null,null,null,null,null,null,null,null,null,null,null,null,null,null,null,null,null,null,null,null,null,null,null,null,null,null,null,null,null,null,null,null,null,null,null,null,null,null,null,null,null,null,null,null,null,null,null,null,null,null,null,null,null,null,null,null,null,null,null,null,null,null,null,null,null,null,null,null,null,null,null,null,null,null,null,null,null,null,null,null,null,null,null,null,null,null,null,null,null,null,null,null,null,null,null,null,null,null,null,null,null,null,null,null,null,null,null,null,null,null,null,null,null,null,null,null,null,null,null,null,null,null,null,null,null,null,null,null,null,null,null,null,null,null,null,null,null,null,null,null,null,null,null,null,null,null,null,null,null,null,null,null,null,null,null,null,null,null,null,null,null,null,null,null,null,null,null,null,null,null,null,null,null,null,null,null,null,null,null,null,null,null,null,null,null,null,null,null,null,null,null,null,null,null,null,null,null,null,null,null,null,null,null,null,null,null,null,null,null,null,null,null,null,null,null,null,null,null,null,null,null,null,null,null,null,null,null,null,null,null,null,null,null,null,null,null,null,null,null,null,null,null,null,null,null,null,null,null,null,null,null,null,null,null,null,null,null,null,null,null,null,null,null,null,null,null,null,null,null,null,null,null,null,null,null,null,null,null,null,null,null,null,null,null,null,null,null,null,null,null,null,null,null,null,null,null,null,null,null,null,null,null,null,null,null,null,null,null,null,null,null,null,null,null,null,null,null,null,null,null,null,null,null,null,null,null,null,null,null,null,null,null,null,null,null,null,null,null,null,null,null,null,null,null,null,null,null,null,null,null,null,null,null,null,null,null,null,null,null,null,null,null,null,null,null,null,null,null,null,null,null,null,null,null,null,null,null,null,null,null,null,null,null,null,null,null,null,null,null,null,null,null,null,null,null,null,null,null,null,null,null,null,null,null,null,null,null,null,null,null,null,null,null,null,null,null,null,null,null,null,null,null,null,null,null,null,null,null,null,null,null,null,null,null,null,null,null,null,null,null,null,null,null,null,null,null,null,null,null,null,null,null,null,null,null,null,null,null,null,null,null,null,null,null,null,null,null,null,null,null,null,null,null,null,null,null,null,null,null,null,null,null,null,null,null,null,null,null,null,null,null,null,null,null,null,null,null,null,null,null,null,null,null,null,null,null,null,null,null,null,null,null,null,null,null,null,null,null,null,null,null,null,null,null,null,null,null,null,null,null,null,null,null,null,null,null,null,null,null,null,null,null,null,null,null,null,null,null,null,null,null,null,null,null,null,null,null,null,null,null,null,null,null,null,null,null,null,null,null,null,null,null,null,null,null,null,null,null,null,null,null,null,null,null,null,null,null,null,null,null,null,null,null,null,null,null,null,null,null,null,null,null,null,null,null,null,null,null,null,null,null,null,null,null,null,null,null,null,null,null,null,null,null,null,null,null,null,null,null,null,null,null,null,null,null,null,null,null,null,null,null,null,null,null,null,null,null,null,null,null,null,null,null,null,null,null,null,null,null,null,null,null,null,null,null,null,null,null,null,null,null,null,null,null,null,null,null,null,null,null,null,null,null,null,null,null,null,null,null,null,null,null,null,null,null,null,null,null,null,null,null,null,null,null,null,null,null,null,null,null,null,null,null,null,null,null,null,null,null,null,null,null,null,null,null,null,null,null,null,null,null,null,null,null,null,null,null,null,null,null,null,null,null,null,null,null,null,null,null,null,null,null,null,null,null,null,null,null,null,null,null,null,null,null,null,null,null,null,null,null,null,null,null,null,null,null,null,null,null,null,null,null,null,null,null,null,null,null,null,null,null,null,null,null,null,null,null,null,null,null,null,null,null,null,null,null,null,null,null,null,null,null,null,null,null,null,null,null,null,null,null,null,null,null,null,null,null,null,null,null,null,null,null,null,null,null,null,null,null,null,null,null,null,null,null,null,null,null,null,null,null,null,null,null,null,null,null,null,null,null,null,null,null,null,null,null,null,null,null,null,null,null,null,null,null,null,null,null,null,null,null,null,null,null,null,null,null,null,null,null,null,null,null,null,null,null,null,null,null,null,null,null,null,null,null,null,null,null,null,null,null,null,null,null,null,null,null,null,null,null,null,null,null,null,null,null,null,null,null,null,null,null,null,null,null,null,null,null,null,null,null,null,null,null,null,null,null,null,null,null,null,null,null,null,null,null,null,null,null,null,null,null,null,null,null,null,null,null,null,null,null,null,null,null,null,null,null,null,null,null,null,null,null,null,null,null,null,null,null,null,null,null,null,null,null,null,null,null,null,null,null,null,null,null,null,null,null,null,null,null,null,null,null,null,null,null,null,null,null,null,null,null,null,null,null,null,null,null,null,null,null,null,null,null,null,null,null,null,null,null,null,null,null,null,null,null,null,null,null,null,null,null,null,null,null,null,null,null,null,null,null,null,null,null,null,null,null,null,null,null,null,null,null,null,null,null,null,null,null,null,null,null,null,null,null,null,null,null,null,null,null,null,null,null,null,null,null,null,null,null,null,null,null,null,null,null,null,null,null,null,null,null,null,null,null,null,null,null,null,null,null,null,null,null,null,null,null,null,null,null,null,null,null,null,null,null,null,null,null,null,null,null,null,null,null,null,null,null,null,null,null,null,null,null,null,null,null,null,null,null,null,null,null,null,null,null,null,null,null,null,null,null,null,null,null,null,null,null,null,null,null,null,null,null,null,null,null,null,null,null,null,null,null,null,null,null,null,null,null,null,null,null,null,null,null,null,null,null,null,null,null,null,null,null,null,null,null,null,null,null,null,null,null,null,null,null,null,null,null,null,null,null,null,null,null,null,null,null,null,null,null,null,null,null,null,null,null,null,null,null,null,null,null,null,null,null,null,null,null,null,null,null,null,null,null,null,null,null,null,null,null,null,null,null,null,null,null,null,null,null,null,null,null,null,null,null,null,null,null,null,null,null,null,null,null,null,null,null,null,null,null,null,null,null,null,null,null,null,null,null,null,null,null,null,null,null,null,null,null,null,null,null,null,null,null,null,null,null,null,null,null,null,null,null,null,null,null,null,null,null,null,null,null,null,null,null,null,null,null,null,null,null,null,null,null,null,null,null,null,null,null,null,null,null,null,null,null,null,null,null,null,null,null,null,null,null,null,null,null,null,null,null,null,null,null,null,null,null,null,null,null,null,null,null,null,null,null,null,null,null,null,null,null,null,null,null,null,null,null,null,null,null,null,null,null,null,null,null,null,null,null,null,null,null,null,null,null,null,null,null,null,null,null,null,null,null,null,null,null,null,null,null,null,null,null,null,null,null,null,null,null,null,null,null,null,null,null,null,null,null,null,null,null,null,null,null,null,null,null,null,null,null,null,null,null,null,null,null,null,null,null,null,null,null,null,null,null,null,null,null,null,null,null,null,null,null,null,null,null,null,null,null,null,null,null,null,null,null,null,null,null,null,null,null,null,null,null,null,null,null,null,null,null,null,null,null,null,null,null,null,null,null,null,null,null,null,null,null,null,null,null,null,null,null,null,null,null,null,null,null,null,null,null,null,null,null,null,null,null,null,null,null,null,null,null,null,null,null,null,null,null,null,null,null,null,null,null,null,null,null,null,null,null,null,null,null,null,null,null,null,null,null,null,null,null,null,null,null,null,null,null,null,null,null,null,null,null,null,null,null,null,null,null,null,null,null,null,null,null,null,null,null,null,null,null,null,null,null,null,null,null,null,null,null,null,null,null,null,null,null,null,null,null,null,null,null,null,null,null,null,null,null,null,null,null,null,null,null,null,null,null,null,null,null,null,null,null,null,null,null,null,null,null,null,null,null,null,null,null,null,null,null,null,null,null,null,null,null,null,null,null,null,null,null,null,null,null,null,null,null,null,null,null,null,null,null,null,null,null,null,null,null,null,null,null,null,null,null,null,null,null,null,null,null,null,null,null,null,null,null,null,null,null,null,null,null,null,null,null,null,null,null,null,null,null,null,null,null,null,null,null,null,null,null,null,null,null,null,null,null,null,null,null,null,null,null,null,null,null,null,null,null,null,null,null,null,null,null,null,null,null,null,null,null,null,null,null,null,null,null,null,null,null,null,null,null,null,null,null,null,null,null,null,null,null,null,null,null,null,null,null,null,null,null,null,null,null,null,null,null,null,null,null,null,null,null,null,null,null,null,null,null,null,null,null,null,null,null,null,null,null,null,null,null,null,null,null,null,null,null,null,null,null,null,null,null,null,null,null,null,null,null,null,null,null,null,null,null,null,null,null,null,null,null,null,null,null,null,null,null,null,null,null,null,null,null,null,null,null,null,null,null,null,null,null,null,null,null,null,null,null,null,null,null,null,null,null,null,null,null,null,null,null,null,null,null,null,null,null,null,null,null,null,null,null,null,null,null,null,null,null,null,null,null,null,null,null,null,null,null,null,null,null,null,null,null,null,null,null,null,null,null,null,null,null,null,null,null,null,null,null,null,null,null,null,null,null,null,null,null,null,null,null,null,null,null,null,null,null,null,null,null,null,null,null,null,null,null,null,null,null,null,null,null,null,null,null,null,null,null,null,null,null,null,null,null,null,null,null,null,null,null,null,null,null,null,null,null,null,null,null,null,null,null,null,null,null,null,null,null,null,null,null,null,null,null,null,null,null,null,null,null,null,null,null,null,null,null,null,null,null,null,null,null,null,null,null,null,null,null,null,null,null,null,null,null,null,null,null,null,null,null,null,null,null,null,null,null,null,null,null,null,null,null,null,null,null,null,null,null,null,null,null,null,null,null,null,null,null,null,null,null,null,null,null,null,null,null,null,null,null,null,null,null,null,null,null,null,null,null,null,null,null,null,null,null,null,null,null,null,null,null,null,null,null,null,null,null,null,null,null,null,null,null,null,null,null,null,null,null,null,null,null,null,null,null,null,null,null,null,null,null,null,null,null,null,null,null,null,null,null,null,null,null,null,null,null,null,null,null,null,null,null,null,null,null,null,null,null,null,null,null,null,null,null,null,null,null,null,null,null,null,null,null,null,null,null,null,null,null,null,null,null,null,null,null,null,null,null,null,null,null,null,null,null,null,null,null,null,null,null,null,null,null,null,null,null,null,null,null,null,null,null,null,null,null,null,null,null,null,null,null,null,null,null,null,null,null,null,null,null,null,null,null,null,null,null,null,null,null,null,null,null,null,null,null,null,null,null,null,null,null,null,null,null,null,null,null,null,null,null,null,null,null,null,null,null,null,null,null,null,null,null,null,null,null,null,null,null,null,null,null,null,null,null,null,null,null,null,null,null,null,null,null,null,null,null,null,null,null,null,null,null,null,null,null,null,null,null,null,null,null,null,null,null,null,null,null,null,null,null,null,null,null,null,null,null,null,null,null,null,null,null,null,null,null,null,null,null,null,null,null,null,null,null,null,null,null,null,null,null,null,null,null,null,null,null,null,null,null,null,null,null,null,null,null,null,null,null,null,null,null,null,null,null,null,null,null,null,null,null,null,null,null,null,null,null,null,null,null,null,null,null,null,null,null,null,null,null,null,null,null,null,null,null,null,null,null,null,null,null,null,null,null,null,null,null,null,null,null,null,null,null,null,null,null,null,null,null,null,null,null,null,null,null,null,null,null,null,null,null,null,null,null,null,null,null,null,null,null,null,null,null,null,null,null,null,null,null,null,null,null,null,null,null,null,null,null,null,null,null,null,null,null,null,null,null,null,null,null,null,null,null,null,null,null,null,null,null,null,null,null,null,null,null,null,null,null,null,null,null,null,null,null,null,null,null,null,null,null,null,null,null,null,null,null,null,null,null,null,null,null,null,null,null,null,null,null,null,null,null,null,null,null,null,null,null,null,null,null,null,null,null,null,null,null,null,null,null,null,null,null,null,null,null,null,null,null,null,null,null,null,null,null,null,null,null,null,null,null,null,null,null,null,null,null,null,null,null,null,null,null,null,null,null,null,null,null,null,null,null,null,null,null,null,null,null,null,null,null,null,null,null,null,null,null,null,null,null,null,null,null,null,null,null,null,null,null,null,null,null,null,null,null,null,null,null,null,null,null,null,null,null,null,null,null,null,null,null,null,null,null,null,null,null,null,null,null,null,null,null,null,null,null,null,null,null,null,null,null,null,null,null,null,null,null,null,null,null,null,null,null,null,null,null,null,null,null,null,null,null,null,null,null,null,null,null,null,null,null,null,null,null,null,null,null,null,null,null,null,null,null,null,null,null,null,null,null,null,null,null,null,null,null,null,null,null,null,null,null,null,null,null,null,null,null,null,null,null,null,null,null,null,null,null,null,null,null,null,null,null,null,null,null,null,null,null,null,null,null,null,null,null,null,null,null,null,null,null,null,null,null,null,null,null,null,null,null,null,null,null,null,null,null,null,null,null,null,null,null,null,null,null,null,null,null,null,null,null,null,null,null,null,null,null,null,null,null,null,null,null,null,null,null,null,null,null,null,null,null,null,null,null,null,null,null,null,null,null,null,null,null,null,null,null,null,null,null,null,null,null,null,null,null,null,null,null,null,null,null,null,null,null,null,null,null,null,null,null,null,null,null,null,null,null,null,null,null,null,null,null,null,null,null,null,null,null,null,null,null,null,null,null,null,null,null,null,null,null,null,null,null,null,null,null,null,null,null,null,null,null,null,null,null,null,null,null,null,null,null,null,null,null,null,null,null,null,null,null,null,null,null,null,null,null,null,null,null,null,null,null,null,null,null,null,null,null,null,null,null,null,null,null,null,null,null,null,null,null,null,null,null,null,null,null,null,null,null,null,null,null,null,null,null,null,null,null,null,null,null,null,null,null,null,null,null,null,null,null,null,null,null,null,null,null,null,null,null,null,null,null,null,null,null,null,null,null,null,null,null,null,null,null,null,null,null,null,null,null,null,null,null,null,null,null,null,null,null,null,null,null,null,null,null,null,null,null,null,null,null,null,null,null,null,null,null,null,null,null,null,null,null,null,null,null,null,null,null,null,null,null,null,null,null,null,null,null,null,null,null,null,null,null,null,null,null,null,null,null,null,null,null,null,null,null,null,null,null,null,null,null,null,null,null,null,null,null,null,null,null,null,null,null,null,null,null,null,null,null,null,null,null,null,null,null,null,null,null,null,null,null,null,null,null,null,null,null,null,null,null,null,null,null,null,null,null,null,null,null,null,null,null,null,null,null,null,null,null,null,null,null,null,null,null,null,null,null,null,null,null,null,null,null,null,null,null,null,null,null,null,null,null,null,null,null,null,null,null,null,null,null,null,null,null,null,null,null,null,null,null,null,null,null,null,null,null,null,null,null,null,null,null,null,null,null,null,null,null,null,null,null,null,null,null,null,null,null,null,null,null,null,null,null,null,null,null,null,null,null,null,null,null,null,null,null,null,null,null,null,null,null,null,null,null,null,null,null,null,null,null,null,null,null,null,null,null,null,null,null,null,null,null,null,null,null,null,null,null,null,null,null,null,null,null,null,null,null,null,null,null,null,null,null,null,null,null,null,null,null,null,null,null,null,null,null,null,null,null,null,null,null,null,null,null,null,null,null,null,null,null,null,null,null,null,null,null,null,null,null,null,null,null,null,null,null,null,null,null,null,null,null,null,null,null,null,null,null,null,null,null,null,null,null,null,null,null,null,null,null,null,null,null,null,null,null,null,null,null,null,null,null,null,null,null,null,null,null,null,null,null,null,null,null,null,null,null,null,null,null,null,null,null,null,null,null,null,null,null,null,null,null,null,null,null,null,null,null,null,null,null,null,null,null,null,null,null,null,null,null,null,null,null,null,null,null,null,null,null,null,null,null,null,null,null,null,null,null,null,null,null,null,null,null,null,null,null,null,null,null,null,null,null,null,null,null,null,null,null,null,null,null,null,null,null,null,null,null,null,null,null,null,null,null,null,null,null,null,null,null,null,null,null,null,null,null,null,null,null,null,null,null,null,null,null,null,null,null,null,null,null,null,null,null,null,null,null,null,null,null,null,null,null,null,null,null,null,null,null,null,null,null,null,null,null,null,null,null,null,null,null,null,null,null,null,null,null,null,null,null,null,null,null,null,null,null,null,null,null,null,null,null,null,null,null,null,null,null,null,null,null,null,null,null,null,null,null,null,null,null,null,null,null,null,null,null,null,null,null,null,null,null,null,null,null,null,null,null,null,null,null,null,null,null,null,null,null,null,null,null,null,null,null,null,null,null,null,null,null,null,null,null,null,null,null,null,null,null,null,null,null,null,null,null,null,null,null,null,null,null,null,null,null,null,null,null,null,null,null,null,null,null,null,null,null,null,null,null,null,null,null,null,null,null,null,null,null,null,null,null,null,null,null,null,null,null,null,null,null,null,null,null,null,null,null,null,null,null,null,null,null,null,null,null,null,null,null,null,null,null,null,null,null,null,null,null,null,null,null,null,null,null,null,null,null,null,null,null,null,null,null,null,null,null,null,null,null,null,null,null,null,null,null,null,null,null,null,null,null,null,null,null,null,null,null,null,null,null,null,null,null,null,null,null,null,null,null,null,null,null,null,null,null,null,null,null,null,null,null,null,null,null,null,null,null,null,null,null,null,null,null,null,null,null,null,null,null,null,null,null,null,null,null,null,null,null,null,null,null,null,null,null,null,null,null,null,null,null,null,null,null,null,null,null,null,null,null,null,null,null,null,null,null,null,null,null,null,null,null,null,null,null,null,null,null,null,null,null,null,null,null,null,null,null,null,null,null,null,null,null,null,null,null,null,null,null,null,null,null,null,null,null,null,null,null,null,null,null,null,null,null,null,null,null,null,null,null,null,null,null,null,null,null,null,null,null,null,null,null,null,null,null,null,null,null,null,null,null,null,null,null,null,null,null,null,null,null,null,null,null,null,null,null,null,null,null,null,null,null,null,null,null,null,null,null,null,null,null,null,null,null,null,null,null,null,null,null,null,null,null,null,null,null,null,null,null,null,null,null,null,null,null,null,null,null,null,null,null,null,null,null,null,null,null,null,null,null,null,null,null,null,null,null,null,null,null,null,null,null,null,null,null,null,null,null,null,null,null,null,null,null,null,null,null,null,null,null,null,null,null,null,null,null,null,null,null,null,null,null,null,null,null,null,null,null,null,null,null,null,null,null,null,null,null,null,null,null,null,null,null,null,null,null,null,null,null,null,null,null,null,null,null,null,null,null,null,null,null,null,null,null,null,null,null,null,null,null,null,null,null,null,null,null,null,null,null,null,null,null,null,null,null,null,null,null,null,null,null,null,null,null,null,null,null,null,null,null,null,null,null,null,null,null,null,null,null,null,null,null,null,null,null,null,null,null,null,null,null,null,null,null,null,null,null,null,null,null,null,null,null,null,null,null,null,null,null,null,null,null,null,null,null,null,null,null,null,null,null,null,null,null,null,null,null,null,null,null,null,null,null,null,null,null,null,null,null,null,null,null,null,null,null,null,null,null,null,null,null,null,null,null,null,null,null,null,null,null,null,null,null,null,null,null,null,null,null,null,null,null,null,null,null,null,null,null,null,null,null,null,null,null,null,null,null,null,null,null,null,null,null,null,null,null,null,null,null,null,null,null,null,null,null,null,null,null,null,null,null,null,null,null,null,null,null,null,null,null,null,null,null,null,null,null,null,null,null,null,null,null,null,null,null,null,null,null,null,null,null,null,null,null,null,null,null,null,null,null,null,null,null,null,null,null,null,null,null,null,null,null,null,null,null,null,null,null,null,null,null,null,null,null,null,null,null,null,null,null,null,null,null,null,null,null,null,null,null,null,null,null,null,null,null,null,null,null,null,null,null,null,null,null,null,null,null,null,null,null,null,null,null,null,null,null,null,null,null,null,null,null,null,null,null,null,null,null,null,null,null,null,null,null,null,null,null,null,null,null,null,null,null,null,null,null,null,null,null,null,null,null,null,null,null,null,null,null,null,null,null,null,null,null,null,null,null,null,null,null,null,null,null,null,null,null,null,null,null,null,null,null,null,null,null,null,null,null,null,null,null,null,null,null,null,null,null,null,null,null,null,null,null,null,null,null,null,null,null,null,null,null,null,null,null,null,null,null,null,null,null,null,null,null,null,null,null,null,null,null,null,null,null,null,null,null,null,null,null,null,null,null,null,null,null,null,null,null,null,null,null,null,null,null,null,null,null,null,null,null,null,null,null,null,null,null,null,null,null,null,null,null,null,null,null,null,null,null,null,null,null,null,null,null,null,null,null,null,null,null,null,null,null,null,null,null,null,null,null,null,null,null,null,null,null,null,null,null,null,null,null,null,null,null,null,null,null,null,null,null,null,null,null,null,null,null,null,null,null,null,null,null,null,null,null,null,null,null,null,null,null,null,null,null,null,null,null,null,null,null,null,null,null,null,null,null,null,null,null,null,null,null,null,null,null,null,null,null,null,null,null,null,null,null,null,null,null,null,null,null,null,null,null,null,null,null,null,null,null,null,null,null,null,null,null,null,null,null,null,null,null,null,null,null,null,null,null,null,null,null,null,null,null,null,null,null,null,null,null,null,null,null,null,null,null,null,null,null,null,null,null,null,null,null,null,null,null,null,null,null,null,null,null,null,null,null,null,null,null,null,null,null,null,null,null,null,null,null,null,null,null,null,null,null,null,null,null,null,null,null,null,null,null,null,null,null,null,null,null,null,null,null,null,null,null,null,null,null,null,null,null,null,null,null,null,null,null,null,null,null,null,null,null,null,null,null,null,null,null,null,null,null,null,null,null,null,null,null,null,null,null,null,null,null,null,null,null,null,null,null,null,null,null,null,null,null,null,null,null,null,null,null,null,null,null,null,null,null,null,null,null,null,null,null,null,null,null,null,null,null,null,null,null,null,null,null,null,null,null,null,null,null,null,null,null,null,null,null,null,null,null,null,null,null,null,null,null,null,null,null,null,null,null,null,null,null,null,null,null,null,null,null,null,null,null,null,null,null,null,null,null,null,null,null,null,null,null,null,null,null,null,null,null,null,null,null,null,null,null,null,null,null,null,null,null,null,null,null,null,null,null,null,null,null,null,null,null,null,null,null,null,null,null,null,null,null,null,null,null,null,null,null,null,null,null,null,null,null,null,null,null,null,null,null,null,null,null,null,null,null,null,null,null,null,null,null,null,null,null,null,null,null,null,null,null,null,null,null,null,null,null,null,null,null,null,null,null,null,null,null,null,null,null,null,null,null,null,null,null,null,null,null,null,null,null,null,null,null,null,null,null,null,null,null,null,null,null,null,null,null,null,null,null,null,null,null,null,null,null,null,null,null,null,null,null,null,null,null,null,null,null,null,null,null,null,null,null,null,null,null,null,null,null,null,null,null,null,null,null,null,null,null,null,null,null,null,null,null,null,null,null,null,null,null,null,null,null,null,null,null,null,null,null,null,null,null,null,null,null,null,null,null,null,null,null,null,null,null,null,null,null,null,null,null,null,null,null,null,null,null,null,null,null,null,null,null,null,null,null,null,null,null,null,null,null,null,null,null,null,null,null,null,null,null,null,null,null,null,null,null,null,null,null,null,null,null,null,null,null,null,null,null,null,null,null,null,null,null,null,null,null,null,null,null,null,null,null,null,null,null,null,null,null,null,null,null,null,null,null,null,null,null,null,null,null,null,null,null,null,null,null,null,null,null,null,null,null,null,null,null,null,null,null,null,null,null,null,null,null,null,null,null,null,null,null,null,null,null,null,null,null,null,null,null,null,null,null,null,null,null,null,null,null,null,null,null,null,null,null,null,null,null,null,null,null,null,null,null,null,null,null,null,null,null,null,null,null,null,null,null,null,null,null,null,null,null,null,null,null,null,null,null,null,null,null,null,null,null,null,null,null,null,null,null,null,null,null,null,null,null,null,null,null,null,null,null,null,null,null,null,null,null,null,null,null,null,null,null,null,null,null,null,null,null,null,null,null,null,null,null,null,null,null,null,null,null,null,null,null,null,null,null,null,null,null,null,null,null,null,null,null,null,null,null,null,null,null,null,null,null,null,null,null,null,null,null,null,null,null,null,null,null,null,null,null,null,null,null,null,null,null,null,null,null,null,null,null,null,null,null,null,null,null,null,null,null,null,null,null,null,null,null,null,null,null,null,null,null,null,null,null,null,null,null,null,null,null,null,null,null,null,null,null,null,null,null,null,null,null,null,null,null,null,null,null,null,null,null,null,null,null,null,null,null,null,null,null,null,null,null,null,null,null,null,null,null,null,null,null,null,null,null,null,null,null,null,null,null,null,null,null,null,null,null,null,null,null,null,null,null,null,null,null,null,null,null,null,null,null,null,null,null,null,null,null,null,null,null,null,null,null,null,null,null,null,null,null,null,null,null,null,null,null,null,null,null,null,null,null,null,null,null,null,null,null,null,null,null,null,null,null,null,null,null,null,null,null,null,null,null,null,null,null,null,null,null,null,null,null,null,null,null,null,null,null,null,null,null,null,null,null,null,null,null,null,null,null,null,null,null,null,null,null,null,null,null,null,null,null,null,null,null,null,null,null,null,null,null,null,null,null,null,null,null,null,null,null,null,null,null,null,null,null,null,null,null,null,null,null,null,null,null,null,null,null,null,null,null,null,null,null,null,null,null,null,null,null,null,null,null,null,null,null,null,null,null,null,null,null,null,null,null,null,null,null,null,null,null,null,null,null,null,null,null,null,null,null,null,null,null,null,null,null,null,null,null,null,null,null,null,null,null,null,null,null,null,null,null,null,null,null,null,null,null,null,null,null,null,null,null,null,null,null,null,null,null,null,null,null,null,null,null,null,null,null,null,null,null,null,null,null,null,null,null,null,null,null,null,null,null,null,null,null,null,null,null,null,null,null,null,null,null,null,null,null,null,null,null,null,null,null,null,null,null,null,null,null,null,null,null,null,null,null,null,null,null,null,null,null,null,null,null,null,null,null,null,null,null,null,null,null,null,null,null,null,null,null,null,null,null,null,null,null,null,null,null,null,null,null,null,null,null,null,null,null,null,null,null,null,null,null,null,null,null,null,null,null,null,null,null,null,null,null,null,null,null,null,null,null,null,null,null,null,null,null,null,null,null,null,null,null,null,null,null,null,null,null,null,null,null,null,null,null,null,null,null,null,null,null,null,null,null,null,null,null,null,null,null,null,null,null,null,null,null,null,null,null,null,null,null,null,null,null,null,null,null,null,null,null,null,null,null,null,null,null,null,null,null,null,null,null,null,null,null,null,null,null,null,null,null,null,null,null,null,null,null,null,null,null,null,null,null,null,null,null,null,null,null,null,null,null,null,null,null,null,null,null,null,null,null,null,null,null,null,null,null,null,null,null,null,null,null,null,null,null,null,null,null,null,null,null,null,null,null,null,null,null,null,null,null,null,null,null,null,null,null,null,null,null,null,null,null,null,null,null,null,null,null,null,null,null,null,null,null,null,null,null,null,null,null,null,null,null,null,null,null,null,null,null,null,null,null,null,null,null,null,null,null,null,null,null,null,null,null,null,null,null,null,null,null,null,null,null,null,null,null,null,null,null,null,null,null,null,null,null,null,null,null,null,null,null,null,null,null,null,null,null,null,null,null,null,null,null,null,null,null,null,null,null,null,null,null,null,null,null,null,null,null,null,null,null,null,null,null,null,null,null,null,null,null,null,null,null,null,null,null,null,null,null,null,null,null,null,null,null,null,null,null,null,null,null,null,null,null,null,null,null,null,null,null,null,null,null,null,null,null,null,null,null,null,null,null,null,null,null,null,null,null,null,null,null,null,null,null,null,null,null,null,null,null,null,null,null,null,null,null,null,null,null,null,null,null,null,null,null,null,null,null,null,null,null,null,null,null,null,null,null,null,null,null,null,null,null,null,null,null,null,null,null,null,null,null,null,null,null,null,null,null,null,null,null,null,null,null,null,null,null,null,null,null,null,null,null,null,null,null,null,null,null,null,null,null,null,null,null,null,null,null,null,null,null,null,null,null,null,null,null,null,null,null,null,null,null,null,null,null,null,null,null,null,null,null,null,null,null,null,null,null,null,null,null,null,null,null,null,null,null,null,null,null,null,null,null,null,null,null,null,null,null,null,null,null,null,null,null,null,null,null,null,null,null,null,null,null,null,null,null,null,null,null,null,null,null,null,null,null,null,null,null,null,null,null,null,null,null,null,null,null,null,null,null,null,null,null,null,null,null,null,null,null,null,null,null,null,null,null,null,null,null,null,null,null,null,null,null,null,null,null,null,null,null,null,null,null,null,null,null,null,null,null,null,null,null,null,null,null,null,null,null,null,null,null,null,null,null,null,null,null,null,null,null,null,null,null,null,null,null,null,null,null,null,null,null,null,null,null,null,null,null,null,null,null,null,null,null,null,null,null,null,null,null,null,null,null,null,null,null,null,null,null,null,null,null,null,null,null,null,null,null,null,null,null,null,null,null,null,null,null,null,null,null,null,null,null,null,null,null,null,null,null,null,null,null,null,null,null,null,null,null,null,null,null,null,null,null,null,null,null,null,null,null,null,null,null,null,null,null,null,null,null,null,null,null,null,null,null,null,null,null,null,null,null,null,null,null,null,null,null,null,null,null,null,null,null,null,null,null,null,null,null,null,null,null,null,null,null,null,null,null,null,null,null,null,null,null,null,null,null,null,null,null,null,null,null,null,null,null,null,null,null,null,null,null,null,null,null,null,null,null,null,null,null,null,null,null,null,null,null,null,null,null,null,null,null,null,null,null,null,null,null,null,null,null,null,null,null,null,null,null,null,null,null,null,null,null,null,null,null,null,null,null,null,null,null,null,null,null,null,null,null,null,null,null,null,null,null,null,null,null,null,null,null,null,null,null,null,null,null,null,null,null,null,null,null,null,null,null,null,null,null,null,null,null,null,null,null,null,null,null,null,null,null,null,null,null,null,null,null,null,null,null,null,null,null,null,null,null,null,null,null,null,null,null,null,null,null,null,null,null,null,null,null,null,null,null,null,null,null,null,null,null,null,null,null,null,null,null,null,null,null,null,null,null,null,null,null,null,null,null,null,null,null,null,null,null,null,null,null,null,null,null,null,null,null,null,null,null,null,null,null,null,null,null,null,null,null,null,null,null,null,null,null,null,null,null,null,null,null,null,null,null,null,null,null,null,null,null,null,null,null,null,null,null,null,null,null,null,null,null,null,null,null,null,null,null,null,null,null,null,null,null,null,null,null,null,null,null,null,null,null,null,null,null,null,null,null,null,null,null,null,null,null,null,null,null,null,null,null,null,null,null,null,null,null,null,null,null,null,null,null,null,null,null,null,null,null,null,null,null,null,null,null,null,null,null,null,null,null,null,null,null,null,null,null,null,null,null,null,null,null,null,null,null,null,null,null,null,null,null,null,null,null,null,null,null,null,null,null,null,null,null,null,null,null,null,null,null,null,null,null,null,null,null,null,null,null,null,null,null,null,null,null,null,null,null,null,null,null,null,null,null,null,null,null,null,null,null,null,null,null,null,null,null,null,null,null,null,null,null,null,null,null,null,null,null,null,null,null,null,null,null,null,null,null,null,null,null,null,null,null,null,null,null,null,null,null,null,null,null,null,null,null,null,null,null,null,null,null,null,null,null,null,null,null,null,null,null,null,null,null,null,null,null,null,null,null,null,null,null,null,null,null,null,null,null,null,null,null,null,null,null,null,null,null,null,null,null,null,null,null,null,null,null,null,null,null,null,null,null,null,null,null,null,null,null,null,null,null,null,null,null,null,null,null,null,null,null,null,null,null,null,null,null,null,null,null,null,null,null,null,null,null,null,null,null,null,null,null,null,null,null,null,null,null,null,null,null,null,null,null,null,null,null,null,null,null,null,null,null,null,null,null,null,null,null,null,null,null,null,null,null,null,null,null,null,null,null,null,null,null,null,null,null,null,null,null,null,null,null,null,null,null,null,null,null,null,null,null,null,null,null,null,null,null,null,null,null,null,null,null,null,null,null,null,null,null,null,null,null,null,null,null,null,null,null,null,null,null,null,null,null,null,null,null,null,null,null,null,null,null,null,null,null,null,null,null,null,null,null,null,null,null,null,null,null,null,null,null,null,null,null,null,null,null,null,null,null,null,null,null,null,null,null,null,null,null,null,null,null,null,null,null,null,null,null,null,null,null,null,null,null,null,null,null,null,null,null,null,null,null,null,null,null,null,null,null,null,null,null,null,null,null,null,null,null,null,null,null,null,null,null,null,null,null,null,null,null,null,null,null,null,null,null,null,null,null,null,null,null,null,null,null,null,null,null,null,null,null,null,null,null,null,null,null,null,null,null,null,null,null,null,null,null,null,null,null,null,null,null,null,null,null,null,null,null,null,null,null,null,null,null,null,null,null,null,null,null,null,null,null,null,null,null,null,null,null,null,null,null,null,null,null,null,null,null,null,null,null,null,null,null,null,null,null,null,null,null,null,null,null,null,null,null,null,null,null,null,null,null,null,null,null,null,null,null,null,null,null,null,null,null,null,null,null,null,null,null,null,null,null,null,null,null,null,null,null,null,null,null,null,null,null,null,null,null,null,null,null,null,null,null,null,null,null,null,null,null,null,null,null,null,null,null,null,null,null,null,null,null,null,null,null,null,null,null,null,null,null,null,null,null,null,null,null,null,null,null,null,null,null,null,null,null,null,null,null,null,null,null,null,null,null,null,null,null,null,null,null,null,null,null,null,null,null,null,null,null,null,null,null,null,null,null,null,null,null,null,null,null,null,null,null,null,null,null,null,null,null,null,null,null,null,null,null,null,null,null,null,null,null,null,null,null,null,null,null,null,null,null,null,null,null,null,null,null,null,null,null,null,null,null,null,null,null,null,null,null,null,null,null,null,null,null,null,null,null,null,null,null,null,null,null,null,null,null,null,null,null,null,null,null,null,null,null,null,null,null,null,null,null,null,null,null,null,null,null,null,null,null,null,null,null,null,null,null,null,null,null,null,null,null,null,null,null,null,null,null,null,null,null,null,null,null,null,null,null,null,null,null,null,null,null,null,null,null,null,null,null,null,null,null,null,null,null,null,null,null,null,null,null,null,null,null,null,null,null,null,null,null,null,null,null,null,null,null,null,null,null,null,null,null,null,null,null,null,null,null,null,null,null,null,null,null,null,null,null,null,null,null,null,null,null,null,null,null,null,null,null,null,null,null,null,null,null,null,null,null,null,null,null,null,null,null,null,null,null,null,null,null,null,null,null,null,null,null,null,null,null,null,null,null,null,null,null,null,null,null,null,null,null,null,null,null,null,null,null,null,null,null,null,null,null,null,null,null,null,null,null,null,null,null,null,null,null,null,null,null,null,null,null,null,null,null,null,null,null,null,null,null,null,null,null,null,null,null,null,null,null,null,null,null,null,null,null,null,null,null,null,null,null,null,null,null,null,null,null,null,null,null,null,null,null,null,null,null,null,null,null,null,null,null,null,null,null,null,null,null,null,null,null,null,null,null,null,null,null,null,null,null,null,null,null,null,null,null,null,null,null,null,null,null,null,null,null,null,null,null,null,null,null,null,null,null,null,null,null,null,null,null,null,null,null,null,null,null,null,null,null,null,null,null,null,null,null,null,null,null,null,null,null,null,null,null,null,null,null,null,null,null,null,null,null,null,null,null,null,null,null,null,null,null,null,null,null,null,null,null,null,null,null,null,null,null,null,null,null,null,null,null,null,null,null,null,null,null,null,null,null,null,null,null,null,null,null,null,null,null,null,null,null,null,null,null,null,null,null,null,null,null,null,null,null,null,null,null,null,null,null,null,null,null,null,null,null,null,null,null,null,null,null,null,null,null,null,null,null,null,null,null,null,null,null,null,null,null,null,null,null,null,null,null,null,null,null,null,null,null,null,null,null,null,null,null,null,null,null,null,null,null,null,null,null,null,null,null,null,null,null,null,null,null,null,null,null,null,null,null,null,null,null,null,null,null,null,null,null,null,null,null,null,null,null,null,null,null,null,null,null,null,null,null,null,null,null,null,null,null,null,null,null,null,null,null,null,null,null,null,null,null,null,null,null,null,null,null,null,null,null,null,null,null,null,null,null,null,null,null,null,null,null,null,null,null,null,null,null,null,null,null,null,null,null,null,null,null,null,null,null,null,null,null,null,null,null,null,null,null,null,null,null,null,null,null,null,null,null,null,null,null,null,null,null,null,null,null,null,null,null,null,null,null,null,null,null,null,null,null,null,null,null,null,null,null,null,null,null,null,null,null,null,null,null,null,null,null,null,null,null,null,null,null,null,null,null,null,null,null,null,null,null,null,null,null,null,null,null,null,null,null,null,null,null,null,null,null,null,null,null,null,null,null,null,null,null,null,null,null,null,null,null,null,null,null,null,null,null,null,null,null,null,null,null,null,null,null,null,null,null,null,null,null,null,null,null,null,null,null,null,null,null,null,null,null,null,null,null,null,null,null,null,null,null,null,null,null,null,null,null,null,null,null,null,null,null,null,null,null,null,null,null,null,null,null,null,null,null,null,null,null,null,null,null,null,null,null,null,null,null,null,null,null,null,null,null,null,null,null,null,null,null,null,null,null,null,null,null,null,null,null,null,null,null,null,null,null,null,null,null,null,null,null,null,null,null,null,null,null,null,null,null,null,null,null,null,null,null,null,null,null,null,null,null,null,null,null,null,null,null,null,null,null,null,null,null,null,null,null,null,null,null,null,null,null,null,null,null,null,null,null,null,null,null,null,null,null,null,null,null,null,null,null,null,null,null,null,null,null,null,null,null,null,null,null,null,null,null,null,null,null,null,null,null,null,null,null,null,null,null,null,null,null,null,null,null,null,null,null,null,null,null,null,null,null,null,null,null,null,null,null,null,null,null,null,null,null,null,null,null,null,null,null,null,null,null,null,null,null,null,null,null,null,null,null,null,null,null,null,null,null,null,null,null,null,null,null,null,null,null,null,null,null,null,null,null,null,null,null,null,null,null,null,null,null,null,null,null,null,null,null,null,null,null,null,null,null,null,null,null,null,null,null,null,null,null,null,null,null,null,null,null,null,null,null,null,null,null,null,null,null,null,null,null,null,null,null,null,null,null,null,null,null,null,null,null,null,null,null,null,null,null,null,null,null,null,null,null,null,null,null,null,null,null,null,null,null,null,null,null,null,null,null,null,null,null,null,null,null,null,null,null,null,null,null,null,null,null,null,null,null,null,null,null,null,null,null,null,null,null,null,null,null,null,null,null,null,null,null,null,null,null,null,null,null,null,null,null,null,null,null,null,null,null,null,null,null,null,null,null,null,null,null,null,null,null,null,null,null,null,null,null,null,null,null,null,null,null,null,null,null,null,null,null,null,null,null,null,null,null,null,null,null,null,null,null,null,null,null,null,null,null,null,null,null,null,null,null,null,null,null,null,null,null,null,null,null,null,null,null,null,null,null,null,null,null,null,null,null,null,null,null,null,null,null,null,null,null,null,null,null,null,null,null,null,null,null,null,null,null,null,null,null,null,null,null,null,null,null,null,null,null,null,null,null,null,null,null,null,null,null,null,null,null,null,null,null,null,null,null,null,null,null,null,null,null,null,null,null,null,null,null,null,null,null,null,null,null,null,null,null,null,null,null,null,null,null,null,null,null,null,null,null,null,null,null,null,null,null,null,null,null,null,null,null,null,null,null,null,null,null,null,null,null,null,null,null,null,null,null,null,null,null,null,null,null,null,null,null,null,null,null,null,null,null,null,null,null,null,null,null,null,null,null,null,null,null,null,null,null,null,null,null,null,null,null,null,null,null,null,null,null,null,null,null,null,null,null,null,null,null,null,null,null,null,null,null,null,null,null,null,null,null,null,null,null,null,null,null,null,null,null,null,null,null,null,null,null,null,null,null,null,null,null,null,null,null,null,null,null,null,null,null,null,null,null,null,null,null,null,null,null,null,null,null,null,null,null,null,null,null,null,null,null,null,null,null,null,null,null,null,null,null,null,null,null,null,null,null,null,null,null,null,null,null,null,null,null,null,null,null,null,null,null,null,null,null,null,null,null,null,null,null,null,null,null,null,null,null,null,null,null,null,null,null,null,null,null,null,null,null,null,null,null,null,null,null,null,null,null,null,null,null,null,null,null,null,null,null,null,null,null,null,null,null,null,null,null,null,null,null,null,null,null,null,null,null,null,null,null,null,null,null,null,null,null,null,null,null,null,null,null,null,null,null,null,null,null,null,null,null,null,null,null,null,null,null,null,null,null,null,null,null,null,null,null,null,null,null,null,null,null,null,null,null,null,null,null,null,null,null,null,null,null,null,null,null,null,null,null,null,null,null,null,null,null,null,null,null,null,null,null,null,null,null,null,null,null,null,null,null,null,null,null,null,null,null,null,null,null,null,null,null,null,null,null,null,null,null,null,null,null,null,null,null,null,null,null,null,null,null,null,null,null,null,null,null,null,null,null,null,null,null,null,null,null,null,null,null,null,null,null,null,null,null,null,null,null,null,null,null,null,null,null,null,null,null,null,null,null,null,null,null,null,null,null,null,null,null,null,null,null,null,null,null,null,null,null,null,null,null,null,null,null,null,null,null,null,null,null,null,null,null,null,null,null,null,null,null,null,null,null,null,null,null,null,null,null,null,null,null,null,null,null,null,null,null,null,null,null,null,null,null,null,null,null,null,null,null,null,null,null,null,null,null,null,null,null,null,null,null,null,null,null,null,null,null,null,null,null,null,null,null,null,null,null,null,null,null,null,null,null,null,null,null,null,null,null,null,null,null,null,null,null,null,null,null,null,null,null,null,null,null,null,null,null,null,null,null,null,null,null,null,null,null,null,null,null,null,null,null,null,null,null,null,null,null,null,null,null,null,null,null,null,null,null,null,null,null,null,null,null,null,null,null,null,null,null,null,null,null,null,null,null,null,null,null,null,null,null,null,null,null,null,null,null,null,null,null,null,null,null,null,null,null,null,null,null,null,null,null,null,null,null,null,null,null,null,null,null,null,null,null,null,null,null,null,null,null,null,null,null,null,null,null,null,null,null,null,null,null,null,null,null,null,null,null,null,null,null,null,null,null,null,null,null,null,null,null,null,null,null,null,null,null,null,null,null,null,null,null,null,null,null,null,null,null,null,null,null,null,null,null,null,null,null,null,null,null,null,null,null,null,null,null,null,null,null,null,null,null,null,null,null,null,null,null,null,null,null,null,null,null,null,null,null,null,null,null,null,null,null,null,null,null,null,null,null,null,null,null,null,null,null,null,null,null,null,null,null,null,null,null,null,null,null,null,null,null,null,null,null,null,null,null,null,null,null,null,null,null,null,null,null,null,null,null,null,null,null,null,null,null,null,null,null,null,null,null,null,null,null,null,null,null,null,null,null,null,null,null,null,null,null,null,null,null,null,null,null,null,null,null,null,null,null,null,null,null,null,null,null,null,null,null,null,null,null,null,null,null,null,null,null,null,null,null,null,null,null,null,null,null,null,null,null,null,null,null,null,null,null,null,null,null,null,null,null,null,null,null,null,null,null,null,null,null,null,null,null,null,null,null,null,null,null,null,null,null,null,null,null,null,null,null,null,null,null,null,null,null,null,null,null,null,null,null,null,null,null,null,null,null,null,null,null,null,null,null,null,null,null,null,null,null,null,null,null,null,null,null,null,null,null,null,null,null,null,null,null,null,null,null,null,null,null,null,null,null,null,null,null,null,null,null,null,null,null,null,null,null,null,null,null,null,null,null,null,null,null,null,null,null,null,null,null,null,null,null,null,null,null,null,null,null,null,null,null,null,null,null,null,null,null,null,null,null,null,null,null,null,null,null,null,null,null,null,null,null,null,null,null,null,null,null,null,null,null,null,null,null,null,null,null,null,null,null,null,null,null,null,null,null,null,null,null,null,null,null,null,null,null,null,null,null,null,null,null,"Pass"]
[null,"PERIOD END",{"$f":"IF(ISBLANK('Step 1. Scoping'!C5)=TRUE,\"\",'Step 1. Scoping'!C5)","v":""},null,"Lease Section/Pg",null,null,null,null,null,null,null,null,null,null,null,null,null,null,null,null,null,null,null,null,null,null,null,null,null,null,null,null,null,null,null,null,null,null,null,null,null,null,null,null,null,null,null,null,null,null,null,null,null,null,null,null,null,null,null,null,null,null,null,null,null,null,null,null,null,null,null,null,null,null,null,null,null,null,null,null,null,null,null,null,null,null,null,null,null,null,null,null,null,null,null,null,null,null,null,null,null,null,null,null,null,null,null,null,null,null,null,null,null,null,null,null,null,null,null,null,null,null,null,null,null,null,null,null,null,null,null,null,null,null,null,null,null,null,null,null,null,null,null,null,null,null,null,null,null,null,null,null,null,null,null,null,null,null,null,null,null,null,null,null,null,null,null,null,null,null,null,null,null,null,null,null,null,null,null,null,null,null,null,null,null,null,null,null,null,null,null,null,null,null,null,null,null,null,null,null,null,null,null,null,null,null,null,null,null,null,null,null,null,null,null,null,null,null,null,null,null,null,null,null,null,null,null,null,null,null,null,null,null,null,null,null,null,null,null,null,null,null,null,null,null,null,null,null,null,null,null,null,null,null,null,null,null,null,null,null,null,null,null,null,null,null,null,null,null,null,null,null,null,null,null,null,null,null,null,null,null,null,null,null,null,null,null,null,null,null,null,null,null,null,null,null,null,null,null,null,null,null,null,null,null,null,null,null,null,null,null,null,null,null,null,null,null,null,null,null,null,null,null,null,null,null,null,null,null,null,null,null,null,null,null,null,null,null,null,null,null,null,null,null,null,null,null,null,null,null,null,null,null,null,null,null,null,null,null,null,null,null,null,null,null,null,null,null,null,null,null,null,null,null,null,null,null,null,null,null,null,null,null,null,null,null,null,null,null,null,null,null,null,null,null,null,null,null,null,null,null,null,null,null,null,null,null,null,null,null,null,null,null,null,null,null,null,null,null,null,null,null,null,null,null,null,null,null,null,null,null,null,null,null,null,null,null,null,null,null,null,null,null,null,null,null,null,null,null,null,null,null,null,null,null,null,null,null,null,null,null,null,null,null,null,null,null,null,null,null,null,null,null,null,null,null,null,null,null,null,null,null,null,null,null,null,null,null,null,null,null,null,null,null,null,null,null,null,null,null,null,null,null,null,null,null,null,null,null,null,null,null,null,null,null,null,null,null,null,null,null,null,null,null,null,null,null,null,null,null,null,null,null,null,null,null,null,null,null,null,null,null,null,null,null,null,null,null,null,null,null,null,null,null,null,null,null,null,null,null,null,null,null,null,null,null,null,null,null,null,null,null,null,null,null,null,null,null,null,null,null,null,null,null,null,null,null,null,null,null,null,null,null,null,null,null,null,null,null,null,null,null,null,null,null,null,null,null,null,null,null,null,null,null,null,null,null,null,null,null,null,null,null,null,null,null,null,null,null,null,null,null,null,null,null,null,null,null,null,null,null,null,null,null,null,null,null,null,null,null,null,null,null,null,null,null,null,null,null,null,null,null,null,null,null,null,null,null,null,null,null,null,null,null,null,null,null,null,null,null,null,null,null,null,null,null,null,null,null,null,null,null,null,null,null,null,null,null,null,null,null,null,null,null,null,null,null,null,null,null,null,null,null,null,null,null,null,null,null,null,null,null,null,null,null,null,null,null,null,null,null,null,null,null,null,null,null,null,null,null,null,null,null,null,null,null,null,null,null,null,null,null,null,null,null,null,null,null,null,null,null,null,null,null,null,null,null,null,null,null,null,null,null,null,null,null,null,null,null,null,null,null,null,null,null,null,null,null,null,null,null,null,null,null,null,null,null,null,null,null,null,null,null,null,null,null,null,null,null,null,null,null,null,null,null,null,null,null,null,null,null,null,null,null,null,null,null,null,null,null,null,null,null,null,null,null,null,null,null,null,null,null,null,null,null,null,null,null,null,null,null,null,null,null,null,null,null,null,null,null,null,null,null,null,null,null,null,null,null,null,null,null,null,null,null,null,null,null,null,null,null,null,null,null,null,null,null,null,null,null,null,null,null,null,null,null,null,null,null,null,null,null,null,null,null,null,null,null,null,null,null,null,null,null,null,null,null,null,null,null,null,null,null,null,null,null,null,null,null,null,null,null,null,null,null,null,null,null,null,null,null,null,null,null,null,null,null,null,null,null,null,null,null,null,null,null,null,null,null,null,null,null,null,null,null,null,null,null,null,null,null,null,null,null,null,null,null,null,null,null,null,null,null,null,null,null,null,null,null,null,null,null,null,null,null,null,null,null,null,null,null,null,null,null,null,null,null,null,null,null,null,null,null,null,null,null,null,null,null,null,null,null,null,null,null,null,null,null,null,null,null,null,null,null,null,null,null,null,null,null,null,null,null,null,null,null,null,null,null,null,null,null,null,null,null,null,null,null,null,null,null,null,null,null,null,null,null,null,null,null,null,null,null,null,null,null,null,null,null,null,null,null,null,null,null,null,null,null,null,null,null,null,null,null,null,null,null,null,null,null,null,null,null,null,null,null,null,null,null,null,null,null,null,null,null,null,null,null,null,null,null,null,null,null,null,null,null,null,null,null,null,null,null,null,null,null,null,null,null,null,null,null,null,null,null,null,null,null,null,null,null,null,null,null,null,null,null,null,null,null,null,null,null,null,null,null,null,null,null,null,null,null,null,null,null,null,null,null,null,null,null,null,null,null,null,null,null,null,null,null,null,null,null,null,null,null,null,null,null,null,null,null,null,null,null,null,null,null,null,null,null,null,null,null,null,null,null,null,null,null,null,null,null,null,null,null,null,null,null,null,null,null,null,null,null,null,null,null,null,null,null,null,null,null,null,null,null,null,null,null,null,null,null,null,null,null,null,null,null,null,null,null,null,null,null,null,null,null,null,null,null,null,null,null,null,null,null,null,null,null,null,null,null,null,null,null,null,null,null,null,null,null,null,null,null,null,null,null,null,null,null,null,null,null,null,null,null,null,null,null,null,null,null,null,null,null,null,null,null,null,null,null,null,null,null,null,null,null,null,null,null,null,null,null,null,null,null,null,null,null,null,null,null,null,null,null,null,null,null,null,null,null,null,null,null,null,null,null,null,null,null,null,null,null,null,null,null,null,null,null,null,null,null,null,null,null,null,null,null,null,null,null,null,null,null,null,null,null,null,null,null,null,null,null,null,null,null,null,null,null,null,null,null,null,null,null,null,null,null,null,null,null,null,null,null,null,null,null,null,null,null,null,null,null,null,null,null,null,null,null,null,null,null,null,null,null,null,null,null,null,null,null,null,null,null,null,null,null,null,null,null,null,null,null,null,null,null,null,null,null,null,null,null,null,null,null,null,null,null,null,null,null,null,null,null,null,null,null,null,null,null,null,null,null,null,null,null,null,null,null,null,null,null,null,null,null,null,null,null,null,null,null,null,null,null,null,null,null,null,null,null,null,null,null,null,null,null,null,null,null,null,null,null,null,null,null,null,null,null,null,null,null,null,null,null,null,null,null,null,null,null,null,null,null,null,null,null,null,null,null,null,null,null,null,null,null,null,null,null,null,null,null,null,null,null,null,null,null,null,null,null,null,null,null,null,null,null,null,null,null,null,null,null,null,null,null,null,null,null,null,null,null,null,null,null,null,null,null,null,null,null,null,null,null,null,null,null,null,null,null,null,null,null,null,null,null,null,null,null,null,null,null,null,null,null,null,null,null,null,null,null,null,null,null,null,null,null,null,null,null,null,null,null,null,null,null,null,null,null,null,null,null,null,null,null,null,null,null,null,null,null,null,null,null,null,null,null,null,null,null,null,null,null,null,null,null,null,null,null,null,null,null,null,null,null,null,null,null,null,null,null,null,null,null,null,null,null,null,null,null,null,null,null,null,null,null,null,null,null,null,null,null,null,null,null,null,null,null,null,null,null,null,null,null,null,null,null,null,null,null,null,null,null,null,null,null,null,null,null,null,null,null,null,null,null,null,null,null,null,null,null,null,null,null,null,null,null,null,null,null,null,null,null,null,null,null,null,null,null,null,null,null,null,null,null,null,null,null,null,null,null,null,null,null,null,null,null,null,null,null,null,null,null,null,null,null,null,null,null,null,null,null,null,null,null,null,null,null,null,null,null,null,null,null,null,null,null,null,null,null,null,null,null,null,null,null,null,null,null,null,null,null,null,null,null,null,null,null,null,null,null,null,null,null,null,null,null,null,null,null,null,null,null,null,null,null,null,null,null,null,null,null,null,null,null,null,null,null,null,null,null,null,null,null,null,null,null,null,null,null,null,null,null,null,null,null,null,null,null,null,null,null,null,null,null,null,null,null,null,null,null,null,null,null,null,null,null,null,null,null,null,null,null,null,null,null,null,null,null,null,null,null,null,null,null,null,null,null,null,null,null,null,null,null,null,null,null,null,null,null,null,null,null,null,null,null,null,null,null,null,null,null,null,null,null,null,null,null,null,null,null,null,null,null,null,null,null,null,null,null,null,null,null,null,null,null,null,null,null,null,null,null,null,null,null,null,null,null,null,null,null,null,null,null,null,null,null,null,null,null,null,null,null,null,null,null,null,null,null,null,null,null,null,null,null,null,null,null,null,null,null,null,null,null,null,null,null,null,null,null,null,null,null,null,null,null,null,null,null,null,null,null,null,null,null,null,null,null,null,null,null,null,null,null,null,null,null,null,null,null,null,null,null,null,null,null,null,null,null,null,null,null,null,null,null,null,null,null,null,null,null,null,null,null,null,null,null,null,null,null,null,null,null,null,null,null,null,null,null,null,null,null,null,null,null,null,null,null,null,null,null,null,null,null,null,null,null,null,null,null,null,null,null,null,null,null,null,null,null,null,null,null,null,null,null,null,null,null,null,null,null,null,null,null,null,null,null,null,null,null,null,null,null,null,null,null,null,null,null,null,null,null,null,null,null,null,null,null,null,null,null,null,null,null,null,null,null,null,null,null,null,null,null,null,null,null,null,null,null,null,null,null,null,null,null,null,null,null,null,null,null,null,null,null,null,null,null,null,null,null,null,null,null,null,null,null,null,null,null,null,null,null,null,null,null,null,null,null,null,null,null,null,null,null,null,null,null,null,null,null,null,null,null,null,null,null,null,null,null,null,null,null,null,null,null,null,null,null,null,null,null,null,null,null,null,null,null,null,null,null,null,null,null,null,null,null,null,null,null,null,null,null,null,null,null,null,null,null,null,null,null,null,null,null,null,null,null,null,null,null,null,null,null,null,null,null,null,null,null,null,null,null,null,null,null,null,null,null,null,null,null,null,null,null,null,null,null,null,null,null,null,null,null,null,null,null,null,null,null,null,null,null,null,null,null,null,null,null,null,null,null,null,null,null,null,null,null,null,null,null,null,null,null,null,null,null,null,null,null,null,null,null,null,null,null,null,null,null,null,null,null,null,null,null,null,null,null,null,null,null,null,null,null,null,null,null,null,null,null,null,null,null,null,null,null,null,null,null,null,null,null,null,null,null,null,null,null,null,null,null,null,null,null,null,null,null,null,null,null,null,null,null,null,null,null,null,null,null,null,null,null,null,null,null,null,null,null,null,null,null,null,null,null,null,null,null,null,null,null,null,null,null,null,null,null,null,null,null,null,null,null,null,null,null,null,null,null,null,null,null,null,null,null,null,null,null,null,null,null,null,null,null,null,null,null,null,null,null,null,null,null,null,null,null,null,null,null,null,null,null,null,null,null,null,null,null,null,null,null,null,null,null,null,null,null,null,null,null,null,null,null,null,null,null,null,null,null,null,null,null,null,null,null,null,null,null,null,null,null,null,null,null,null,null,null,null,null,null,null,null,null,null,null,null,null,null,null,null,null,null,null,null,null,null,null,null,null,null,null,null,null,null,null,null,null,null,null,null,null,null,null,null,null,null,null,null,null,null,null,null,null,null,null,null,null,null,null,null,null,null,null,null,null,null,null,null,null,null,null,null,null,null,null,null,null,null,null,null,null,null,null,null,null,null,null,null,null,null,null,null,null,null,null,null,null,null,null,null,null,null,null,null,null,null,null,null,null,null,null,null,null,null,null,null,null,null,null,null,null,null,null,null,null,null,null,null,null,null,null,null,null,null,null,null,null,null,null,null,null,null,null,null,null,null,null,null,null,null,null,null,null,null,null,null,null,null,null,null,null,null,null,null,null,null,null,null,null,null,null,null,null,null,null,null,null,null,null,null,null,null,null,null,null,null,null,null,null,null,null,null,null,null,null,null,null,null,null,null,null,null,null,null,null,null,null,null,null,null,null,null,null,null,null,null,null,null,null,null,null,null,null,null,null,null,null,null,null,null,null,null,null,null,null,null,null,null,null,null,null,null,null,null,null,null,null,null,null,null,null,null,null,null,null,null,null,null,null,null,null,null,null,null,null,null,null,null,null,null,null,null,null,null,null,null,null,null,null,null,null,null,null,null,null,null,null,null,null,null,null,null,null,null,null,null,null,null,null,null,null,null,null,null,null,null,null,null,null,null,null,null,null,null,null,null,null,null,null,null,null,null,null,null,null,null,null,null,null,null,null,null,null,null,null,null,null,null,null,null,null,null,null,null,null,null,null,null,null,null,null,null,null,null,null,null,null,null,null,null,null,null,null,null,null,null,null,null,null,null,null,null,null,null,null,null,null,null,null,null,null,null,null,null,null,null,null,null,null,null,null,null,null,null,null,null,null,null,null,null,null,null,null,null,null,null,null,null,null,null,null,null,null,null,null,null,null,null,null,null,null,null,null,null,null,null,null,null,null,null,null,null,null,null,null,null,null,null,null,null,null,null,null,null,null,null,null,null,null,null,null,null,null,null,null,null,null,null,null,null,null,null,null,null,null,null,null,null,null,null,null,null,null,null,null,null,null,null,null,null,null,null,null,null,null,null,null,null,null,null,null,null,null,null,null,null,null,null,null,null,null,null,null,null,null,null,null,null,null,null,null,null,null,null,null,null,null,null,null,null,null,null,null,null,null,null,null,null,null,null,null,null,null,null,null,null,null,null,null,null,null,null,null,null,null,null,null,null,null,null,null,null,null,null,null,null,null,null,null,null,null,null,null,null,null,null,null,null,null,null,null,null,null,null,null,null,null,null,null,null,null,null,null,null,null,null,null,null,null,null,null,null,null,null,null,null,null,null,null,null,null,null,null,null,null,null,null,null,null,null,null,null,null,null,null,null,null,null,null,null,null,null,null,null,null,null,null,null,null,null,null,null,null,null,null,null,null,null,null,null,null,null,null,null,null,null,null,null,null,null,null,null,null,null,null,null,null,null,null,null,null,null,null,null,null,null,null,null,null,null,null,null,null,null,null,null,null,null,null,null,null,null,null,null,null,null,null,null,null,null,null,null,null,null,null,null,null,null,null,null,null,null,null,null,null,null,null,null,null,null,null,null,null,null,null,null,null,null,null,null,null,null,null,null,null,null,null,null,null,null,null,null,null,null,null,null,null,null,null,null,null,null,null,null,null,null,null,null,null,null,null,null,null,null,null,null,null,null,null,null,null,null,null,null,null,null,null,null,null,null,null,null,null,null,null,null,null,null,null,null,null,null,null,null,null,null,null,null,null,null,null,null,null,null,null,null,null,null,null,null,null,null,null,null,null,null,null,null,null,null,null,null,null,null,null,null,null,null,null,null,null,null,null,null,null,null,null,null,null,null,null,null,null,null,null,null,null,null,null,null,null,null,null,null,null,null,null,null,null,null,null,null,null,null,null,null,null,null,null,null,null,null,null,null,null,null,null,null,null,null,null,null,null,null,null,null,null,null,null,null,null,null,null,null,null,null,null,null,null,null,null,null,null,null,null,null,null,null,null,null,null,null,null,null,null,null,null,null,null,null,null,null,null,null,null,null,null,null,null,null,null,null,null,null,null,null,null,null,null,null,null,null,null,null,null,null,null,null,null,null,null,null,null,null,null,null,null,null,null,null,null,null,null,null,null,null,null,null,null,null,null,null,null,null,null,null,null,null,null,null,null,null,null,null,null,null,null,null,null,null,null,null,null,null,null,null,null,null,null,null,null,null,null,null,null,null,null,null,null,null,null,null,null,null,null,null,null,null,null,null,null,null,null,null,null,null,null,null,null,null,null,null,null,null,null,null,null,null,null,null,null,null,null,null,null,null,null,null,null,null,null,null,null,null,null,null,null,null,null,null,null,null,null,null,null,null,null,null,null,null,null,null,null,null,null,null,null,null,null,null,null,null,null,null,null,null,null,null,null,null,null,null,null,null,null,null,null,null,null,null,null,null,null,null,null,null,null,null,null,null,null,null,null,null,null,null,null,null,null,null,null,null,null,null,null,null,null,null,null,null,null,null,null,null,null,null,null,null,null,null,null,null,null,null,null,null,null,null,null,null,null,null,null,null,null,null,null,null,null,null,null,null,null,null,null,null,null,null,null,null,null,null,null,null,null,null,null,null,null,null,null,null,null,null,null,null,null,null,null,null,null,null,null,null,null,null,null,null,null,null,null,null,null,null,null,null,null,null,null,null,null,null,null,null,null,null,null,null,null,null,null,null,null,null,null,null,null,null,null,null,null,null,null,null,null,null,null,null,null,null,null,null,null,null,null,null,null,null,null,null,null,null,null,null,null,null,null,null,null,null,null,null,null,null,null,null,null,null,null,null,null,null,null,null,null,null,null,null,null,null,null,null,null,null,null,null,null,null,null,null,null,null,null,null,null,null,null,null,null,null,null,null,null,null,null,null,null,null,null,null,null,null,null,null,null,null,null,null,null,null,null,null,null,null,null,null,null,null,null,null,null,null,null,null,null,null,null,null,null,null,null,null,null,null,null,null,null,null,null,null,null,null,null,null,null,null,null,null,null,null,null,null,null,null,null,null,null,null,null,null,null,null,null,null,null,null,null,null,null,null,null,null,null,null,null,null,null,null,null,null,null,null,null,null,null,null,null,null,null,null,null,null,null,null,null,null,null,null,null,null,null,null,null,null,null,null,null,null,null,null,null,null,null,null,null,null,null,null,null,null,null,null,null,null,null,null,null,null,null,null,null,null,null,null,null,null,null,null,null,null,null,null,null,null,null,null,null,null,null,null,null,null,null,null,null,null,null,null,null,null,null,null,null,null,null,null,null,null,null,null,null,null,null,null,null,null,null,null,null,null,null,null,null,null,null,null,null,null,null,null,null,null,null,null,null,null,null,null,null,null,null,null,null,null,null,null,null,null,null,null,null,null,null,null,null,null,null,null,null,null,null,null,null,null,null,null,null,null,null,null,null,null,null,null,null,null,null,null,null,null,null,null,null,null,null,null,null,null,null,null,null,null,null,null,null,null,null,null,null,null,null,null,null,null,null,null,null,null,null,null,null,null,null,null,null,null,null,null,null,null,null,null,null,null,null,null,null,null,null,null,null,null,null,null,null,null,null,null,null,null,null,null,null,null,null,null,null,null,null,null,null,null,null,null,null,null,null,null,null,null,null,null,null,null,null,null,null,null,null,null,null,null,null,null,null,null,null,null,null,null,null,null,null,null,null,null,null,null,null,null,null,null,null,null,null,null,null,null,null,null,null,null,null,null,null,null,null,null,null,null,null,null,null,null,null,null,null,null,null,null,null,null,null,null,null,null,null,null,null,null,null,null,null,null,null,null,null,null,null,null,null,null,null,null,null,null,null,null,null,null,null,null,null,null,null,null,null,null,null,null,null,null,null,null,null,null,null,null,null,null,null,null,null,null,null,null,null,null,null,null,null,null,null,null,null,null,null,null,null,null,null,null,null,null,null,null,null,null,null,null,null,null,null,null,null,null,null,null,null,null,null,null,null,null,null,null,null,null,null,null,null,null,null,null,null,null,null,null,null,null,null,null,null,null,null,null,null,null,null,null,null,null,null,null,null,null,null,null,null,null,null,null,null,null,null,null,null,null,null,null,null,null,null,null,null,null,null,null,null,null,null,null,null,null,null,null,null,null,null,null,null,null,null,null,null,null,null,null,null,null,null,null,null,null,null,null,null,null,null,null,null,null,null,null,null,null,null,null,null,null,null,null,null,null,null,null,null,null,null,null,null,null,null,null,null,null,null,null,null,null,null,null,null,null,null,null,null,null,null,null,null,null,null,null,null,null,null,null,null,null,null,null,null,null,null,null,null,null,null,null,null,null,null,null,null,null,null,null,null,null,null,null,null,null,null,null,null,null,null,null,null,null,null,null,null,null,null,null,null,null,null,null,null,null,null,null,null,null,null,null,null,null,null,null,null,null,null,null,null,null,null,null,null,null,null,null,null,null,null,null,null,null,null,null,null,null,null,null,null,null,null,null,null,null,null,null,null,null,null,null,null,null,null,null,null,null,null,null,null,null,null,null,null,null,null,null,null,null,null,null,null,null,null,null,null,null,null,null,null,null,null,null,null,null,null,null,null,null,null,null,null,null,null,null,null,null,null,null,null,null,null,null,null,null,null,null,null,null,null,null,null,null,null,null,null,null,null,null,null,null,null,null,null,null,null,null,null,null,null,null,null,null,null,null,null,null,null,null,null,null,null,null,null,null,null,null,null,null,null,null,null,null,null,null,null,null,null,null,null,null,null,null,null,null,null,null,null,null,null,null,null,null,null,null,null,null,null,null,null,null,null,null,null,null,null,null,null,null,null,null,null,null,null,null,null,null,null,null,null,null,null,null,null,null,null,null,null,null,null,null,null,null,null,null,null,null,null,null,null,null,null,null,null,null,null,null,null,null,null,null,null,null,null,null,null,null,null,null,null,null,null,null,null,null,null,null,null,null,null,null,null,null,null,null,null,null,null,null,null,null,null,null,null,null,null,null,null,null,null,null,null,null,null,null,null,null,null,null,null,null,null,null,null,null,null,null,null,null,null,null,null,null,null,null,null,null,null,null,null,null,null,null,null,null,null,null,null,null,null,null,null,null,null,null,null,null,null,null,null,null,null,null,null,null,null,null,null,null,null,null,null,null,null,null,null,null,null,null,null,null,null,null,null,null,null,null,null,null,null,null,null,null,null,null,null,null,null,null,null,null,null,null,null,null,null,null,null,null,null,null,null,null,null,null,null,null,null,null,null,null,null,null,null,null,null,null,null,null,null,null,null,null,null,null,null,null,null,null,null,null,null,null,null,null,null,null,null,null,null,null,null,null,null,null,null,null,null,null,null,null,null,null,null,null,null,null,null,null,null,null,null,null,null,null,null,null,null,null,null,null,null,null,null,null,null,null,null,null,null,null,null,null,null,null,null,null,null,null,null,null,null,null,null,null,null,null,null,null,null,null,null,null,null,null,null,null,null,null,null,null,null,null,null,null,null,null,null,null,null,null,null,null,null,null,null,null,null,null,null,null,null,null,null,null,null,null,null,null,null,null,null,null,null,null,null,null,null,null,null,null,null,null,null,null,null,null,null,null,null,null,null,null,null,null,null,null,null,null,null,null,null,null,null,null,null,null,null,null,null,null,null,null,null,null,null,null,null,null,null,null,null,null,null,null,null,null,null,null,null,null,null,null,null,null,null,null,null,null,null,null,null,null,null,null,null,null,null,null,null,null,null,null,null,null,null,null,null,null,null,null,null,null,null,null,null,null,null,null,null,null,null,null,null,null,null,null,null,null,null,null,null,null,null,null,null,null,null,null,null,null,null,null,null,null,null,null,null,null,null,null,null,null,null,null,null,null,null,null,null,null,null,null,null,null,null,null,null,null,null,null,null,null,null,null,null,null,null,null,null,null,null,null,null,null,null,null,null,null,null,null,null,null,null,null,null,null,null,null,null,null,null,null,null,null,null,null,null,null,null,null,null,null,null,null,null,null,null,null,null,null,null,null,null,null,null,null,null,null,null,null,null,null,null,null,null,null,null,null,null,null,null,null,null,null,null,null,null,null,null,null,null,null,null,null,null,null,null,null,null,null,null,null,null,null,null,null,null,null,null,null,null,null,null,null,null,null,null,null,null,null,null,null,null,null,null,null,null,null,null,null,null,null,null,null,null,null,null,null,null,null,null,null,null,null,null,null,null,null,null,null,null,null,null,null,null,null,null,null,null,null,null,null,null,null,null,null,null,null,null,null,null,null,null,null,null,null,null,null,null,null,null,null,null,null,null,null,null,null,null,null,null,null,null,null,null,null,null,null,null,null,null,null,null,null,null,null,null,null,null,null,null,null,null,null,null,null,null,null,null,null,null,null,null,null,null,null,null,null,null,null,null,null,null,null,null,null,null,null,null,null,null,null,null,null,null,null,null,null,null,null,null,null,null,null,null,null,null,null,null,null,null,null,null,null,null,null,null,null,null,null,null,null,null,null,null,null,null,null,null,null,null,null,null,null,null,null,null,null,null,null,null,null,null,null,null,null,null,null,null,null,null,null,null,null,null,null,null,null,null,null,null,null,null,null,null,null,null,null,null,null,null,null,null,null,null,null,null,null,null,null,null,null,null,null,null,null,null,null,null,null,null,null,null,null,null,null,null,null,null,null,null,null,null,null,null,null,null,null,null,null,null,null,null,null,null,null,null,null,null,null,null,null,null,null,null,null,null,null,null,null,null,null,null,null,null,null,null,null,null,null,null,null,null,null,null,null,null,null,null,null,null,null,null,null,null,null,null,null,null,null,null,null,null,null,null,null,null,null,null,null,null,null,null,null,null,null,null,null,null,null,null,null,null,null,null,null,null,null,null,null,null,null,null,null,null,null,null,null,null,null,null,null,null,null,null,null,null,null,null,null,null,null,null,null,null,null,null,null,null,null,null,null,null,null,null,null,null,null,null,null,null,null,null,null,null,null,null,null,null,null,null,null,null,null,null,null,null,null,null,null,null,null,null,null,null,null,null,null,null,null,null,null,null,null,null,null,null,null,null,null,null,null,null,null,null,null,null,null,null,null,null,null,null,null,null,null,null,null,null,null,null,null,null,null,null,null,null,null,null,null,null,null,null,null,null,null,null,null,null,null,null,null,null,null,null,null,null,null,null,null,null,null,null,null,null,null,null,null,null,null,null,null,null,null,null,null,null,null,null,null,null,null,null,null,null,null,null,null,null,null,null,null,null,null,null,null,null,null,null,null,null,null,null,null,null,null,null,null,null,null,null,null,null,null,null,null,null,null,null,null,null,null,null,null,null,null,null,null,null,null,null,null,null,null,null,null,null,null,null,null,null,null,null,null,null,null,null,null,null,null,null,null,null,null,null,null,null,null,null,null,null,null,null,null,null,null,null,null,null,null,null,null,null,null,null,null,null,null,null,null,null,null,null,null,null,null,null,null,null,null,null,null,null,null,null,null,null,null,null,null,null,null,null,null,null,null,null,null,null,null,null,null,null,null,null,null,null,null,null,null,null,null,null,null,null,null,null,null,null,null,null,null,null,null,null,null,null,null,null,null,null,null,null,null,null,null,null,null,null,null,null,null,null,null,null,null,null,null,null,null,null,null,null,null,null,null,null,null,null,null,null,null,null,null,null,null,null,null,null,null,null,null,null,null,null,null,null,null,null,null,null,null,null,null,null,null,null,null,null,null,null,null,null,null,null,null,null,null,null,null,null,null,null,null,null,null,null,null,null,null,null,null,null,null,null,null,null,null,null,null,null,null,null,null,null,null,null,null,null,null,null,null,null,null,null,null,null,null,null,null,null,null,null,null,null,null,null,null,null,null,null,null,null,null,null,null,null,null,null,null,null,null,null,null,null,null,null,null,null,null,null,null,null,null,null,null,null,null,null,null,null,null,null,null,null,null,null,null,null,null,null,null,null,null,null,null,null,null,null,null,null,null,null,null,null,null,null,null,null,null,null,null,null,null,null,null,null,null,null,null,null,null,null,null,null,null,null,null,null,null,null,null,null,null,null,null,null,null,null,null,null,null,null,null,null,null,null,null,null,null,null,null,null,null,null,null,null,null,null,null,null,null,null,null,null,null,null,null,null,null,null,null,null,null,null,null,null,null,null,null,null,null,null,null,null,null,null,null,null,null,null,null,null,null,null,null,null,null,null,null,null,null,null,null,null,null,null,null,null,null,null,null,null,null,null,null,null,null,null,null,null,null,null,null,null,null,null,null,null,null,null,null,null,null,null,null,null,null,null,null,null,null,null,null,null,null,null,null,null,null,null,null,null,null,null,null,null,null,null,null,null,null,null,null,null,null,null,null,null,null,null,null,null,null,null,null,null,null,null,null,null,null,null,null,null,null,null,null,null,null,null,null,null,null,null,null,null,null,null,null,null,null,null,null,null,null,null,null,null,null,null,null,null,null,null,null,null,null,null,null,null,null,null,null,null,null,null,null,null,null,null,null,null,null,null,null,null,null,null,null,null,null,null,null,null,null,null,null,null,null,null,null,null,null,null,null,null,null,null,null,null,null,null,null,null,null,null,null,null,null,null,null,null,null,null,null,null,null,null,null,null,null,null,null,null,null,null,null,null,null,null,null,null,null,null,null,null,null,null,null,null,null,null,null,null,null,null,null,null,null,null,null,null,null,null,null,null,null,null,null,null,null,null,null,null,null,null,null,null,null,null,null,null,null,null,null,null,null,null,null,null,null,null,null,null,null,null,null,null,null,null,null,null,null,null,null,null,null,null,null,null,null,null,null,null,null,null,null,null,null,null,null,null,null,null,null,null,null,null,null,null,null,null,null,null,null,null,null,null,null,null,null,null,null,null,null,null,null,null,null,null,null,null,null,null,null,null,null,null,null,null,null,null,null,null,null,null,null,null,null,null,null,null,null,null,null,null,null,null,null,null,null,null,null,null,null,null,null,null,null,null,null,null,null,null,null,null,null,null,null,null,null,null,null,null,null,null,null,null,null,null,null,null,null,null,null,null,null,null,null,null,null,null,null,null,null,null,null,null,null,null,null,null,null,null,null,null,null,null,null,null,null,null,null,null,null,null,null,null,null,null,null,null,null,null,null,null,null,null,null,null,null,null,null,null,null,null,null,null,null,null,null,null,null,null,null,null,null,null,null,null,null,null,null,null,null,null,null,null,null,null,null,null,null,null,null,null,null,null,null,null,null,null,null,null,null,null,null,null,null,null,null,null,null,null,null,null,null,null,null,null,null,null,null,null,null,null,null,null,null,null,null,null,null,null,null,null,null,null,null,null,null,null,null,null,null,null,null,null,null,null,null,null,null,null,null,null,null,null,null,null,null,null,null,null,null,null,null,null,null,null,null,null,null,null,null,null,null,null,null,null,null,null,null,null,null,null,null,null,null,null,null,null,null,null,null,null,null,null,null,null,null,null,null,null,null,null,null,null,null,null,null,null,null,null,null,null,null,null,null,null,null,null,null,null,null,null,null,null,null,null,null,null,null,null,null,null,null,null,null,null,null,null,null,null,null,null,null,null,null,null,null,null,null,null,null,null,null,null,null,null,null,null,null,null,null,null,null,null,null,null,null,null,null,null,null,null,null,null,null,null,null,null,null,null,null,null,null,null,null,null,null,null,null,null,null,null,null,null,null,null,null,null,null,null,null,null,null,null,null,null,null,null,null,null,null,null,null,null,null,null,null,null,null,null,null,null,null,null,null,null,null,null,null,null,null,null,null,null,null,null,null,null,null,null,null,null,null,null,null,null,null,null,null,null,null,null,null,null,null,null,null,null,null,null,null,null,null,null,null,null,null,null,null,null,null,null,null,null,null,null,null,null,null,null,null,null,null,null,null,null,null,null,null,null,null,null,null,null,null,null,null,null,null,null,null,null,null,null,null,null,null,null,null,null,null,null,null,null,null,null,null,null,null,null,null,null,null,null,null,null,null,null,null,null,null,null,null,null,null,null,null,null,null,null,null,null,null,null,null,null,null,null,null,null,null,null,null,null,null,null,null,null,null,null,null,null,null,null,null,null,null,null,null,null,null,null,null,null,null,null,null,null,null,null,null,null,null,null,null,null,null,null,null,null,null,null,null,null,null,null,null,null,null,null,null,null,null,null,null,null,null,null,null,null,null,null,null,null,null,null,null,null,null,null,null,null,null,null,null,null,null,null,null,null,null,null,null,null,null,null,null,null,null,null,null,null,null,null,null,null,null,null,null,null,null,null,null,null,null,null,null,null,null,null,null,null,null,null,null,null,null,null,null,null,null,null,null,null,null,null,null,null,null,null,null,null,null,null,null,null,null,null,null,null,null,null,null,null,null,null,null,null,null,null,null,null,null,null,null,null,null,null,null,null,null,null,null,null,null,null,null,null,null,null,null,null,null,null,null,null,null,null,null,null,null,null,null,null,null,null,null,null,null,null,null,null,null,null,null,null,null,null,null,null,null,null,null,null,null,null,null,null,null,null,null,null,null,null,null,null,null,null,null,null,null,null,null,null,null,null,null,null,null,null,null,null,null,null,null,null,null,null,null,null,null,null,null,null,null,null,null,null,null,null,null,null,null,null,null,null,null,null,null,null,null,null,null,null,null,null,null,null,null,null,null,null,null,null,null,null,null,null,null,null,null,null,null,null,null,null,null,null,null,null,null,null,null,null,null,null,null,null,null,null,null,null,null,null,null,null,null,null,null,null,null,null,null,null,null,null,null,null,null,null,null,null,null,null,null,null,null,null,null,null,null,null,null,null,null,null,null,null,null,null,null,null,null,null,null,null,null,null,null,null,null,null,null,null,null,null,null,null,null,null,null,null,null,null,null,null,null,null,null,null,null,null,null,null,null,null,null,null,null,null,null,null,null,null,null,null,null,null,null,null,null,null,null,null,null,null,null,null,null,null,null,null,null,null,null,null,null,null,null,null,null,null,null,null,null,null,null,null,null,null,null,null,null,null,null,null,null,null,null,null,null,null,null,null,null,null,null,null,null,null,null,null,null,null,null,null,null,null,null,null,null,null,null,null,null,null,null,null,null,null,null,null,null,null,null,null,null,null,null,null,null,null,null,null,null,null,null,null,null,null,null,null,null,null,null,null,null,null,null,null,null,null,null,null,null,null,null,null,null,null,null,null,null,null,null,null,null,null,null,null,null,null,null,null,null,null,null,null,null,null,null,null,null,null,null,null,null,null,null,null,null,null,null,null,null,null,null,null,null,null,null,null,null,null,null,null,null,null,null,null,null,null,null,null,null,null,null,null,null,null,null,null,null,null,null,null,null,null,null,null,null,null,null,null,null,null,null,null,null,null,null,null,null,null,null,null,null,null,null,null,null,null,null,null,null,null,null,null,null,null,null,null,null,null,null,null,null,null,null,null,null,null,null,null,null,null,null,null,null,null,null,null,null,null,null,null,null,null,null,null,null,null,null,null,null,null,null,null,null,null,null,null,null,null,null,null,null,null,null,null,null,null,null,null,null,null,null,null,null,null,null,null,null,null,null,null,null,null,null,null,null,null,null,null,null,null,null,null,null,null,null,null,null,null,null,null,null,null,null,null,null,null,null,null,null,null,null,null,null,null,null,null,null,null,null,null,null,null,null,null,null,null,null,null,null,null,null,null,null,null,null,null,null,null,null,null,null,null,null,null,null,null,null,null,null,null,null,null,null,null,null,null,null,null,null,null,null,null,null,null,null,null,null,null,null,null,null,null,null,null,null,null,null,null,null,null,null,null,null,null,null,null,null,null,null,null,null,null,null,null,null,null,null,null,null,null,null,null,null,null,null,null,null,null,null,null,null,null,null,null,null,null,null,null,null,null,null,null,null,null,null,null,null,null,null,null,null,null,null,null,null,null,null,null,null,null,null,null,null,null,null,null,null,null,null,null,null,null,null,null,null,null,null,null,null,null,null,null,null,null,null,null,null,null,null,null,null,null,null,null,null,null,null,null,null,null,null,null,null,null,null,null,null,null,null,null,null,null,null,null,null,null,null,null,null,null,null,null,null,null,null,null,null,null,null,null,null,null,null,null,null,null,null,null,null,null,null,null,null,null,null,null,null,null,null,null,null,null,null,null,null,null,null,null,null,null,null,null,null,null,null,null,null,null,null,null,null,null,null,null,null,null,null,null,null,null,null,null,null,null,null,null,null,null,null,null,null,null,null,null,null,null,null,null,null,null,null,null,null,null,null,null,null,null,null,null,null,null,null,null,null,null,null,null,null,null,null,null,null,null,null,null,null,null,null,null,null,null,null,null,null,null,null,null,null,null,null,null,null,null,null,null,null,null,null,null,null,null,null,null,null,null,null,null,null,null,null,null,null,null,null,null,null,null,null,null,null,null,null,null,null,null,null,null,null,null,null,null,null,null,null,null,null,null,null,null,null,null,null,null,null,null,null,null,null,null,null,null,null,null,null,null,null,null,null,null,null,null,null,null,null,null,null,null,null,null,null,null,null,null,null,null,null,null,null,null,null,null,null,null,null,null,null,null,null,null,null,null,null,null,null,null,null,null,null,null,null,null,null,null,null,null,null,null,null,null,null,null,null,null,null,null,null,null,null,null,null,null,null,null,null,null,null,null,null,null,null,null,null,null,null,null,null,null,null,null,null,null,null,null,null,null,null,null,null,null,null,null,null,null,null,null,null,null,null,null,null,null,null,null,null,null,null,null,null,null,null,null,null,null,null,null,null,null,null,null,null,null,null,null,null,null,null,null,null,null,null,null,null,null,null,null,null,null,null,null,null,null,null,null,null,null,null,null,null,null,null,null,null,null,null,null,null,null,null,null,null,null,null,null,null,null,null,null,null,null,null,null,null,null,null,null,null,null,null,null,null,null,null,null,null,null,null,null,null,null,null,null,null,null,null,null,null,null,null,null,null,null,null,null,null,null,null,null,null,null,null,null,null,null,null,null,null,null,null,null,null,null,null,null,null,null,null,null,null,null,null,null,null,null,null,null,null,null,null,null,null,null,null,null,null,null,null,null,null,null,null,null,null,null,null,null,null,null,null,null,null,null,null,null,null,null,null,null,null,null,null,null,null,null,null,null,null,null,null,null,null,null,null,null,null,null,null,null,null,null,null,null,null,null,null,null,null,null,null,null,null,null,null,null,null,null,null,null,null,null,null,null,null,null,null,null,null,null,null,null,null,null,null,null,null,null,null,null,null,null,null,null,null,null,null,null,null,null,null,null,null,null,null,null,null,null,null,null,null,null,null,null,null,null,null,null,null,null,null,null,null,null,null,null,null,null,null,null,null,null,null,null,null,null,null,null,null,null,null,null,null,null,null,null,null,null,null,null,null,null,null,null,null,null,null,null,null,null,null,null,null,null,null,null,null,null,null,null,null,null,null,null,null,null,null,null,null,null,null,null,null,null,null,null,null,null,null,null,null,null,null,null,null,null,null,null,null,null,null,null,null,null,null,null,null,null,null,null,null,null,null,null,null,null,null,null,null,null,null,null,null,null,null,null,null,null,null,null,null,null,null,null,null,null,null,null,null,null,null,null,null,null,null,null,null,null,null,null,null,null,null,null,null,null,null,null,null,null,null,null,null,null,null,null,null,null,null,null,null,null,null,null,null,null,null,null,null,null,null,null,null,null,null,null,null,null,null,null,null,null,null,null,null,null,null,null,null,null,null,null,null,null,null,null,null,null,null,null,null,null,null,null,null,null,null,null,null,null,null,null,null,null,null,null,null,null,null,null,null,null,null,null,null,null,null,null,null,null,null,null,null,null,null,null,null,null,null,null,null,null,null,null,null,null,null,null,null,null,null,null,null,null,null,null,null,null,null,null,null,null,null,null,null,null,null,null,null,null,null,null,null,null,null,null,null,null,null,null,null,null,null,null,null,null,null,null,null,null,null,null,null,null,null,null,null,null,null,null,null,null,null,null,null,null,null,null,null,null,null,null,null,null,null,null,null,null,null,null,null,null,null,null,null,null,null,null,null,null,null,null,null,null,null,null,null,null,null,null,null,null,null,null,null,null,null,null,null,null,null,null,null,null,null,null,null,null,null,null,null,null,null,null,null,null,null,null,null,null,null,null,null,null,null,null,null,null,null,null,null,null,null,null,null,null,null,null,null,null,null,null,null,null,null,null,null,null,null,null,null,null,null,null,null,null,null,null,null,null,null,null,null,null,null,null,null,null,null,null,null,null,null,null,null,null,null,null,null,null,null,null,null,null,null,null,null,null,null,null,null,null,null,null,null,null,null,null,null,null,null,null,null,null,null,null,null,null,null,null,null,null,null,null,null,null,null,null,null,null,null,null,null,null,null,null,null,null,null,null,null,null,null,null,null,null,null,null,null,null,null,null,null,null,null,null,null,null,null,null,null,null,null,null,null,null,null,null,null,null,null,null,null,null,null,null,null,null,null,null,null,null,null,null,null,null,null,null,null,null,null,null,null,null,null,null,null,null,null,null,null,null,null,null,null,null,null,null,null,null,null,null,null,null,null,null,null,null,null,null,null,null,null,null,null,null,null,null,null,null,null,null,null,null,null,null,null,null,null,null,null,null,null,null,null,null,null,null,null,null,null,null,null,null,null,null,null,null,null,null,null,null,null,null,null,null,null,null,null,null,null,null,null,null,null,null,null,null,null,null,null,null,null,null,null,null,null,null,null,null,null,null,null,null,null,null,null,null,null,null,null,null,null,null,null,null,null,null,null,null,null,null,null,null,null,null,null,null,null,null,null,null,null,null,null,null,null,null,null,null,null,null,null,null,null,null,null,null,null,null,null,null,null,null,null,null,null,null,null,null,null,null,null,null,null,null,null,null,null,null,null,null,null,null,null,null,null,null,null,null,null,null,null,null,null,null,null,null,null,null,null,null,null,null,null,null,null,null,null,null,null,null,null,null,null,null,null,null,null,null,null,null,null,null,null,null,null,null,null,null,null,null,null,null,null,null,null,null,null,null,null,null,null,null,null,null,null,null,null,null,null,null,null,null,null,null,null,null,null,null,null,null,null,null,null,null,null,null,null,null,null,null,null,null,null,null,null,null,null,null,null,null,null,null,null,null,null,null,null,null,null,null,null,null,null,null,null,null,null,null,null,null,null,null,null,null,null,null,null,null,null,null,null,null,null,null,null,null,null,null,null,null,null,null,null,null,null,null,null,null,null,null,null,null,null,null,null,null,null,null,null,null,null,null,null,null,null,null,null,null,null,null,null,null,null,null,null,null,null,null,null,null,null,null,null,null,null,null,null,null,null,null,null,null,null,null,null,null,null,null,null,null,null,null,null,null,null,null,null,null,null,null,null,null,null,null,null,null,null,null,null,null,null,null,null,null,null,null,null,null,null,null,null,null,null,null,null,null,null,null,null,null,null,null,null,null,null,null,null,null,null,null,null,null,null,null,null,null,null,null,null,null,null,null,null,null,null,null,null,null,null,null,null,null,null,null,null,null,null,null,null,null,null,null,null,null,null,null,null,null,null,null,null,null,null,null,null,null,null,null,null,null,null,null,null,null,null,null,null,null,null,null,null,null,null,null,null,null,null,null,null,null,null,null,null,null,null,null,null,null,null,null,null,null,null,null,null,null,null,null,null,null,null,null,null,null,null,null,null,null,null,null,null,null,null,null,null,null,null,null,null,null,null,null,null,null,null,null,null,null,null,null,null,null,null,null,null,null,null,null,null,null,null,null,null,null,null,null,null,null,null,null,null,null,null,null,null,null,null,null,null,null,null,null,null,null,null,null,null,null,null,null,null,null,null,null,null,null,null,null,null,null,null,null,null,null,null,null,null,null,null,null,null,null,null,null,null,null,null,null,null,null,null,null,null,null,null,null,null,null,null,null,null,null,null,null,null,null,null,null,null,null,null,null,null,null,null,null,null,null,null,null,null,null,null,null,null,null,null,null,null,null,null,null,null,null,null,null,null,null,null,null,null,null,null,null,null,null,null,null,null,null,null,null,null,null,null,null,null,null,null,null,null,null,null,null,null,null,null,null,null,null,null,null,null,null,null,null,null,null,null,null,null,null,null,null,null,null,null,null,null,null,null,null,null,null,null,null,null,null,null,null,null,null,null,null,null,null,null,null,null,null,null,null,null,null,null,null,null,null,null,null,null,null,null,null,null,null,null,null,null,null,null,null,null,null,null,null,null,null,null,null,null,null,null,null,null,null,null,null,null,null,null,null,null,null,null,null,null,null,null,null,null,null,null,null,null,null,null,null,null,null,null,null,null,null,null,null,null,null,null,null,null,null,null,null,null,null,null,null,null,null,null,null,null,null,null,null,null,null,null,null,null,null,null,null,null,null,null,null,null,null,null,null,null,null,null,null,null,null,null,null,null,null,null,null,null,null,null,null,null,null,null,null,null,null,null,null,null,null,null,null,null,null,null,null,null,null,null,null,null,null,null,null,null,null,null,null,null,null,null,null,null,null,null,null,null,null,null,null,null,null,null,null,null,null,null,null,null,null,null,null,null,null,null,null,null,null,null,null,null,null,null,null,null,null,null,null,null,null,null,null,null,null,null,null,null,null,null,null,null,null,null,null,null,null,null,null,null,null,null,null,null,null,null,null,null,null,null,null,null,null,null,null,null,null,null,null,null,null,null,null,null,null,null,null,null,null,null,null,null,null,null,null,null,null,null,null,null,null,null,null,null,null,null,null,null,null,null,null,null,null,null,null,null,null,null,null,null,null,null,null,null,null,null,null,null,null,null,null,null,null,null,null,null,null,null,null,null,null,null,null,null,null,null,null,null,null,null,null,null,null,null,null,null,null,null,null,null,null,null,null,null,null,null,null,null,null,null,null,null,null,null,null,null,null,null,null,null,null,null,null,null,null,null,null,null,null,null,null,null,null,null,null,null,null,null,null,null,null,null,null,null,null,null,null,null,null,null,null,null,null,null,null,null,null,null,null,null,null,null,null,null,null,null,null,null,null,null,null,null,null,null,null,null,null,null,null,null,null,null,null,null,null,null,null,null,null,null,null,null,null,null,null,null,null,null,null,null,null,null,null,null,null,null,null,null,null,null,null,null,null,null,null,null,null,null,null,null,null,null,null,null,null,null,null,null,null,null,null,null,null,null,null,null,null,null,null,null,null,null,null,null,null,null,null,null,null,null,null,null,null,null,null,null,null,null,null,null,null,null,null,null,null,null,null,null,null,null,null,null,null,null,null,null,null,null,null,null,null,null,null,null,null,null,null,null,null,null,null,null,null,null,null,null,null,null,null,null,null,null,null,null,null,null,null,null,null,null,null,null,null,null,null,null,null,null,null,null,null,null,null,null,null,null,null,null,null,null,null,null,null,null,null,null,null,null,null,null,null,null,null,null,null,null,null,null,null,null,null,null,null,null,null,null,null,null,null,null,null,null,null,null,null,null,null,null,null,null,null,null,null,null,null,null,null,null,null,null,null,null,null,null,null,null,null,null,null,null,null,null,null,null,null,null,null,null,null,null,null,null,null,null,null,null,null,null,null,null,null,null,null,null,null,null,null,null,null,null,null,null,null,null,null,null,null,null,null,null,null,null,null,null,null,null,null,null,null,null,null,null,null,null,null,null,null,null,null,null,null,null,null,null,null,null,null,null,null,null,null,null,null,null,null,null,null,null,null,null,null,null,null,null,null,null,null,null,null,null,null,null,null,null,null,null,null,null,null,null,null,null,null,null,null,null,null,null,null,null,null,null,null,null,null,null,null,null,null,null,null,null,null,null,null,null,null,null,null,null,null,null,null,null,null,null,null,null,null,null,null,null,null,null,null,null,null,null,null,null,null,null,null,null,null,null,null,null,null,null,null,null,null,null,null,null,null,null,null,null,null,null,null,null,null,null,null,null,null,null,null,null,null,null,null,null,null,null,null,null,null,null,null,null,null,null,null,null,null,null,null,null,null,null,null,null,null,null,null,null,null,null,null,null,null,null,null,null,null,null,null,null,null,null,null,null,null,null,null,null,null,null,null,null,null,null,null,null,null,null,null,null,null,null,null,null,null,null,null,null,null,null,null,null,null,null,null,null,null,null,null,null,null,null,null,null,null,null,null,null,null,null,null,null,null,null,null,null,null,null,null,null,null,null,null,null,null,null,null,null,null,null,null,null,null,null,null,null,null,null,null,null,null,null,null,null,null,null,null,null,null,null,null,null,null,null,null,null,null,null,null,null,null,null,null,null,null,null,null,null,null,null,null,null,null,null,null,null,null,null,null,null,null,null,null,null,null,null,null,null,null,null,null,null,null,null,null,null,null,null,null,null,null,null,null,null,null,null,null,null,null,null,null,null,null,null,null,null,null,null,null,null,null,null,null,null,null,null,null,null,null,null,null,null,null,null,null,null,null,null,null,null,null,null,null,null,null,null,null,null,null,null,null,null,null,null,null,null,null,null,null,null,null,null,null,null,null,null,null,null,null,null,null,null,null,null,null,null,null,null,null,null,null,null,null,null,null,null,null,null,null,null,null,null,null,null,null,null,null,null,null,null,null,null,null,null,null,null,null,null,null,null,null,null,null,null,null,null,null,null,null,null,null,null,null,null,null,null,null,null,null,null,null,null,null,null,null,null,null,null,null,null,null,null,null,null,null,null,null,null,null,null,null,null,null,null,null,null,null,null,null,null,null,null,null,null,null,null,null,null,null,null,null,null,null,null,null,null,null,null,null,null,null,null,null,null,null,null,null,null,null,null,null,null,null,null,null,null,null,null,null,null,null,null,null,null,null,null,null,null,null,null,null,null,null,null,null,null,null,null,null,null,null,null,null,null,null,null,null,null,null,null,null,null,null,null,null,null,null,null,null,null,null,null,null,null,null,null,null,null,null,null,null,null,null,null,null,null,null,null,null,null,null,null,null,null,null,null,null,null,null,null,null,null,null,null,null,null,null,null,null,null,null,null,null,null,null,null,null,null,null,null,null,null,null,null,null,null,null,null,null,null,null,null,null,null,null,null,null,null,null,null,null,null,null,null,null,null,null,null,null,null,null,null,null,null,null,null,null,null,null,null,null,null,null,null,null,null,null,null,null,null,null,null,null,null,null,null,null,null,null,null,null,null,null,null,null,null,null,null,null,null,null,null,null,null,null,null,null,null,null,null,null,null,null,null,null,null,null,null,null,null,null,null,null,null,null,null,null,null,null,null,null,null,null,null,null,null,null,null,null,null,null,null,null,null,null,null,null,null,null,null,null,null,null,null,null,null,null,null,null,null,null,null,null,null,null,null,null,null,null,null,null,null,null,null,null,null,null,null,null,null,null,null,null,null,null,null,null,null,null,null,null,null,null,null,null,null,null,null,null,null,null,null,null,null,null,null,null,null,null,null,null,null,null,null,null,null,null,null,null,null,null,null,null,null,null,null,null,null,null,null,null,null,null,null,null,null,null,null,null,null,null,null,null,null,null,null,null,null,null,null,null,null,null,null,null,null,null,null,null,null,null,null,null,null,null,null,null,null,null,null,null,null,null,null,null,null,null,null,null,null,null,null,null,null,null,null,null,null,null,null,null,null,null,null,null,null,null,null,null,null,null,null,null,null,null,null,null,null,null,null,null,null,null,null,null,null,null,null,null,null,null,null,null,null,null,null,null,null,null,null,null,null,null,null,null,null,null,null,null,null,null,null,null,null,null,null,null,null,null,null,null,null,null,null,null,null,null,null,null,null,null,null,null,null,null,null,null,null,null,null,null,null,null,null,null,null,null,null,null,null,null,null,null,null,null,null,null,null,null,null,null,null,null,null,null,null,null,null,null,null,null,null,null,null,null,null,null,null,null,null,null,null,null,null,null,null,null,null,null,null,null,null,null,null,null,null,null,null,null,null,null,null,null,null,null,null,null,null,null,null,null,null,null,null,null,null,null,null,null,null,null,null,null,null,null,null,null,null,null,null,null,null,null,null,null,null,null,null,null,null,null,null,null,null,null,null,null,null,null,null,null,null,null,null,null,null,null,null,null,null,null,null,null,null,null,null,null,null,null,null,null,null,null,null,null,null,null,null,null,null,null,null,null,null,null,null,null,null,null,null,null,null,null,null,null,null,null,null,null,null,null,null,null,null,null,null,null,null,null,null,null,null,null,null,null,null,null,null,null,null,null,null,null,null,null,null,null,null,null,null,null,null,null,null,null,null,null,null,null,null,null,null,null,null,null,null,null,null,null,null,null,null,null,null,null,null,null,null,null,null,null,null,null,null,null,null,null,null,null,null,null,null,null,null,null,null,null,null,null,null,null,null,null,null,null,null,null,null,null,null,null,null,null,null,null,null,null,null,null,null,null,null,null,null,null,null,null,null,null,null,null,null,null,null,null,null,null,null,null,null,null,null,null,null,null,null,null,null,null,null,null,null,null,null,null,null,null,null,null,null,null,null,null,null,null,null,null,null,null,null,null,null,null,null,null,null,null,null,null,null,null,null,null,null,null,null,null,null,null,null,null,null,null,null,null,null,null,null,null,null,null,null,null,null,null,null,null,null,null,null,null,null,null,null,null,null,null,null,null,null,null,null,null,null,null,null,null,null,null,null,null,null,null,null,null,null,null,null,null,null,null,null,null,null,null,null,null,null,null,null,null,null,null,null,null,null,null,null,null,null,null,null,null,null,null,null,null,null,null,null,null,null,null,null,null,null,null,null,null,null,null,null,null,null,null,null,null,null,null,null,null,null,null,null,null,null,null,null,null,null,null,null,null,null,null,null,null,null,null,null,null,null,null,null,null,null,null,null,null,null,null,null,null,null,null,null,null,null,null,null,null,null,null,null,null,null,null,null,null,null,null,null,null,null,null,null,null,null,null,null,null,null,null,null,null,null,null,null,null,null,null,null,null,null,null,null,null,null,null,null,null,null,null,null,null,null,null,null,null,null,null,null,null,null,null,null,null,null,null,null,null,null,null,null,null,null,null,null,null,null,null,null,null,null,null,null,null,null,null,null,null,null,null,null,null,null,null,null,null,null,null,null,null,null,null,null,null,null,null,null,null,null,null,null,null,null,null,null,null,null,null,null,null,null,null,null,null,null,null,null,null,null,null,null,null,null,null,null,null,null,null,null,null,null,null,null,null,null,null,null,null,null,null,null,null,null,null,null,null,null,null,null,null,null,null,null,null,null,null,null,null,null,null,null,null,null,null,null,null,null,null,null,null,null,null,null,null,null,null,null,null,null,null,null,null,null,null,null,null,null,null,null,null,null,null,null,null,null,null,null,null,null,null,null,null,null,null,null,null,null,null,null,null,null,null,null,null,null,null,null,null,null,null,null,null,null,null,null,null,null,null,null,null,null,null,null,null,null,null,null,null,null,null,null,null,null,null,null,null,null,null,null,null,null,null,null,null,null,null,null,null,null,null,null,null,null,null,null,null,null,null,null,null,null,null,null,null,null,null,null,null,null,null,null,null,null,null,null,null,null,null,null,null,null,null,null,null,null,null,null,null,null,null,null,null,null,null,null,null,null,null,null,null,null,null,null,null,null,null,null,null,null,null,null,null,null,null,null,null,null,null,null,null,null,null,null,null,null,null,null,null,null,null,null,null,null,null,null,null,null,null,null,null,null,null,null,null,null,null,null,null,null,null,null,null,null,null,null,null,null,null,null,null,null,null,null,null,null,null,null,null,null,null,null,null,null,null,null,null,null,null,null,null,null,null,null,null,null,null,null,null,null,null,null,null,null,null,null,null,null,null,null,null,null,null,null,null,null,null,null,null,null,null,null,null,null,null,null,null,null,null,null,null,null,null,null,null,null,null,null,null,null,null,null,null,null,null,null,null,null,null,null,null,null,null,null,null,null,null,null,null,null,null,null,null,null,null,null,null,null,null,null,null,null,null,null,null,null,null,null,null,null,null,null,null,null,null,null,null,null,null,null,null,null,null,null,null,null,null,null,null,null,null,null,null,null,null,null,null,null,null,null,null,null,null,null,null,null,null,null,null,null,null,null,null,null,null,null,null,null,null,null,null,null,null,null,null,null,null,null,null,null,null,null,null,null,null,null,null,null,null,null,null,null,null,null,null,null,null,null,null,null,null,null,null,null,null,null,null,null,null,null,null,null,null,null,null,null,null,null,null,null,null,null,null,null,null,null,null,null,null,null,null,null,null,null,null,null,null,null,null,null,null,null,null,null,null,null,null,null,null,null,null,null,null,null,null,null,null,null,null,null,null,null,null,null,null,null,null,null,null,null,null,null,null,null,null,null,null,null,null,null,null,null,null,null,null,null,null,null,null,null,null,null,null,null,null,null,null,null,null,null,null,null,null,null,null,null,null,null,null,null,null,null,null,null,null,null,null,null,null,null,null,null,null,null,null,null,null,null,null,null,null,null,null,null,null,null,null,null,null,null,null,null,null,null,null,null,null,null,null,null,null,null,null,null,null,null,null,null,null,null,null,null,null,null,null,null,null,null,null,null,null,null,null,null,null,null,null,null,null,null,null,null,null,null,null,null,null,null,null,null,null,null,null,null,null,null,null,null,null,null,null,null,null,null,null,null,null,null,null,null,null,null,null,null,null,null,null,null,null,null,null,null,null,null,null,null,null,null,null,null,null,null,null,null,null,null,null,null,null,null,null,null,null,null,null,null,null,null,null,null,null,null,null,null,null,null,null,null,null,null,null,null,null,null,null,null,null,null,null,null,null,null,null,null,null,null,null,null,null,null,null,null,null,null,null,null,null,null,null,null,null,null,null,null,null,null,null,null,null,null,null,null,null,null,null,null,null,null,null,null,null,null,null,null,null,null,null,null,null,null,null,null,null,null,null,null,null,null,null,null,null,null,null,null,null,null,null,null,null,null,null,null,null,null,null,null,null,null,null,null,null,null,null,null,null,null,null,null,null,null,null,null,null,null,null,null,null,null,null,null,null,null,null,null,null,null,null,null,null,null,null,null,null,null,null,null,null,null,null,null,null,null,null,null,null,null,null,null,null,null,null,null,null,null,null,null,null,null,null,null,null,null,null,null,null,null,null,null,null,null,null,null,null,null,null,null,null,null,null,null,null,null,null,null,null,null,null,null,null,null,null,null,null,null,null,null,null,null,null,null,null,null,null,null,null,null,null,null,null,null,null,null,null,null,null,null,null,null,null,null,null,null,null,null,null,null,null,null,null,null,null,null,null,null,null,null,null,null,null,null,null,null,null,null,null,null,null,null,null,null,null,null,null,null,null,null,null,null,null,null,null,null,null,null,null,null,null,null,null,null,null,null,null,null,null,null,null,null,null,null,null,null,null,null,null,null,null,null,null,null,null,null,null,null,null,null,null,null,null,null,null,null,null,null,null,null,null,null,null,null,null,null,null,null,null,null,null,null,null,null,null,null,null,null,null,null,null,null,null,null,null,null,null,null,null,null,null,null,null,null,null,null,null,null,null,null,null,null,null,null,null,null,null,null,null,null,null,null,null,null,null,null,null,null,null,null,null,null,null,null,null,null,null,null,null,null,null,null,null,null,null,null,null,null,null,null,null,null,null,null,null,null,null,null,null,null,null,null,null,null,null,null,null,null,null,null,null,null,null,null,null,null,null,null,null,null,null,null,null,null,null,null,null,null,null,null,null,null,null,null,null,null,null,null,null,null,null,null,null,null,null,null,null,null,null,null,null,null,null,null,null,null,null,null,null,null,null,null,null,null,null,null,null,null,null,null,null,null,null,null,null,null,null,null,null,null,null,null,null,null,null,null,null,null,null,null,null,null,null,null,null,null,null,null,null,null,null,null,null,null,null,null,null,null,null,null,null,null,null,null,null,null,null,null,null,null,null,null,null,null,null,null,null,null,null,null,null,null,null,null,null,null,null,null,null,null,null,null,null,null,null,null,null,null,null,null,null,null,null,null,null,null,null,null,null,null,null,null,null,null,null,null,null,null,null,null,null,null,null,null,null,null,null,null,null,null,null,null,null,null,null,null,null,null,null,null,null,null,null,null,null,null,null,null,null,null,null,null,null,null,null,null,null,null,null,null,null,null,null,null,null,null,null,null,null,null,null,null,null,null,null,null,null,null,null,null,null,null,null,null,null,null,null,null,null,null,null,null,null,null,null,null,null,null,null,null,null,null,null,null,null,null,null,null,null,null,null,null,null,null,null,null,null,null,null,null,null,null,null,null,null,null,null,null,null,null,null,null,null,null,null,null,null,null,null,null,null,null,null,null,null,null,null,null,null,null,null,null,null,null,null,null,null,null,null,null,null,null,null,null,null,null,null,null,null,null,null,null,null,null,null,null,null,null,null,null,null,null,null,null,null,null,null,null,null,null,null,null,null,null,null,null,null,null,null,null,null,null,null,null,null,null,null,null,null,null,null,null,null,null,null,null,null,null,null,null,null,null,null,null,null,null,null,null,null,null,null,null,null,null,null,null,null,null,null,null,null,null,null,null,null,null,null,null,null,null,null,null,null,null,null,null,null,null,null,null,null,null,null,null,null,null,null,null,null,null,null,null,null,null,null,null,null,null,null,null,null,null,null,null,null,null,null,null,null,null,null,null,null,null,null,null,null,null,null,null,null,null,null,null,null,null,null,null,null,null,null,null,null,null,null,null,null,null,null,null,null,null,null,null,null,null,null,null,null,null,null,null,null,null,null,null,null,null,null,null,null,null,null,null,null,null,null,null,null,null,null,null,null,null,null,null,null,null,null,null,null,null,null,null,null,null,null,null,null,null,null,null,null,null,null,null,null,null,null,null,null,null,null,null,null,null,null,null,null,null,null,null,null,null,null,null,null,null,null,null,null,null,null,null,null,null,null,null,null,null,null,null,null,null,null,null,null,null,null,null,null,null,null,null,null,null,null,null,null,null,null,null,null,null,null,null,null,null,null,null,null,null,null,null,null,null,null,null,null,null,null,null,null,null,null,null,null,null,null,null,null,null,null,null,null,null,null,null,null,null,null,null,null,null,null,null,null,null,null,null,null,null,null,null,null,null,null,null,null,null,null,null,null,null,null,null,null,null,null,null,null,null,null,null,null,null,null,null,null,null,null,null,null,null,null,null,null,null,null,null,null,null,null,null,null,null,null,null,null,null,null,null,null,null,null,null,null,null,null,null,null,null,null,null,null,null,null,null,null,null,null,null,null,null,null,null,null,null,null,null,null,null,null,null,null,null,null,null,null,null,null,null,null,null,null,null,null,null,null,null,null,null,null,null,null,null,null,null,null,null,null,null,null,null,null,null,null,null,null,null,null,null,null,null,null,null,null,null,null,null,null,null,null,null,null,null,null,null,null,null,null,null,null,null,null,null,null,null,null,null,null,null,null,null,null,null,null,null,null,null,null,null,null,null,null,null,null,null,null,null,null,null,null,null,null,null,null,null,null,null,null,null,null,null,null,null,null,null,null,null,null,null,null,null,null,null,null,null,null,null,null,null,null,null,null,null,null,null,null,null,null,null,null,null,null,null,null,null,null,null,null,null,null,null,null,null,null,null,null,null,null,null,null,null,null,null,null,null,null,null,null,null,null,null,null,null,null,null,null,null,null,null,null,null,null,null,null,null,null,null,null,null,null,null,null,null,null,null,null,null,null,null,null,null,null,null,null,null,null,null,null,null,null,null,null,null,null,null,null,null,null,null,null,null,null,null,null,null,null,null,null,null,null,null,null,null,null,null,null,null,null,null,null,null,null,null,null,null,null,null,null,null,null,null,null,null,null,null,null,null,null,null,null,null,null,null,null,null,null,null,null,null,null,null,null,null,null,null,null,null,null,null,null,null,null,null,null,null,null,null,null,null,null,null,null,null,null,null,null,null,null,null,null,null,null,null,null,null,null,null,null,null,null,null,null,null,null,null,null,null,null,null,null,null,null,null,null,null,null,null,null,null,null,null,null,null,null,null,null,null,null,null,null,null,null,null,null,null,null,null,null,null,null,null,null,null,null,null,null,null,null,null,null,null,null,null,null,null,null,null,null,null,null,null,null,null,null,null,null,null,null,null,null,null,null,null,null,null,null,null,null,null,null,null,null,null,null,null,null,null,null,null,null,null,null,null,null,null,null,null,null,null,null,null,null,null,null,null,null,null,null,null,null,null,null,null,null,null,null,null,null,null,null,null,null,null,null,null,null,null,null,null,null,null,null,null,null,null,null,null,null,null,null,null,null,null,null,null,null,null,null,null,null,null,null,null,null,null,null,null,null,null,null,null,null,null,null,null,null,null,null,null,null,null,null,null,null,null,null,null,null,null,null,null,null,null,null,null,null,null,null,null,null,null,null,null,null,null,null,null,null,null,null,null,null,null,null,null,null,null,null,null,null,null,null,null,null,null,null,null,null,null,null,null,null,null,null,null,null,null,null,null,null,null,null,null,null,null,null,null,null,null,null,null,null,null,null,null,null,null,null,null,null,null,null,null,null,null,null,null,null,null,null,null,null,null,null,null,null,null,null,null,null,null,null,null,null,null,null,null,null,null,null,null,null,null,null,null,null,null,null,null,null,null,null,null,null,null,null,null,null,null,null,null,null,null,null,null,null,null,null,null,null,null,null,null,null,null,null,null,null,null,null,null,null,null,null,null,null,null,null,null,null,null,null,null,null,null,null,null,null,null,null,null,null,null,null,null,null,null,null,null,null,null,null,null,null,null,null,null,null,null,null,null,null,null,null,null,null,null,null,null,null,null,null,null,null,null,null,null,null,null,null,null,null,null,null,null,null,null,null,null,null,null,null,null,null,null,null,null,null,null,null,null,null,null,null,null,null,null,null,null,null,null,null,null,null,null,null,null,null,null,null,null,null,null,null,null,null,null,null,null,null,null,null,null,null,null,null,null,null,null,null,null,null,null,null,null,null,null,null,null,null,null,null,null,null,null,null,null,null,null,null,null,null,null,null,null,null,null,null,null,null,null,null,null,null,null,null,null,null,null,null,null,null,null,null,null,null,null,null,null,null,null,null,null,null,null,null,null,null,null,null,null,null,null,null,null,null,null,null,null,null,null,null,null,null,null,null,null,null,null,null,null,null,null,null,null,null,null,null,null,null,null,null,null,null,null,null,null,null,null,null,null,null,null,null,null,null,null,null,null,null,null,null,null,null,null,null,null,null,null,null,null,null,null,null,null,null,null,null,null,null,null,null,null,null,null,null,null,null,null,null,null,null,null,null,null,null,null,null,null,null,null,null,null,null,null,null,null,null,null,null,null,null,null,null,null,null,null,null,null,null,null,null,null,null,null,null,null,null,null,null,null,null,null,null,null,null,null,null,null,null,null,null,null,null,null,null,null,null,null,null,null,null,null,null,null,null,null,null,null,null,null,null,null,null,null,null,null,null,null,null,null,null,null,null,null,null,null,null,null,null,null,null,null,null,null,null,null,null,null,null,null,null,null,null,null,null,null,null,null,null,null,null,null,null,null,null,null,null,null,null,null,null,null,null,null,null,null,null,null,null,null,null,null,null,null,null,null,null,null,null,null,null,null,null,null,null,null,null,null,null,null,null,null,null,null,null,null,null,null,null,null,null,null,null,null,null,null,null,null,null,null,null,null,null,null,null,null,null,null,null,null,null,null,null,null,null,null,null,null,null,null,null,null,null,null,null,null,null,null,null,null,null,null,null,null,null,null,null,null,null,null,null,null,null,null,null,null,null,null,null,null,null,null,null,null,null,null,null,null,null,null,null,null,null,null,null,null,null,null,null,null,null,null,null,null,null,null,null,null,null,null,null,null,null,null,null,null,null,null,null,null,null,null,null,null,null,null,null,null,null,null,null,null,null,null,null,null,null,null,null,null,null,null,null,null,null,null,null,null,null,null,null,null,null,null,null,null,null,null,null,null,null,null,null,null,null,null,null,null,null,null,null,null,null,null,null,null,null,null,null,null,null,null,null,null,null,null,null,null,null,null,null,null,null,null,null,null,null,null,null,null,null,null,null,null,null,null,null,null,null,null,null,null,null,null,null,null,null,null,null,null,null,null,null,null,null,null,null,null,null,null,null,null,null,null,null,null,null,null,null,null,null,null,null,null,null,null,null,null,null,null,null,null,null,null,null,null,null,null,null,null,null,null,null,null,null,null,null,null,null,null,null,null,null,null,null,null,null,null,null,null,null,null,null,null,null,null,null,null,null,null,null,null,null,null,null,null,null,null,null,null,null,null,null,null,null,null,null,null,null,null,null,null,null,null,null,null,null,null,null,null,null,null,null,null,null,null,null,null,null,null,null,null,null,null,null,null,null,null,null,null,null,null,null,null,null,null,null,null,null,null,null,null,null,null,null,null,null,null,null,null,null,null,null,null,null,null,null,null,null,null,null,null,null,null,null,null,null,null,null,null,null,null,null,null,null,null,null,null,null,null,null,null,null,null,null,null,null,null,null,null,null,null,null,null,null,null,null,null,null,null,null,null,null,null,null,null,null,null,null,null,null,null,null,null,null,null,null,null,null,null,null,null,null,null,null,null,null,null,null,null,null,null,null,null,null,null,null,null,null,null,null,null,null,null,null,null,null,null,null,null,null,null,null,null,null,null,null,null,null,null,null,null,null,null,null,null,null,null,null,null,null,null,null,null,null,null,null,null,null,null,null,null,null,null,null,null,null,null,null,null,null,null,null,null,null,null,null,null,null,null,null,null,null,null,null,null,null,null,null,null,null,null,null,null,null,null,null,null,null,null,null,null,null,null,null,null,null,null,null,null,null,null,null,null,null,null,null,null,null,null,null,null,null,null,null,null,null,null,null,null,null,null,null,null,null,null,null,null,null,null,null,null,null,null,null,null,null,null,null,null,null,null,null,null,null,null,null,null,null,null,null,null,null,null,null,null,null,null,null,null,null,null,null,null,null,null,null,null,null,null,null,null,null,null,null,null,null,null,null,null,null,null,null,null,null,null,null,null,null,null,null,null,null,null,null,null,null,null,null,null,null,null,null,null,null,null,null,null,null,null,null,null,null,null,null,null,null,null,null,null,null,null,null,null,null,null,null,null,null,null,null,null,null,null,null,null,null,null,null,null,null,null,null,null,null,null,null,null,null,null,null,null,null,null,null,null,null,null,null,null,null,null,null,null,null,null,null,null,null,null,null,null,null,null,null,null,null,null,null,null,null,null,null,null,null,null,null,null,null,null,null,null,null,null,null,null,null,null,null,null,null,null,null,null,null,null,null,null,null,null,null,null,null,null,null,null,null,null,null,null,null,null,null,null,null,null,null,null,null,null,null,null,null,null,null,null,null,null,null,null,null,null,null,null,null,null,null,null,null,null,null,null,null,null,null,null,null,null,null,null,null,null,null,null,null,null,null,null,null,null,null,null,null,null,null,null,null,null,null,null,null,null,null,null,null,null,null,null,null,null,null,null,null,null,null,null,null,null,null,null,null,null,null,null,null,null,null,null,null,null,null,null,null,null,null,null,null,null,null,null,null,null,null,null,null,null,null,null,null,null,null,null,null,null,null,null,null,null,null,null,null,null,null,null,null,null,null,null,null,null,null,null,null,null,null,null,null,null,null,null,null,null,null,null,null,null,null,null,null,null,null,null,null,null,null,null,null,null,null,null,null,null,null,null,null,null,null,null,null,null,null,null,null,null,null,null,null,null,null,null,null,null,null,null,null,null,null,null,null,null,null,null,null,null,null,null,null,null,null,null,null,null,null,null,null,null,null,null,null,null,null,null,null,null,null,null,null,null,null,null,null,null,null,null,null,null,null,null,null,null,null,null,null,null,null,null,null,null,null,null,null,null,null,null,null,null,null,null,null,null,null,null,null,null,null,null,null,null,null,null,null,null,null,null,null,null,null,null,null,null,null,null,null,null,null,null,null,null,null,null,null,null,null,null,null,null,null,null,null,null,null,null,null,null,null,null,null,null,null,null,null,null,null,null,null,null,null,null,null,null,null,null,null,null,null,null,null,null,null,null,null,null,null,null,null,null,null,null,null,null,null,null,null,null,null,null,null,null,null,null,null,null,null,null,null,null,null,null,null,null,null,null,null,null,null,null,null,null,null,null,null,null,null,null,null,null,null,null,null,null,null,null,null,null,null,null,null,null,null,null,null,null,null,null,null,null,null,null,null,null,null,null,null,null,null,null,null,null,null,null,null,null,null,null,null,null,null,null,null,null,null,null,null,null,null,null,null,null,null,null,null,null,null,null,null,null,null,null,null,null,null,null,null,null,null,null,null,null,null,null,null,null,null,null,null,null,null,null,null,null,null,null,null,null,null,null,null,null,null,null,null,null,null,null,null,null,null,null,null,null,null,null,null,null,null,null,null,null,null,null,null,null,null,null,null,null,null,null,null,null,null,null,null,null,null,null,null,null,null,null,null,null,null,null,null,null,null,null,null,null,null,null,null,null,null,null,null,null,null,null,null,null,null,null,null,null,null,null,null,null,null,null,null,null,null,null,null,null,null,null,null,null,null,null,null,null,null,null,null,null,null,null,null,null,null,null,null,null,null,null,null,null,null,null,null,null,null,null,null,null,null,null,null,null,null,null,null,null,null,null,null,null,null,null,null,null,null,null,null,null,null,null,null,null,null,null,null,null,null,null,null,null,null,null,null,null,null,null,null,null,null,null,null,null,null,null,null,null,null,null,null,null,null,null,null,null,null,null,null,null,null,null,null,null,null,null,null,null,null,null,null,null,null,null,null,null,null,null,null,null,null,null,null,null,null,null,null,null,null,null,null,null,null,null,null,null,null,null,null,null,null,null,null,null,null,null,null,null,null,null,null,null,null,null,null,null,null,null,null,null,null,null,null,null,null,null,null,null,null,null,null,null,null,null,null,null,null,null,null,null,null,null,null,null,null,null,null,null,null,null,null,null,null,null,null,null,null,null,null,null,null,null,null,null,null,null,null,null,null,null,null,null,null,null,null,null,null,null,null,null,null,null,null,null,null,null,null,null,null,null,null,null,null,null,null,null,null,null,null,null,null,null,null,null,null,null,null,null,null,null,null,null,null,null,null,null,null,null,null,null,null,null,null,null,null,null,null,null,null,null,null,null,null,null,null,null,null,null,null,null,null,null,null,null,null,null,null,null,null,null,null,null,null,null,null,null,null,null,null,null,null,null,null,null,null,null,null,null,null,null,null,null,null,null,null,null,null,null,null,null,null,null,null,null,null,null,null,null,null,null,null,null,null,null,null,null,null,null,null,null,null,null,null,null,null,null,null,null,null,"Fail"]
[]
[]
[null,"Lease Classification"]
[null,"Questions",null,null,"Response","Lease Section/Page Ref ","Comments / Additional Documentation, as applicable"]
[]
[null,"Does the lease transfer ownership of the underlying asset to the lessee by the end of the lease term?"]
[]
[]
[null,"Does the lease grant the lessee an option to purchase the underlying asset that the lessee is reasonably certain to exercise?"]
[]
[]
[null,"Asset's remaining economic life at lease commencement",null,"in months"]
[]
[null,"% Lease term to remaining useful life",null,null,{"$f":"IFERROR('Validations - DO NOT DELETE'!H1/E17,0)","v":0}]
[]
[null,"Is the lease term for the major part of the remaining economic life of the underlying asset? Refer to the company's accounting policy."]
[]
[]
[null,"Estimated fair market value of lease asset at commencement"]
[]
[null,"% Lease payments to FMV of asset",null,null,{"$f":"IFERROR(SUM('Step 3. Lease Payments'!H:H)/'Step 4. Classification'!E24,0)","v":0}]
[]
[null,"Does the present value of the sum of lease payments and any residual value guaranteed by the lessee equals or exceeds substantially all the fair value of the underlying asset? Refer to company's accounting policy."]
[]
[]
[null,"Is the underlying asset of a specialized nature that it is expected to have no alternative use to the lessor at the end of the lease term?"]
[]
[]
[null,"Additional Comments, if any:"]
[]
[null,null,null,null,{"$f":"+IF(OR(E11=\"yes\",E14=\"yes\",E21=\"yes\",E28=\"yes\",E31=\"yes\"),\"FINANCE LEASE\",IF(OR(E11=\"select one…\",E14=\"select one…\",E21=\"select one…\",E28=\"select one…\",E31=\"select one…\"),\"Complete Analysis Above\",\"OPERATING LEASE\"))","v":"OPERATING LEASE"}]
[]
[]
[]
[]
[]
[]
[]
[]
[]
[]
[]
[]
[]
[]
[]
[]
[]
[]
[]
[]
[]
[]
[]
[]
[]
[]
[]
[]
[]
[]
[]
[]
[]
[]
[]
[]
[]
[]
[]
[]
[]
[]
[]
[]
[]
[]
[]
[]
[]
[]
[]
[]
[]
[]
[]
[]
[]
[]
[]
[]
[]
[]
[]
[]
[]
[]
[]
[]
[]
[]
[]
[]
[]
[]
[]
[]
[]
[]
[]
[]
[]
[]
[]
[]
[]
[]
[]
[]
[]
[]
[]
[]
[]
[]
[]
[]
[]
[]
[]
[]
[]
[]
[]
[]
[]
[]
[]
[]
[]
[]
[]
[]
[]
[]
[]
[]
[]
[]
[]
[]
[]
[]
[]
[]
[]
[]
[]
[]
[]
[]
[]
[]
[]
[]
[]
[]
[]
[]
[]
[]
[]
[]
[]
[]
[]
[]
[]
[]
[]
[]
[]
[]
[]
[]
[]
[]
[]
[]
[]
[]
[]
[]
[]
[]
[]
[]
[]
[]
[]
[]
[]
[]
[]
[]
[]
[]
[]
[]
[]
[]
[]
[]
[]
[]
[]
[]
[]
[]
[]
[]
[]
[]
[]
[]
[]
[]
[]
[]
[]
[]
[]
[]
[]
[]
[]
[]
[]
[]
[]
[]
[]
[]
[]
[]
[]
[]
[]
[]
[]
[]
[]
[]
[]
[]
[]
[]
[]
[]
[]
[]
[]
[]
[]
[]
[]
[]
[]
[]
[]
[]
[]
[]
[]
[]
[]
[]
[]
[]
[]
[]
[]
[]
[]
[]
[]
[]
[]
[]
[]
[]
[]
[]
[]
[]
[]
[]
[]
[]
[]
[]
[]
[]
[]
[]
[]
[]
[]
[]
[]
[]
[]
[]
[]
[]
[]
[]
[]
[]
[]
[]
[]
[]
[]
[]
[]
[]
[]
[]
[]
[]
[]
[]
[]
[]
[]
[]
[]
[]
[]
[]
[]
[]
[]
[]
[]
[]
[]
[]
[]
[]
[]
[]
[]
[]
[]
[]
[]
[]
[]
[]
[]
[]
[]
[]
[]
[]
[]
[]
[]
[]
[]
[]
[]
[]
[]
[]
[]
[]
[]
[]
[]
[]
[]
[]
[]
[]
[]
[]
[]
[]
[]
[]
[]
[]
[]
[]
[]
[]
[]
[]
[]
[]
[]
[]
[]
[]
[]
[]
[]
[]
[]
[]
[]
[]
[]
[]
[]
[]
[]
[]
[]
[]
[]
[]
[]
[]
[]
[]
[]
[]
[]
[]
[]
[]
[]
[]
[]
[]
[]
[]
[]
[]
[]
[]
[]
[]
[]
[]
[]
[]
[]
[]
[]
[]
[]
[]
[]
[]
[]
[]
[]
[]
[]
[]
[]
[]
[]
[]
[]
[]
[]
[]
[]
[]
[]
[]
[]
[]
[]
[]
[]
[]
[]
[]
[]
[]
[]
[]
[]
[]
[]
[]
[]
[]
[]
[]
[]
[]
[]
[]
[]
[]
[]
[]
[]
[]
[]
[]
[]
[]
[]
[]
[]
[]
[]
[]
[]
[]
[]
[]
[]
[]
[]
[]
[]
[]
[]
[]
[]
[]
[]
[]
[]
[]
[]
[]
[]
[]
[]
[]
[]
[]
[]
[]
[]
[]
[]
[]
[]
[]
[]
[]
[]
[]
[]
[]
[]
[]
[]
[]
[]
[]
[]
[]
[]
[]
[]
[]
[]
[]
[]
[]
[]
[]
[]
[]
[]
[]
[]
[]
[]
[]
[]
[]
[]
[]
[]
[]
[]
[]
[]
[]
[]
[]
[]
[]
[]
[]
[]
[]
[]
[]
[]
[]
[]
[]
[]
[]
[]
[]
[]
[]
[]
[]
[]
[]
[]
[]
[]
[]
[]
[]
[]
[]
[]
[]
[]
[]
[]
[]
[]
[]
[]
[]
[]
[]
[]
[]
[]
[]
[]
[]
[]
[]
[]
[]
[]
[]
[]
[]
[]
[]
[]
[]
[]
[]
[]
[]
[]
[]
[]
[]
[]
[]
[]
[]
[]
[]
[]
[]
[]
[]
[]
[]
[]
[]
[]
[]
[]
[]
[]
[]
[]
[]
[]
[]
[]
[]
[]
[]
[]
[]
[]
[]
[]
[]
[]
[]
[]
[]
[]
[]
[]
[]
[]
[]
[]
[]
[]
[]
[]
[]
[]
[]
[]
[]
[]
[]
[]
[]
[]
[]
[]
[]
[]
[]
[]
[]
[]
[]
[]
[]
[]
[]
[]
[]
[]
[]
[]
[]
[]
[]
[]
[]
[]
[]
[]
[]
[]
[]
[]
[]
[]
[]
[]
[]
[]
[]
[]
[]
[]
[]
[]
[]
[]
[]
[]
[]
[]
[]
[]
[]
[]
[]
[]
[]
[]
[]
[]
[]
[]
[]
[]
[]
[]
[]
[]
[]
[]
[]
[]
[]
[]
[]
[]
[]
[]
[]
[]
[]
[]
[]
[]
[]
[]
[]
[]
[]
[]
[]
[]
[]
[]
[]
[]
[]
[]
[]
[]
[]
[]
[]
[]
[]
[]
[]
[]
[]
[]
[]
[]
[]
[]
[]
[]
[]
[]
[]
[]
[]
[]
[]
[]
[]
[]
[]
[]
[]
[]
[]
[]
[]
[]
[]
[]
[]
[]
[]
[]
[]
[]
[]
[]
[]
[]
[]
[]
[]
[]
[]
[]
[]
[]
[]
[]
[]
[]
[]
[]
[]
[]
[]
[]
[]
[]
[]
[]
[]
[]
[]
[]
[]
[]
[]
[]
[]
[]
[]
[]
[]
[]
[null,null,null,null,null,null,null,null,null,null,null,null,null,null,null,null,null,null,null,null,null,null,null,null,null,null,null,null,null,null,null,null,null,null,null,null,null,null,null,null,null,null,null,null,null,null,null,null,null,null,null,null,null,null,null,null,null,null,null,null,null,null,null,null,null,null,null,null,null,null,null,null,null,null,null,null,null,null,null,null,null,null,null,null,null,null,null,null,null,null,null,null,null,null,null,null,null,null,null,null,null,null,null,null,null,null,null,null,null,null,null,null,null,null,null,null,null,null,null,null,null,null,null,null,null,null,null,null,null,null,null,null,null,null,null,null,null,null,null,null,null,null,null,null,null,null,null,null,null,null,null,null,null,null,null,null,null,null,null,null,null,null,null,null,null,null,null,null,null,null,null,null,null,null,null,null,null,null,null,null,null,null,null,null,null,null,null,null,null,null,null,null,null,null,null,null,null,null,null,null,null,null,null,null,null,null,null,null,null,null,null,null,null,null,null,null,null,null,null,null,null,null,null,null,null,null,null,null,null,null,null,null,null,null,null,null,null,null,null,null,null,null,null,null,null,null,null,null,null,null,null,null,null,null,null,null,null,null,null,null,null,null,null,null,null,null,null,null,null,null,null,null,null,null,null,null,null,null,null,null,null,null,null,null,null,null,null,null,null,null,null,null,null,null,null,null,null,null,null,null,null,null,null,null,null,null,null,null,null,null,null,null,null,null,null,null,null,null,null,null,null,null,null,null,null,null,null,null,null,null,null,null,null,null,null,null,null,null,null,null,null,null,null,null,null,null,null,null,null,null,null,null,null,null,null,null,null,null,null,null,null,null,null,null,null,null,null,null,null,null,null,null,null,null,null,null,null,null,null,null,null,null,null,null,null,null,null,null,null,null,null,null,null,null,null,null,null,null,null,null,null,null,null,null,null,null,null,null,null,null,null,null,null,null,null,null,null,null,null,null,null,null,null,null,null,null,null,null,null,null,null,null,null,null,null,null,null,null,null,null,null,null,null,null,null,null,null,null,null,null,null,null,null,null,null,null,null,null,null,null,null,null,null,null,null,null,null,null,null,null,null,null,null,null,null,null,null,null,null,null,null,null,null,null,null,null,null,null,null,null,null,null,null,null,null,null,null,null,null,null,null,null,null,null,null,null,null,null,null,null,null,null,null,null,null,null,null,null,null,null,null,null,null,null,null,null,null,null,null,null,null,null,null,null,null,null,null,null,null,null,null,null,null,null,null,null,null,null,null,null,null,null,null,null,null,null,null,null,null,null,null,null,null,null,null,null,null,null,null,null,null,null,null,null,null,null,null,null,null,null,null,null,null,null,null,null,null,null,null,null,null,null,null,null,null,null,null,null,null,null,null,null,null,null,null,null,null,null,null,null,null,null,null,null,null,null,null,null,null,null,null,null,null,null,null,null,null,null,null,null,null,null,null,null,null,null,null,null,null,null,null,null,null,null,null,null,null,null,null,null,null,null,null,null,null,null,null,null,null,null,null,null,null,null,null,null,null,null,null,null,null,null,null,null,null,null,null,null,null,null,null,null,null,null,null,null,null,null,null,null,null,null,null,null,null,null,null,null,null,null,null,null,null,null,null,null,null,null,null,null,null,null,null,null,null,null,null,null,null,null,null,null,null,null,null,null,null,null,null,null,null,null,null,null,null,null,null,null,null,null,null,null,null,null,null,null,null,null,null,null,null,null,null,null,null,null,null,null,null,null,null,null,null,null,null,null,null,null,null,null,null,null,null,null,null,null,null,null,null,null,null,null,null,null,null,null,null,null,null,null,null,null,null,null,null,null,null,null,null,null,null,null,null,null,null,null,null,null,null,null,null,null,null,null,null,null,null,null,null,null,null,null,null,null,null,null,null,null,null,null,null,null,null,null,null,null,null,null,null,null,null,null,null,null,null,null,null,null,null,null,null,null,null,null,null,null,null,null,null,null,null,null,null,null,null,null,null,null,null,null,null,null,null,null,null,null,null,null,null,null,null,null,null,null,null,null,null,null,null,null,null,null,null,null,null,null,null,null,null,null,null,null,null,null,null,null,null,null,null,null,null,null,null,null,null,null,null,null,null,null,null,null,null,null,null,null,null,null,null,null,null,null,null,null,null,null,null,null,null,null,null,null,null,null,null,null,null,null,null,null,null,null,null,null,null,null,null,null,null,null,null,null,null,null,null,null,null,null,null,null,null,null,null,null,null,null,null,null,null,null,null,null,null,null,null,null,null,null,null,null,null,null,null,null,null,null,null,null,null,null,null,null,null,null,null,null,null,null,null,null,null,null,null,null,null,null,null,null,null,null,null,null,null,null,null,null,null,null,null,null,null,null,null,null,null,null,null,null,null,null,null,null,null,null,null,null,null,null,null,null,null,null,null,null,null,null,null,null,null,null,null,null,null,null,null,null,null,null,null,null,null,null,null,null,null,null,null,null,null,null,null,null,null,null,null,null,null,null,null,null,null,null,null,null,null,null,null,null,null,null,null,null,null,null,null,null,null,null,null,null,null,null,null,null,null,null,null,null,null,null,null,null,null,null,null,null,null,null,null,null,null,null,null,null,null,null,null,null,null,null,null,null,null,null,null,null,null,null,null,null,null,null,null,null,null,null,null,null,null,null,null,null,null,null,null,null,null,null,null,null,null,null,null,null,null,null,null,null,null,null,null,null,null,null,null,null,null,null,null,null,null,null,null,null,null,null,null,null,null,null,null,null,null,null,null,null,null,null,null,null,null,null,null,null,null,null,null,null,null,null,null,null,null,null,null,null,null,null,null,null,null,null,null,null,null,null,null,null,null,null,null,null,null,null,null,null,null,null,null,null,null,null,null,null,null,null,null,null,null,null,null,null,null,null,null,null,null,null,null,null,null,null,null,null,null,null,null,null,null,null,null,null,null,null,null,null,null,null,null,null,null,null,null,null,null,null,null,null,null,null,null,null,null,null,null,null,null,null,null,null,null,null,null,null,null,null,null,null,null,null,null,null,null,null,null,null,null,null,null,null,null,null,null,null,null,null,null,null,null,null,null,null,null,null,null,null,null,null,null,null,null,null,null,null,null,null,null,null,null,null,null,null,null,null,null,null,null,null,null,null,null,null,null,null,null,null,null,null,null,null,null,null,null,null,null,null,null,null,null,null,null,null,null,null,null,null,null,null,null,null,null,null,null,null,null,null,null,null,null,null,null,null,null,null,null,null,null,null,null,null,null,null,null,null,null,null,null,null,null,null,null,null,"X"]

{"sheet":"Output OP Lease Amort","index":5,"n_rows":1000,"n_cols":11,"rows_kept":1000,"cut":false,"hidden":true,"merged":[[4,1,4,2],[4,3,4,4],[6,8,7,8],[6,9,7,9],[6,10,7,10],[6,1,7,1],[6,6,7,6],[5,0,5,10],[6,0,7,0],[6,2,7,2],[6,3,7,3],[6,4,7,4],[6,5,7,5],[1,1,1,2],[1,3,1,4],[2,1,2,2],[2,3,2,4],[3,1,3,2],[3,3,3,4]]}
[]
[null,"BDO"]
[null,"ENTITY NAME",null,{"$f":"IF(ISBLANK('Step 1. Scoping'!C3)=TRUE,\"\",'Step 1. Scoping'!C3)","v":""}]
[null,"DOCUMENT NAME",null,"ASC 842 - Leases - Template"]
[null,"PERIOD END",null,{"$f":"IF(ISBLANK('Step 1. Scoping'!C5)=TRUE,\"\",'Step 1. Scoping'!C5)","v":""}]
["Operating Lease Amortization"]
["Payment #","Date","ROU Asset Opening Balance","Periodic Lease Cost","Accretion of the Lease Liability","Adjustment to the ROU Asset","ROU Asset Closing Balance",null,"Lease Liability Opening Balance","Rents Paid","Lease Liability Closing Balance"]
[]
[0,{"$f":"'Step 2. Basic Info'!E11","v":"00:00:00"},null,null,null,null,{"$f":"K9+J9+'Step 2. Basic Info'!E24","v":0},null,{"$f":"SUM('Step 3. Lease Payments'!H11:H1706)","v":0},{"$f":"IF(A9=\"\",\"\",VLOOKUP(A9,'Step 3. Lease Payments'!B:G,6,))","v":0},{"$f":"I9-J9","v":0}]
[{"$f":"IF(B9<'Step 2. Basic Info'!$E$12,A9+1,\"\")","v":""},{"$f":"IF(A10=\"\",\"\",(DATE(YEAR(B9),MONTH(B9)+1,DAY(B9))))","v":""},{"$f":"IF(A10=\"\",\"\",G9)","v":""},{"$f":"IF(A10=\"\",\"\",(SUM('Step 3. Lease Payments'!$G$11:$G$5006)+'Step 2. Basic Info'!$E$24)/'Validations - DO NOT DELETE'!$H$1)","v":""},{"$f":"IF(A10=\"\",\"\",I10*'Step 3. Lease Payments'!$G$8)","v":""},{"$f":"IF(A10=\"\",\"\",D10-E10)","v":""},{"$f":"IF(A10=\"\",\"\",C10-F10)","v":""},null,{"$f":"IF(A10=\"\",\"\",K9)","v":""},{"$f":"IF(A10=\"\",\"\",VLOOKUP(A10,'Step 3. Lease Payments'!B:G,6,))","v":""},{"$f":"IF(A10=\"\",\"\",I10-J10+E10)","v":""}]
[{"$f":"IF(B10<'Step 2. Basic Info'!$E$12,A10+1,\"\")","v":""},{"$f":"IF(A11=\"\",\"\",(DATE(YEAR(B10),MONTH(B10)+1,DAY(B10))))","v":""},{"$f":"IF(A11=\"\",\"\",G10)","v":""},{"$f":"IF(A11=\"\",\"\",(SUM('Step 3. Lease Payments'!$G$11:$G$5006)+'Step 2. Basic Info'!$E$24)/'Validations - DO NOT DELETE'!$H$1)","v":""},{"$f":"IF(A11=\"\",\"\",I11*'Step 3. Lease Payments'!$G$8)","v":""},{"$f":"IF(A11=\"\",\"\",D11-E11)","v":""},{"$f":"IF(A11=\"\",\"\",C11-F11)","v":""},null,{"$f":"IF(A11=\"\",\"\",K10)","v":""},{"$f":"IF(A11=\"\",\"\",VLOOKUP(A11,'Step 3. Lease Payments'!B:G,6,))","v":""},{"$f":"IF(A11=\"\",\"\",I11-J11+E11)","v":""}]
[{"$f":"IF(B11<'Step 2. Basic Info'!$E$12,A11+1,\"\")","v":""},"","",{"$f":"IF(A12=\"\",\"\",(SUM('Step 3. Lease Payments'!$G$11:$G$5006)+'Step 2. Basic Info'!$E$24)/'Validations - DO NOT DELETE'!$H$1)","v":""},{"$f":"IF(A12=\"\",\"\",I12*'Step 3. Lease Payments'!$G$8)","v":""},"","",null,"",{"$f":"IF(A12=\"\",\"\",VLOOKUP(A12,'Step 3. Lease Payments'!B:G,6,))","v":""},""]
[{"$f":"IF(B12<'Step 2. Basic Info'!$E$12,A12+1,\"\")","v":""},"","",{"$f":"IF(A13=\"\",\"\",(SUM('Step 3. Lease Payments'!$G$11:$G$5006)+'Step 2. Basic Info'!$E$24)/'Validations - DO NOT DELETE'!$H$1)","v":""},{"$f":"IF(A13=\"\",\"\",I13*'Step 3. Lease Payments'!$G$8)","v":""},"","",null,"",{"$f":"IF(A13=\"\",\"\",VLOOKUP(A13,'Step 3. Lease Payments'!B:G,6,))","v":""},""]
[{"$f":"IF(B13<'Step 2. Basic Info'!$E$12,A13+1,\"\")","v":""},"","",{"$f":"IF(A14=\"\",\"\",(SUM('Step 3. Lease Payments'!$G$11:$G$5006)+'Step 2. Basic Info'!$E$24)/'Validations - DO NOT DELETE'!$H$1)","v":""},{"$f":"IF(A14=\"\",\"\",I14*'Step 3. Lease Payments'!$G$8)","v":""},"","",null,"",{"$f":"IF(A14=\"\",\"\",VLOOKUP(A14,'Step 3. Lease Payments'!B:G,6,))","v":""},""]
[{"$f":"IF(B14<'Step 2. Basic Info'!$E$12,A14+1,\"\")","v":""},"","",{"$f":"IF(A15=\"\",\"\",(SUM('Step 3. Lease Payments'!$G$11:$G$5006)+'Step 2. Basic Info'!$E$24)/'Validations - DO NOT DELETE'!$H$1)","v":""},{"$f":"IF(A15=\"\",\"\",I15*'Step 3. Lease Payments'!$G$8)","v":""},"","",null,"",{"$f":"IF(A15=\"\",\"\",VLOOKUP(A15,'Step 3. Lease Payments'!B:G,6,))","v":""},""]
[{"$f":"IF(B15<'Step 2. Basic Info'!$E$12,A15+1,\"\")","v":""},"","",{"$f":"IF(A16=\"\",\"\",(SUM('Step 3. Lease Payments'!$G$11:$G$5006)+'Step 2. Basic Info'!$E$24)/'Validations - DO NOT DELETE'!$H$1)","v":""},{"$f":"IF(A16=\"\",\"\",I16*'Step 3. Lease Payments'!$G$8)","v":""},"","",null,"",{"$f":"IF(A16=\"\",\"\",VLOOKUP(A16,'Step 3. Lease Payments'!B:G,6,))","v":""},""]
[{"$f":"IF(B16<'Step 2. Basic Info'!$E$12,A16+1,\"\")","v":""},"","",{"$f":"IF(A17=\"\",\"\",(SUM('Step 3. Lease Payments'!$G$11:$G$5006)+'Step 2. Basic Info'!$E$24)/'Validations - DO NOT DELETE'!$H$1)","v":""},{"$f":"IF(A17=\"\",\"\",I17*'Step 3. Lease Payments'!$G$8)","v":""},"","",null,"",{"$f":"IF(A17=\"\",\"\",VLOOKUP(A17,'Step 3. Lease Payments'!B:G,6,))","v":""},""]
[{"$f":"IF(B17<'Step 2. Basic Info'!$E$12,A17+1,\"\")","v":""},"","",{"$f":"IF(A18=\"\",\"\",(SUM('Step 3. Lease Payments'!$G$11:$G$5006)+'Step 2. Basic Info'!$E$24)/'Validations - DO NOT DELETE'!$H$1)","v":""},{"$f":"IF(A18=\"\",\"\",I18*'Step 3. Lease Payments'!$G$8)","v":""},"","",null,"",{"$f":"IF(A18=\"\",\"\",VLOOKUP(A18,'Step 3. Lease Payments'!B:G,6,))","v":""},""]
[{"$f":"IF(B18<'Step 2. Basic Info'!$E$12,A18+1,\"\")","v":""},"","",{"$f":"IF(A19=\"\",\"\",(SUM('Step 3. Lease Payments'!$G$11:$G$5006)+'Step 2. Basic Info'!$E$24)/'Validations - DO NOT DELETE'!$H$1)","v":""},{"$f":"IF(A19=\"\",\"\",I19*'Step 3. Lease Payments'!$G$8)","v":""},"","",null,"",{"$f":"IF(A19=\"\",\"\",VLOOKUP(A19,'Step 3. Lease Payments'!B:G,6,))","v":""},""]
[{"$f":"IF(B19<'Step 2. Basic Info'!$E$12,A19+1,\"\")","v":""},"","",{"$f":"IF(A20=\"\",\"\",(SUM('Step 3. Lease Payments'!$G$11:$G$5006)+'Step 2. Basic Info'!$E$24)/'Validations - DO NOT DELETE'!$H$1)","v":""},{"$f":"IF(A20=\"\",\"\",I20*'Step 3. Lease Payments'!$G$8)","v":""},"","",null,"",{"$f":"IF(A20=\"\",\"\",VLOOKUP(A20,'Step 3. Lease Payments'!B:G,6,))","v":""},""]
[{"$f":"IF(B20<'Step 2. Basic Info'!$E$12,A20+1,\"\")","v":""},"","",{"$f":"IF(A21=\"\",\"\",(SUM('Step 3. Lease Payments'!$G$11:$G$5006)+'Step 2. Basic Info'!$E$24)/'Validations - DO NOT DELETE'!$H$1)","v":""},{"$f":"IF(A21=\"\",\"\",I21*'Step 3. Lease Payments'!$G$8)","v":""},"","",null,"",{"$f":"IF(A21=\"\",\"\",VLOOKUP(A21,'Step 3. Lease Payments'!B:G,6,))","v":""},""]
[{"$f":"IF(B21<'Step 2. Basic Info'!$E$12,A21+1,\"\")","v":""},"","",{"$f":"IF(A22=\"\",\"\",(SUM('Step 3. Lease Payments'!$G$11:$G$5006)+'Step 2. Basic Info'!$E$24)/'Validations - DO NOT DELETE'!$H$1)","v":""},{"$f":"IF(A22=\"\",\"\",I22*'Step 3. Lease Payments'!$G$8)","v":""},"","",null,"",{"$f":"IF(A22=\"\",\"\",VLOOKUP(A22,'Step 3. Lease Payments'!B:G,6,))","v":""},""]
[{"$f":"IF(B22<'Step 2. Basic Info'!$E$12,A22+1,\"\")","v":""},"","",{"$f":"IF(A23=\"\",\"\",(SUM('Step 3. Lease Payments'!$G$11:$G$5006)+'Step 2. Basic Info'!$E$24)/'Validations - DO NOT DELETE'!$H$1)","v":""},{"$f":"IF(A23=\"\",\"\",I23*'Step 3. Lease Payments'!$G$8)","v":""},"","",null,"",{"$f":"IF(A23=\"\",\"\",VLOOKUP(A23,'Step 3. Lease Payments'!B:G,6,))","v":""},""]
[{"$f":"IF(B23<'Step 2. Basic Info'!$E$12,A23+1,\"\")","v":""},"","",{"$f":"IF(A24=\"\",\"\",(SUM('Step 3. Lease Payments'!$G$11:$G$5006)+'Step 2. Basic Info'!$E$24)/'Validations - DO NOT DELETE'!$H$1)","v":""},{"$f":"IF(A24=\"\",\"\",I24*'Step 3. Lease Payments'!$G$8)","v":""},"","",null,"",{"$f":"IF(A24=\"\",\"\",VLOOKUP(A24,'Step 3. Lease Payments'!B:G,6,))","v":""},""]
[{"$f":"IF(B24<'Step 2. Basic Info'!$E$12,A24+1,\"\")","v":""},"","",{"$f":"IF(A25=\"\",\"\",(SUM('Step 3. Lease Payments'!$G$11:$G$5006)+'Step 2. Basic Info'!$E$24)/'Validations - DO NOT DELETE'!$H$1)","v":""},{"$f":"IF(A25=\"\",\"\",I25*'Step 3. Lease Payments'!$G$8)","v":""},"","",null,"",{"$f":"IF(A25=\"\",\"\",VLOOKUP(A25,'Step 3. Lease Payments'!B:G,6,))","v":""},""]
[{"$f":"IF(B25<'Step 2. Basic Info'!$E$12,A25+1,\"\")","v":""},"","",{"$f":"IF(A26=\"\",\"\",(SUM('Step 3. Lease Payments'!$G$11:$G$5006)+'Step 2. Basic Info'!$E$24)/'Validations - DO NOT DELETE'!$H$1)","v":""},{"$f":"IF(A26=\"\",\"\",I26*'Step 3. Lease Payments'!$G$8)","v":""},"","",null,"",{"$f":"IF(A26=\"\",\"\",VLOOKUP(A26,'Step 3. Lease Payments'!B:G,6,))","v":""},""]
[{"$f":"IF(B26<'Step 2. Basic Info'!$E$12,A26+1,\"\")","v":""},"","",{"$f":"IF(A27=\"\",\"\",(SUM('Step 3. Lease Payments'!$G$11:$G$5006)+'Step 2. Basic Info'!$E$24)/'Validations - DO NOT DELETE'!$H$1)","v":""},{"$f":"IF(A27=\"\",\"\",I27*'Step 3. Lease Payments'!$G$8)","v":""},"","",null,"",{"$f":"IF(A27=\"\",\"\",VLOOKUP(A27,'Step 3. Lease Payments'!B:G,6,))","v":""},""]
[{"$f":"IF(B27<'Step 2. Basic Info'!$E$12,A27+1,\"\")","v":""},"","",{"$f":"IF(A28=\"\",\"\",(SUM('Step 3. Lease Payments'!$G$11:$G$5006)+'Step 2. Basic Info'!$E$24)/'Validations - DO NOT DELETE'!$H$1)","v":""},{"$f":"IF(A28=\"\",\"\",I28*'Step 3. Lease Payments'!$G$8)","v":""},"","",null,"",{"$f":"IF(A28=\"\",\"\",VLOOKUP(A28,'Step 3. Lease Payments'!B:G,6,))","v":""},""]
[{"$f":"IF(B28<'Step 2. Basic Info'!$E$12,A28+1,\"\")","v":""},"","",{"$f":"IF(A29=\"\",\"\",(SUM('Step 3. Lease Payments'!$G$11:$G$5006)+'Step 2. Basic Info'!$E$24)/'Validations - DO NOT DELETE'!$H$1)","v":""},{"$f":"IF(A29=\"\",\"\",I29*'Step 3. Lease Payments'!$G$8)","v":""},"","",null,"",{"$f":"IF(A29=\"\",\"\",VLOOKUP(A29,'Step 3. Lease Payments'!B:G,6,))","v":""},""]
[{"$f":"IF(B29<'Step 2. Basic Info'!$E$12,A29+1,\"\")","v":""},"","",{"$f":"IF(A30=\"\",\"\",(SUM('Step 3. Lease Payments'!$G$11:$G$5006)+'Step 2. Basic Info'!$E$24)/'Validations - DO NOT DELETE'!$H$1)","v":""},{"$f":"IF(A30=\"\",\"\",I30*'Step 3. Lease Payments'!$G$8)","v":""},"","",null,"",{"$f":"IF(A30=\"\",\"\",VLOOKUP(A30,'Step 3. Lease Payments'!B:G,6,))","v":""},""]
[{"$f":"IF(B30<'Step 2. Basic Info'!$E$12,A30+1,\"\")","v":""},"","",{"$f":"IF(A31=\"\",\"\",(SUM('Step 3. Lease Payments'!$G$11:$G$5006)+'Step 2. Basic Info'!$E$24)/'Validations - DO NOT DELETE'!$H$1)","v":""},{"$f":"IF(A31=\"\",\"\",I31*'Step 3. Lease Payments'!$G$8)","v":""},"","",null,"",{"$f":"IF(A31=\"\",\"\",VLOOKUP(A31,'Step 3. Lease Payments'!B:G,6,))","v":""},""]
[{"$f":"IF(B31<'Step 2. Basic Info'!$E$12,A31+1,\"\")","v":""},"","",{"$f":"IF(A32=\"\",\"\",(SUM('Step 3. Lease Payments'!$G$11:$G$5006)+'Step 2. Basic Info'!$E$24)/'Validations - DO NOT DELETE'!$H$1)","v":""},{"$f":"IF(A32=\"\",\"\",I32*'Step 3. Lease Payments'!$G$8)","v":""},"","",null,"",{"$f":"IF(A32=\"\",\"\",VLOOKUP(A32,'Step 3. Lease Payments'!B:G,6,))","v":""},""]
[{"$f":"IF(B32<'Step 2. Basic Info'!$E$12,A32+1,\"\")","v":""},"","",{"$f":"IF(A33=\"\",\"\",(SUM('Step 3. Lease Payments'!$G$11:$G$5006)+'Step 2. Basic Info'!$E$24)/'Validations - DO NOT DELETE'!$H$1)","v":""},{"$f":"IF(A33=\"\",\"\",I33*'Step 3. Lease Payments'!$G$8)","v":""},"","",null,"",{"$f":"IF(A33=\"\",\"\",VLOOKUP(A33,'Step 3. Lease Payments'!B:G,6,))","v":""},""]
[{"$f":"IF(B33<'Step 2. Basic Info'!$E$12,A33+1,\"\")","v":""},"","",{"$f":"IF(A34=\"\",\"\",(SUM('Step 3. Lease Payments'!$G$11:$G$5006)+'Step 2. Basic Info'!$E$24)/'Validations - DO NOT DELETE'!$H$1)","v":""},{"$f":"IF(A34=\"\",\"\",I34*'Step 3. Lease Payments'!$G$8)","v":""},"","",null,"",{"$f":"IF(A34=\"\",\"\",VLOOKUP(A34,'Step 3. Lease Payments'!B:G,6,))","v":""},""]
[{"$f":"IF(B34<'Step 2. Basic Info'!$E$12,A34+1,\"\")","v":""},"","",{"$f":"IF(A35=\"\",\"\",(SUM('Step 3. Lease Payments'!$G$11:$G$5006)+'Step 2. Basic Info'!$E$24)/'Validations - DO NOT DELETE'!$H$1)","v":""},{"$f":"IF(A35=\"\",\"\",I35*'Step 3. Lease Payments'!$G$8)","v":""},"","",null,"",{"$f":"IF(A35=\"\",\"\",VLOOKUP(A35,'Step 3. Lease Payments'!B:G,6,))","v":""},""]
[{"$f":"IF(B35<'Step 2. Basic Info'!$E$12,A35+1,\"\")","v":""},"","",{"$f":"IF(A36=\"\",\"\",(SUM('Step 3. Lease Payments'!$G$11:$G$5006)+'Step 2. Basic Info'!$E$24)/'Validations - DO NOT DELETE'!$H$1)","v":""},{"$f":"IF(A36=\"\",\"\",I36*'Step 3. Lease Payments'!$G$8)","v":""},"","",null,"",{"$f":"IF(A36=\"\",\"\",VLOOKUP(A36,'Step 3. Lease Payments'!B:G,6,))","v":""},""]
[{"$f":"IF(B36<'Step 2. Basic Info'!$E$12,A36+1,\"\")","v":""},"","",{"$f":"IF(A37=\"\",\"\",(SUM('Step 3. Lease Payments'!$G$11:$G$5006)+'Step 2. Basic Info'!$E$24)/'Validations - DO NOT DELETE'!$H$1)","v":""},{"$f":"IF(A37=\"\",\"\",I37*'Step 3. Lease Payments'!$G$8)","v":""},"","",null,"",{"$f":"IF(A37=\"\",\"\",VLOOKUP(A37,'Step 3. Lease Payments'!B:G,6,))","v":""},""]
[{"$f":"IF(B37<'Step 2. Basic Info'!$E$12,A37+1,\"\")","v":""},"","",{"$f":"IF(A38=\"\",\"\",(SUM('Step 3. Lease Payments'!$G$11:$G$5006)+'Step 2. Basic Info'!$E$24)/'Validations - DO NOT DELETE'!$H$1)","v":""},{"$f":"IF(A38=\"\",\"\",I38*'Step 3. Lease Payments'!$G$8)","v":""},"","",null,"",{"$f":"IF(A38=\"\",\"\",VLOOKUP(A38,'Step 3. Lease Payments'!B:G,6,))","v":""},""]
[{"$f":"IF(B38<'Step 2. Basic Info'!$E$12,A38+1,\"\")","v":""},"","",{"$f":"IF(A39=\"\",\"\",(SUM('Step 3. Lease Payments'!$G$11:$G$5006)+'Step 2. Basic Info'!$E$24)/'Validations - DO NOT DELETE'!$H$1)","v":""},{"$f":"IF(A39=\"\",\"\",I39*'Step 3. Lease Payments'!$G$8)","v":""},"","",null,"",{"$f":"IF(A39=\"\",\"\",VLOOKUP(A39,'Step 3. Lease Payments'!B:G,6,))","v":""},""]
[{"$f":"IF(B39<'Step 2. Basic Info'!$E$12,A39+1,\"\")","v":""},"","",{"$f":"IF(A40=\"\",\"\",(SUM('Step 3. Lease Payments'!$G$11:$G$5006)+'Step 2. Basic Info'!$E$24)/'Validations - DO NOT DELETE'!$H$1)","v":""},{"$f":"IF(A40=\"\",\"\",I40*'Step 3. Lease Payments'!$G$8)","v":""},"","",null,"",{"$f":"IF(A40=\"\",\"\",VLOOKUP(A40,'Step 3. Lease Payments'!B:G,6,))","v":""},""]
[{"$f":"IF(B40<'Step 2. Basic Info'!$E$12,A40+1,\"\")","v":""},"","",{"$f":"IF(A41=\"\",\"\",(SUM('Step 3. Lease Payments'!$G$11:$G$5006)+'Step 2. Basic Info'!$E$24)/'Validations - DO NOT DELETE'!$H$1)","v":""},{"$f":"IF(A41=\"\",\"\",I41*'Step 3. Lease Payments'!$G$8)","v":""},"","",null,"",{"$f":"IF(A41=\"\",\"\",VLOOKUP(A41,'Step 3. Lease Payments'!B:G,6,))","v":""},""]
[{"$f":"IF(B41<'Step 2. Basic Info'!$E$12,A41+1,\"\")","v":""},"","",{"$f":"IF(A42=\"\",\"\",(SUM('Step 3. Lease Payments'!$G$11:$G$5006)+'Step 2. Basic Info'!$E$24)/'Validations - DO NOT DELETE'!$H$1)","v":""},{"$f":"IF(A42=\"\",\"\",I42*'Step 3. Lease Payments'!$G$8)","v":""},"","",null,"",{"$f":"IF(A42=\"\",\"\",VLOOKUP(A42,'Step 3. Lease Payments'!B:G,6,))","v":""},""]
[{"$f":"IF(B42<'Step 2. Basic Info'!$E$12,A42+1,\"\")","v":""},"","",{"$f":"IF(A43=\"\",\"\",(SUM('Step 3. Lease Payments'!$G$11:$G$5006)+'Step 2. Basic Info'!$E$24)/'Validations - DO NOT DELETE'!$H$1)","v":""},{"$f":"IF(A43=\"\",\"\",I43*'Step 3. Lease Payments'!$G$8)","v":""},"","",null,"",{"$f":"IF(A43=\"\",\"\",VLOOKUP(A43,'Step 3. Lease Payments'!B:G,6,))","v":""},""]
[{"$f":"IF(B43<'Step 2. Basic Info'!$E$12,A43+1,\"\")","v":""},"","",{"$f":"IF(A44=\"\",\"\",(SUM('Step 3. Lease Payments'!$G$11:$G$5006)+'Step 2. Basic Info'!$E$24)/'Validations - DO NOT DELETE'!$H$1)","v":""},{"$f":"IF(A44=\"\",\"\",I44*'Step 3. Lease Payments'!$G$8)","v":""},"","",null,"",{"$f":"IF(A44=\"\",\"\",VLOOKUP(A44,'Step 3. Lease Payments'!B:G,6,))","v":""},""]
[{"$f":"IF(B44<'Step 2. Basic Info'!$E$12,A44+1,\"\")","v":""},"","",{"$f":"IF(A45=\"\",\"\",(SUM('Step 3. Lease Payments'!$G$11:$G$5006)+'Step 2. Basic Info'!$E$24)/'Validations - DO NOT DELETE'!$H$1)","v":""},{"$f":"IF(A45=\"\",\"\",I45*'Step 3. Lease Payments'!$G$8)","v":""},"","",null,"",{"$f":"IF(A45=\"\",\"\",VLOOKUP(A45,'Step 3. Lease Payments'!B:G,6,))","v":""},""]
[{"$f":"IF(B45<'Step 2. Basic Info'!$E$12,A45+1,\"\")","v":""},"","",{"$f":"IF(A46=\"\",\"\",(SUM('Step 3. Lease Payments'!$G$11:$G$5006)+'Step 2. Basic Info'!$E$24)/'Validations - DO NOT DELETE'!$H$1)","v":""},{"$f":"IF(A46=\"\",\"\",I46*'Step 3. Lease Payments'!$G$8)","v":""},"","",null,"",{"$f":"IF(A46=\"\",\"\",VLOOKUP(A46,'Step 3. Lease Payments'!B:G,6,))","v":""},""]
[{"$f":"IF(B46<'Step 2. Basic Info'!$E$12,A46+1,\"\")","v":""},"","",{"$f":"IF(A47=\"\",\"\",(SUM('Step 3. Lease Payments'!$G$11:$G$5006)+'Step 2. Basic Info'!$E$24)/'Validations - DO NOT DELETE'!$H$1)","v":""},{"$f":"IF(A47=\"\",\"\",I47*'Step 3. Lease Payments'!$G$8)","v":""},"","",null,"",{"$f":"IF(A47=\"\",\"\",VLOOKUP(A47,'Step 3. Lease Payments'!B:G,6,))","v":""},""]
[{"$f":"IF(B47<'Step 2. Basic Info'!$E$12,A47+1,\"\")","v":""},"","",{"$f":"IF(A48=\"\",\"\",(SUM('Step 3. Lease Payments'!$G$11:$G$5006)+'Step 2. Basic Info'!$E$24)/'Validations - DO NOT DELETE'!$H$1)","v":""},{"$f":"IF(A48=\"\",\"\",I48*'Step 3. Lease Payments'!$G$8)","v":""},"","",null,"",{"$f":"IF(A48=\"\",\"\",VLOOKUP(A48,'Step 3. Lease Payments'!B:G,6,))","v":""},""]
[{"$f":"IF(B48<'Step 2. Basic Info'!$E$12,A48+1,\"\")","v":""},"","",{"$f":"IF(A49=\"\",\"\",(SUM('Step 3. Lease Payments'!$G$11:$G$5006)+'Step 2. Basic Info'!$E$24)/'Validations - DO NOT DELETE'!$H$1)","v":""},{"$f":"IF(A49=\"\",\"\",I49*'Step 3. Lease Payments'!$G$8)","v":""},"","",null,"",{"$f":"IF(A49=\"\",\"\",VLOOKUP(A49,'Step 3. Lease Payments'!B:G,6,))","v":""},""]
[{"$f":"IF(B49<'Step 2. Basic Info'!$E$12,A49+1,\"\")","v":""},"","",{"$f":"IF(A50=\"\",\"\",(SUM('Step 3. Lease Payments'!$G$11:$G$5006)+'Step 2. Basic Info'!$E$24)/'Validations - DO NOT DELETE'!$H$1)","v":""},{"$f":"IF(A50=\"\",\"\",I50*'Step 3. Lease Payments'!$G$8)","v":""},"","",null,"",{"$f":"IF(A50=\"\",\"\",VLOOKUP(A50,'Step 3. Lease Payments'!B:G,6,))","v":""},""]
[{"$f":"IF(B50<'Step 2. Basic Info'!$E$12,A50+1,\"\")","v":""},"","",{"$f":"IF(A51=\"\",\"\",(SUM('Step 3. Lease Payments'!$G$11:$G$5006)+'Step 2. Basic Info'!$E$24)/'Validations - DO NOT DELETE'!$H$1)","v":""},{"$f":"IF(A51=\"\",\"\",I51*'Step 3. Lease Payments'!$G$8)","v":""},"","",null,"",{"$f":"IF(A51=\"\",\"\",VLOOKUP(A51,'Step 3. Lease Payments'!B:G,6,))","v":""},""]
[{"$f":"IF(B51<'Step 2. Basic Info'!$E$12,A51+1,\"\")","v":""},"","",{"$f":"IF(A52=\"\",\"\",(SUM('Step 3. Lease Payments'!$G$11:$G$5006)+'Step 2. Basic Info'!$E$24)/'Validations - DO NOT DELETE'!$H$1)","v":""},{"$f":"IF(A52=\"\",\"\",I52*'Step 3. Lease Payments'!$G$8)","v":""},"","",null,"",{"$f":"IF(A52=\"\",\"\",VLOOKUP(A52,'Step 3. Lease Payments'!B:G,6,))","v":""},""]
[{"$f":"IF(B52<'Step 2. Basic Info'!$E$12,A52+1,\"\")","v":""},"","",{"$f":"IF(A53=\"\",\"\",(SUM('Step 3. Lease Payments'!$G$11:$G$5006)+'Step 2. Basic Info'!$E$24)/'Validations - DO NOT DELETE'!$H$1)","v":""},{"$f":"IF(A53=\"\",\"\",I53*'Step 3. Lease Payments'!$G$8)","v":""},"","",null,"",{"$f":"IF(A53=\"\",\"\",VLOOKUP(A53,'Step 3. Lease Payments'!B:G,6,))","v":""},""]
[{"$f":"IF(B53<'Step 2. Basic Info'!$E$12,A53+1,\"\")","v":""},"","",{"$f":"IF(A54=\"\",\"\",(SUM('Step 3. Lease Payments'!$G$11:$G$5006)+'Step 2. Basic Info'!$E$24)/'Validations - DO NOT DELETE'!$H$1)","v":""},{"$f":"IF(A54=\"\",\"\",I54*'Step 3. Lease Payments'!$G$8)","v":""},"","",null,"",{"$f":"IF(A54=\"\",\"\",VLOOKUP(A54,'Step 3. Lease Payments'!B:G,6,))","v":""},""]
[{"$f":"IF(B54<'Step 2. Basic Info'!$E$12,A54+1,\"\")","v":""},"","",{"$f":"IF(A55=\"\",\"\",(SUM('Step 3. Lease Payments'!$G$11:$G$5006)+'Step 2. Basic Info'!$E$24)/'Validations - DO NOT DELETE'!$H$1)","v":""},{"$f":"IF(A55=\"\",\"\",I55*'Step 3. Lease Payments'!$G$8)","v":""},"","",null,"",{"$f":"IF(A55=\"\",\"\",VLOOKUP(A55,'Step 3. Lease Payments'!B:G,6,))","v":""},""]
[{"$f":"IF(B55<'Step 2. Basic Info'!$E$12,A55+1,\"\")","v":""},"","",{"$f":"IF(A56=\"\",\"\",(SUM('Step 3. Lease Payments'!$G$11:$G$5006)+'Step 2. Basic Info'!$E$24)/'Validations - DO NOT DELETE'!$H$1)","v":""},{"$f":"IF(A56=\"\",\"\",I56*'Step 3. Lease Payments'!$G$8)","v":""},"","",null,"",{"$f":"IF(A56=\"\",\"\",VLOOKUP(A56,'Step 3. Lease Payments'!B:G,6,))","v":""},""]
[{"$f":"IF(B56<'Step 2. Basic Info'!$E$12,A56+1,\"\")","v":""},"","",{"$f":"IF(A57=\"\",\"\",(SUM('Step 3. Lease Payments'!$G$11:$G$5006)+'Step 2. Basic Info'!$E$24)/'Validations - DO NOT DELETE'!$H$1)","v":""},{"$f":"IF(A57=\"\",\"\",I57*'Step 3. Lease Payments'!$G$8)","v":""},"","",null,"",{"$f":"IF(A57=\"\",\"\",VLOOKUP(A57,'Step 3. Lease Payments'!B:G,6,))","v":""},""]
[{"$f":"IF(B57<'Step 2. Basic Info'!$E$12,A57+1,\"\")","v":""},"","",{"$f":"IF(A58=\"\",\"\",(SUM('Step 3. Lease Payments'!$G$11:$G$5006)+'Step 2. Basic Info'!$E$24)/'Validations - DO NOT DELETE'!$H$1)","v":""},{"$f":"IF(A58=\"\",\"\",I58*'Step 3. Lease Payments'!$G$8)","v":""},"","",null,"",{"$f":"IF(A58=\"\",\"\",VLOOKUP(A58,'Step 3. Lease Payments'!B:G,6,))","v":""},""]
[{"$f":"IF(B58<'Step 2. Basic Info'!$E$12,A58+1,\"\")","v":""},"","",{"$f":"IF(A59=\"\",\"\",(SUM('Step 3. Lease Payments'!$G$11:$G$5006)+'Step 2. Basic Info'!$E$24)/'Validations - DO NOT DELETE'!$H$1)","v":""},{"$f":"IF(A59=\"\",\"\",I59*'Step 3. Lease Payments'!$G$8)","v":""},"","",null,"",{"$f":"IF(A59=\"\",\"\",VLOOKUP(A59,'Step 3. Lease Payments'!B:G,6,))","v":""},""]
[{"$f":"IF(B59<'Step 2. Basic Info'!$E$12,A59+1,\"\")","v":""},"","",{"$f":"IF(A60=\"\",\"\",(SUM('Step 3. Lease Payments'!$G$11:$G$5006)+'Step 2. Basic Info'!$E$24)/'Validations - DO NOT DELETE'!$H$1)","v":""},{"$f":"IF(A60=\"\",\"\",I60*'Step 3. Lease Payments'!$G$8)","v":""},"","",null,"",{"$f":"IF(A60=\"\",\"\",VLOOKUP(A60,'Step 3. Lease Payments'!B:G,6,))","v":""},""]
[{"$f":"IF(B60<'Step 2. Basic Info'!$E$12,A60+1,\"\")","v":""},"","",{"$f":"IF(A61=\"\",\"\",(SUM('Step 3. Lease Payments'!$G$11:$G$5006)+'Step 2. Basic Info'!$E$24)/'Validations - DO NOT DELETE'!$H$1)","v":""},{"$f":"IF(A61=\"\",\"\",I61*'Step 3. Lease Payments'!$G$8)","v":""},"","",null,"",{"$f":"IF(A61=\"\",\"\",VLOOKUP(A61,'Step 3. Lease Payments'!B:G,6,))","v":""},""]
[{"$f":"IF(B61<'Step 2. Basic Info'!$E$12,A61+1,\"\")","v":""},"","",{"$f":"IF(A62=\"\",\"\",(SUM('Step 3. Lease Payments'!$G$11:$G$5006)+'Step 2. Basic Info'!$E$24)/'Validations - DO NOT DELETE'!$H$1)","v":""},{"$f":"IF(A62=\"\",\"\",I62*'Step 3. Lease Payments'!$G$8)","v":""},"","",null,"",{"$f":"IF(A62=\"\",\"\",VLOOKUP(A62,'Step 3. Lease Payments'!B:G,6,))","v":""},""]
[{"$f":"IF(B62<'Step 2. Basic Info'!$E$12,A62+1,\"\")","v":""},"","",{"$f":"IF(A63=\"\",\"\",(SUM('Step 3. Lease Payments'!$G$11:$G$5006)+'Step 2. Basic Info'!$E$24)/'Validations - DO NOT DELETE'!$H$1)","v":""},{"$f":"IF(A63=\"\",\"\",I63*'Step 3. Lease Payments'!$G$8)","v":""},"","",null,"",{"$f":"IF(A63=\"\",\"\",VLOOKUP(A63,'Step 3. Lease Payments'!B:G,6,))","v":""},""]
[{"$f":"IF(B63<'Step 2. Basic Info'!$E$12,A63+1,\"\")","v":""},"","",{"$f":"IF(A64=\"\",\"\",(SUM('Step 3. Lease Payments'!$G$11:$G$5006)+'Step 2. Basic Info'!$E$24)/'Validations - DO NOT DELETE'!$H$1)","v":""},{"$f":"IF(A64=\"\",\"\",I64*'Step 3. Lease Payments'!$G$8)","v":""},"","",null,"",{"$f":"IF(A64=\"\",\"\",VLOOKUP(A64,'Step 3. Lease Payments'!B:G,6,))","v":""},""]
[{"$f":"IF(B64<'Step 2. Basic Info'!$E$12,A64+1,\"\")","v":""},"","",{"$f":"IF(A65=\"\",\"\",(SUM('Step 3. Lease Payments'!$G$11:$G$5006)+'Step 2. Basic Info'!$E$24)/'Validations - DO NOT DELETE'!$H$1)","v":""},{"$f":"IF(A65=\"\",\"\",I65*'Step 3. Lease Payments'!$G$8)","v":""},"","",null,"",{"$f":"IF(A65=\"\",\"\",VLOOKUP(A65,'Step 3. Lease Payments'!B:G,6,))","v":""},""]
[{"$f":"IF(B65<'Step 2. Basic Info'!$E$12,A65+1,\"\")","v":""},"","",{"$f":"IF(A66=\"\",\"\",(SUM('Step 3. Lease Payments'!$G$11:$G$5006)+'Step 2. Basic Info'!$E$24)/'Validations - DO NOT DELETE'!$H$1)","v":""},{"$f":"IF(A66=\"\",\"\",I66*'Step 3. Lease Payments'!$G$8)","v":""},"","",null,"",{"$f":"IF(A66=\"\",\"\",VLOOKUP(A66,'Step 3. Lease Payments'!B:G,6,))","v":""},""]
[{"$f":"IF(B66<'Step 2. Basic Info'!$E$12,A66+1,\"\")","v":""},"","",{"$f":"IF(A67=\"\",\"\",(SUM('Step 3. Lease Payments'!$G$11:$G$5006)+'Step 2. Basic Info'!$E$24)/'Validations - DO NOT DELETE'!$H$1)","v":""},{"$f":"IF(A67=\"\",\"\",I67*'Step 3. Lease Payments'!$G$8)","v":""},"","",null,"",{"$f":"IF(A67=\"\",\"\",VLOOKUP(A67,'Step 3. Lease Payments'!B:G,6,))","v":""},""]
[{"$f":"IF(B67<'Step 2. Basic Info'!$E$12,A67+1,\"\")","v":""},"","",{"$f":"IF(A68=\"\",\"\",(SUM('Step 3. Lease Payments'!$G$11:$G$5006)+'Step 2. Basic Info'!$E$24)/'Validations - DO NOT DELETE'!$H$1)","v":""},{"$f":"IF(A68=\"\",\"\",I68*'Step 3. Lease Payments'!$G$8)","v":""},"","",null,"",{"$f":"IF(A68=\"\",\"\",VLOOKUP(A68,'Step 3. Lease Payments'!B:G,6,))","v":""},""]
[{"$f":"IF(B68<'Step 2. Basic Info'!$E$12,A68+1,\"\")","v":""},"","",{"$f":"IF(A69=\"\",\"\",(SUM('Step 3. Lease Payments'!$G$11:$G$5006)+'Step 2. Basic Info'!$E$24)/'Validations - DO NOT DELETE'!$H$1)","v":""},{"$f":"IF(A69=\"\",\"\",I69*'Step 3. Lease Payments'!$G$8)","v":""},"","",null,"",{"$f":"IF(A69=\"\",\"\",VLOOKUP(A69,'Step 3. Lease Payments'!B:G,6,))","v":""},""]
[{"$f":"IF(B69<'Step 2. Basic Info'!$E$12,A69+1,\"\")","v":""},"","",{"$f":"IF(A70=\"\",\"\",(SUM('Step 3. Lease Payments'!$G$11:$G$5006)+'Step 2. Basic Info'!$E$24)/'Validations - DO NOT DELETE'!$H$1)","v":""},{"$f":"IF(A70=\"\",\"\",I70*'Step 3. Lease Payments'!$G$8)","v":""},"","",null,"",{"$f":"IF(A70=\"\",\"\",VLOOKUP(A70,'Step 3. Lease Payments'!B:G,6,))","v":""},""]
[{"$f":"IF(B70<'Step 2. Basic Info'!$E$12,A70+1,\"\")","v":""},"","",{"$f":"IF(A71=\"\",\"\",(SUM('Step 3. Lease Payments'!$G$11:$G$5006)+'Step 2. Basic Info'!$E$24)/'Validations - DO NOT DELETE'!$H$1)","v":""},{"$f":"IF(A71=\"\",\"\",I71*'Step 3. Lease Payments'!$G$8)","v":""},"","",null,"",{"$f":"IF(A71=\"\",\"\",VLOOKUP(A71,'Step 3. Lease Payments'!B:G,6,))","v":""},""]
[{"$f":"IF(B71<'Step 2. Basic Info'!$E$12,A71+1,\"\")","v":""},"","",{"$f":"IF(A72=\"\",\"\",(SUM('Step 3. Lease Payments'!$G$11:$G$5006)+'Step 2. Basic Info'!$E$24)/'Validations - DO NOT DELETE'!$H$1)","v":""},{"$f":"IF(A72=\"\",\"\",I72*'Step 3. Lease Payments'!$G$8)","v":""},"","",null,"",{"$f":"IF(A72=\"\",\"\",VLOOKUP(A72,'Step 3. Lease Payments'!B:G,6,))","v":""},""]
[{"$f":"IF(B72<'Step 2. Basic Info'!$E$12,A72+1,\"\")","v":""},"","",{"$f":"IF(A73=\"\",\"\",(SUM('Step 3. Lease Payments'!$G$11:$G$5006)+'Step 2. Basic Info'!$E$24)/'Validations - DO NOT DELETE'!$H$1)","v":""},{"$f":"IF(A73=\"\",\"\",I73*'Step 3. Lease Payments'!$G$8)","v":""},"","",null,"",{"$f":"IF(A73=\"\",\"\",VLOOKUP(A73,'Step 3. Lease Payments'!B:G,6,))","v":""},""]
[{"$f":"IF(B73<'Step 2. Basic Info'!$E$12,A73+1,\"\")","v":""},"","",{"$f":"IF(A74=\"\",\"\",(SUM('Step 3. Lease Payments'!$G$11:$G$5006)+'Step 2. Basic Info'!$E$24)/'Validations - DO NOT DELETE'!$H$1)","v":""},{"$f":"IF(A74=\"\",\"\",I74*'Step 3. Lease Payments'!$G$8)","v":""},"","",null,"",{"$f":"IF(A74=\"\",\"\",VLOOKUP(A74,'Step 3. Lease Payments'!B:G,6,))","v":""},""]
[{"$f":"IF(B74<'Step 2. Basic Info'!$E$12,A74+1,\"\")","v":""},{"$f":"IF(A75=\"\",\"\",(DATE(YEAR(B74),MONTH(B74)+1,DAY(B74))))","v":""},{"$f":"IF(A75=\"\",\"\",G74)","v":""},{"$f":"IF(A75=\"\",\"\",(SUM('Step 3. Lease Payments'!$G$11:$G$5006)+'Step 2. Basic Info'!$E$24)/'Validations - DO NOT DELETE'!$H$1)","v":""},{"$f":"IF(A75=\"\",\"\",I75*'Step 3. Lease Payments'!$G$8)","v":""},{"$f":"IF(A75=\"\",\"\",D75-E75)","v":""},{"$f":"IF(A75=\"\",\"\",C75-F75)","v":""},null,{"$f":"IF(A75=\"\",\"\",K74)","v":""},{"$f":"IF(A75=\"\",\"\",VLOOKUP(A75,'Step 3. Lease Payments'!B:G,6,))","v":""},{"$f":"IF(A75=\"\",\"\",I75-J75+E75)","v":""}]
[{"$f":"IF(B75<'Step 2. Basic Info'!$E$12,A75+1,\"\")","v":""},"","",{"$f":"IF(A76=\"\",\"\",(SUM('Step 3. Lease Payments'!$G$11:$G$5006)+'Step 2. Basic Info'!$E$24)/'Validations - DO NOT DELETE'!$H$1)","v":""},{"$f":"IF(A76=\"\",\"\",I76*'Step 3. Lease Payments'!$G$8)","v":""},"","",null,"",{"$f":"IF(A76=\"\",\"\",VLOOKUP(A76,'Step 3. Lease Payments'!B:G,6,))","v":""},""]
[{"$f":"IF(B76<'Step 2. Basic Info'!$E$12,A76+1,\"\")","v":""},"","",{"$f":"IF(A77=\"\",\"\",(SUM('Step 3. Lease Payments'!$G$11:$G$5006)+'Step 2. Basic Info'!$E$24)/'Validations - DO NOT DELETE'!$H$1)","v":""},{"$f":"IF(A77=\"\",\"\",I77*'Step 3. Lease Payments'!$G$8)","v":""},"","",null,"",{"$f":"IF(A77=\"\",\"\",VLOOKUP(A77,'Step 3. Lease Payments'!B:G,6,))","v":""},""]
[{"$f":"IF(B77<'Step 2. Basic Info'!$E$12,A77+1,\"\")","v":""},"","",{"$f":"IF(A78=\"\",\"\",(SUM('Step 3. Lease Payments'!$G$11:$G$5006)+'Step 2. Basic Info'!$E$24)/'Validations - DO NOT DELETE'!$H$1)","v":""},{"$f":"IF(A78=\"\",\"\",I78*'Step 3. Lease Payments'!$G$8)","v":""},"","",null,"",{"$f":"IF(A78=\"\",\"\",VLOOKUP(A78,'Step 3. Lease Payments'!B:G,6,))","v":""},""]
[{"$f":"IF(B78<'Step 2. Basic Info'!$E$12,A78+1,\"\")","v":""},"","",{"$f":"IF(A79=\"\",\"\",(SUM('Step 3. Lease Payments'!$G$11:$G$5006)+'Step 2. Basic Info'!$E$24)/'Validations - DO NOT DELETE'!$H$1)","v":""},{"$f":"IF(A79=\"\",\"\",I79*'Step 3. Lease Payments'!$G$8)","v":""},"","",null,"",{"$f":"IF(A79=\"\",\"\",VLOOKUP(A79,'Step 3. Lease Payments'!B:G,6,))","v":""},""]
[{"$f":"IF(B79<'Step 2. Basic Info'!$E$12,A79+1,\"\")","v":""},"","",{"$f":"IF(A80=\"\",\"\",(SUM('Step 3. Lease Payments'!$G$11:$G$5006)+'Step 2. Basic Info'!$E$24)/'Validations - DO NOT DELETE'!$H$1)","v":""},{"$f":"IF(A80=\"\",\"\",I80*'Step 3. Lease Payments'!$G$8)","v":""},"","",null,"",{"$f":"IF(A80=\"\",\"\",VLOOKUP(A80,'Step 3. Lease Payments'!B:G,6,))","v":""},""]
[{"$f":"IF(B80<'Step 2. Basic Info'!$E$12,A80+1,\"\")","v":""},"","",{"$f":"IF(A81=\"\",\"\",(SUM('Step 3. Lease Payments'!$G$11:$G$5006)+'Step 2. Basic Info'!$E$24)/'Validations - DO NOT DELETE'!$H$1)","v":""},{"$f":"IF(A81=\"\",\"\",I81*'Step 3. Lease Payments'!$G$8)","v":""},"","",null,"",{"$f":"IF(A81=\"\",\"\",VLOOKUP(A81,'Step 3. Lease Payments'!B:G,6,))","v":""},""]
[{"$f":"IF(B81<'Step 2. Basic Info'!$E$12,A81+1,\"\")","v":""},"","",{"$f":"IF(A82=\"\",\"\",(SUM('Step 3. Lease Payments'!$G$11:$G$5006)+'Step 2. Basic Info'!$E$24)/'Validations - DO NOT DELETE'!$H$1)","v":""},{"$f":"IF(A82=\"\",\"\",I82*'Step 3. Lease Payments'!$G$8)","v":""},"","",null,"",{"$f":"IF(A82=\"\",\"\",VLOOKUP(A82,'Step 3. Lease Payments'!B:G,6,))","v":""},""]
[{"$f":"IF(B82<'Step 2. Basic Info'!$E$12,A82+1,\"\")","v":""},"","",{"$f":"IF(A83=\"\",\"\",(SUM('Step 3. Lease Payments'!$G$11:$G$5006)+'Step 2. Basic Info'!$E$24)/'Validations - DO NOT DELETE'!$H$1)","v":""},{"$f":"IF(A83=\"\",\"\",I83*'Step 3. Lease Payments'!$G$8)","v":""},"","",null,"",{"$f":"IF(A83=\"\",\"\",VLOOKUP(A83,'Step 3. Lease Payments'!B:G,6,))","v":""},""]
[{"$f":"IF(B83<'Step 2. Basic Info'!$E$12,A83+1,\"\")","v":""},"","",{"$f":"IF(A84=\"\",\"\",(SUM('Step 3. Lease Payments'!$G$11:$G$5006)+'Step 2. Basic Info'!$E$24)/'Validations - DO NOT DELETE'!$H$1)","v":""},{"$f":"IF(A84=\"\",\"\",I84*'Step 3. Lease Payments'!$G$8)","v":""},"","",null,"",{"$f":"IF(A84=\"\",\"\",VLOOKUP(A84,'Step 3. Lease Payments'!B:G,6,))","v":""},""]
[{"$f":"IF(B84<'Step 2. Basic Info'!$E$12,A84+1,\"\")","v":""},"","",{"$f":"IF(A85=\"\",\"\",(SUM('Step 3. Lease Payments'!$G$11:$G$5006)+'Step 2. Basic Info'!$E$24)/'Validations - DO NOT DELETE'!$H$1)","v":""},{"$f":"IF(A85=\"\",\"\",I85*'Step 3. Lease Payments'!$G$8)","v":""},"","",null,"",{"$f":"IF(A85=\"\",\"\",VLOOKUP(A85,'Step 3. Lease Payments'!B:G,6,))","v":""},""]
[{"$f":"IF(B85<'Step 2. Basic Info'!$E$12,A85+1,\"\")","v":""},"","",{"$f":"IF(A86=\"\",\"\",(SUM('Step 3. Lease Payments'!$G$11:$G$5006)+'Step 2. Basic Info'!$E$24)/'Validations - DO NOT DELETE'!$H$1)","v":""},{"$f":"IF(A86=\"\",\"\",I86*'Step 3. Lease Payments'!$G$8)","v":""},"","",null,"",{"$f":"IF(A86=\"\",\"\",VLOOKUP(A86,'Step 3. Lease Payments'!B:G,6,))","v":""},""]
[{"$f":"IF(B86<'Step 2. Basic Info'!$E$12,A86+1,\"\")","v":""},"","",{"$f":"IF(A87=\"\",\"\",(SUM('Step 3. Lease Payments'!$G$11:$G$5006)+'Step 2. Basic Info'!$E$24)/'Validations - DO NOT DELETE'!$H$1)","v":""},{"$f":"IF(A87=\"\",\"\",I87*'Step 3. Lease Payments'!$G$8)","v":""},"","",null,"",{"$f":"IF(A87=\"\",\"\",VLOOKUP(A87,'Step 3. Lease Payments'!B:G,6,))","v":""},""]
[{"$f":"IF(B87<'Step 2. Basic Info'!$E$12,A87+1,\"\")","v":""},"","",{"$f":"IF(A88=\"\",\"\",(SUM('Step 3. Lease Payments'!$G$11:$G$5006)+'Step 2. Basic Info'!$E$24)/'Validations - DO NOT DELETE'!$H$1)","v":""},{"$f":"IF(A88=\"\",\"\",I88*'Step 3. Lease Payments'!$G$8)","v":""},"","",null,"",{"$f":"IF(A88=\"\",\"\",VLOOKUP(A88,'Step 3. Lease Payments'!B:G,6,))","v":""},""]
[{"$f":"IF(B88<'Step 2. Basic Info'!$E$12,A88+1,\"\")","v":""},"","",{"$f":"IF(A89=\"\",\"\",(SUM('Step 3. Lease Payments'!$G$11:$G$5006)+'Step 2. Basic Info'!$E$24)/'Validations - DO NOT DELETE'!$H$1)","v":""},{"$f":"IF(A89=\"\",\"\",I89*'Step 3. Lease Payments'!$G$8)","v":""},"","",null,"",{"$f":"IF(A89=\"\",\"\",VLOOKUP(A89,'Step 3. Lease Payments'!B:G,6,))","v":""},""]
[{"$f":"IF(B89<'Step 2. Basic Info'!$E$12,A89+1,\"\")","v":""},"","",{"$f":"IF(A90=\"\",\"\",(SUM('Step 3. Lease Payments'!$G$11:$G$5006)+'Step 2. Basic Info'!$E$24)/'Validations - DO NOT DELETE'!$H$1)","v":""},{"$f":"IF(A90=\"\",\"\",I90*'Step 3. Lease Payments'!$G$8)","v":""},"","",null,"",{"$f":"IF(A90=\"\",\"\",VLOOKUP(A90,'Step 3. Lease Payments'!B:G,6,))","v":""},""]
[{"$f":"IF(B90<'Step 2. Basic Info'!$E$12,A90+1,\"\")","v":""},"","",{"$f":"IF(A91=\"\",\"\",(SUM('Step 3. Lease Payments'!$G$11:$G$5006)+'Step 2. Basic Info'!$E$24)/'Validations - DO NOT DELETE'!$H$1)","v":""},{"$f":"IF(A91=\"\",\"\",I91*'Step 3. Lease Payments'!$G$8)","v":""},"","",null,"",{"$f":"IF(A91=\"\",\"\",VLOOKUP(A91,'Step 3. Lease Payments'!B:G,6,))","v":""},""]
[{"$f":"IF(B91<'Step 2. Basic Info'!$E$12,A91+1,\"\")","v":""},"","",{"$f":"IF(A92=\"\",\"\",(SUM('Step 3. Lease Payments'!$G$11:$G$5006)+'Step 2. Basic Info'!$E$24)/'Validations - DO NOT DELETE'!$H$1)","v":""},{"$f":"IF(A92=\"\",\"\",I92*'Step 3. Lease Payments'!$G$8)","v":""},"","",null,"",{"$f":"IF(A92=\"\",\"\",VLOOKUP(A92,'Step 3. Lease Payments'!B:G,6,))","v":""},""]
[{"$f":"IF(B92<'Step 2. Basic Info'!$E$12,A92+1,\"\")","v":""},"","",{"$f":"IF(A93=\"\",\"\",(SUM('Step 3. Lease Payments'!$G$11:$G$5006)+'Step 2. Basic Info'!$E$24)/'Validations - DO NOT DELETE'!$H$1)","v":""},{"$f":"IF(A93=\"\",\"\",I93*'Step 3. Lease Payments'!$G$8)","v":""},"","",null,"",{"$f":"IF(A93=\"\",\"\",VLOOKUP(A93,'Step 3. Lease Payments'!B:G,6,))","v":""},""]
[{"$f":"IF(B93<'Step 2. Basic Info'!$E$12,A93+1,\"\")","v":""},"","",{"$f":"IF(A94=\"\",\"\",(SUM('Step 3. Lease Payments'!$G$11:$G$5006)+'Step 2. Basic Info'!$E$24)/'Validations - DO NOT DELETE'!$H$1)","v":""},{"$f":"IF(A94=\"\",\"\",I94*'Step 3. Lease Payments'!$G$8)","v":""},"","",null,"",{"$f":"IF(A94=\"\",\"\",VLOOKUP(A94,'Step 3. Lease Payments'!B:G,6,))","v":""},""]
[{"$f":"IF(B94<'Step 2. Basic Info'!$E$12,A94+1,\"\")","v":""},"","",{"$f":"IF(A95=\"\",\"\",(SUM('Step 3. Lease Payments'!$G$11:$G$5006)+'Step 2. Basic Info'!$E$24)/'Validations - DO NOT DELETE'!$H$1)","v":""},{"$f":"IF(A95=\"\",\"\",I95*'Step 3. Lease Payments'!$G$8)","v":""},"","",null,"",{"$f":"IF(A95=\"\",\"\",VLOOKUP(A95,'Step 3. Lease Payments'!B:G,6,))","v":""},""]
[{"$f":"IF(B95<'Step 2. Basic Info'!$E$12,A95+1,\"\")","v":""},"","",{"$f":"IF(A96=\"\",\"\",(SUM('Step 3. Lease Payments'!$G$11:$G$5006)+'Step 2. Basic Info'!$E$24)/'Validations - DO NOT DELETE'!$H$1)","v":""},{"$f":"IF(A96=\"\",\"\",I96*'Step 3. Lease Payments'!$G$8)","v":""},"","",null,"",{"$f":"IF(A96=\"\",\"\",VLOOKUP(A96,'Step 3. Lease Payments'!B:G,6,))","v":""},""]
[{"$f":"IF(B96<'Step 2. Basic Info'!$E$12,A96+1,\"\")","v":""},"","",{"$f":"IF(A97=\"\",\"\",(SUM('Step 3. Lease Payments'!$G$11:$G$5006)+'Step 2. Basic Info'!$E$24)/'Validations - DO NOT DELETE'!$H$1)","v":""},{"$f":"IF(A97=\"\",\"\",I97*'Step 3. Lease Payments'!$G$8)","v":""},"","",null,"",{"$f":"IF(A97=\"\",\"\",VLOOKUP(A97,'Step 3. Lease Payments'!B:G,6,))","v":""},""]
[{"$f":"IF(B97<'Step 2. Basic Info'!$E$12,A97+1,\"\")","v":""},"","",{"$f":"IF(A98=\"\",\"\",(SUM('Step 3. Lease Payments'!$G$11:$G$5006)+'Step 2. Basic Info'!$E$24)/'Validations - DO NOT DELETE'!$H$1)","v":""},{"$f":"IF(A98=\"\",\"\",I98*'Step 3. Lease Payments'!$G$8)","v":""},"","",null,"",{"$f":"IF(A98=\"\",\"\",VLOOKUP(A98,'Step 3. Lease Payments'!B:G,6,))","v":""},""]
[{"$f":"IF(B98<'Step 2. Basic Info'!$E$12,A98+1,\"\")","v":""},"","",{"$f":"IF(A99=\"\",\"\",(SUM('Step 3. Lease Payments'!$G$11:$G$5006)+'Step 2. Basic Info'!$E$24)/'Validations - DO NOT DELETE'!$H$1)","v":""},{"$f":"IF(A99=\"\",\"\",I99*'Step 3. Lease Payments'!$G$8)","v":""},"","",null,"",{"$f":"IF(A99=\"\",\"\",VLOOKUP(A99,'Step 3. Lease Payments'!B:G,6,))","v":""},""]
[{"$f":"IF(B99<'Step 2. Basic Info'!$E$12,A99+1,\"\")","v":""},"","",{"$f":"IF(A100=\"\",\"\",(SUM('Step 3. Lease Payments'!$G$11:$G$5006)+'Step 2. Basic Info'!$E$24)/'Validations - DO NOT DELETE'!$H$1)","v":""},{"$f":"IF(A100=\"\",\"\",I100*'Step 3. Lease Payments'!$G$8)","v":""},"","",null,"",{"$f":"IF(A100=\"\",\"\",VLOOKUP(A100,'Step 3. Lease Payments'!B:G,6,))","v":""},""]
[{"$f":"IF(B100<'Step 2. Basic Info'!$E$12,A100+1,\"\")","v":""},"","",{"$f":"IF(A101=\"\",\"\",(SUM('Step 3. Lease Payments'!$G$11:$G$5006)+'Step 2. Basic Info'!$E$24)/'Validations - DO NOT DELETE'!$H$1)","v":""},{"$f":"IF(A101=\"\",\"\",I101*'Step 3. Lease Payments'!$G$8)","v":""},"","",null,"",{"$f":"IF(A101=\"\",\"\",VLOOKUP(A101,'Step 3. Lease Payments'!B:G,6,))","v":""},""]
[{"$f":"IF(B101<'Step 2. Basic Info'!$E$12,A101+1,\"\")","v":""},"","",{"$f":"IF(A102=\"\",\"\",(SUM('Step 3. Lease Payments'!$G$11:$G$5006)+'Step 2. Basic Info'!$E$24)/'Validations - DO NOT DELETE'!$H$1)","v":""},{"$f":"IF(A102=\"\",\"\",I102*'Step 3. Lease Payments'!$G$8)","v":""},"","",null,"",{"$f":"IF(A102=\"\",\"\",VLOOKUP(A102,'Step 3. Lease Payments'!B:G,6,))","v":""},""]
[{"$f":"IF(B102<'Step 2. Basic Info'!$E$12,A102+1,\"\")","v":""},"","",{"$f":"IF(A103=\"\",\"\",(SUM('Step 3. Lease Payments'!$G$11:$G$5006)+'Step 2. Basic Info'!$E$24)/'Validations - DO NOT DELETE'!$H$1)","v":""},{"$f":"IF(A103=\"\",\"\",I103*'Step 3. Lease Payments'!$G$8)","v":""},"","",null,"",{"$f":"IF(A103=\"\",\"\",VLOOKUP(A103,'Step 3. Lease Payments'!B:G,6,))","v":""},""]
[{"$f":"IF(B103<'Step 2. Basic Info'!$E$12,A103+1,\"\")","v":""},"","",{"$f":"IF(A104=\"\",\"\",(SUM('Step 3. Lease Payments'!$G$11:$G$5006)+'Step 2. Basic Info'!$E$24)/'Validations - DO NOT DELETE'!$H$1)","v":""},{"$f":"IF(A104=\"\",\"\",I104*'Step 3. Lease Payments'!$G$8)","v":""},"","",null,"",{"$f":"IF(A104=\"\",\"\",VLOOKUP(A104,'Step 3. Lease Payments'!B:G,6,))","v":""},""]
[{"$f":"IF(B104<'Step 2. Basic Info'!$E$12,A104+1,\"\")","v":""},"","",{"$f":"IF(A105=\"\",\"\",(SUM('Step 3. Lease Payments'!$G$11:$G$5006)+'Step 2. Basic Info'!$E$24)/'Validations - DO NOT DELETE'!$H$1)","v":""},{"$f":"IF(A105=\"\",\"\",I105*'Step 3. Lease Payments'!$G$8)","v":""},"","",null,"",{"$f":"IF(A105=\"\",\"\",VLOOKUP(A105,'Step 3. Lease Payments'!B:G,6,))","v":""},""]
[{"$f":"IF(B105<'Step 2. Basic Info'!$E$12,A105+1,\"\")","v":""},"","",{"$f":"IF(A106=\"\",\"\",(SUM('Step 3. Lease Payments'!$G$11:$G$5006)+'Step 2. Basic Info'!$E$24)/'Validations - DO NOT DELETE'!$H$1)","v":""},{"$f":"IF(A106=\"\",\"\",I106*'Step 3. Lease Payments'!$G$8)","v":""},"","",null,"",{"$f":"IF(A106=\"\",\"\",VLOOKUP(A106,'Step 3. Lease Payments'!B:G,6,))","v":""},""]
[{"$f":"IF(B106<'Step 2. Basic Info'!$E$12,A106+1,\"\")","v":""},"","",{"$f":"IF(A107=\"\",\"\",(SUM('Step 3. Lease Payments'!$G$11:$G$5006)+'Step 2. Basic Info'!$E$24)/'Validations - DO NOT DELETE'!$H$1)","v":""},{"$f":"IF(A107=\"\",\"\",I107*'Step 3. Lease Payments'!$G$8)","v":""},"","",null,"",{"$f":"IF(A107=\"\",\"\",VLOOKUP(A107,'Step 3. Lease Payments'!B:G,6,))","v":""},""]
[{"$f":"IF(B107<'Step 2. Basic Info'!$E$12,A107+1,\"\")","v":""},"","",{"$f":"IF(A108=\"\",\"\",(SUM('Step 3. Lease Payments'!$G$11:$G$5006)+'Step 2. Basic Info'!$E$24)/'Validations - DO NOT DELETE'!$H$1)","v":""},{"$f":"IF(A108=\"\",\"\",I108*'Step 3. Lease Payments'!$G$8)","v":""},"","",null,"",{"$f":"IF(A108=\"\",\"\",VLOOKUP(A108,'Step 3. Lease Payments'!B:G,6,))","v":""},""]
[{"$f":"IF(B108<'Step 2. Basic Info'!$E$12,A108+1,\"\")","v":""},"","",{"$f":"IF(A109=\"\",\"\",(SUM('Step 3. Lease Payments'!$G$11:$G$5006)+'Step 2. Basic Info'!$E$24)/'Validations - DO NOT DELETE'!$H$1)","v":""},{"$f":"IF(A109=\"\",\"\",I109*'Step 3. Lease Payments'!$G$8)","v":""},"","",null,"",{"$f":"IF(A109=\"\",\"\",VLOOKUP(A109,'Step 3. Lease Payments'!B:G,6,))","v":""},""]
[{"$f":"IF(B109<'Step 2. Basic Info'!$E$12,A109+1,\"\")","v":""},"","",{"$f":"IF(A110=\"\",\"\",(SUM('Step 3. Lease Payments'!$G$11:$G$5006)+'Step 2. Basic Info'!$E$24)/'Validations - DO NOT DELETE'!$H$1)","v":""},{"$f":"IF(A110=\"\",\"\",I110*'Step 3. Lease Payments'!$G$8)","v":""},"","",null,"",{"$f":"IF(A110=\"\",\"\",VLOOKUP(A110,'Step 3. Lease Payments'!B:G,6,))","v":""},""]
[{"$f":"IF(B110<'Step 2. Basic Info'!$E$12,A110+1,\"\")","v":""},"","",{"$f":"IF(A111=\"\",\"\",(SUM('Step 3. Lease Payments'!$G$11:$G$5006)+'Step 2. Basic Info'!$E$24)/'Validations - DO NOT DELETE'!$H$1)","v":""},{"$f":"IF(A111=\"\",\"\",I111*'Step 3. Lease Payments'!$G$8)","v":""},"","",null,"",{"$f":"IF(A111=\"\",\"\",VLOOKUP(A111,'Step 3. Lease Payments'!B:G,6,))","v":""},""]
[{"$f":"IF(B111<'Step 2. Basic Info'!$E$12,A111+1,\"\")","v":""},"","",{"$f":"IF(A112=\"\",\"\",(SUM('Step 3. Lease Payments'!$G$11:$G$5006)+'Step 2. Basic Info'!$E$24)/'Validations - DO NOT DELETE'!$H$1)","v":""},{"$f":"IF(A112=\"\",\"\",I112*'Step 3. Lease Payments'!$G$8)","v":""},"","",null,"",{"$f":"IF(A112=\"\",\"\",VLOOKUP(A112,'Step 3. Lease Payments'!B:G,6,))","v":""},""]
[{"$f":"IF(B112<'Step 2. Basic Info'!$E$12,A112+1,\"\")","v":""},"","",{"$f":"IF(A113=\"\",\"\",(SUM('Step 3. Lease Payments'!$G$11:$G$5006)+'Step 2. Basic Info'!$E$24)/'Validations - DO NOT DELETE'!$H$1)","v":""},{"$f":"IF(A113=\"\",\"\",I113*'Step 3. Lease Payments'!$G$8)","v":""},"","",null,"",{"$f":"IF(A113=\"\",\"\",VLOOKUP(A113,'Step 3. Lease Payments'!B:G,6,))","v":""},""]
[{"$f":"IF(B113<'Step 2. Basic Info'!$E$12,A113+1,\"\")","v":""},"","",{"$f":"IF(A114=\"\",\"\",(SUM('Step 3. Lease Payments'!$G$11:$G$5006)+'Step 2. Basic Info'!$E$24)/'Validations - DO NOT DELETE'!$H$1)","v":""},{"$f":"IF(A114=\"\",\"\",I114*'Step 3. Lease Payments'!$G$8)","v":""},"","",null,"",{"$f":"IF(A114=\"\",\"\",VLOOKUP(A114,'Step 3. Lease Payments'!B:G,6,))","v":""},""]
[{"$f":"IF(B114<'Step 2. Basic Info'!$E$12,A114+1,\"\")","v":""},"","",{"$f":"IF(A115=\"\",\"\",(SUM('Step 3. Lease Payments'!$G$11:$G$5006)+'Step 2. Basic Info'!$E$24)/'Validations - DO NOT DELETE'!$H$1)","v":""},{"$f":"IF(A115=\"\",\"\",I115*'Step 3. Lease Payments'!$G$8)","v":""},"","",null,"",{"$f":"IF(A115=\"\",\"\",VLOOKUP(A115,'Step 3. Lease Payments'!B:G,6,))","v":""},""]
[{"$f":"IF(B115<'Step 2. Basic Info'!$E$12,A115+1,\"\")","v":""},"","",{"$f":"IF(A116=\"\",\"\",(SUM('Step 3. Lease Payments'!$G$11:$G$5006)+'Step 2. Basic Info'!$E$24)/'Validations - DO NOT DELETE'!$H$1)","v":""},{"$f":"IF(A116=\"\",\"\",I116*'Step 3. Lease Payments'!$G$8)","v":""},"","",null,"",{"$f":"IF(A116=\"\",\"\",VLOOKUP(A116,'Step 3. Lease Payments'!B:G,6,))","v":""},""]
[{"$f":"IF(B116<'Step 2. Basic Info'!$E$12,A116+1,\"\")","v":""},"","",{"$f":"IF(A117=\"\",\"\",(SUM('Step 3. Lease Payments'!$G$11:$G$5006)+'Step 2. Basic Info'!$E$24)/'Validations - DO NOT DELETE'!$H$1)","v":""},{"$f":"IF(A117=\"\",\"\",I117*'Step 3. Lease Payments'!$G$8)","v":""},"","",null,"",{"$f":"IF(A117=\"\",\"\",VLOOKUP(A117,'Step 3. Lease Payments'!B:G,6,))","v":""},""]
[{"$f":"IF(B117<'Step 2. Basic Info'!$E$12,A117+1,\"\")","v":""},"","",{"$f":"IF(A118=\"\",\"\",(SUM('Step 3. Lease Payments'!$G$11:$G$5006)+'Step 2. Basic Info'!$E$24)/'Validations - DO NOT DELETE'!$H$1)","v":""},{"$f":"IF(A118=\"\",\"\",I118*'Step 3. Lease Payments'!$G$8)","v":""},"","",null,"",{"$f":"IF(A118=\"\",\"\",VLOOKUP(A118,'Step 3. Lease Payments'!B:G,6,))","v":""},""]
[{"$f":"IF(B118<'Step 2. Basic Info'!$E$12,A118+1,\"\")","v":""},"","",{"$f":"IF(A119=\"\",\"\",(SUM('Step 3. Lease Payments'!$G$11:$G$5006)+'Step 2. Basic Info'!$E$24)/'Validations - DO NOT DELETE'!$H$1)","v":""},{"$f":"IF(A119=\"\",\"\",I119*'Step 3. Lease Payments'!$G$8)","v":""},"","",null,"",{"$f":"IF(A119=\"\",\"\",VLOOKUP(A119,'Step 3. Lease Payments'!B:G,6,))","v":""},""]
[{"$f":"IF(B119<'Step 2. Basic Info'!$E$12,A119+1,\"\")","v":""},"","",{"$f":"IF(A120=\"\",\"\",(SUM('Step 3. Lease Payments'!$G$11:$G$5006)+'Step 2. Basic Info'!$E$24)/'Validations - DO NOT DELETE'!$H$1)","v":""},{"$f":"IF(A120=\"\",\"\",I120*'Step 3. Lease Payments'!$G$8)","v":""},"","",null,"",{"$f":"IF(A120=\"\",\"\",VLOOKUP(A120,'Step 3. Lease Payments'!B:G,6,))","v":""},""]
[{"$f":"IF(B120<'Step 2. Basic Info'!$E$12,A120+1,\"\")","v":""},"","",{"$f":"IF(A121=\"\",\"\",(SUM('Step 3. Lease Payments'!$G$11:$G$5006)+'Step 2. Basic Info'!$E$24)/'Validations - DO NOT DELETE'!$H$1)","v":""},{"$f":"IF(A121=\"\",\"\",I121*'Step 3. Lease Payments'!$G$8)","v":""},"","",null,"",{"$f":"IF(A121=\"\",\"\",VLOOKUP(A121,'Step 3. Lease Payments'!B:G,6,))","v":""},""]
[{"$f":"IF(B121<'Step 2. Basic Info'!$E$12,A121+1,\"\")","v":""},"","",{"$f":"IF(A122=\"\",\"\",(SUM('Step 3. Lease Payments'!$G$11:$G$5006)+'Step 2. Basic Info'!$E$24)/'Validations - DO NOT DELETE'!$H$1)","v":""},{"$f":"IF(A122=\"\",\"\",I122*'Step 3. Lease Payments'!$G$8)","v":""},"","",null,"",{"$f":"IF(A122=\"\",\"\",VLOOKUP(A122,'Step 3. Lease Payments'!B:G,6,))","v":""},""]
[{"$f":"IF(B122<'Step 2. Basic Info'!$E$12,A122+1,\"\")","v":""},"","",{"$f":"IF(A123=\"\",\"\",(SUM('Step 3. Lease Payments'!$G$11:$G$5006)+'Step 2. Basic Info'!$E$24)/'Validations - DO NOT DELETE'!$H$1)","v":""},{"$f":"IF(A123=\"\",\"\",I123*'Step 3. Lease Payments'!$G$8)","v":""},"","",null,"",{"$f":"IF(A123=\"\",\"\",VLOOKUP(A123,'Step 3. Lease Payments'!B:G,6,))","v":""},""]
[{"$f":"IF(B123<'Step 2. Basic Info'!$E$12,A123+1,\"\")","v":""},"","",{"$f":"IF(A124=\"\",\"\",(SUM('Step 3. Lease Payments'!$G$11:$G$5006)+'Step 2. Basic Info'!$E$24)/'Validations - DO NOT DELETE'!$H$1)","v":""},{"$f":"IF(A124=\"\",\"\",I124*'Step 3. Lease Payments'!$G$8)","v":""},"","",null,"",{"$f":"IF(A124=\"\",\"\",VLOOKUP(A124,'Step 3. Lease Payments'!B:G,6,))","v":""},""]
[{"$f":"IF(B124<'Step 2. Basic Info'!$E$12,A124+1,\"\")","v":""},"","",{"$f":"IF(A125=\"\",\"\",(SUM('Step 3. Lease Payments'!$G$11:$G$5006)+'Step 2. Basic Info'!$E$24)/'Validations - DO NOT DELETE'!$H$1)","v":""},{"$f":"IF(A125=\"\",\"\",I125*'Step 3. Lease Payments'!$G$8)","v":""},"","",null,"",{"$f":"IF(A125=\"\",\"\",VLOOKUP(A125,'Step 3. Lease Payments'!B:G,6,))","v":""},""]
[{"$f":"IF(B125<'Step 2. Basic Info'!$E$12,A125+1,\"\")","v":""},"","",{"$f":"IF(A126=\"\",\"\",(SUM('Step 3. Lease Payments'!$G$11:$G$5006)+'Step 2. Basic Info'!$E$24)/'Validations - DO NOT DELETE'!$H$1)","v":""},{"$f":"IF(A126=\"\",\"\",I126*'Step 3. Lease Payments'!$G$8)","v":""},"","",null,"",{"$f":"IF(A126=\"\",\"\",VLOOKUP(A126,'Step 3. Lease Payments'!B:G,6,))","v":""},""]
[{"$f":"IF(B126<'Step 2. Basic Info'!$E$12,A126+1,\"\")","v":""},"","",{"$f":"IF(A127=\"\",\"\",(SUM('Step 3. Lease Payments'!$G$11:$G$5006)+'Step 2. Basic Info'!$E$24)/'Validations - DO NOT DELETE'!$H$1)","v":""},{"$f":"IF(A127=\"\",\"\",I127*'Step 3. Lease Payments'!$G$8)","v":""},"","",null,"",{"$f":"IF(A127=\"\",\"\",VLOOKUP(A127,'Step 3. Lease Payments'!B:G,6,))","v":""},""]
[{"$f":"IF(B127<'Step 2. Basic Info'!$E$12,A127+1,\"\")","v":""},"","",{"$f":"IF(A128=\"\",\"\",(SUM('Step 3. Lease Payments'!$G$11:$G$5006)+'Step 2. Basic Info'!$E$24)/'Validations - DO NOT DELETE'!$H$1)","v":""},{"$f":"IF(A128=\"\",\"\",I128*'Step 3. Lease Payments'!$G$8)","v":""},"","",null,"",{"$f":"IF(A128=\"\",\"\",VLOOKUP(A128,'Step 3. Lease Payments'!B:G,6,))","v":""},""]
[{"$f":"IF(B128<'Step 2. Basic Info'!$E$12,A128+1,\"\")","v":""},"","",{"$f":"IF(A129=\"\",\"\",(SUM('Step 3. Lease Payments'!$G$11:$G$5006)+'Step 2. Basic Info'!$E$24)/'Validations - DO NOT DELETE'!$H$1)","v":""},{"$f":"IF(A129=\"\",\"\",I129*'Step 3. Lease Payments'!$G$8)","v":""},"","",null,"",{"$f":"IF(A129=\"\",\"\",VLOOKUP(A129,'Step 3. Lease Payments'!B:G,6,))","v":""},""]
[{"$f":"IF(B129<'Step 2. Basic Info'!$E$12,A129+1,\"\")","v":""},"","",{"$f":"IF(A130=\"\",\"\",(SUM('Step 3. Lease Payments'!$G$11:$G$5006)+'Step 2. Basic Info'!$E$24)/'Validations - DO NOT DELETE'!$H$1)","v":""},{"$f":"IF(A130=\"\",\"\",I130*'Step 3. Lease Payments'!$G$8)","v":""},"","",null,"",{"$f":"IF(A130=\"\",\"\",VLOOKUP(A130,'Step 3. Lease Payments'!B:G,6,))","v":""},""]
[{"$f":"IF(B130<'Step 2. Basic Info'!$E$12,A130+1,\"\")","v":""},"","",{"$f":"IF(A131=\"\",\"\",(SUM('Step 3. Lease Payments'!$G$11:$G$5006)+'Step 2. Basic Info'!$E$24)/'Validations - DO NOT DELETE'!$H$1)","v":""},{"$f":"IF(A131=\"\",\"\",I131*'Step 3. Lease Payments'!$G$8)","v":""},"","",null,"",{"$f":"IF(A131=\"\",\"\",VLOOKUP(A131,'Step 3. Lease Payments'!B:G,6,))","v":""},""]
[{"$f":"IF(B131<'Step 2. Basic Info'!$E$12,A131+1,\"\")","v":""},"","",{"$f":"IF(A132=\"\",\"\",(SUM('Step 3. Lease Payments'!$G$11:$G$5006)+'Step 2. Basic Info'!$E$24)/'Validations - DO NOT DELETE'!$H$1)","v":""},{"$f":"IF(A132=\"\",\"\",I132*'Step 3. Lease Payments'!$G$8)","v":""},"","",null,"",{"$f":"IF(A132=\"\",\"\",VLOOKUP(A132,'Step 3. Lease Payments'!B:G,6,))","v":""},""]
[{"$f":"IF(B132<'Step 2. Basic Info'!$E$12,A132+1,\"\")","v":""},"","",{"$f":"IF(A133=\"\",\"\",(SUM('Step 3. Lease Payments'!$G$11:$G$5006)+'Step 2. Basic Info'!$E$24)/'Validations - DO NOT DELETE'!$H$1)","v":""},{"$f":"IF(A133=\"\",\"\",I133*'Step 3. Lease Payments'!$G$8)","v":""},"","",null,"",{"$f":"IF(A133=\"\",\"\",VLOOKUP(A133,'Step 3. Lease Payments'!B:G,6,))","v":""},""]
[{"$f":"IF(B133<'Step 2. Basic Info'!$E$12,A133+1,\"\")","v":""},"","",{"$f":"IF(A134=\"\",\"\",(SUM('Step 3. Lease Payments'!$G$11:$G$5006)+'Step 2. Basic Info'!$E$24)/'Validations - DO NOT DELETE'!$H$1)","v":""},{"$f":"IF(A134=\"\",\"\",I134*'Step 3. Lease Payments'!$G$8)","v":""},"","",null,"",{"$f":"IF(A134=\"\",\"\",VLOOKUP(A134,'Step 3. Lease Payments'!B:G,6,))","v":""},""]
[{"$f":"IF(B134<'Step 2. Basic Info'!$E$12,A134+1,\"\")","v":""},"","",{"$f":"IF(A135=\"\",\"\",(SUM('Step 3. Lease Payments'!$G$11:$G$5006)+'Step 2. Basic Info'!$E$24)/'Validations - DO NOT DELETE'!$H$1)","v":""},{"$f":"IF(A135=\"\",\"\",I135*'Step 3. Lease Payments'!$G$8)","v":""},"","",null,"",{"$f":"IF(A135=\"\",\"\",VLOOKUP(A135,'Step 3. Lease Payments'!B:G,6,))","v":""},""]
[{"$f":"IF(B135<'Step 2. Basic Info'!$E$12,A135+1,\"\")","v":""},"","",{"$f":"IF(A136=\"\",\"\",(SUM('Step 3. Lease Payments'!$G$11:$G$5006)+'Step 2. Basic Info'!$E$24)/'Validations - DO NOT DELETE'!$H$1)","v":""},{"$f":"IF(A136=\"\",\"\",I136*'Step 3. Lease Payments'!$G$8)","v":""},"","",null,"",{"$f":"IF(A136=\"\",\"\",VLOOKUP(A136,'Step 3. Lease Payments'!B:G,6,))","v":""},""]
[{"$f":"IF(B136<'Step 2. Basic Info'!$E$12,A136+1,\"\")","v":""},"","",{"$f":"IF(A137=\"\",\"\",(SUM('Step 3. Lease Payments'!$G$11:$G$5006)+'Step 2. Basic Info'!$E$24)/'Validations - DO NOT DELETE'!$H$1)","v":""},{"$f":"IF(A137=\"\",\"\",I137*'Step 3. Lease Payments'!$G$8)","v":""},"","",null,"",{"$f":"IF(A137=\"\",\"\",VLOOKUP(A137,'Step 3. Lease Payments'!B:G,6,))","v":""},""]
[{"$f":"IF(B137<'Step 2. Basic Info'!$E$12,A137+1,\"\")","v":""},"","",{"$f":"IF(A138=\"\",\"\",(SUM('Step 3. Lease Payments'!$G$11:$G$5006)+'Step 2. Basic Info'!$E$24)/'Validations - DO NOT DELETE'!$H$1)","v":""},{"$f":"IF(A138=\"\",\"\",I138*'Step 3. Lease Payments'!$G$8)","v":""},"","",null,"",{"$f":"IF(A138=\"\",\"\",VLOOKUP(A138,'Step 3. Lease Payments'!B:G,6,))","v":""},""]
[{"$f":"IF(B138<'Step 2. Basic Info'!$E$12,A138+1,\"\")","v":""},{"$f":"IF(A139=\"\",\"\",(DATE(YEAR(B138),MONTH(B138)+1,DAY(B138))))","v":""},{"$f":"IF(A139=\"\",\"\",G138)","v":""},{"$f":"IF(A139=\"\",\"\",(SUM('Step 3. Lease Payments'!$G$11:$G$5006)+'Step 2. Basic Info'!$E$24)/'Validations - DO NOT DELETE'!$H$1)","v":""},{"$f":"IF(A139=\"\",\"\",I139*'Step 3. Lease Payments'!$G$8)","v":""},{"$f":"IF(A139=\"\",\"\",D139-E139)","v":""},{"$f":"IF(A139=\"\",\"\",C139-F139)","v":""},null,{"$f":"IF(A139=\"\",\"\",K138)","v":""},{"$f":"IF(A139=\"\",\"\",VLOOKUP(A139,'Step 3. Lease Payments'!B:G,6,))","v":""},{"$f":"IF(A139=\"\",\"\",I139-J139+E139)","v":""}]
[{"$f":"IF(B139<'Step 2. Basic Info'!$E$12,A139+1,\"\")","v":""},"","",{"$f":"IF(A140=\"\",\"\",(SUM('Step 3. Lease Payments'!$G$11:$G$5006)+'Step 2. Basic Info'!$E$24)/'Validations - DO NOT DELETE'!$H$1)","v":""},{"$f":"IF(A140=\"\",\"\",I140*'Step 3. Lease Payments'!$G$8)","v":""},"","",null,"",{"$f":"IF(A140=\"\",\"\",VLOOKUP(A140,'Step 3. Lease Payments'!B:G,6,))","v":""},""]
[{"$f":"IF(B140<'Step 2. Basic Info'!$E$12,A140+1,\"\")","v":""},"","",{"$f":"IF(A141=\"\",\"\",(SUM('Step 3. Lease Payments'!$G$11:$G$5006)+'Step 2. Basic Info'!$E$24)/'Validations - DO NOT DELETE'!$H$1)","v":""},{"$f":"IF(A141=\"\",\"\",I141*'Step 3. Lease Payments'!$G$8)","v":""},"","",null,"",{"$f":"IF(A141=\"\",\"\",VLOOKUP(A141,'Step 3. Lease Payments'!B:G,6,))","v":""},""]
[{"$f":"IF(B141<'Step 2. Basic Info'!$E$12,A141+1,\"\")","v":""},"","",{"$f":"IF(A142=\"\",\"\",(SUM('Step 3. Lease Payments'!$G$11:$G$5006)+'Step 2. Basic Info'!$E$24)/'Validations - DO NOT DELETE'!$H$1)","v":""},{"$f":"IF(A142=\"\",\"\",I142*'Step 3. Lease Payments'!$G$8)","v":""},"","",null,"",{"$f":"IF(A142=\"\",\"\",VLOOKUP(A142,'Step 3. Lease Payments'!B:G,6,))","v":""},""]
[{"$f":"IF(B142<'Step 2. Basic Info'!$E$12,A142+1,\"\")","v":""},"","",{"$f":"IF(A143=\"\",\"\",(SUM('Step 3. Lease Payments'!$G$11:$G$5006)+'Step 2. Basic Info'!$E$24)/'Validations - DO NOT DELETE'!$H$1)","v":""},{"$f":"IF(A143=\"\",\"\",I143*'Step 3. Lease Payments'!$G$8)","v":""},"","",null,"",{"$f":"IF(A143=\"\",\"\",VLOOKUP(A143,'Step 3. Lease Payments'!B:G,6,))","v":""},""]
[{"$f":"IF(B143<'Step 2. Basic Info'!$E$12,A143+1,\"\")","v":""},"","",{"$f":"IF(A144=\"\",\"\",(SUM('Step 3. Lease Payments'!$G$11:$G$5006)+'Step 2. Basic Info'!$E$24)/'Validations - DO NOT DELETE'!$H$1)","v":""},{"$f":"IF(A144=\"\",\"\",I144*'Step 3. Lease Payments'!$G$8)","v":""},"","",null,"",{"$f":"IF(A144=\"\",\"\",VLOOKUP(A144,'Step 3. Lease Payments'!B:G,6,))","v":""},""]
[{"$f":"IF(B144<'Step 2. Basic Info'!$E$12,A144+1,\"\")","v":""},"","",{"$f":"IF(A145=\"\",\"\",(SUM('Step 3. Lease Payments'!$G$11:$G$5006)+'Step 2. Basic Info'!$E$24)/'Validations - DO NOT DELETE'!$H$1)","v":""},{"$f":"IF(A145=\"\",\"\",I145*'Step 3. Lease Payments'!$G$8)","v":""},"","",null,"",{"$f":"IF(A145=\"\",\"\",VLOOKUP(A145,'Step 3. Lease Payments'!B:G,6,))","v":""},""]
[{"$f":"IF(B145<'Step 2. Basic Info'!$E$12,A145+1,\"\")","v":""},"","",{"$f":"IF(A146=\"\",\"\",(SUM('Step 3. Lease Payments'!$G$11:$G$5006)+'Step 2. Basic Info'!$E$24)/'Validations - DO NOT DELETE'!$H$1)","v":""},{"$f":"IF(A146=\"\",\"\",I146*'Step 3. Lease Payments'!$G$8)","v":""},"","",null,"",{"$f":"IF(A146=\"\",\"\",VLOOKUP(A146,'Step 3. Lease Payments'!B:G,6,))","v":""},""]
[{"$f":"IF(B146<'Step 2. Basic Info'!$E$12,A146+1,\"\")","v":""},"","",{"$f":"IF(A147=\"\",\"\",(SUM('Step 3. Lease Payments'!$G$11:$G$5006)+'Step 2. Basic Info'!$E$24)/'Validations - DO NOT DELETE'!$H$1)","v":""},{"$f":"IF(A147=\"\",\"\",I147*'Step 3. Lease Payments'!$G$8)","v":""},"","",null,"",{"$f":"IF(A147=\"\",\"\",VLOOKUP(A147,'Step 3. Lease Payments'!B:G,6,))","v":""},""]
[{"$f":"IF(B147<'Step 2. Basic Info'!$E$12,A147+1,\"\")","v":""},"","",{"$f":"IF(A148=\"\",\"\",(SUM('Step 3. Lease Payments'!$G$11:$G$5006)+'Step 2. Basic Info'!$E$24)/'Validations - DO NOT DELETE'!$H$1)","v":""},{"$f":"IF(A148=\"\",\"\",I148*'Step 3. Lease Payments'!$G$8)","v":""},"","",null,"",{"$f":"IF(A148=\"\",\"\",VLOOKUP(A148,'Step 3. Lease Payments'!B:G,6,))","v":""},""]
[{"$f":"IF(B148<'Step 2. Basic Info'!$E$12,A148+1,\"\")","v":""},"","",{"$f":"IF(A149=\"\",\"\",(SUM('Step 3. Lease Payments'!$G$11:$G$5006)+'Step 2. Basic Info'!$E$24)/'Validations - DO NOT DELETE'!$H$1)","v":""},{"$f":"IF(A149=\"\",\"\",I149*'Step 3. Lease Payments'!$G$8)","v":""},"","",null,"",{"$f":"IF(A149=\"\",\"\",VLOOKUP(A149,'Step 3. Lease Payments'!B:G,6,))","v":""},""]
[{"$f":"IF(B149<'Step 2. Basic Info'!$E$12,A149+1,\"\")","v":""},"","",{"$f":"IF(A150=\"\",\"\",(SUM('Step 3. Lease Payments'!$G$11:$G$5006)+'Step 2. Basic Info'!$E$24)/'Validations - DO NOT DELETE'!$H$1)","v":""},{"$f":"IF(A150=\"\",\"\",I150*'Step 3. Lease Payments'!$G$8)","v":""},"","",null,"",{"$f":"IF(A150=\"\",\"\",VLOOKUP(A150,'Step 3. Lease Payments'!B:G,6,))","v":""},""]
[{"$f":"IF(B150<'Step 2. Basic Info'!$E$12,A150+1,\"\")","v":""},"","",{"$f":"IF(A151=\"\",\"\",(SUM('Step 3. Lease Payments'!$G$11:$G$5006)+'Step 2. Basic Info'!$E$24)/'Validations - DO NOT DELETE'!$H$1)","v":""},{"$f":"IF(A151=\"\",\"\",I151*'Step 3. Lease Payments'!$G$8)","v":""},"","",null,"",{"$f":"IF(A151=\"\",\"\",VLOOKUP(A151,'Step 3. Lease Payments'!B:G,6,))","v":""},""]
[{"$f":"IF(B151<'Step 2. Basic Info'!$E$12,A151+1,\"\")","v":""},"","",{"$f":"IF(A152=\"\",\"\",(SUM('Step 3. Lease Payments'!$G$11:$G$5006)+'Step 2. Basic Info'!$E$24)/'Validations - DO NOT DELETE'!$H$1)","v":""},{"$f":"IF(A152=\"\",\"\",I152*'Step 3. Lease Payments'!$G$8)","v":""},"","",null,"",{"$f":"IF(A152=\"\",\"\",VLOOKUP(A152,'Step 3. Lease Payments'!B:G,6,))","v":""},""]
[{"$f":"IF(B152<'Step 2. Basic Info'!$E$12,A152+1,\"\")","v":""},"","",{"$f":"IF(A153=\"\",\"\",(SUM('Step 3. Lease Payments'!$G$11:$G$5006)+'Step 2. Basic Info'!$E$24)/'Validations - DO NOT DELETE'!$H$1)","v":""},{"$f":"IF(A153=\"\",\"\",I153*'Step 3. Lease Payments'!$G$8)","v":""},"","",null,"",{"$f":"IF(A153=\"\",\"\",VLOOKUP(A153,'Step 3. Lease Payments'!B:G,6,))","v":""},""]
[{"$f":"IF(B153<'Step 2. Basic Info'!$E$12,A153+1,\"\")","v":""},"","",{"$f":"IF(A154=\"\",\"\",(SUM('Step 3. Lease Payments'!$G$11:$G$5006)+'Step 2. Basic Info'!$E$24)/'Validations - DO NOT DELETE'!$H$1)","v":""},{"$f":"IF(A154=\"\",\"\",I154*'Step 3. Lease Payments'!$G$8)","v":""},"","",null,"",{"$f":"IF(A154=\"\",\"\",VLOOKUP(A154,'Step 3. Lease Payments'!B:G,6,))","v":""},""]
[{"$f":"IF(B154<'Step 2. Basic Info'!$E$12,A154+1,\"\")","v":""},"","",{"$f":"IF(A155=\"\",\"\",(SUM('Step 3. Lease Payments'!$G$11:$G$5006)+'Step 2. Basic Info'!$E$24)/'Validations - DO NOT DELETE'!$H$1)","v":""},{"$f":"IF(A155=\"\",\"\",I155*'Step 3. Lease Payments'!$G$8)","v":""},"","",null,"",{"$f":"IF(A155=\"\",\"\",VLOOKUP(A155,'Step 3. Lease Payments'!B:G,6,))","v":""},""]
[{"$f":"IF(B155<'Step 2. Basic Info'!$E$12,A155+1,\"\")","v":""},"","",{"$f":"IF(A156=\"\",\"\",(SUM('Step 3. Lease Payments'!$G$11:$G$5006)+'Step 2. Basic Info'!$E$24)/'Validations - DO NOT DELETE'!$H$1)","v":""},{"$f":"IF(A156=\"\",\"\",I156*'Step 3. Lease Payments'!$G$8)","v":""},"","",null,"",{"$f":"IF(A156=\"\",\"\",VLOOKUP(A156,'Step 3. Lease Payments'!B:G,6,))","v":""},""]
[{"$f":"IF(B156<'Step 2. Basic Info'!$E$12,A156+1,\"\")","v":""},"","",{"$f":"IF(A157=\"\",\"\",(SUM('Step 3. Lease Payments'!$G$11:$G$5006)+'Step 2. Basic Info'!$E$24)/'Validations - DO NOT DELETE'!$H$1)","v":""},{"$f":"IF(A157=\"\",\"\",I157*'Step 3. Lease Payments'!$G$8)","v":""},"","",null,"",{"$f":"IF(A157=\"\",\"\",VLOOKUP(A157,'Step 3. Lease Payments'!B:G,6,))","v":""},""]
[{"$f":"IF(B157<'Step 2. Basic Info'!$E$12,A157+1,\"\")","v":""},"","",{"$f":"IF(A158=\"\",\"\",(SUM('Step 3. Lease Payments'!$G$11:$G$5006)+'Step 2. Basic Info'!$E$24)/'Validations - DO NOT DELETE'!$H$1)","v":""},{"$f":"IF(A158=\"\",\"\",I158*'Step 3. Lease Payments'!$G$8)","v":""},"","",null,"",{"$f":"IF(A158=\"\",\"\",VLOOKUP(A158,'Step 3. Lease Payments'!B:G,6,))","v":""},""]
[{"$f":"IF(B158<'Step 2. Basic Info'!$E$12,A158+1,\"\")","v":""},"","",{"$f":"IF(A159=\"\",\"\",(SUM('Step 3. Lease Payments'!$G$11:$G$5006)+'Step 2. Basic Info'!$E$24)/'Validations - DO NOT DELETE'!$H$1)","v":""},{"$f":"IF(A159=\"\",\"\",I159*'Step 3. Lease Payments'!$G$8)","v":""},"","",null,"",{"$f":"IF(A159=\"\",\"\",VLOOKUP(A159,'Step 3. Lease Payments'!B:G,6,))","v":""},""]
[{"$f":"IF(B159<'Step 2. Basic Info'!$E$12,A159+1,\"\")","v":""},"","",{"$f":"IF(A160=\"\",\"\",(SUM('Step 3. Lease Payments'!$G$11:$G$5006)+'Step 2. Basic Info'!$E$24)/'Validations - DO NOT DELETE'!$H$1)","v":""},{"$f":"IF(A160=\"\",\"\",I160*'Step 3. Lease Payments'!$G$8)","v":""},"","",null,"",{"$f":"IF(A160=\"\",\"\",VLOOKUP(A160,'Step 3. Lease Payments'!B:G,6,))","v":""},""]
[{"$f":"IF(B160<'Step 2. Basic Info'!$E$12,A160+1,\"\")","v":""},"","",{"$f":"IF(A161=\"\",\"\",(SUM('Step 3. Lease Payments'!$G$11:$G$5006)+'Step 2. Basic Info'!$E$24)/'Validations - DO NOT DELETE'!$H$1)","v":""},{"$f":"IF(A161=\"\",\"\",I161*'Step 3. Lease Payments'!$G$8)","v":""},"","",null,"",{"$f":"IF(A161=\"\",\"\",VLOOKUP(A161,'Step 3. Lease Payments'!B:G,6,))","v":""},""]
[{"$f":"IF(B161<'Step 2. Basic Info'!$E$12,A161+1,\"\")","v":""},"","",{"$f":"IF(A162=\"\",\"\",(SUM('Step 3. Lease Payments'!$G$11:$G$5006)+'Step 2. Basic Info'!$E$24)/'Validations - DO NOT DELETE'!$H$1)","v":""},{"$f":"IF(A162=\"\",\"\",I162*'Step 3. Lease Payments'!$G$8)","v":""},"","",null,"",{"$f":"IF(A162=\"\",\"\",VLOOKUP(A162,'Step 3. Lease Payments'!B:G,6,))","v":""},""]
[{"$f":"IF(B162<'Step 2. Basic Info'!$E$12,A162+1,\"\")","v":""},"","",{"$f":"IF(A163=\"\",\"\",(SUM('Step 3. Lease Payments'!$G$11:$G$5006)+'Step 2. Basic Info'!$E$24)/'Validations - DO NOT DELETE'!$H$1)","v":""},{"$f":"IF(A163=\"\",\"\",I163*'Step 3. Lease Payments'!$G$8)","v":""},"","",null,"",{"$f":"IF(A163=\"\",\"\",VLOOKUP(A163,'Step 3. Lease Payments'!B:G,6,))","v":""},""]
[{"$f":"IF(B163<'Step 2. Basic Info'!$E$12,A163+1,\"\")","v":""},"","",{"$f":"IF(A164=\"\",\"\",(SUM('Step 3. Lease Payments'!$G$11:$G$5006)+'Step 2. Basic Info'!$E$24)/'Validations - DO NOT DELETE'!$H$1)","v":""},{"$f":"IF(A164=\"\",\"\",I164*'Step 3. Lease Payments'!$G$8)","v":""},"","",null,"",{"$f":"IF(A164=\"\",\"\",VLOOKUP(A164,'Step 3. Lease Payments'!B:G,6,))","v":""},""]
[{"$f":"IF(B164<'Step 2. Basic Info'!$E$12,A164+1,\"\")","v":""},"","",{"$f":"IF(A165=\"\",\"\",(SUM('Step 3. Lease Payments'!$G$11:$G$5006)+'Step 2. Basic Info'!$E$24)/'Validations - DO NOT DELETE'!$H$1)","v":""},{"$f":"IF(A165=\"\",\"\",I165*'Step 3. Lease Payments'!$G$8)","v":""},"","",null,"",{"$f":"IF(A165=\"\",\"\",VLOOKUP(A165,'Step 3. Lease Payments'!B:G,6,))","v":""},""]
[{"$f":"IF(B165<'Step 2. Basic Info'!$E$12,A165+1,\"\")","v":""},"","",{"$f":"IF(A166=\"\",\"\",(SUM('Step 3. Lease Payments'!$G$11:$G$5006)+'Step 2. Basic Info'!$E$24)/'Validations - DO NOT DELETE'!$H$1)","v":""},{"$f":"IF(A166=\"\",\"\",I166*'Step 3. Lease Payments'!$G$8)","v":""},"","",null,"",{"$f":"IF(A166=\"\",\"\",VLOOKUP(A166,'Step 3. Lease Payments'!B:G,6,))","v":""},""]
[{"$f":"IF(B166<'Step 2. Basic Info'!$E$12,A166+1,\"\")","v":""},"","",{"$f":"IF(A167=\"\",\"\",(SUM('Step 3. Lease Payments'!$G$11:$G$5006)+'Step 2. Basic Info'!$E$24)/'Validations - DO NOT DELETE'!$H$1)","v":""},{"$f":"IF(A167=\"\",\"\",I167*'Step 3. Lease Payments'!$G$8)","v":""},"","",null,"",{"$f":"IF(A167=\"\",\"\",VLOOKUP(A167,'Step 3. Lease Payments'!B:G,6,))","v":""},""]
[{"$f":"IF(B167<'Step 2. Basic Info'!$E$12,A167+1,\"\")","v":""},"","",{"$f":"IF(A168=\"\",\"\",(SUM('Step 3. Lease Payments'!$G$11:$G$5006)+'Step 2. Basic Info'!$E$24)/'Validations - DO NOT DELETE'!$H$1)","v":""},{"$f":"IF(A168=\"\",\"\",I168*'Step 3. Lease Payments'!$G$8)","v":""},"","",null,"",{"$f":"IF(A168=\"\",\"\",VLOOKUP(A168,'Step 3. Lease Payments'!B:G,6,))","v":""},""]
[{"$f":"IF(B168<'Step 2. Basic Info'!$E$12,A168+1,\"\")","v":""},"","",{"$f":"IF(A169=\"\",\"\",(SUM('Step 3. Lease Payments'!$G$11:$G$5006)+'Step 2. Basic Info'!$E$24)/'Validations - DO NOT DELETE'!$H$1)","v":""},{"$f":"IF(A169=\"\",\"\",I169*'Step 3. Lease Payments'!$G$8)","v":""},"","",null,"",{"$f":"IF(A169=\"\",\"\",VLOOKUP(A169,'Step 3. Lease Payments'!B:G,6,))","v":""},""]
[{"$f":"IF(B169<'Step 2. Basic Info'!$E$12,A169+1,\"\")","v":""},"","",{"$f":"IF(A170=\"\",\"\",(SUM('Step 3. Lease Payments'!$G$11:$G$5006)+'Step 2. Basic Info'!$E$24)/'Validations - DO NOT DELETE'!$H$1)","v":""},{"$f":"IF(A170=\"\",\"\",I170*'Step 3. Lease Payments'!$G$8)","v":""},"","",null,"",{"$f":"IF(A170=\"\",\"\",VLOOKUP(A170,'Step 3. Lease Payments'!B:G,6,))","v":""},""]
[{"$f":"IF(B170<'Step 2. Basic Info'!$E$12,A170+1,\"\")","v":""},"","",{"$f":"IF(A171=\"\",\"\",(SUM('Step 3. Lease Payments'!$G$11:$G$5006)+'Step 2. Basic Info'!$E$24)/'Validations - DO NOT DELETE'!$H$1)","v":""},{"$f":"IF(A171=\"\",\"\",I171*'Step 3. Lease Payments'!$G$8)","v":""},"","",null,"",{"$f":"IF(A171=\"\",\"\",VLOOKUP(A171,'Step 3. Lease Payments'!B:G,6,))","v":""},""]
[{"$f":"IF(B171<'Step 2. Basic Info'!$E$12,A171+1,\"\")","v":""},"","",{"$f":"IF(A172=\"\",\"\",(SUM('Step 3. Lease Payments'!$G$11:$G$5006)+'Step 2. Basic Info'!$E$24)/'Validations - DO NOT DELETE'!$H$1)","v":""},{"$f":"IF(A172=\"\",\"\",I172*'Step 3. Lease Payments'!$G$8)","v":""},"","",null,"",{"$f":"IF(A172=\"\",\"\",VLOOKUP(A172,'Step 3. Lease Payments'!B:G,6,))","v":""},""]
[{"$f":"IF(B172<'Step 2. Basic Info'!$E$12,A172+1,\"\")","v":""},"","",{"$f":"IF(A173=\"\",\"\",(SUM('Step 3. Lease Payments'!$G$11:$G$5006)+'Step 2. Basic Info'!$E$24)/'Validations - DO NOT DELETE'!$H$1)","v":""},{"$f":"IF(A173=\"\",\"\",I173*'Step 3. Lease Payments'!$G$8)","v":""},"","",null,"",{"$f":"IF(A173=\"\",\"\",VLOOKUP(A173,'Step 3. Lease Payments'!B:G,6,))","v":""},""]
[{"$f":"IF(B173<'Step 2. Basic Info'!$E$12,A173+1,\"\")","v":""},"","",{"$f":"IF(A174=\"\",\"\",(SUM('Step 3. Lease Payments'!$G$11:$G$5006)+'Step 2. Basic Info'!$E$24)/'Validations - DO NOT DELETE'!$H$1)","v":""},{"$f":"IF(A174=\"\",\"\",I174*'Step 3. Lease Payments'!$G$8)","v":""},"","",null,"",{"$f":"IF(A174=\"\",\"\",VLOOKUP(A174,'Step 3. Lease Payments'!B:G,6,))","v":""},""]
[{"$f":"IF(B174<'Step 2. Basic Info'!$E$12,A174+1,\"\")","v":""},"","",{"$f":"IF(A175=\"\",\"\",(SUM('Step 3. Lease Payments'!$G$11:$G$5006)+'Step 2. Basic Info'!$E$24)/'Validations - DO NOT DELETE'!$H$1)","v":""},{"$f":"IF(A175=\"\",\"\",I175*'Step 3. Lease Payments'!$G$8)","v":""},"","",null,"",{"$f":"IF(A175=\"\",\"\",VLOOKUP(A175,'Step 3. Lease Payments'!B:G,6,))","v":""},""]
[{"$f":"IF(B175<'Step 2. Basic Info'!$E$12,A175+1,\"\")","v":""},"","",{"$f":"IF(A176=\"\",\"\",(SUM('Step 3. Lease Payments'!$G$11:$G$5006)+'Step 2. Basic Info'!$E$24)/'Validations - DO NOT DELETE'!$H$1)","v":""},{"$f":"IF(A176=\"\",\"\",I176*'Step 3. Lease Payments'!$G$8)","v":""},"","",null,"",{"$f":"IF(A176=\"\",\"\",VLOOKUP(A176,'Step 3. Lease Payments'!B:G,6,))","v":""},""]
[{"$f":"IF(B176<'Step 2. Basic Info'!$E$12,A176+1,\"\")","v":""},"","",{"$f":"IF(A177=\"\",\"\",(SUM('Step 3. Lease Payments'!$G$11:$G$5006)+'Step 2. Basic Info'!$E$24)/'Validations - DO NOT DELETE'!$H$1)","v":""},{"$f":"IF(A177=\"\",\"\",I177*'Step 3. Lease Payments'!$G$8)","v":""},"","",null,"",{"$f":"IF(A177=\"\",\"\",VLOOKUP(A177,'Step 3. Lease Payments'!B:G,6,))","v":""},""]
[{"$f":"IF(B177<'Step 2. Basic Info'!$E$12,A177+1,\"\")","v":""},"","",{"$f":"IF(A178=\"\",\"\",(SUM('Step 3. Lease Payments'!$G$11:$G$5006)+'Step 2. Basic Info'!$E$24)/'Validations - DO NOT DELETE'!$H$1)","v":""},{"$f":"IF(A178=\"\",\"\",I178*'Step 3. Lease Payments'!$G$8)","v":""},"","",null,"",{"$f":"IF(A178=\"\",\"\",VLOOKUP(A178,'Step 3. Lease Payments'!B:G,6,))","v":""},""]
[{"$f":"IF(B178<'Step 2. Basic Info'!$E$12,A178+1,\"\")","v":""},"","",{"$f":"IF(A179=\"\",\"\",(SUM('Step 3. Lease Payments'!$G$11:$G$5006)+'Step 2. Basic Info'!$E$24)/'Validations - DO NOT DELETE'!$H$1)","v":""},{"$f":"IF(A179=\"\",\"\",I179*'Step 3. Lease Payments'!$G$8)","v":""},"","",null,"",{"$f":"IF(A179=\"\",\"\",VLOOKUP(A179,'Step 3. Lease Payments'!B:G,6,))","v":""},""]
[{"$f":"IF(B179<'Step 2. Basic Info'!$E$12,A179+1,\"\")","v":""},"","",{"$f":"IF(A180=\"\",\"\",(SUM('Step 3. Lease Payments'!$G$11:$G$5006)+'Step 2. Basic Info'!$E$24)/'Validations - DO NOT DELETE'!$H$1)","v":""},{"$f":"IF(A180=\"\",\"\",I180*'Step 3. Lease Payments'!$G$8)","v":""},"","",null,"",{"$f":"IF(A180=\"\",\"\",VLOOKUP(A180,'Step 3. Lease Payments'!B:G,6,))","v":""},""]
[{"$f":"IF(B180<'Step 2. Basic Info'!$E$12,A180+1,\"\")","v":""},"","",{"$f":"IF(A181=\"\",\"\",(SUM('Step 3. Lease Payments'!$G$11:$G$5006)+'Step 2. Basic Info'!$E$24)/'Validations - DO NOT DELETE'!$H$1)","v":""},{"$f":"IF(A181=\"\",\"\",I181*'Step 3. Lease Payments'!$G$8)","v":""},"","",null,"",{"$f":"IF(A181=\"\",\"\",VLOOKUP(A181,'Step 3. Lease Payments'!B:G,6,))","v":""},""]
[{"$f":"IF(B181<'Step 2. Basic Info'!$E$12,A181+1,\"\")","v":""},"","",{"$f":"IF(A182=\"\",\"\",(SUM('Step 3. Lease Payments'!$G$11:$G$5006)+'Step 2. Basic Info'!$E$24)/'Validations - DO NOT DELETE'!$H$1)","v":""},{"$f":"IF(A182=\"\",\"\",I182*'Step 3. Lease Payments'!$G$8)","v":""},"","",null,"",{"$f":"IF(A182=\"\",\"\",VLOOKUP(A182,'Step 3. Lease Payments'!B:G,6,))","v":""},""]
[{"$f":"IF(B182<'Step 2. Basic Info'!$E$12,A182+1,\"\")","v":""},"","",{"$f":"IF(A183=\"\",\"\",(SUM('Step 3. Lease Payments'!$G$11:$G$5006)+'Step 2. Basic Info'!$E$24)/'Validations - DO NOT DELETE'!$H$1)","v":""},{"$f":"IF(A183=\"\",\"\",I183*'Step 3. Lease Payments'!$G$8)","v":""},"","",null,"",{"$f":"IF(A183=\"\",\"\",VLOOKUP(A183,'Step 3. Lease Payments'!B:G,6,))","v":""},""]
[{"$f":"IF(B183<'Step 2. Basic Info'!$E$12,A183+1,\"\")","v":""},"","",{"$f":"IF(A184=\"\",\"\",(SUM('Step 3. Lease Payments'!$G$11:$G$5006)+'Step 2. Basic Info'!$E$24)/'Validations - DO NOT DELETE'!$H$1)","v":""},{"$f":"IF(A184=\"\",\"\",I184*'Step 3. Lease Payments'!$G$8)","v":""},"","",null,"",{"$f":"IF(A184=\"\",\"\",VLOOKUP(A184,'Step 3. Lease Payments'!B:G,6,))","v":""},""]
[{"$f":"IF(B184<'Step 2. Basic Info'!$E$12,A184+1,\"\")","v":""},"","",{"$f":"IF(A185=\"\",\"\",(SUM('Step 3. Lease Payments'!$G$11:$G$5006)+'Step 2. Basic Info'!$E$24)/'Validations - DO NOT DELETE'!$H$1)","v":""},{"$f":"IF(A185=\"\",\"\",I185*'Step 3. Lease Payments'!$G$8)","v":""},"","",null,"",{"$f":"IF(A185=\"\",\"\",VLOOKUP(A185,'Step 3. Lease Payments'!B:G,6,))","v":""},""]
[{"$f":"IF(B185<'Step 2. Basic Info'!$E$12,A185+1,\"\")","v":""},"","",{"$f":"IF(A186=\"\",\"\",(SUM('Step 3. Lease Payments'!$G$11:$G$5006)+'Step 2. Basic Info'!$E$24)/'Validations - DO NOT DELETE'!$H$1)","v":""},{"$f":"IF(A186=\"\",\"\",I186*'Step 3. Lease Payments'!$G$8)","v":""},"","",null,"",{"$f":"IF(A186=\"\",\"\",VLOOKUP(A186,'Step 3. Lease Payments'!B:G,6,))","v":""},""]
[{"$f":"IF(B186<'Step 2. Basic Info'!$E$12,A186+1,\"\")","v":""},"","",{"$f":"IF(A187=\"\",\"\",(SUM('Step 3. Lease Payments'!$G$11:$G$5006)+'Step 2. Basic Info'!$E$24)/'Validations - DO NOT DELETE'!$H$1)","v":""},{"$f":"IF(A187=\"\",\"\",I187*'Step 3. Lease Payments'!$G$8)","v":""},"","",null,"",{"$f":"IF(A187=\"\",\"\",VLOOKUP(A187,'Step 3. Lease Payments'!B:G,6,))","v":""},""]
[{"$f":"IF(B187<'Step 2. Basic Info'!$E$12,A187+1,\"\")","v":""},"","",{"$f":"IF(A188=\"\",\"\",(SUM('Step 3. Lease Payments'!$G$11:$G$5006)+'Step 2. Basic Info'!$E$24)/'Validations - DO NOT DELETE'!$H$1)","v":""},{"$f":"IF(A188=\"\",\"\",I188*'Step 3. Lease Payments'!$G$8)","v":""},"","",null,"",{"$f":"IF(A188=\"\",\"\",VLOOKUP(A188,'Step 3. Lease Payments'!B:G,6,))","v":""},""]
[{"$f":"IF(B188<'Step 2. Basic Info'!$E$12,A188+1,\"\")","v":""},"","",{"$f":"IF(A189=\"\",\"\",(SUM('Step 3. Lease Payments'!$G$11:$G$5006)+'Step 2. Basic Info'!$E$24)/'Validations - DO NOT DELETE'!$H$1)","v":""},{"$f":"IF(A189=\"\",\"\",I189*'Step 3. Lease Payments'!$G$8)","v":""},"","",null,"",{"$f":"IF(A189=\"\",\"\",VLOOKUP(A189,'Step 3. Lease Payments'!B:G,6,))","v":""},""]
[{"$f":"IF(B189<'Step 2. Basic Info'!$E$12,A189+1,\"\")","v":""},"","",{"$f":"IF(A190=\"\",\"\",(SUM('Step 3. Lease Payments'!$G$11:$G$5006)+'Step 2. Basic Info'!$E$24)/'Validations - DO NOT DELETE'!$H$1)","v":""},{"$f":"IF(A190=\"\",\"\",I190*'Step 3. Lease Payments'!$G$8)","v":""},"","",null,"",{"$f":"IF(A190=\"\",\"\",VLOOKUP(A190,'Step 3. Lease Payments'!B:G,6,))","v":""},""]
[{"$f":"IF(B190<'Step 2. Basic Info'!$E$12,A190+1,\"\")","v":""},"","",{"$f":"IF(A191=\"\",\"\",(SUM('Step 3. Lease Payments'!$G$11:$G$5006)+'Step 2. Basic Info'!$E$24)/'Validations - DO NOT DELETE'!$H$1)","v":""},{"$f":"IF(A191=\"\",\"\",I191*'Step 3. Lease Payments'!$G$8)","v":""},"","",null,"",{"$f":"IF(A191=\"\",\"\",VLOOKUP(A191,'Step 3. Lease Payments'!B:G,6,))","v":""},""]
[{"$f":"IF(B191<'Step 2. Basic Info'!$E$12,A191+1,\"\")","v":""},"","",{"$f":"IF(A192=\"\",\"\",(SUM('Step 3. Lease Payments'!$G$11:$G$5006)+'Step 2. Basic Info'!$E$24)/'Validations - DO NOT DELETE'!$H$1)","v":""},{"$f":"IF(A192=\"\",\"\",I192*'Step 3. Lease Payments'!$G$8)","v":""},"","",null,"",{"$f":"IF(A192=\"\",\"\",VLOOKUP(A192,'Step 3. Lease Payments'!B:G,6,))","v":""},""]
[{"$f":"IF(B192<'Step 2. Basic Info'!$E$12,A192+1,\"\")","v":""},"","",{"$f":"IF(A193=\"\",\"\",(SUM('Step 3. Lease Payments'!$G$11:$G$5006)+'Step 2. Basic Info'!$E$24)/'Validations - DO NOT DELETE'!$H$1)","v":""},{"$f":"IF(A193=\"\",\"\",I193*'Step 3. Lease Payments'!$G$8)","v":""},"","",null,"",{"$f":"IF(A193=\"\",\"\",VLOOKUP(A193,'Step 3. Lease Payments'!B:G,6,))","v":""},""]
[{"$f":"IF(B193<'Step 2. Basic Info'!$E$12,A193+1,\"\")","v":""},"","",{"$f":"IF(A194=\"\",\"\",(SUM('Step 3. Lease Payments'!$G$11:$G$5006)+'Step 2. Basic Info'!$E$24)/'Validations - DO NOT DELETE'!$H$1)","v":""},{"$f":"IF(A194=\"\",\"\",I194*'Step 3. Lease Payments'!$G$8)","v":""},"","",null,"",{"$f":"IF(A194=\"\",\"\",VLOOKUP(A194,'Step 3. Lease Payments'!B:G,6,))","v":""},""]
[{"$f":"IF(B194<'Step 2. Basic Info'!$E$12,A194+1,\"\")","v":""},"","",{"$f":"IF(A195=\"\",\"\",(SUM('Step 3. Lease Payments'!$G$11:$G$5006)+'Step 2. Basic Info'!$E$24)/'Validations - DO NOT DELETE'!$H$1)","v":""},{"$f":"IF(A195=\"\",\"\",I195*'Step 3. Lease Payments'!$G$8)","v":""},"","",null,"",{"$f":"IF(A195=\"\",\"\",VLOOKUP(A195,'Step 3. Lease Payments'!B:G,6,))","v":""},""]
[{"$f":"IF(B195<'Step 2. Basic Info'!$E$12,A195+1,\"\")","v":""},"","",{"$f":"IF(A196=\"\",\"\",(SUM('Step 3. Lease Payments'!$G$11:$G$5006)+'Step 2. Basic Info'!$E$24)/'Validations - DO NOT DELETE'!$H$1)","v":""},{"$f":"IF(A196=\"\",\"\",I196*'Step 3. Lease Payments'!$G$8)","v":""},"","",null,"",{"$f":"IF(A196=\"\",\"\",VLOOKUP(A196,'Step 3. Lease Payments'!B:G,6,))","v":""},""]
[{"$f":"IF(B196<'Step 2. Basic Info'!$E$12,A196+1,\"\")","v":""},"","",{"$f":"IF(A197=\"\",\"\",(SUM('Step 3. Lease Payments'!$G$11:$G$5006)+'Step 2. Basic Info'!$E$24)/'Validations - DO NOT DELETE'!$H$1)","v":""},{"$f":"IF(A197=\"\",\"\",I197*'Step 3. Lease Payments'!$G$8)","v":""},"","",null,"",{"$f":"IF(A197=\"\",\"\",VLOOKUP(A197,'Step 3. Lease Payments'!B:G,6,))","v":""},""]
[{"$f":"IF(B197<'Step 2. Basic Info'!$E$12,A197+1,\"\")","v":""},"","",{"$f":"IF(A198=\"\",\"\",(SUM('Step 3. Lease Payments'!$G$11:$G$5006)+'Step 2. Basic Info'!$E$24)/'Validations - DO NOT DELETE'!$H$1)","v":""},{"$f":"IF(A198=\"\",\"\",I198*'Step 3. Lease Payments'!$G$8)","v":""},"","",null,"",{"$f":"IF(A198=\"\",\"\",VLOOKUP(A198,'Step 3. Lease Payments'!B:G,6,))","v":""},""]
[{"$f":"IF(B198<'Step 2. Basic Info'!$E$12,A198+1,\"\")","v":""},"","",{"$f":"IF(A199=\"\",\"\",(SUM('Step 3. Lease Payments'!$G$11:$G$5006)+'Step 2. Basic Info'!$E$24)/'Validations - DO NOT DELETE'!$H$1)","v":""},{"$f":"IF(A199=\"\",\"\",I199*'Step 3. Lease Payments'!$G$8)","v":""},"","",null,"",{"$f":"IF(A199=\"\",\"\",VLOOKUP(A199,'Step 3. Lease Payments'!B:G,6,))","v":""},""]
[{"$f":"IF(B199<'Step 2. Basic Info'!$E$12,A199+1,\"\")","v":""},"","",{"$f":"IF(A200=\"\",\"\",(SUM('Step 3. Lease Payments'!$G$11:$G$5006)+'Step 2. Basic Info'!$E$24)/'Validations - DO NOT DELETE'!$H$1)","v":""},{"$f":"IF(A200=\"\",\"\",I200*'Step 3. Lease Payments'!$G$8)","v":""},"","",null,"",{"$f":"IF(A200=\"\",\"\",VLOOKUP(A200,'Step 3. Lease Payments'!B:G,6,))","v":""},""]
[{"$f":"IF(B200<'Step 2. Basic Info'!$E$12,A200+1,\"\")","v":""},"","",{"$f":"IF(A201=\"\",\"\",(SUM('Step 3. Lease Payments'!$G$11:$G$5006)+'Step 2. Basic Info'!$E$24)/'Validations - DO NOT DELETE'!$H$1)","v":""},{"$f":"IF(A201=\"\",\"\",I201*'Step 3. Lease Payments'!$G$8)","v":""},"","",null,"",{"$f":"IF(A201=\"\",\"\",VLOOKUP(A201,'Step 3. Lease Payments'!B:G,6,))","v":""},""]
[{"$f":"IF(B201<'Step 2. Basic Info'!$E$12,A201+1,\"\")","v":""},"","",{"$f":"IF(A202=\"\",\"\",(SUM('Step 3. Lease Payments'!$G$11:$G$5006)+'Step 2. Basic Info'!$E$24)/'Validations - DO NOT DELETE'!$H$1)","v":""},{"$f":"IF(A202=\"\",\"\",I202*'Step 3. Lease Payments'!$G$8)","v":""},"","",null,"",{"$f":"IF(A202=\"\",\"\",VLOOKUP(A202,'Step 3. Lease Payments'!B:G,6,))","v":""},""]
[{"$f":"IF(B202<'Step 2. Basic Info'!$E$12,A202+1,\"\")","v":""},{"$f":"IF(A203=\"\",\"\",(DATE(YEAR(B202),MONTH(B202)+1,DAY(B202))))","v":""},{"$f":"IF(A203=\"\",\"\",G202)","v":""},{"$f":"IF(A203=\"\",\"\",(SUM('Step 3. Lease Payments'!$G$11:$G$5006)+'Step 2. Basic Info'!$E$24)/'Validations - DO NOT DELETE'!$H$1)","v":""},{"$f":"IF(A203=\"\",\"\",I203*'Step 3. Lease Payments'!$G$8)","v":""},{"$f":"IF(A203=\"\",\"\",D203-E203)","v":""},{"$f":"IF(A203=\"\",\"\",C203-F203)","v":""},null,{"$f":"IF(A203=\"\",\"\",K202)","v":""},{"$f":"IF(A203=\"\",\"\",VLOOKUP(A203,'Step 3. Lease Payments'!B:G,6,))","v":""},{"$f":"IF(A203=\"\",\"\",I203-J203+E203)","v":""}]
[{"$f":"IF(B203<'Step 2. Basic Info'!$E$12,A203+1,\"\")","v":""},"","",{"$f":"IF(A204=\"\",\"\",(SUM('Step 3. Lease Payments'!$G$11:$G$5006)+'Step 2. Basic Info'!$E$24)/'Validations - DO NOT DELETE'!$H$1)","v":""},{"$f":"IF(A204=\"\",\"\",I204*'Step 3. Lease Payments'!$G$8)","v":""},"","",null,"",{"$f":"IF(A204=\"\",\"\",VLOOKUP(A204,'Step 3. Lease Payments'!B:G,6,))","v":""},""]
[{"$f":"IF(B204<'Step 2. Basic Info'!$E$12,A204+1,\"\")","v":""},"","",{"$f":"IF(A205=\"\",\"\",(SUM('Step 3. Lease Payments'!$G$11:$G$5006)+'Step 2. Basic Info'!$E$24)/'Validations - DO NOT DELETE'!$H$1)","v":""},{"$f":"IF(A205=\"\",\"\",I205*'Step 3. Lease Payments'!$G$8)","v":""},"","",null,"",{"$f":"IF(A205=\"\",\"\",VLOOKUP(A205,'Step 3. Lease Payments'!B:G,6,))","v":""},""]
[{"$f":"IF(B205<'Step 2. Basic Info'!$E$12,A205+1,\"\")","v":""},"","",{"$f":"IF(A206=\"\",\"\",(SUM('Step 3. Lease Payments'!$G$11:$G$5006)+'Step 2. Basic Info'!$E$24)/'Validations - DO NOT DELETE'!$H$1)","v":""},{"$f":"IF(A206=\"\",\"\",I206*'Step 3. Lease Payments'!$G$8)","v":""},"","",null,"",{"$f":"IF(A206=\"\",\"\",VLOOKUP(A206,'Step 3. Lease Payments'!B:G,6,))","v":""},""]
[{"$f":"IF(B206<'Step 2. Basic Info'!$E$12,A206+1,\"\")","v":""},"","",{"$f":"IF(A207=\"\",\"\",(SUM('Step 3. Lease Payments'!$G$11:$G$5006)+'Step 2. Basic Info'!$E$24)/'Validations - DO NOT DELETE'!$H$1)","v":""},{"$f":"IF(A207=\"\",\"\",I207*'Step 3. Lease Payments'!$G$8)","v":""},"","",null,"",{"$f":"IF(A207=\"\",\"\",VLOOKUP(A207,'Step 3. Lease Payments'!B:G,6,))","v":""},""]
[{"$f":"IF(B207<'Step 2. Basic Info'!$E$12,A207+1,\"\")","v":""},"","",{"$f":"IF(A208=\"\",\"\",(SUM('Step 3. Lease Payments'!$G$11:$G$5006)+'Step 2. Basic Info'!$E$24)/'Validations - DO NOT DELETE'!$H$1)","v":""},{"$f":"IF(A208=\"\",\"\",I208*'Step 3. Lease Payments'!$G$8)","v":""},"","",null,"",{"$f":"IF(A208=\"\",\"\",VLOOKUP(A208,'Step 3. Lease Payments'!B:G,6,))","v":""},""]
[{"$f":"IF(B208<'Step 2. Basic Info'!$E$12,A208+1,\"\")","v":""},"","",{"$f":"IF(A209=\"\",\"\",(SUM('Step 3. Lease Payments'!$G$11:$G$5006)+'Step 2. Basic Info'!$E$24)/'Validations - DO NOT DELETE'!$H$1)","v":""},{"$f":"IF(A209=\"\",\"\",I209*'Step 3. Lease Payments'!$G$8)","v":""},"","",null,"",{"$f":"IF(A209=\"\",\"\",VLOOKUP(A209,'Step 3. Lease Payments'!B:G,6,))","v":""},""]
[{"$f":"IF(B209<'Step 2. Basic Info'!$E$12,A209+1,\"\")","v":""},"","",{"$f":"IF(A210=\"\",\"\",(SUM('Step 3. Lease Payments'!$G$11:$G$5006)+'Step 2. Basic Info'!$E$24)/'Validations - DO NOT DELETE'!$H$1)","v":""},{"$f":"IF(A210=\"\",\"\",I210*'Step 3. Lease Payments'!$G$8)","v":""},"","",null,"",{"$f":"IF(A210=\"\",\"\",VLOOKUP(A210,'Step 3. Lease Payments'!B:G,6,))","v":""},""]
[{"$f":"IF(B210<'Step 2. Basic Info'!$E$12,A210+1,\"\")","v":""},"","",{"$f":"IF(A211=\"\",\"\",(SUM('Step 3. Lease Payments'!$G$11:$G$5006)+'Step 2. Basic Info'!$E$24)/'Validations - DO NOT DELETE'!$H$1)","v":""},{"$f":"IF(A211=\"\",\"\",I211*'Step 3. Lease Payments'!$G$8)","v":""},"","",null,"",{"$f":"IF(A211=\"\",\"\",VLOOKUP(A211,'Step 3. Lease Payments'!B:G,6,))","v":""},""]
[{"$f":"IF(B211<'Step 2. Basic Info'!$E$12,A211+1,\"\")","v":""},"","",{"$f":"IF(A212=\"\",\"\",(SUM('Step 3. Lease Payments'!$G$11:$G$5006)+'Step 2. Basic Info'!$E$24)/'Validations - DO NOT DELETE'!$H$1)","v":""},{"$f":"IF(A212=\"\",\"\",I212*'Step 3. Lease Payments'!$G$8)","v":""},"","",null,"",{"$f":"IF(A212=\"\",\"\",VLOOKUP(A212,'Step 3. Lease Payments'!B:G,6,))","v":""},""]
[{"$f":"IF(B212<'Step 2. Basic Info'!$E$12,A212+1,\"\")","v":""},"","",{"$f":"IF(A213=\"\",\"\",(SUM('Step 3. Lease Payments'!$G$11:$G$5006)+'Step 2. Basic Info'!$E$24)/'Validations - DO NOT DELETE'!$H$1)","v":""},{"$f":"IF(A213=\"\",\"\",I213*'Step 3. Lease Payments'!$G$8)","v":""},"","",null,"",{"$f":"IF(A213=\"\",\"\",VLOOKUP(A213,'Step 3. Lease Payments'!B:G,6,))","v":""},""]
[{"$f":"IF(B213<'Step 2. Basic Info'!$E$12,A213+1,\"\")","v":""},"","",{"$f":"IF(A214=\"\",\"\",(SUM('Step 3. Lease Payments'!$G$11:$G$5006)+'Step 2. Basic Info'!$E$24)/'Validations - DO NOT DELETE'!$H$1)","v":""},{"$f":"IF(A214=\"\",\"\",I214*'Step 3. Lease Payments'!$G$8)","v":""},"","",null,"",{"$f":"IF(A214=\"\",\"\",VLOOKUP(A214,'Step 3. Lease Payments'!B:G,6,))","v":""},""]
[{"$f":"IF(B214<'Step 2. Basic Info'!$E$12,A214+1,\"\")","v":""},"","",{"$f":"IF(A215=\"\",\"\",(SUM('Step 3. Lease Payments'!$G$11:$G$5006)+'Step 2. Basic Info'!$E$24)/'Validations - DO NOT DELETE'!$H$1)","v":""},{"$f":"IF(A215=\"\",\"\",I215*'Step 3. Lease Payments'!$G$8)","v":""},"","",null,"",{"$f":"IF(A215=\"\",\"\",VLOOKUP(A215,'Step 3. Lease Payments'!B:G,6,))","v":""},""]
[{"$f":"IF(B215<'Step 2. Basic Info'!$E$12,A215+1,\"\")","v":""},"","",{"$f":"IF(A216=\"\",\"\",(SUM('Step 3. Lease Payments'!$G$11:$G$5006)+'Step 2. Basic Info'!$E$24)/'Validations - DO NOT DELETE'!$H$1)","v":""},{"$f":"IF(A216=\"\",\"\",I216*'Step 3. Lease Payments'!$G$8)","v":""},"","",null,"",{"$f":"IF(A216=\"\",\"\",VLOOKUP(A216,'Step 3. Lease Payments'!B:G,6,))","v":""},""]
[{"$f":"IF(B216<'Step 2. Basic Info'!$E$12,A216+1,\"\")","v":""},"","",{"$f":"IF(A217=\"\",\"\",(SUM('Step 3. Lease Payments'!$G$11:$G$5006)+'Step 2. Basic Info'!$E$24)/'Validations - DO NOT DELETE'!$H$1)","v":""},{"$f":"IF(A217=\"\",\"\",I217*'Step 3. Lease Payments'!$G$8)","v":""},"","",null,"",{"$f":"IF(A217=\"\",\"\",VLOOKUP(A217,'Step 3. Lease Payments'!B:G,6,))","v":""},""]
[{"$f":"IF(B217<'Step 2. Basic Info'!$E$12,A217+1,\"\")","v":""},"","",{"$f":"IF(A218=\"\",\"\",(SUM('Step 3. Lease Payments'!$G$11:$G$5006)+'Step 2. Basic Info'!$E$24)/'Validations - DO NOT DELETE'!$H$1)","v":""},{"$f":"IF(A218=\"\",\"\",I218*'Step 3. Lease Payments'!$G$8)","v":""},"","",null,"",{"$f":"IF(A218=\"\",\"\",VLOOKUP(A218,'Step 3. Lease Payments'!B:G,6,))","v":""},""]
[{"$f":"IF(B218<'Step 2. Basic Info'!$E$12,A218+1,\"\")","v":""},"","",{"$f":"IF(A219=\"\",\"\",(SUM('Step 3. Lease Payments'!$G$11:$G$5006)+'Step 2. Basic Info'!$E$24)/'Validations - DO NOT DELETE'!$H$1)","v":""},{"$f":"IF(A219=\"\",\"\",I219*'Step 3. Lease Payments'!$G$8)","v":""},"","",null,"",{"$f":"IF(A219=\"\",\"\",VLOOKUP(A219,'Step 3. Lease Payments'!B:G,6,))","v":""},""]
[{"$f":"IF(B219<'Step 2. Basic Info'!$E$12,A219+1,\"\")","v":""},"","",{"$f":"IF(A220=\"\",\"\",(SUM('Step 3. Lease Payments'!$G$11:$G$5006)+'Step 2. Basic Info'!$E$24)/'Validations - DO NOT DELETE'!$H$1)","v":""},{"$f":"IF(A220=\"\",\"\",I220*'Step 3. Lease Payments'!$G$8)","v":""},"","",null,"",{"$f":"IF(A220=\"\",\"\",VLOOKUP(A220,'Step 3. Lease Payments'!B:G,6,))","v":""},""]
[{"$f":"IF(B220<'Step 2. Basic Info'!$E$12,A220+1,\"\")","v":""},"","",{"$f":"IF(A221=\"\",\"\",(SUM('Step 3. Lease Payments'!$G$11:$G$5006)+'Step 2. Basic Info'!$E$24)/'Validations - DO NOT DELETE'!$H$1)","v":""},{"$f":"IF(A221=\"\",\"\",I221*'Step 3. Lease Payments'!$G$8)","v":""},"","",null,"",{"$f":"IF(A221=\"\",\"\",VLOOKUP(A221,'Step 3. Lease Payments'!B:G,6,))","v":""},""]
[{"$f":"IF(B221<'Step 2. Basic Info'!$E$12,A221+1,\"\")","v":""},"","",{"$f":"IF(A222=\"\",\"\",(SUM('Step 3. Lease Payments'!$G$11:$G$5006)+'Step 2. Basic Info'!$E$24)/'Validations - DO NOT DELETE'!$H$1)","v":""},{"$f":"IF(A222=\"\",\"\",I222*'Step 3. Lease Payments'!$G$8)","v":""},"","",null,"",{"$f":"IF(A222=\"\",\"\",VLOOKUP(A222,'Step 3. Lease Payments'!B:G,6,))","v":""},""]
[{"$f":"IF(B222<'Step 2. Basic Info'!$E$12,A222+1,\"\")","v":""},"","",{"$f":"IF(A223=\"\",\"\",(SUM('Step 3. Lease Payments'!$G$11:$G$5006)+'Step 2. Basic Info'!$E$24)/'Validations - DO NOT DELETE'!$H$1)","v":""},{"$f":"IF(A223=\"\",\"\",I223*'Step 3. Lease Payments'!$G$8)","v":""},"","",null,"",{"$f":"IF(A223=\"\",\"\",VLOOKUP(A223,'Step 3. Lease Payments'!B:G,6,))","v":""},""]
[{"$f":"IF(B223<'Step 2. Basic Info'!$E$12,A223+1,\"\")","v":""},"","",{"$f":"IF(A224=\"\",\"\",(SUM('Step 3. Lease Payments'!$G$11:$G$5006)+'Step 2. Basic Info'!$E$24)/'Validations - DO NOT DELETE'!$H$1)","v":""},{"$f":"IF(A224=\"\",\"\",I224*'Step 3. Lease Payments'!$G$8)","v":""},"","",null,"",{"$f":"IF(A224=\"\",\"\",VLOOKUP(A224,'Step 3. Lease Payments'!B:G,6,))","v":""},""]
[{"$f":"IF(B224<'Step 2. Basic Info'!$E$12,A224+1,\"\")","v":""},"","",{"$f":"IF(A225=\"\",\"\",(SUM('Step 3. Lease Payments'!$G$11:$G$5006)+'Step 2. Basic Info'!$E$24)/'Validations - DO NOT DELETE'!$H$1)","v":""},{"$f":"IF(A225=\"\",\"\",I225*'Step 3. Lease Payments'!$G$8)","v":""},"","",null,"",{"$f":"IF(A225=\"\",\"\",VLOOKUP(A225,'Step 3. Lease Payments'!B:G,6,))","v":""},""]
[{"$f":"IF(B225<'Step 2. Basic Info'!$E$12,A225+1,\"\")","v":""},"","",{"$f":"IF(A226=\"\",\"\",(SUM('Step 3. Lease Payments'!$G$11:$G$5006)+'Step 2. Basic Info'!$E$24)/'Validations - DO NOT DELETE'!$H$1)","v":""},{"$f":"IF(A226=\"\",\"\",I226*'Step 3. Lease Payments'!$G$8)","v":""},"","",null,"",{"$f":"IF(A226=\"\",\"\",VLOOKUP(A226,'Step 3. Lease Payments'!B:G,6,))","v":""},""]
[{"$f":"IF(B226<'Step 2. Basic Info'!$E$12,A226+1,\"\")","v":""},"","",{"$f":"IF(A227=\"\",\"\",(SUM('Step 3. Lease Payments'!$G$11:$G$5006)+'Step 2. Basic Info'!$E$24)/'Validations - DO NOT DELETE'!$H$1)","v":""},{"$f":"IF(A227=\"\",\"\",I227*'Step 3. Lease Payments'!$G$8)","v":""},"","",null,"",{"$f":"IF(A227=\"\",\"\",VLOOKUP(A227,'Step 3. Lease Payments'!B:G,6,))","v":""},""]
[{"$f":"IF(B227<'Step 2. Basic Info'!$E$12,A227+1,\"\")","v":""},"","",{"$f":"IF(A228=\"\",\"\",(SUM('Step 3. Lease Payments'!$G$11:$G$5006)+'Step 2. Basic Info'!$E$24)/'Validations - DO NOT DELETE'!$H$1)","v":""},{"$f":"IF(A228=\"\",\"\",I228*'Step 3. Lease Payments'!$G$8)","v":""},"","",null,"",{"$f":"IF(A228=\"\",\"\",VLOOKUP(A228,'Step 3. Lease Payments'!B:G,6,))","v":""},""]
[{"$f":"IF(B228<'Step 2. Basic Info'!$E$12,A228+1,\"\")","v":""},"","",{"$f":"IF(A229=\"\",\"\",(SUM('Step 3. Lease Payments'!$G$11:$G$5006)+'Step 2. Basic Info'!$E$24)/'Validations - DO NOT DELETE'!$H$1)","v":""},{"$f":"IF(A229=\"\",\"\",I229*'Step 3. Lease Payments'!$G$8)","v":""},"","",null,"",{"$f":"IF(A229=\"\",\"\",VLOOKUP(A229,'Step 3. Lease Payments'!B:G,6,))","v":""},""]
[{"$f":"IF(B229<'Step 2. Basic Info'!$E$12,A229+1,\"\")","v":""},"","",{"$f":"IF(A230=\"\",\"\",(SUM('Step 3. Lease Payments'!$G$11:$G$5006)+'Step 2. Basic Info'!$E$24)/'Validations - DO NOT DELETE'!$H$1)","v":""},{"$f":"IF(A230=\"\",\"\",I230*'Step 3. Lease Payments'!$G$8)","v":""},"","",null,"",{"$f":"IF(A230=\"\",\"\",VLOOKUP(A230,'Step 3. Lease Payments'!B:G,6,))","v":""},""]
[{"$f":"IF(B230<'Step 2. Basic Info'!$E$12,A230+1,\"\")","v":""},"","",{"$f":"IF(A231=\"\",\"\",(SUM('Step 3. Lease Payments'!$G$11:$G$5006)+'Step 2. Basic Info'!$E$24)/'Validations - DO NOT DELETE'!$H$1)","v":""},{"$f":"IF(A231=\"\",\"\",I231*'Step 3. Lease Payments'!$G$8)","v":""},"","",null,"",{"$f":"IF(A231=\"\",\"\",VLOOKUP(A231,'Step 3. Lease Payments'!B:G,6,))","v":""},""]
[{"$f":"IF(B231<'Step 2. Basic Info'!$E$12,A231+1,\"\")","v":""},"","",{"$f":"IF(A232=\"\",\"\",(SUM('Step 3. Lease Payments'!$G$11:$G$5006)+'Step 2. Basic Info'!$E$24)/'Validations - DO NOT DELETE'!$H$1)","v":""},{"$f":"IF(A232=\"\",\"\",I232*'Step 3. Lease Payments'!$G$8)","v":""},"","",null,"",{"$f":"IF(A232=\"\",\"\",VLOOKUP(A232,'Step 3. Lease Payments'!B:G,6,))","v":""},""]
[{"$f":"IF(B232<'Step 2. Basic Info'!$E$12,A232+1,\"\")","v":""},"","",{"$f":"IF(A233=\"\",\"\",(SUM('Step 3. Lease Payments'!$G$11:$G$5006)+'Step 2. Basic Info'!$E$24)/'Validations - DO NOT DELETE'!$H$1)","v":""},{"$f":"IF(A233=\"\",\"\",I233*'Step 3. Lease Payments'!$G$8)","v":""},"","",null,"",{"$f":"IF(A233=\"\",\"\",VLOOKUP(A233,'Step 3. Lease Payments'!B:G,6,))","v":""},""]
[{"$f":"IF(B233<'Step 2. Basic Info'!$E$12,A233+1,\"\")","v":""},"","",{"$f":"IF(A234=\"\",\"\",(SUM('Step 3. Lease Payments'!$G$11:$G$5006)+'Step 2. Basic Info'!$E$24)/'Validations - DO NOT DELETE'!$H$1)","v":""},{"$f":"IF(A234=\"\",\"\",I234*'Step 3. Lease Payments'!$G$8)","v":""},"","",null,"",{"$f":"IF(A234=\"\",\"\",VLOOKUP(A234,'Step 3. Lease Payments'!B:G,6,))","v":""},""]
[{"$f":"IF(B234<'Step 2. Basic Info'!$E$12,A234+1,\"\")","v":""},"","",{"$f":"IF(A235=\"\",\"\",(SUM('Step 3. Lease Payments'!$G$11:$G$5006)+'Step 2. Basic Info'!$E$24)/'Validations - DO NOT DELETE'!$H$1)","v":""},{"$f":"IF(A235=\"\",\"\",I235*'Step 3. Lease Payments'!$G$8)","v":""},"","",null,"",{"$f":"IF(A235=\"\",\"\",VLOOKUP(A235,'Step 3. Lease Payments'!B:G,6,))","v":""},""]
[{"$f":"IF(B235<'Step 2. Basic Info'!$E$12,A235+1,\"\")","v":""},"","",{"$f":"IF(A236=\"\",\"\",(SUM('Step 3. Lease Payments'!$G$11:$G$5006)+'Step 2. Basic Info'!$E$24)/'Validations - DO NOT DELETE'!$H$1)","v":""},{"$f":"IF(A236=\"\",\"\",I236*'Step 3. Lease Payments'!$G$8)","v":""},"","",null,"",{"$f":"IF(A236=\"\",\"\",VLOOKUP(A236,'Step 3. Lease Payments'!B:G,6,))","v":""},""]
[{"$f":"IF(B236<'Step 2. Basic Info'!$E$12,A236+1,\"\")","v":""},"","",{"$f":"IF(A237=\"\",\"\",(SUM('Step 3. Lease Payments'!$G$11:$G$5006)+'Step 2. Basic Info'!$E$24)/'Validations - DO NOT DELETE'!$H$1)","v":""},{"$f":"IF(A237=\"\",\"\",I237*'Step 3. Lease Payments'!$G$8)","v":""},"","",null,"",{"$f":"IF(A237=\"\",\"\",VLOOKUP(A237,'Step 3. Lease Payments'!B:G,6,))","v":""},""]
[{"$f":"IF(B237<'Step 2. Basic Info'!$E$12,A237+1,\"\")","v":""},"","",{"$f":"IF(A238=\"\",\"\",(SUM('Step 3. Lease Payments'!$G$11:$G$5006)+'Step 2. Basic Info'!$E$24)/'Validations - DO NOT DELETE'!$H$1)","v":""},{"$f":"IF(A238=\"\",\"\",I238*'Step 3. Lease Payments'!$G$8)","v":""},"","",null,"",{"$f":"IF(A238=\"\",\"\",VLOOKUP(A238,'Step 3. Lease Payments'!B:G,6,))","v":""},""]
[{"$f":"IF(B238<'Step 2. Basic Info'!$E$12,A238+1,\"\")","v":""},"","",{"$f":"IF(A239=\"\",\"\",(SUM('Step 3. Lease Payments'!$G$11:$G$5006)+'Step 2. Basic Info'!$E$24)/'Validations - DO NOT DELETE'!$H$1)","v":""},{"$f":"IF(A239=\"\",\"\",I239*'Step 3. Lease Payments'!$G$8)","v":""},"","",null,"",{"$f":"IF(A239=\"\",\"\",VLOOKUP(A239,'Step 3. Lease Payments'!B:G,6,))","v":""},""]
[{"$f":"IF(B239<'Step 2. Basic Info'!$E$12,A239+1,\"\")","v":""},"","",{"$f":"IF(A240=\"\",\"\",(SUM('Step 3. Lease Payments'!$G$11:$G$5006)+'Step 2. Basic Info'!$E$24)/'Validations - DO NOT DELETE'!$H$1)","v":""},{"$f":"IF(A240=\"\",\"\",I240*'Step 3. Lease Payments'!$G$8)","v":""},"","",null,"",{"$f":"IF(A240=\"\",\"\",VLOOKUP(A240,'Step 3. Lease Payments'!B:G,6,))","v":""},""]
[{"$f":"IF(B240<'Step 2. Basic Info'!$E$12,A240+1,\"\")","v":""},"","",{"$f":"IF(A241=\"\",\"\",(SUM('Step 3. Lease Payments'!$G$11:$G$5006)+'Step 2. Basic Info'!$E$24)/'Validations - DO NOT DELETE'!$H$1)","v":""},{"$f":"IF(A241=\"\",\"\",I241*'Step 3. Lease Payments'!$G$8)","v":""},"","",null,"",{"$f":"IF(A241=\"\",\"\",VLOOKUP(A241,'Step 3. Lease Payments'!B:G,6,))","v":""},""]
[{"$f":"IF(B241<'Step 2. Basic Info'!$E$12,A241+1,\"\")","v":""},"","",{"$f":"IF(A242=\"\",\"\",(SUM('Step 3. Lease Payments'!$G$11:$G$5006)+'Step 2. Basic Info'!$E$24)/'Validations - DO NOT DELETE'!$H$1)","v":""},{"$f":"IF(A242=\"\",\"\",I242*'Step 3. Lease Payments'!$G$8)","v":""},"","",null,"",{"$f":"IF(A242=\"\",\"\",VLOOKUP(A242,'Step 3. Lease Payments'!B:G,6,))","v":""},""]
[{"$f":"IF(B242<'Step 2. Basic Info'!$E$12,A242+1,\"\")","v":""},"","",{"$f":"IF(A243=\"\",\"\",(SUM('Step 3. Lease Payments'!$G$11:$G$5006)+'Step 2. Basic Info'!$E$24)/'Validations - DO NOT DELETE'!$H$1)","v":""},{"$f":"IF(A243=\"\",\"\",I243*'Step 3. Lease Payments'!$G$8)","v":""},"","",null,"",{"$f":"IF(A243=\"\",\"\",VLOOKUP(A243,'Step 3. Lease Payments'!B:G,6,))","v":""},""]
[{"$f":"IF(B243<'Step 2. Basic Info'!$E$12,A243+1,\"\")","v":""},"","",{"$f":"IF(A244=\"\",\"\",(SUM('Step 3. Lease Payments'!$G$11:$G$5006)+'Step 2. Basic Info'!$E$24)/'Validations - DO NOT DELETE'!$H$1)","v":""},{"$f":"IF(A244=\"\",\"\",I244*'Step 3. Lease Payments'!$G$8)","v":""},"","",null,"",{"$f":"IF(A244=\"\",\"\",VLOOKUP(A244,'Step 3. Lease Payments'!B:G,6,))","v":""},""]
[{"$f":"IF(B244<'Step 2. Basic Info'!$E$12,A244+1,\"\")","v":""},"","",{"$f":"IF(A245=\"\",\"\",(SUM('Step 3. Lease Payments'!$G$11:$G$5006)+'Step 2. Basic Info'!$E$24)/'Validations - DO NOT DELETE'!$H$1)","v":""},{"$f":"IF(A245=\"\",\"\",I245*'Step 3. Lease Payments'!$G$8)","v":""},"","",null,"",{"$f":"IF(A245=\"\",\"\",VLOOKUP(A245,'Step 3. Lease Payments'!B:G,6,))","v":""},""]
[{"$f":"IF(B245<'Step 2. Basic Info'!$E$12,A245+1,\"\")","v":""},"","",{"$f":"IF(A246=\"\",\"\",(SUM('Step 3. Lease Payments'!$G$11:$G$5006)+'Step 2. Basic Info'!$E$24)/'Validations - DO NOT DELETE'!$H$1)","v":""},{"$f":"IF(A246=\"\",\"\",I246*'Step 3. Lease Payments'!$G$8)","v":""},"","",null,"",{"$f":"IF(A246=\"\",\"\",VLOOKUP(A246,'Step 3. Lease Payments'!B:G,6,))","v":""},""]
[{"$f":"IF(B246<'Step 2. Basic Info'!$E$12,A246+1,\"\")","v":""},"","",{"$f":"IF(A247=\"\",\"\",(SUM('Step 3. Lease Payments'!$G$11:$G$5006)+'Step 2. Basic Info'!$E$24)/'Validations - DO NOT DELETE'!$H$1)","v":""},{"$f":"IF(A247=\"\",\"\",I247*'Step 3. Lease Payments'!$G$8)","v":""},"","",null,"",{"$f":"IF(A247=\"\",\"\",VLOOKUP(A247,'Step 3. Lease Payments'!B:G,6,))","v":""},""]
[{"$f":"IF(B247<'Step 2. Basic Info'!$E$12,A247+1,\"\")","v":""},"","",{"$f":"IF(A248=\"\",\"\",(SUM('Step 3. Lease Payments'!$G$11:$G$5006)+'Step 2. Basic Info'!$E$24)/'Validations - DO NOT DELETE'!$H$1)","v":""},{"$f":"IF(A248=\"\",\"\",I248*'Step 3. Lease Payments'!$G$8)","v":""},"","",null,"",{"$f":"IF(A248=\"\",\"\",VLOOKUP(A248,'Step 3. Lease Payments'!B:G,6,))","v":""},""]
[{"$f":"IF(B248<'Step 2. Basic Info'!$E$12,A248+1,\"\")","v":""},"","",{"$f":"IF(A249=\"\",\"\",(SUM('Step 3. Lease Payments'!$G$11:$G$5006)+'Step 2. Basic Info'!$E$24)/'Validations - DO NOT DELETE'!$H$1)","v":""},{"$f":"IF(A249=\"\",\"\",I249*'Step 3. Lease Payments'!$G$8)","v":""},"","",null,"",{"$f":"IF(A249=\"\",\"\",VLOOKUP(A249,'Step 3. Lease Payments'!B:G,6,))","v":""},""]
[{"$f":"IF(B249<'Step 2. Basic Info'!$E$12,A249+1,\"\")","v":""},"","",{"$f":"IF(A250=\"\",\"\",(SUM('Step 3. Lease Payments'!$G$11:$G$5006)+'Step 2. Basic Info'!$E$24)/'Validations - DO NOT DELETE'!$H$1)","v":""},{"$f":"IF(A250=\"\",\"\",I250*'Step 3. Lease Payments'!$G$8)","v":""},"","",null,"",{"$f":"IF(A250=\"\",\"\",VLOOKUP(A250,'Step 3. Lease Payments'!B:G,6,))","v":""},""]
[{"$f":"IF(B250<'Step 2. Basic Info'!$E$12,A250+1,\"\")","v":""},"","",{"$f":"IF(A251=\"\",\"\",(SUM('Step 3. Lease Payments'!$G$11:$G$5006)+'Step 2. Basic Info'!$E$24)/'Validations - DO NOT DELETE'!$H$1)","v":""},{"$f":"IF(A251=\"\",\"\",I251*'Step 3. Lease Payments'!$G$8)","v":""},"","",null,"",{"$f":"IF(A251=\"\",\"\",VLOOKUP(A251,'Step 3. Lease Payments'!B:G,6,))","v":""},""]
[{"$f":"IF(B251<'Step 2. Basic Info'!$E$12,A251+1,\"\")","v":""},"","",{"$f":"IF(A252=\"\",\"\",(SUM('Step 3. Lease Payments'!$G$11:$G$5006)+'Step 2. Basic Info'!$E$24)/'Validations - DO NOT DELETE'!$H$1)","v":""},{"$f":"IF(A252=\"\",\"\",I252*'Step 3. Lease Payments'!$G$8)","v":""},"","",null,"",{"$f":"IF(A252=\"\",\"\",VLOOKUP(A252,'Step 3. Lease Payments'!B:G,6,))","v":""},""]
[{"$f":"IF(B252<'Step 2. Basic Info'!$E$12,A252+1,\"\")","v":""},"","",{"$f":"IF(A253=\"\",\"\",(SUM('Step 3. Lease Payments'!$G$11:$G$5006)+'Step 2. Basic Info'!$E$24)/'Validations - DO NOT DELETE'!$H$1)","v":""},{"$f":"IF(A253=\"\",\"\",I253*'Step 3. Lease Payments'!$G$8)","v":""},"","",null,"",{"$f":"IF(A253=\"\",\"\",VLOOKUP(A253,'Step 3. Lease Payments'!B:G,6,))","v":""},""]
[{"$f":"IF(B253<'Step 2. Basic Info'!$E$12,A253+1,\"\")","v":""},"","",{"$f":"IF(A254=\"\",\"\",(SUM('Step 3. Lease Payments'!$G$11:$G$5006)+'Step 2. Basic Info'!$E$24)/'Validations - DO NOT DELETE'!$H$1)","v":""},{"$f":"IF(A254=\"\",\"\",I254*'Step 3. Lease Payments'!$G$8)","v":""},"","",null,"",{"$f":"IF(A254=\"\",\"\",VLOOKUP(A254,'Step 3. Lease Payments'!B:G,6,))","v":""},""]
[{"$f":"IF(B254<'Step 2. Basic Info'!$E$12,A254+1,\"\")","v":""},"","",{"$f":"IF(A255=\"\",\"\",(SUM('Step 3. Lease Payments'!$G$11:$G$5006)+'Step 2. Basic Info'!$E$24)/'Validations - DO NOT DELETE'!$H$1)","v":""},{"$f":"IF(A255=\"\",\"\",I255*'Step 3. Lease Payments'!$G$8)","v":""},"","",null,"",{"$f":"IF(A255=\"\",\"\",VLOOKUP(A255,'Step 3. Lease Payments'!B:G,6,))","v":""},""]
[{"$f":"IF(B255<'Step 2. Basic Info'!$E$12,A255+1,\"\")","v":""},"","",{"$f":"IF(A256=\"\",\"\",(SUM('Step 3. Lease Payments'!$G$11:$G$5006)+'Step 2. Basic Info'!$E$24)/'Validations - DO NOT DELETE'!$H$1)","v":""},{"$f":"IF(A256=\"\",\"\",I256*'Step 3. Lease Payments'!$G$8)","v":""},"","",null,"",{"$f":"IF(A256=\"\",\"\",VLOOKUP(A256,'Step 3. Lease Payments'!B:G,6,))","v":""},""]
[{"$f":"IF(B256<'Step 2. Basic Info'!$E$12,A256+1,\"\")","v":""},"","",{"$f":"IF(A257=\"\",\"\",(SUM('Step 3. Lease Payments'!$G$11:$G$5006)+'Step 2. Basic Info'!$E$24)/'Validations - DO NOT DELETE'!$H$1)","v":""},{"$f":"IF(A257=\"\",\"\",I257*'Step 3. Lease Payments'!$G$8)","v":""},"","",null,"",{"$f":"IF(A257=\"\",\"\",VLOOKUP(A257,'Step 3. Lease Payments'!B:G,6,))","v":""},""]
[{"$f":"IF(B257<'Step 2. Basic Info'!$E$12,A257+1,\"\")","v":""},"","",{"$f":"IF(A258=\"\",\"\",(SUM('Step 3. Lease Payments'!$G$11:$G$5006)+'Step 2. Basic Info'!$E$24)/'Validations - DO NOT DELETE'!$H$1)","v":""},{"$f":"IF(A258=\"\",\"\",I258*'Step 3. Lease Payments'!$G$8)","v":""},"","",null,"",{"$f":"IF(A258=\"\",\"\",VLOOKUP(A258,'Step 3. Lease Payments'!B:G,6,))","v":""},""]
[{"$f":"IF(B258<'Step 2. Basic Info'!$E$12,A258+1,\"\")","v":""},"","",{"$f":"IF(A259=\"\",\"\",(SUM('Step 3. Lease Payments'!$G$11:$G$5006)+'Step 2. Basic Info'!$E$24)/'Validations - DO NOT DELETE'!$H$1)","v":""},{"$f":"IF(A259=\"\",\"\",I259*'Step 3. Lease Payments'!$G$8)","v":""},"","",null,"",{"$f":"IF(A259=\"\",\"\",VLOOKUP(A259,'Step 3. Lease Payments'!B:G,6,))","v":""},""]
[{"$f":"IF(B259<'Step 2. Basic Info'!$E$12,A259+1,\"\")","v":""},"","",{"$f":"IF(A260=\"\",\"\",(SUM('Step 3. Lease Payments'!$G$11:$G$5006)+'Step 2. Basic Info'!$E$24)/'Validations - DO NOT DELETE'!$H$1)","v":""},{"$f":"IF(A260=\"\",\"\",I260*'Step 3. Lease Payments'!$G$8)","v":""},"","",null,"",{"$f":"IF(A260=\"\",\"\",VLOOKUP(A260,'Step 3. Lease Payments'!B:G,6,))","v":""},""]
[{"$f":"IF(B260<'Step 2. Basic Info'!$E$12,A260+1,\"\")","v":""},"","",{"$f":"IF(A261=\"\",\"\",(SUM('Step 3. Lease Payments'!$G$11:$G$5006)+'Step 2. Basic Info'!$E$24)/'Validations - DO NOT DELETE'!$H$1)","v":""},{"$f":"IF(A261=\"\",\"\",I261*'Step 3. Lease Payments'!$G$8)","v":""},"","",null,"",{"$f":"IF(A261=\"\",\"\",VLOOKUP(A261,'Step 3. Lease Payments'!B:G,6,))","v":""},""]
[{"$f":"IF(B261<'Step 2. Basic Info'!$E$12,A261+1,\"\")","v":""},"","",{"$f":"IF(A262=\"\",\"\",(SUM('Step 3. Lease Payments'!$G$11:$G$5006)+'Step 2. Basic Info'!$E$24)/'Validations - DO NOT DELETE'!$H$1)","v":""},{"$f":"IF(A262=\"\",\"\",I262*'Step 3. Lease Payments'!$G$8)","v":""},"","",null,"",{"$f":"IF(A262=\"\",\"\",VLOOKUP(A262,'Step 3. Lease Payments'!B:G,6,))","v":""},""]
[{"$f":"IF(B262<'Step 2. Basic Info'!$E$12,A262+1,\"\")","v":""},"","",{"$f":"IF(A263=\"\",\"\",(SUM('Step 3. Lease Payments'!$G$11:$G$5006)+'Step 2. Basic Info'!$E$24)/'Validations - DO NOT DELETE'!$H$1)","v":""},{"$f":"IF(A263=\"\",\"\",I263*'Step 3. Lease Payments'!$G$8)","v":""},"","",null,"",{"$f":"IF(A263=\"\",\"\",VLOOKUP(A263,'Step 3. Lease Payments'!B:G,6,))","v":""},""]
[{"$f":"IF(B263<'Step 2. Basic Info'!$E$12,A263+1,\"\")","v":""},"","",{"$f":"IF(A264=\"\",\"\",(SUM('Step 3. Lease Payments'!$G$11:$G$5006)+'Step 2. Basic Info'!$E$24)/'Validations - DO NOT DELETE'!$H$1)","v":""},{"$f":"IF(A264=\"\",\"\",I264*'Step 3. Lease Payments'!$G$8)","v":""},"","",null,"",{"$f":"IF(A264=\"\",\"\",VLOOKUP(A264,'Step 3. Lease Payments'!B:G,6,))","v":""},""]
[{"$f":"IF(B264<'Step 2. Basic Info'!$E$12,A264+1,\"\")","v":""},"","",{"$f":"IF(A265=\"\",\"\",(SUM('Step 3. Lease Payments'!$G$11:$G$5006)+'Step 2. Basic Info'!$E$24)/'Validations - DO NOT DELETE'!$H$1)","v":""},{"$f":"IF(A265=\"\",\"\",I265*'Step 3. Lease Payments'!$G$8)","v":""},"","",null,"",{"$f":"IF(A265=\"\",\"\",VLOOKUP(A265,'Step 3. Lease Payments'!B:G,6,))","v":""},""]
[{"$f":"IF(B265<'Step 2. Basic Info'!$E$12,A265+1,\"\")","v":""},"","",{"$f":"IF(A266=\"\",\"\",(SUM('Step 3. Lease Payments'!$G$11:$G$5006)+'Step 2. Basic Info'!$E$24)/'Validations - DO NOT DELETE'!$H$1)","v":""},{"$f":"IF(A266=\"\",\"\",I266*'Step 3. Lease Payments'!$G$8)","v":""},"","",null,"",{"$f":"IF(A266=\"\",\"\",VLOOKUP(A266,'Step 3. Lease Payments'!B:G,6,))","v":""},""]
[{"$f":"IF(B266<'Step 2. Basic Info'!$E$12,A266+1,\"\")","v":""},{"$f":"IF(A267=\"\",\"\",(DATE(YEAR(B266),MONTH(B266)+1,DAY(B266))))","v":""},{"$f":"IF(A267=\"\",\"\",G266)","v":""},{"$f":"IF(A267=\"\",\"\",(SUM('Step 3. Lease Payments'!$G$11:$G$5006)+'Step 2. Basic Info'!$E$24)/'Validations - DO NOT DELETE'!$H$1)","v":""},{"$f":"IF(A267=\"\",\"\",I267*'Step 3. Lease Payments'!$G$8)","v":""},{"$f":"IF(A267=\"\",\"\",D267-E267)","v":""},{"$f":"IF(A267=\"\",\"\",C267-F267)","v":""},null,{"$f":"IF(A267=\"\",\"\",K266)","v":""},{"$f":"IF(A267=\"\",\"\",VLOOKUP(A267,'Step 3. Lease Payments'!B:G,6,))","v":""},{"$f":"IF(A267=\"\",\"\",I267-J267+E267)","v":""}]
[{"$f":"IF(B267<'Step 2. Basic Info'!$E$12,A267+1,\"\")","v":""},"","",{"$f":"IF(A268=\"\",\"\",(SUM('Step 3. Lease Payments'!$G$11:$G$5006)+'Step 2. Basic Info'!$E$24)/'Validations - DO NOT DELETE'!$H$1)","v":""},{"$f":"IF(A268=\"\",\"\",I268*'Step 3. Lease Payments'!$G$8)","v":""},"","",null,"",{"$f":"IF(A268=\"\",\"\",VLOOKUP(A268,'Step 3. Lease Payments'!B:G,6,))","v":""},""]
[{"$f":"IF(B268<'Step 2. Basic Info'!$E$12,A268+1,\"\")","v":""},"","",{"$f":"IF(A269=\"\",\"\",(SUM('Step 3. Lease Payments'!$G$11:$G$5006)+'Step 2. Basic Info'!$E$24)/'Validations - DO NOT DELETE'!$H$1)","v":""},{"$f":"IF(A269=\"\",\"\",I269*'Step 3. Lease Payments'!$G$8)","v":""},"","",null,"",{"$f":"IF(A269=\"\",\"\",VLOOKUP(A269,'Step 3. Lease Payments'!B:G,6,))","v":""},""]
[{"$f":"IF(B269<'Step 2. Basic Info'!$E$12,A269+1,\"\")","v":""},"","",{"$f":"IF(A270=\"\",\"\",(SUM('Step 3. Lease Payments'!$G$11:$G$5006)+'Step 2. Basic Info'!$E$24)/'Validations - DO NOT DELETE'!$H$1)","v":""},{"$f":"IF(A270=\"\",\"\",I270*'Step 3. Lease Payments'!$G$8)","v":""},"","",null,"",{"$f":"IF(A270=\"\",\"\",VLOOKUP(A270,'Step 3. Lease Payments'!B:G,6,))","v":""},""]
[{"$f":"IF(B270<'Step 2. Basic Info'!$E$12,A270+1,\"\")","v":""},"","",{"$f":"IF(A271=\"\",\"\",(SUM('Step 3. Lease Payments'!$G$11:$G$5006)+'Step 2. Basic Info'!$E$24)/'Validations - DO NOT DELETE'!$H$1)","v":""},{"$f":"IF(A271=\"\",\"\",I271*'Step 3. Lease Payments'!$G$8)","v":""},"","",null,"",{"$f":"IF(A271=\"\",\"\",VLOOKUP(A271,'Step 3. Lease Payments'!B:G,6,))","v":""},""]
[{"$f":"IF(B271<'Step 2. Basic Info'!$E$12,A271+1,\"\")","v":""},"","",{"$f":"IF(A272=\"\",\"\",(SUM('Step 3. Lease Payments'!$G$11:$G$5006)+'Step 2. Basic Info'!$E$24)/'Validations - DO NOT DELETE'!$H$1)","v":""},{"$f":"IF(A272=\"\",\"\",I272*'Step 3. Lease Payments'!$G$8)","v":""},"","",null,"",{"$f":"IF(A272=\"\",\"\",VLOOKUP(A272,'Step 3. Lease Payments'!B:G,6,))","v":""},""]
[{"$f":"IF(B272<'Step 2. Basic Info'!$E$12,A272+1,\"\")","v":""},"","",{"$f":"IF(A273=\"\",\"\",(SUM('Step 3. Lease Payments'!$G$11:$G$5006)+'Step 2. Basic Info'!$E$24)/'Validations - DO NOT DELETE'!$H$1)","v":""},{"$f":"IF(A273=\"\",\"\",I273*'Step 3. Lease Payments'!$G$8)","v":""},"","",null,"",{"$f":"IF(A273=\"\",\"\",VLOOKUP(A273,'Step 3. Lease Payments'!B:G,6,))","v":""},""]
[{"$f":"IF(B273<'Step 2. Basic Info'!$E$12,A273+1,\"\")","v":""},"","",{"$f":"IF(A274=\"\",\"\",(SUM('Step 3. Lease Payments'!$G$11:$G$5006)+'Step 2. Basic Info'!$E$24)/'Validations - DO NOT DELETE'!$H$1)","v":""},{"$f":"IF(A274=\"\",\"\",I274*'Step 3. Lease Payments'!$G$8)","v":""},"","",null,"",{"$f":"IF(A274=\"\",\"\",VLOOKUP(A274,'Step 3. Lease Payments'!B:G,6,))","v":""},""]
[{"$f":"IF(B274<'Step 2. Basic Info'!$E$12,A274+1,\"\")","v":""},"","",{"$f":"IF(A275=\"\",\"\",(SUM('Step 3. Lease Payments'!$G$11:$G$5006)+'Step 2. Basic Info'!$E$24)/'Validations - DO NOT DELETE'!$H$1)","v":""},{"$f":"IF(A275=\"\",\"\",I275*'Step 3. Lease Payments'!$G$8)","v":""},"","",null,"",{"$f":"IF(A275=\"\",\"\",VLOOKUP(A275,'Step 3. Lease Payments'!B:G,6,))","v":""},""]
[{"$f":"IF(B275<'Step 2. Basic Info'!$E$12,A275+1,\"\")","v":""},"","",{"$f":"IF(A276=\"\",\"\",(SUM('Step 3. Lease Payments'!$G$11:$G$5006)+'Step 2. Basic Info'!$E$24)/'Validations - DO NOT DELETE'!$H$1)","v":""},{"$f":"IF(A276=\"\",\"\",I276*'Step 3. Lease Payments'!$G$8)","v":""},"","",null,"",{"$f":"IF(A276=\"\",\"\",VLOOKUP(A276,'Step 3. Lease Payments'!B:G,6,))","v":""},""]
[{"$f":"IF(B276<'Step 2. Basic Info'!$E$12,A276+1,\"\")","v":""},"","",{"$f":"IF(A277=\"\",\"\",(SUM('Step 3. Lease Payments'!$G$11:$G$5006)+'Step 2. Basic Info'!$E$24)/'Validations - DO NOT DELETE'!$H$1)","v":""},{"$f":"IF(A277=\"\",\"\",I277*'Step 3. Lease Payments'!$G$8)","v":""},"","",null,"",{"$f":"IF(A277=\"\",\"\",VLOOKUP(A277,'Step 3. Lease Payments'!B:G,6,))","v":""},""]
[{"$f":"IF(B277<'Step 2. Basic Info'!$E$12,A277+1,\"\")","v":""},"","",{"$f":"IF(A278=\"\",\"\",(SUM('Step 3. Lease Payments'!$G$11:$G$5006)+'Step 2. Basic Info'!$E$24)/'Validations - DO NOT DELETE'!$H$1)","v":""},{"$f":"IF(A278=\"\",\"\",I278*'Step 3. Lease Payments'!$G$8)","v":""},"","",null,"",{"$f":"IF(A278=\"\",\"\",VLOOKUP(A278,'Step 3. Lease Payments'!B:G,6,))","v":""},""]
[{"$f":"IF(B278<'Step 2. Basic Info'!$E$12,A278+1,\"\")","v":""},"","",{"$f":"IF(A279=\"\",\"\",(SUM('Step 3. Lease Payments'!$G$11:$G$5006)+'Step 2. Basic Info'!$E$24)/'Validations - DO NOT DELETE'!$H$1)","v":""},{"$f":"IF(A279=\"\",\"\",I279*'Step 3. Lease Payments'!$G$8)","v":""},"","",null,"",{"$f":"IF(A279=\"\",\"\",VLOOKUP(A279,'Step 3. Lease Payments'!B:G,6,))","v":""},""]
[{"$f":"IF(B279<'Step 2. Basic Info'!$E$12,A279+1,\"\")","v":""},"","",{"$f":"IF(A280=\"\",\"\",(SUM('Step 3. Lease Payments'!$G$11:$G$5006)+'Step 2. Basic Info'!$E$24)/'Validations - DO NOT DELETE'!$H$1)","v":""},{"$f":"IF(A280=\"\",\"\",I280*'Step 3. Lease Payments'!$G$8)","v":""},"","",null,"",{"$f":"IF(A280=\"\",\"\",VLOOKUP(A280,'Step 3. Lease Payments'!B:G,6,))","v":""},""]
[{"$f":"IF(B280<'Step 2. Basic Info'!$E$12,A280+1,\"\")","v":""},"","",{"$f":"IF(A281=\"\",\"\",(SUM('Step 3. Lease Payments'!$G$11:$G$5006)+'Step 2. Basic Info'!$E$24)/'Validations - DO NOT DELETE'!$H$1)","v":""},{"$f":"IF(A281=\"\",\"\",I281*'Step 3. Lease Payments'!$G$8)","v":""},"","",null,"",{"$f":"IF(A281=\"\",\"\",VLOOKUP(A281,'Step 3. Lease Payments'!B:G,6,))","v":""},""]
[{"$f":"IF(B281<'Step 2. Basic Info'!$E$12,A281+1,\"\")","v":""},"","",{"$f":"IF(A282=\"\",\"\",(SUM('Step 3. Lease Payments'!$G$11:$G$5006)+'Step 2. Basic Info'!$E$24)/'Validations - DO NOT DELETE'!$H$1)","v":""},{"$f":"IF(A282=\"\",\"\",I282*'Step 3. Lease Payments'!$G$8)","v":""},"","",null,"",{"$f":"IF(A282=\"\",\"\",VLOOKUP(A282,'Step 3. Lease Payments'!B:G,6,))","v":""},""]
[{"$f":"IF(B282<'Step 2. Basic Info'!$E$12,A282+1,\"\")","v":""},"","",{"$f":"IF(A283=\"\",\"\",(SUM('Step 3. Lease Payments'!$G$11:$G$5006)+'Step 2. Basic Info'!$E$24)/'Validations - DO NOT DELETE'!$H$1)","v":""},{"$f":"IF(A283=\"\",\"\",I283*'Step 3. Lease Payments'!$G$8)","v":""},"","",null,"",{"$f":"IF(A283=\"\",\"\",VLOOKUP(A283,'Step 3. Lease Payments'!B:G,6,))","v":""},""]
[{"$f":"IF(B283<'Step 2. Basic Info'!$E$12,A283+1,\"\")","v":""},"","",{"$f":"IF(A284=\"\",\"\",(SUM('Step 3. Lease Payments'!$G$11:$G$5006)+'Step 2. Basic Info'!$E$24)/'Validations - DO NOT DELETE'!$H$1)","v":""},{"$f":"IF(A284=\"\",\"\",I284*'Step 3. Lease Payments'!$G$8)","v":""},"","",null,"",{"$f":"IF(A284=\"\",\"\",VLOOKUP(A284,'Step 3. Lease Payments'!B:G,6,))","v":""},""]
[{"$f":"IF(B284<'Step 2. Basic Info'!$E$12,A284+1,\"\")","v":""},"","",{"$f":"IF(A285=\"\",\"\",(SUM('Step 3. Lease Payments'!$G$11:$G$5006)+'Step 2. Basic Info'!$E$24)/'Validations - DO NOT DELETE'!$H$1)","v":""},{"$f":"IF(A285=\"\",\"\",I285*'Step 3. Lease Payments'!$G$8)","v":""},"","",null,"",{"$f":"IF(A285=\"\",\"\",VLOOKUP(A285,'Step 3. Lease Payments'!B:G,6,))","v":""},""]
[{"$f":"IF(B285<'Step 2. Basic Info'!$E$12,A285+1,\"\")","v":""},"","",{"$f":"IF(A286=\"\",\"\",(SUM('Step 3. Lease Payments'!$G$11:$G$5006)+'Step 2. Basic Info'!$E$24)/'Validations - DO NOT DELETE'!$H$1)","v":""},{"$f":"IF(A286=\"\",\"\",I286*'Step 3. Lease Payments'!$G$8)","v":""},"","",null,"",{"$f":"IF(A286=\"\",\"\",VLOOKUP(A286,'Step 3. Lease Payments'!B:G,6,))","v":""},""]
[{"$f":"IF(B286<'Step 2. Basic Info'!$E$12,A286+1,\"\")","v":""},"","",{"$f":"IF(A287=\"\",\"\",(SUM('Step 3. Lease Payments'!$G$11:$G$5006)+'Step 2. Basic Info'!$E$24)/'Validations - DO NOT DELETE'!$H$1)","v":""},{"$f":"IF(A287=\"\",\"\",I287*'Step 3. Lease Payments'!$G$8)","v":""},"","",null,"",{"$f":"IF(A287=\"\",\"\",VLOOKUP(A287,'Step 3. Lease Payments'!B:G,6,))","v":""},""]
[{"$f":"IF(B287<'Step 2. Basic Info'!$E$12,A287+1,\"\")","v":""},"","",{"$f":"IF(A288=\"\",\"\",(SUM('Step 3. Lease Payments'!$G$11:$G$5006)+'Step 2. Basic Info'!$E$24)/'Validations - DO NOT DELETE'!$H$1)","v":""},{"$f":"IF(A288=\"\",\"\",I288*'Step 3. Lease Payments'!$G$8)","v":""},"","",null,"",{"$f":"IF(A288=\"\",\"\",VLOOKUP(A288,'Step 3. Lease Payments'!B:G,6,))","v":""},""]
[{"$f":"IF(B288<'Step 2. Basic Info'!$E$12,A288+1,\"\")","v":""},"","",{"$f":"IF(A289=\"\",\"\",(SUM('Step 3. Lease Payments'!$G$11:$G$5006)+'Step 2. Basic Info'!$E$24)/'Validations - DO NOT DELETE'!$H$1)","v":""},{"$f":"IF(A289=\"\",\"\",I289*'Step 3. Lease Payments'!$G$8)","v":""},"","",null,"",{"$f":"IF(A289=\"\",\"\",VLOOKUP(A289,'Step 3. Lease Payments'!B:G,6,))","v":""},""]
[{"$f":"IF(B289<'Step 2. Basic Info'!$E$12,A289+1,\"\")","v":""},"","",{"$f":"IF(A290=\"\",\"\",(SUM('Step 3. Lease Payments'!$G$11:$G$5006)+'Step 2. Basic Info'!$E$24)/'Validations - DO NOT DELETE'!$H$1)","v":""},{"$f":"IF(A290=\"\",\"\",I290*'Step 3. Lease Payments'!$G$8)","v":""},"","",null,"",{"$f":"IF(A290=\"\",\"\",VLOOKUP(A290,'Step 3. Lease Payments'!B:G,6,))","v":""},""]
[{"$f":"IF(B290<'Step 2. Basic Info'!$E$12,A290+1,\"\")","v":""},"","",{"$f":"IF(A291=\"\",\"\",(SUM('Step 3. Lease Payments'!$G$11:$G$5006)+'Step 2. Basic Info'!$E$24)/'Validations - DO NOT DELETE'!$H$1)","v":""},{"$f":"IF(A291=\"\",\"\",I291*'Step 3. Lease Payments'!$G$8)","v":""},"","",null,"",{"$f":"IF(A291=\"\",\"\",VLOOKUP(A291,'Step 3. Lease Payments'!B:G,6,))","v":""},""]
[{"$f":"IF(B291<'Step 2. Basic Info'!$E$12,A291+1,\"\")","v":""},"","",{"$f":"IF(A292=\"\",\"\",(SUM('Step 3. Lease Payments'!$G$11:$G$5006)+'Step 2. Basic Info'!$E$24)/'Validations - DO NOT DELETE'!$H$1)","v":""},{"$f":"IF(A292=\"\",\"\",I292*'Step 3. Lease Payments'!$G$8)","v":""},"","",null,"",{"$f":"IF(A292=\"\",\"\",VLOOKUP(A292,'Step 3. Lease Payments'!B:G,6,))","v":""},""]
[{"$f":"IF(B292<'Step 2. Basic Info'!$E$12,A292+1,\"\")","v":""},"","",{"$f":"IF(A293=\"\",\"\",(SUM('Step 3. Lease Payments'!$G$11:$G$5006)+'Step 2. Basic Info'!$E$24)/'Validations - DO NOT DELETE'!$H$1)","v":""},{"$f":"IF(A293=\"\",\"\",I293*'Step 3. Lease Payments'!$G$8)","v":""},"","",null,"",{"$f":"IF(A293=\"\",\"\",VLOOKUP(A293,'Step 3. Lease Payments'!B:G,6,))","v":""},""]
[{"$f":"IF(B293<'Step 2. Basic Info'!$E$12,A293+1,\"\")","v":""},"","",{"$f":"IF(A294=\"\",\"\",(SUM('Step 3. Lease Payments'!$G$11:$G$5006)+'Step 2. Basic Info'!$E$24)/'Validations - DO NOT DELETE'!$H$1)","v":""},{"$f":"IF(A294=\"\",\"\",I294*'Step 3. Lease Payments'!$G$8)","v":""},"","",null,"",{"$f":"IF(A294=\"\",\"\",VLOOKUP(A294,'Step 3. Lease Payments'!B:G,6,))","v":""},""]
[{"$f":"IF(B294<'Step 2. Basic Info'!$E$12,A294+1,\"\")","v":""},"","",{"$f":"IF(A295=\"\",\"\",(SUM('Step 3. Lease Payments'!$G$11:$G$5006)+'Step 2. Basic Info'!$E$24)/'Validations - DO NOT DELETE'!$H$1)","v":""},{"$f":"IF(A295=\"\",\"\",I295*'Step 3. Lease Payments'!$G$8)","v":""},"","",null,"",{"$f":"IF(A295=\"\",\"\",VLOOKUP(A295,'Step 3. Lease Payments'!B:G,6,))","v":""},""]
[{"$f":"IF(B295<'Step 2. Basic Info'!$E$12,A295+1,\"\")","v":""},"","",{"$f":"IF(A296=\"\",\"\",(SUM('Step 3. Lease Payments'!$G$11:$G$5006)+'Step 2. Basic Info'!$E$24)/'Validations - DO NOT DELETE'!$H$1)","v":""},{"$f":"IF(A296=\"\",\"\",I296*'Step 3. Lease Payments'!$G$8)","v":""},"","",null,"",{"$f":"IF(A296=\"\",\"\",VLOOKUP(A296,'Step 3. Lease Payments'!B:G,6,))","v":""},""]
[{"$f":"IF(B296<'Step 2. Basic Info'!$E$12,A296+1,\"\")","v":""},"","",{"$f":"IF(A297=\"\",\"\",(SUM('Step 3. Lease Payments'!$G$11:$G$5006)+'Step 2. Basic Info'!$E$24)/'Validations - DO NOT DELETE'!$H$1)","v":""},{"$f":"IF(A297=\"\",\"\",I297*'Step 3. Lease Payments'!$G$8)","v":""},"","",null,"",{"$f":"IF(A297=\"\",\"\",VLOOKUP(A297,'Step 3. Lease Payments'!B:G,6,))","v":""},""]
[{"$f":"IF(B297<'Step 2. Basic Info'!$E$12,A297+1,\"\")","v":""},"","",{"$f":"IF(A298=\"\",\"\",(SUM('Step 3. Lease Payments'!$G$11:$G$5006)+'Step 2. Basic Info'!$E$24)/'Validations - DO NOT DELETE'!$H$1)","v":""},{"$f":"IF(A298=\"\",\"\",I298*'Step 3. Lease Payments'!$G$8)","v":""},"","",null,"",{"$f":"IF(A298=\"\",\"\",VLOOKUP(A298,'Step 3. Lease Payments'!B:G,6,))","v":""},""]
[{"$f":"IF(B298<'Step 2. Basic Info'!$E$12,A298+1,\"\")","v":""},"","",{"$f":"IF(A299=\"\",\"\",(SUM('Step 3. Lease Payments'!$G$11:$G$5006)+'Step 2. Basic Info'!$E$24)/'Validations - DO NOT DELETE'!$H$1)","v":""},{"$f":"IF(A299=\"\",\"\",I299*'Step 3. Lease Payments'!$G$8)","v":""},"","",null,"",{"$f":"IF(A299=\"\",\"\",VLOOKUP(A299,'Step 3. Lease Payments'!B:G,6,))","v":""},""]
[{"$f":"IF(B299<'Step 2. Basic Info'!$E$12,A299+1,\"\")","v":""},"","",{"$f":"IF(A300=\"\",\"\",(SUM('Step 3. Lease Payments'!$G$11:$G$5006)+'Step 2. Basic Info'!$E$24)/'Validations - DO NOT DELETE'!$H$1)","v":""},{"$f":"IF(A300=\"\",\"\",I300*'Step 3. Lease Payments'!$G$8)","v":""},"","",null,"",{"$f":"IF(A300=\"\",\"\",VLOOKUP(A300,'Step 3. Lease Payments'!B:G,6,))","v":""},""]
[{"$f":"IF(B300<'Step 2. Basic Info'!$E$12,A300+1,\"\")","v":""},"","",{"$f":"IF(A301=\"\",\"\",(SUM('Step 3. Lease Payments'!$G$11:$G$5006)+'Step 2. Basic Info'!$E$24)/'Validations - DO NOT DELETE'!$H$1)","v":""},{"$f":"IF(A301=\"\",\"\",I301*'Step 3. Lease Payments'!$G$8)","v":""},"","",null,"",{"$f":"IF(A301=\"\",\"\",VLOOKUP(A301,'Step 3. Lease Payments'!B:G,6,))","v":""},""]
[{"$f":"IF(B301<'Step 2. Basic Info'!$E$12,A301+1,\"\")","v":""},"","",{"$f":"IF(A302=\"\",\"\",(SUM('Step 3. Lease Payments'!$G$11:$G$5006)+'Step 2. Basic Info'!$E$24)/'Validations - DO NOT DELETE'!$H$1)","v":""},{"$f":"IF(A302=\"\",\"\",I302*'Step 3. Lease Payments'!$G$8)","v":""},"","",null,"",{"$f":"IF(A302=\"\",\"\",VLOOKUP(A302,'Step 3. Lease Payments'!B:G,6,))","v":""},""]
[{"$f":"IF(B302<'Step 2. Basic Info'!$E$12,A302+1,\"\")","v":""},"","",{"$f":"IF(A303=\"\",\"\",(SUM('Step 3. Lease Payments'!$G$11:$G$5006)+'Step 2. Basic Info'!$E$24)/'Validations - DO NOT DELETE'!$H$1)","v":""},{"$f":"IF(A303=\"\",\"\",I303*'Step 3. Lease Payments'!$G$8)","v":""},"","",null,"",{"$f":"IF(A303=\"\",\"\",VLOOKUP(A303,'Step 3. Lease Payments'!B:G,6,))","v":""},""]
[{"$f":"IF(B303<'Step 2. Basic Info'!$E$12,A303+1,\"\")","v":""},"","",{"$f":"IF(A304=\"\",\"\",(SUM('Step 3. Lease Payments'!$G$11:$G$5006)+'Step 2. Basic Info'!$E$24)/'Validations - DO NOT DELETE'!$H$1)","v":""},{"$f":"IF(A304=\"\",\"\",I304*'Step 3. Lease Payments'!$G$8)","v":""},"","",null,"",{"$f":"IF(A304=\"\",\"\",VLOOKUP(A304,'Step 3. Lease Payments'!B:G,6,))","v":""},""]
[{"$f":"IF(B304<'Step 2. Basic Info'!$E$12,A304+1,\"\")","v":""},"","",{"$f":"IF(A305=\"\",\"\",(SUM('Step 3. Lease Payments'!$G$11:$G$5006)+'Step 2. Basic Info'!$E$24)/'Validations - DO NOT DELETE'!$H$1)","v":""},{"$f":"IF(A305=\"\",\"\",I305*'Step 3. Lease Payments'!$G$8)","v":""},"","",null,"",{"$f":"IF(A305=\"\",\"\",VLOOKUP(A305,'Step 3. Lease Payments'!B:G,6,))","v":""},""]
[{"$f":"IF(B305<'Step 2. Basic Info'!$E$12,A305+1,\"\")","v":""},"","",{"$f":"IF(A306=\"\",\"\",(SUM('Step 3. Lease Payments'!$G$11:$G$5006)+'Step 2. Basic Info'!$E$24)/'Validations - DO NOT DELETE'!$H$1)","v":""},{"$f":"IF(A306=\"\",\"\",I306*'Step 3. Lease Payments'!$G$8)","v":""},"","",null,"",{"$f":"IF(A306=\"\",\"\",VLOOKUP(A306,'Step 3. Lease Payments'!B:G,6,))","v":""},""]
[{"$f":"IF(B306<'Step 2. Basic Info'!$E$12,A306+1,\"\")","v":""},"","",{"$f":"IF(A307=\"\",\"\",(SUM('Step 3. Lease Payments'!$G$11:$G$5006)+'Step 2. Basic Info'!$E$24)/'Validations - DO NOT DELETE'!$H$1)","v":""},{"$f":"IF(A307=\"\",\"\",I307*'Step 3. Lease Payments'!$G$8)","v":""},"","",null,"",{"$f":"IF(A307=\"\",\"\",VLOOKUP(A307,'Step 3. Lease Payments'!B:G,6,))","v":""},""]
[{"$f":"IF(B307<'Step 2. Basic Info'!$E$12,A307+1,\"\")","v":""},"","",{"$f":"IF(A308=\"\",\"\",(SUM('Step 3. Lease Payments'!$G$11:$G$5006)+'Step 2. Basic Info'!$E$24)/'Validations - DO NOT DELETE'!$H$1)","v":""},{"$f":"IF(A308=\"\",\"\",I308*'Step 3. Lease Payments'!$G$8)","v":""},"","",null,"",{"$f":"IF(A308=\"\",\"\",VLOOKUP(A308,'Step 3. Lease Payments'!B:G,6,))","v":""},""]
[{"$f":"IF(B308<'Step 2. Basic Info'!$E$12,A308+1,\"\")","v":""},"","",{"$f":"IF(A309=\"\",\"\",(SUM('Step 3. Lease Payments'!$G$11:$G$5006)+'Step 2. Basic Info'!$E$24)/'Validations - DO NOT DELETE'!$H$1)","v":""},{"$f":"IF(A309=\"\",\"\",I309*'Step 3. Lease Payments'!$G$8)","v":""},"","",null,"",{"$f":"IF(A309=\"\",\"\",VLOOKUP(A309,'Step 3. Lease Payments'!B:G,6,))","v":""},""]
[{"$f":"IF(B309<'Step 2. Basic Info'!$E$12,A309+1,\"\")","v":""},"","",{"$f":"IF(A310=\"\",\"\",(SUM('Step 3. Lease Payments'!$G$11:$G$5006)+'Step 2. Basic Info'!$E$24)/'Validations - DO NOT DELETE'!$H$1)","v":""},{"$f":"IF(A310=\"\",\"\",I310*'Step 3. Lease Payments'!$G$8)","v":""},"","",null,"",{"$f":"IF(A310=\"\",\"\",VLOOKUP(A310,'Step 3. Lease Payments'!B:G,6,))","v":""},""]
[{"$f":"IF(B310<'Step 2. Basic Info'!$E$12,A310+1,\"\")","v":""},"","",{"$f":"IF(A311=\"\",\"\",(SUM('Step 3. Lease Payments'!$G$11:$G$5006)+'Step 2. Basic Info'!$E$24)/'Validations - DO NOT DELETE'!$H$1)","v":""},{"$f":"IF(A311=\"\",\"\",I311*'Step 3. Lease Payments'!$G$8)","v":""},"","",null,"",{"$f":"IF(A311=\"\",\"\",VLOOKUP(A311,'Step 3. Lease Payments'!B:G,6,))","v":""},""]
[{"$f":"IF(B311<'Step 2. Basic Info'!$E$12,A311+1,\"\")","v":""},"","",{"$f":"IF(A312=\"\",\"\",(SUM('Step 3. Lease Payments'!$G$11:$G$5006)+'Step 2. Basic Info'!$E$24)/'Validations - DO NOT DELETE'!$H$1)","v":""},{"$f":"IF(A312=\"\",\"\",I312*'Step 3. Lease Payments'!$G$8)","v":""},"","",null,"",{"$f":"IF(A312=\"\",\"\",VLOOKUP(A312,'Step 3. Lease Payments'!B:G,6,))","v":""},""]
[{"$f":"IF(B312<'Step 2. Basic Info'!$E$12,A312+1,\"\")","v":""},"","",{"$f":"IF(A313=\"\",\"\",(SUM('Step 3. Lease Payments'!$G$11:$G$5006)+'Step 2. Basic Info'!$E$24)/'Validations - DO NOT DELETE'!$H$1)","v":""},{"$f":"IF(A313=\"\",\"\",I313*'Step 3. Lease Payments'!$G$8)","v":""},"","",null,"",{"$f":"IF(A313=\"\",\"\",VLOOKUP(A313,'Step 3. Lease Payments'!B:G,6,))","v":""},""]
[{"$f":"IF(B313<'Step 2. Basic Info'!$E$12,A313+1,\"\")","v":""},"","",{"$f":"IF(A314=\"\",\"\",(SUM('Step 3. Lease Payments'!$G$11:$G$5006)+'Step 2. Basic Info'!$E$24)/'Validations - DO NOT DELETE'!$H$1)","v":""},{"$f":"IF(A314=\"\",\"\",I314*'Step 3. Lease Payments'!$G$8)","v":""},"","",null,"",{"$f":"IF(A314=\"\",\"\",VLOOKUP(A314,'Step 3. Lease Payments'!B:G,6,))","v":""},""]
[{"$f":"IF(B314<'Step 2. Basic Info'!$E$12,A314+1,\"\")","v":""},"","",{"$f":"IF(A315=\"\",\"\",(SUM('Step 3. Lease Payments'!$G$11:$G$5006)+'Step 2. Basic Info'!$E$24)/'Validations - DO NOT DELETE'!$H$1)","v":""},{"$f":"IF(A315=\"\",\"\",I315*'Step 3. Lease Payments'!$G$8)","v":""},"","",null,"",{"$f":"IF(A315=\"\",\"\",VLOOKUP(A315,'Step 3. Lease Payments'!B:G,6,))","v":""},""]
[{"$f":"IF(B315<'Step 2. Basic Info'!$E$12,A315+1,\"\")","v":""},"","",{"$f":"IF(A316=\"\",\"\",(SUM('Step 3. Lease Payments'!$G$11:$G$5006)+'Step 2. Basic Info'!$E$24)/'Validations - DO NOT DELETE'!$H$1)","v":""},{"$f":"IF(A316=\"\",\"\",I316*'Step 3. Lease Payments'!$G$8)","v":""},"","",null,"",{"$f":"IF(A316=\"\",\"\",VLOOKUP(A316,'Step 3. Lease Payments'!B:G,6,))","v":""},""]
[{"$f":"IF(B316<'Step 2. Basic Info'!$E$12,A316+1,\"\")","v":""},"","",{"$f":"IF(A317=\"\",\"\",(SUM('Step 3. Lease Payments'!$G$11:$G$5006)+'Step 2. Basic Info'!$E$24)/'Validations - DO NOT DELETE'!$H$1)","v":""},{"$f":"IF(A317=\"\",\"\",I317*'Step 3. Lease Payments'!$G$8)","v":""},"","",null,"",{"$f":"IF(A317=\"\",\"\",VLOOKUP(A317,'Step 3. Lease Payments'!B:G,6,))","v":""},""]
[{"$f":"IF(B317<'Step 2. Basic Info'!$E$12,A317+1,\"\")","v":""},"","",{"$f":"IF(A318=\"\",\"\",(SUM('Step 3. Lease Payments'!$G$11:$G$5006)+'Step 2. Basic Info'!$E$24)/'Validations - DO NOT DELETE'!$H$1)","v":""},{"$f":"IF(A318=\"\",\"\",I318*'Step 3. Lease Payments'!$G$8)","v":""},"","",null,"",{"$f":"IF(A318=\"\",\"\",VLOOKUP(A318,'Step 3. Lease Payments'!B:G,6,))","v":""},""]
[{"$f":"IF(B318<'Step 2. Basic Info'!$E$12,A318+1,\"\")","v":""},"","",{"$f":"IF(A319=\"\",\"\",(SUM('Step 3. Lease Payments'!$G$11:$G$5006)+'Step 2. Basic Info'!$E$24)/'Validations - DO NOT DELETE'!$H$1)","v":""},{"$f":"IF(A319=\"\",\"\",I319*'Step 3. Lease Payments'!$G$8)","v":""},"","",null,"",{"$f":"IF(A319=\"\",\"\",VLOOKUP(A319,'Step 3. Lease Payments'!B:G,6,))","v":""},""]
[{"$f":"IF(B319<'Step 2. Basic Info'!$E$12,A319+1,\"\")","v":""},"","",{"$f":"IF(A320=\"\",\"\",(SUM('Step 3. Lease Payments'!$G$11:$G$5006)+'Step 2. Basic Info'!$E$24)/'Validations - DO NOT DELETE'!$H$1)","v":""},{"$f":"IF(A320=\"\",\"\",I320*'Step 3. Lease Payments'!$G$8)","v":""},"","",null,"",{"$f":"IF(A320=\"\",\"\",VLOOKUP(A320,'Step 3. Lease Payments'!B:G,6,))","v":""},""]
[{"$f":"IF(B320<'Step 2. Basic Info'!$E$12,A320+1,\"\")","v":""},"","",{"$f":"IF(A321=\"\",\"\",(SUM('Step 3. Lease Payments'!$G$11:$G$5006)+'Step 2. Basic Info'!$E$24)/'Validations - DO NOT DELETE'!$H$1)","v":""},{"$f":"IF(A321=\"\",\"\",I321*'Step 3. Lease Payments'!$G$8)","v":""},"","",null,"",{"$f":"IF(A321=\"\",\"\",VLOOKUP(A321,'Step 3. Lease Payments'!B:G,6,))","v":""},""]
[{"$f":"IF(B321<'Step 2. Basic Info'!$E$12,A321+1,\"\")","v":""},"","",{"$f":"IF(A322=\"\",\"\",(SUM('Step 3. Lease Payments'!$G$11:$G$5006)+'Step 2. Basic Info'!$E$24)/'Validations - DO NOT DELETE'!$H$1)","v":""},{"$f":"IF(A322=\"\",\"\",I322*'Step 3. Lease Payments'!$G$8)","v":""},"","",null,"",{"$f":"IF(A322=\"\",\"\",VLOOKUP(A322,'Step 3. Lease Payments'!B:G,6,))","v":""},""]
[{"$f":"IF(B322<'Step 2. Basic Info'!$E$12,A322+1,\"\")","v":""},"","",{"$f":"IF(A323=\"\",\"\",(SUM('Step 3. Lease Payments'!$G$11:$G$5006)+'Step 2. Basic Info'!$E$24)/'Validations - DO NOT DELETE'!$H$1)","v":""},{"$f":"IF(A323=\"\",\"\",I323*'Step 3. Lease Payments'!$G$8)","v":""},"","",null,"",{"$f":"IF(A323=\"\",\"\",VLOOKUP(A323,'Step 3. Lease Payments'!B:G,6,))","v":""},""]
[{"$f":"IF(B323<'Step 2. Basic Info'!$E$12,A323+1,\"\")","v":""},"","",{"$f":"IF(A324=\"\",\"\",(SUM('Step 3. Lease Payments'!$G$11:$G$5006)+'Step 2. Basic Info'!$E$24)/'Validations - DO NOT DELETE'!$H$1)","v":""},{"$f":"IF(A324=\"\",\"\",I324*'Step 3. Lease Payments'!$G$8)","v":""},"","",null,"",{"$f":"IF(A324=\"\",\"\",VLOOKUP(A324,'Step 3. Lease Payments'!B:G,6,))","v":""},""]
[{"$f":"IF(B324<'Step 2. Basic Info'!$E$12,A324+1,\"\")","v":""},"","",{"$f":"IF(A325=\"\",\"\",(SUM('Step 3. Lease Payments'!$G$11:$G$5006)+'Step 2. Basic Info'!$E$24)/'Validations - DO NOT DELETE'!$H$1)","v":""},{"$f":"IF(A325=\"\",\"\",I325*'Step 3. Lease Payments'!$G$8)","v":""},"","",null,"",{"$f":"IF(A325=\"\",\"\",VLOOKUP(A325,'Step 3. Lease Payments'!B:G,6,))","v":""},""]
[{"$f":"IF(B325<'Step 2. Basic Info'!$E$12,A325+1,\"\")","v":""},"","",{"$f":"IF(A326=\"\",\"\",(SUM('Step 3. Lease Payments'!$G$11:$G$5006)+'Step 2. Basic Info'!$E$24)/'Validations - DO NOT DELETE'!$H$1)","v":""},{"$f":"IF(A326=\"\",\"\",I326*'Step 3. Lease Payments'!$G$8)","v":""},"","",null,"",{"$f":"IF(A326=\"\",\"\",VLOOKUP(A326,'Step 3. Lease Payments'!B:G,6,))","v":""},""]
[{"$f":"IF(B326<'Step 2. Basic Info'!$E$12,A326+1,\"\")","v":""},"","",{"$f":"IF(A327=\"\",\"\",(SUM('Step 3. Lease Payments'!$G$11:$G$5006)+'Step 2. Basic Info'!$E$24)/'Validations - DO NOT DELETE'!$H$1)","v":""},{"$f":"IF(A327=\"\",\"\",I327*'Step 3. Lease Payments'!$G$8)","v":""},"","",null,"",{"$f":"IF(A327=\"\",\"\",VLOOKUP(A327,'Step 3. Lease Payments'!B:G,6,))","v":""},""]
[{"$f":"IF(B327<'Step 2. Basic Info'!$E$12,A327+1,\"\")","v":""},"","",{"$f":"IF(A328=\"\",\"\",(SUM('Step 3. Lease Payments'!$G$11:$G$5006)+'Step 2. Basic Info'!$E$24)/'Validations - DO NOT DELETE'!$H$1)","v":""},{"$f":"IF(A328=\"\",\"\",I328*'Step 3. Lease Payments'!$G$8)","v":""},"","",null,"",{"$f":"IF(A328=\"\",\"\",VLOOKUP(A328,'Step 3. Lease Payments'!B:G,6,))","v":""},""]
[{"$f":"IF(B328<'Step 2. Basic Info'!$E$12,A328+1,\"\")","v":""},"","",{"$f":"IF(A329=\"\",\"\",(SUM('Step 3. Lease Payments'!$G$11:$G$5006)+'Step 2. Basic Info'!$E$24)/'Validations - DO NOT DELETE'!$H$1)","v":""},{"$f":"IF(A329=\"\",\"\",I329*'Step 3. Lease Payments'!$G$8)","v":""},"","",null,"",{"$f":"IF(A329=\"\",\"\",VLOOKUP(A329,'Step 3. Lease Payments'!B:G,6,))","v":""},""]
[{"$f":"IF(B329<'Step 2. Basic Info'!$E$12,A329+1,\"\")","v":""},"","",{"$f":"IF(A330=\"\",\"\",(SUM('Step 3. Lease Payments'!$G$11:$G$5006)+'Step 2. Basic Info'!$E$24)/'Validations - DO NOT DELETE'!$H$1)","v":""},{"$f":"IF(A330=\"\",\"\",I330*'Step 3. Lease Payments'!$G$8)","v":""},"","",null,"",{"$f":"IF(A330=\"\",\"\",VLOOKUP(A330,'Step 3. Lease Payments'!B:G,6,))","v":""},""]
[{"$f":"IF(B330<'Step 2. Basic Info'!$E$12,A330+1,\"\")","v":""},{"$f":"IF(A331=\"\",\"\",(DATE(YEAR(B330),MONTH(B330)+1,DAY(B330))))","v":""},{"$f":"IF(A331=\"\",\"\",G330)","v":""},{"$f":"IF(A331=\"\",\"\",(SUM('Step 3. Lease Payments'!$G$11:$G$5006)+'Step 2. Basic Info'!$E$24)/'Validations - DO NOT DELETE'!$H$1)","v":""},{"$f":"IF(A331=\"\",\"\",I331*'Step 3. Lease Payments'!$G$8)","v":""},{"$f":"IF(A331=\"\",\"\",D331-E331)","v":""},{"$f":"IF(A331=\"\",\"\",C331-F331)","v":""},null,{"$f":"IF(A331=\"\",\"\",K330)","v":""},{"$f":"IF(A331=\"\",\"\",VLOOKUP(A331,'Step 3. Lease Payments'!B:G,6,))","v":""},{"$f":"IF(A331=\"\",\"\",I331-J331+E331)","v":""}]
[{"$f":"IF(B331<'Step 2. Basic Info'!$E$12,A331+1,\"\")","v":""},"","",{"$f":"IF(A332=\"\",\"\",(SUM('Step 3. Lease Payments'!$G$11:$G$5006)+'Step 2. Basic Info'!$E$24)/'Validations - DO NOT DELETE'!$H$1)","v":""},{"$f":"IF(A332=\"\",\"\",I332*'Step 3. Lease Payments'!$G$8)","v":""},"","",null,"",{"$f":"IF(A332=\"\",\"\",VLOOKUP(A332,'Step 3. Lease Payments'!B:G,6,))","v":""},""]
[{"$f":"IF(B332<'Step 2. Basic Info'!$E$12,A332+1,\"\")","v":""},"","",{"$f":"IF(A333=\"\",\"\",(SUM('Step 3. Lease Payments'!$G$11:$G$5006)+'Step 2. Basic Info'!$E$24)/'Validations - DO NOT DELETE'!$H$1)","v":""},{"$f":"IF(A333=\"\",\"\",I333*'Step 3. Lease Payments'!$G$8)","v":""},"","",null,"",{"$f":"IF(A333=\"\",\"\",VLOOKUP(A333,'Step 3. Lease Payments'!B:G,6,))","v":""},""]
[{"$f":"IF(B333<'Step 2. Basic Info'!$E$12,A333+1,\"\")","v":""},"","",{"$f":"IF(A334=\"\",\"\",(SUM('Step 3. Lease Payments'!$G$11:$G$5006)+'Step 2. Basic Info'!$E$24)/'Validations - DO NOT DELETE'!$H$1)","v":""},{"$f":"IF(A334=\"\",\"\",I334*'Step 3. Lease Payments'!$G$8)","v":""},"","",null,"",{"$f":"IF(A334=\"\",\"\",VLOOKUP(A334,'Step 3. Lease Payments'!B:G,6,))","v":""},""]
[{"$f":"IF(B334<'Step 2. Basic Info'!$E$12,A334+1,\"\")","v":""},"","",{"$f":"IF(A335=\"\",\"\",(SUM('Step 3. Lease Payments'!$G$11:$G$5006)+'Step 2. Basic Info'!$E$24)/'Validations - DO NOT DELETE'!$H$1)","v":""},{"$f":"IF(A335=\"\",\"\",I335*'Step 3. Lease Payments'!$G$8)","v":""},"","",null,"",{"$f":"IF(A335=\"\",\"\",VLOOKUP(A335,'Step 3. Lease Payments'!B:G,6,))","v":""},""]
[{"$f":"IF(B335<'Step 2. Basic Info'!$E$12,A335+1,\"\")","v":""},"","",{"$f":"IF(A336=\"\",\"\",(SUM('Step 3. Lease Payments'!$G$11:$G$5006)+'Step 2. Basic Info'!$E$24)/'Validations - DO NOT DELETE'!$H$1)","v":""},{"$f":"IF(A336=\"\",\"\",I336*'Step 3. Lease Payments'!$G$8)","v":""},"","",null,"",{"$f":"IF(A336=\"\",\"\",VLOOKUP(A336,'Step 3. Lease Payments'!B:G,6,))","v":""},""]
[{"$f":"IF(B336<'Step 2. Basic Info'!$E$12,A336+1,\"\")","v":""},"","",{"$f":"IF(A337=\"\",\"\",(SUM('Step 3. Lease Payments'!$G$11:$G$5006)+'Step 2. Basic Info'!$E$24)/'Validations - DO NOT DELETE'!$H$1)","v":""},{"$f":"IF(A337=\"\",\"\",I337*'Step 3. Lease Payments'!$G$8)","v":""},"","",null,"",{"$f":"IF(A337=\"\",\"\",VLOOKUP(A337,'Step 3. Lease Payments'!B:G,6,))","v":""},""]
[{"$f":"IF(B337<'Step 2. Basic Info'!$E$12,A337+1,\"\")","v":""},"","",{"$f":"IF(A338=\"\",\"\",(SUM('Step 3. Lease Payments'!$G$11:$G$5006)+'Step 2. Basic Info'!$E$24)/'Validations - DO NOT DELETE'!$H$1)","v":""},{"$f":"IF(A338=\"\",\"\",I338*'Step 3. Lease Payments'!$G$8)","v":""},"","",null,"",{"$f":"IF(A338=\"\",\"\",VLOOKUP(A338,'Step 3. Lease Payments'!B:G,6,))","v":""},""]
[{"$f":"IF(B338<'Step 2. Basic Info'!$E$12,A338+1,\"\")","v":""},"","",{"$f":"IF(A339=\"\",\"\",(SUM('Step 3. Lease Payments'!$G$11:$G$5006)+'Step 2. Basic Info'!$E$24)/'Validations - DO NOT DELETE'!$H$1)","v":""},{"$f":"IF(A339=\"\",\"\",I339*'Step 3. Lease Payments'!$G$8)","v":""},"","",null,"",{"$f":"IF(A339=\"\",\"\",VLOOKUP(A339,'Step 3. Lease Payments'!B:G,6,))","v":""},""]
[{"$f":"IF(B339<'Step 2. Basic Info'!$E$12,A339+1,\"\")","v":""},"","",{"$f":"IF(A340=\"\",\"\",(SUM('Step 3. Lease Payments'!$G$11:$G$5006)+'Step 2. Basic Info'!$E$24)/'Validations - DO NOT DELETE'!$H$1)","v":""},{"$f":"IF(A340=\"\",\"\",I340*'Step 3. Lease Payments'!$G$8)","v":""},"","",null,"",{"$f":"IF(A340=\"\",\"\",VLOOKUP(A340,'Step 3. Lease Payments'!B:G,6,))","v":""},""]
[{"$f":"IF(B340<'Step 2. Basic Info'!$E$12,A340+1,\"\")","v":""},"","",{"$f":"IF(A341=\"\",\"\",(SUM('Step 3. Lease Payments'!$G$11:$G$5006)+'Step 2. Basic Info'!$E$24)/'Validations - DO NOT DELETE'!$H$1)","v":""},{"$f":"IF(A341=\"\",\"\",I341*'Step 3. Lease Payments'!$G$8)","v":""},"","",null,"",{"$f":"IF(A341=\"\",\"\",VLOOKUP(A341,'Step 3. Lease Payments'!B:G,6,))","v":""},""]
[{"$f":"IF(B341<'Step 2. Basic Info'!$E$12,A341+1,\"\")","v":""},"","",{"$f":"IF(A342=\"\",\"\",(SUM('Step 3. Lease Payments'!$G$11:$G$5006)+'Step 2. Basic Info'!$E$24)/'Validations - DO NOT DELETE'!$H$1)","v":""},{"$f":"IF(A342=\"\",\"\",I342*'Step 3. Lease Payments'!$G$8)","v":""},"","",null,"",{"$f":"IF(A342=\"\",\"\",VLOOKUP(A342,'Step 3. Lease Payments'!B:G,6,))","v":""},""]
[{"$f":"IF(B342<'Step 2. Basic Info'!$E$12,A342+1,\"\")","v":""},"","",{"$f":"IF(A343=\"\",\"\",(SUM('Step 3. Lease Payments'!$G$11:$G$5006)+'Step 2. Basic Info'!$E$24)/'Validations - DO NOT DELETE'!$H$1)","v":""},{"$f":"IF(A343=\"\",\"\",I343*'Step 3. Lease Payments'!$G$8)","v":""},"","",null,"",{"$f":"IF(A343=\"\",\"\",VLOOKUP(A343,'Step 3. Lease Payments'!B:G,6,))","v":""},""]
[{"$f":"IF(B343<'Step 2. Basic Info'!$E$12,A343+1,\"\")","v":""},"","",{"$f":"IF(A344=\"\",\"\",(SUM('Step 3. Lease Payments'!$G$11:$G$5006)+'Step 2. Basic Info'!$E$24)/'Validations - DO NOT DELETE'!$H$1)","v":""},{"$f":"IF(A344=\"\",\"\",I344*'Step 3. Lease Payments'!$G$8)","v":""},"","",null,"",{"$f":"IF(A344=\"\",\"\",VLOOKUP(A344,'Step 3. Lease Payments'!B:G,6,))","v":""},""]
[{"$f":"IF(B344<'Step 2. Basic Info'!$E$12,A344+1,\"\")","v":""},"","",{"$f":"IF(A345=\"\",\"\",(SUM('Step 3. Lease Payments'!$G$11:$G$5006)+'Step 2. Basic Info'!$E$24)/'Validations - DO NOT DELETE'!$H$1)","v":""},{"$f":"IF(A345=\"\",\"\",I345*'Step 3. Lease Payments'!$G$8)","v":""},"","",null,"",{"$f":"IF(A345=\"\",\"\",VLOOKUP(A345,'Step 3. Lease Payments'!B:G,6,))","v":""},""]
[{"$f":"IF(B345<'Step 2. Basic Info'!$E$12,A345+1,\"\")","v":""},"","",{"$f":"IF(A346=\"\",\"\",(SUM('Step 3. Lease Payments'!$G$11:$G$5006)+'Step 2. Basic Info'!$E$24)/'Validations - DO NOT DELETE'!$H$1)","v":""},{"$f":"IF(A346=\"\",\"\",I346*'Step 3. Lease Payments'!$G$8)","v":""},"","",null,"",{"$f":"IF(A346=\"\",\"\",VLOOKUP(A346,'Step 3. Lease Payments'!B:G,6,))","v":""},""]
[{"$f":"IF(B346<'Step 2. Basic Info'!$E$12,A346+1,\"\")","v":""},"","",{"$f":"IF(A347=\"\",\"\",(SUM('Step 3. Lease Payments'!$G$11:$G$5006)+'Step 2. Basic Info'!$E$24)/'Validations - DO NOT DELETE'!$H$1)","v":""},{"$f":"IF(A347=\"\",\"\",I347*'Step 3. Lease Payments'!$G$8)","v":""},"","",null,"",{"$f":"IF(A347=\"\",\"\",VLOOKUP(A347,'Step 3. Lease Payments'!B:G,6,))","v":""},""]
[{"$f":"IF(B347<'Step 2. Basic Info'!$E$12,A347+1,\"\")","v":""},"","",{"$f":"IF(A348=\"\",\"\",(SUM('Step 3. Lease Payments'!$G$11:$G$5006)+'Step 2. Basic Info'!$E$24)/'Validations - DO NOT DELETE'!$H$1)","v":""},{"$f":"IF(A348=\"\",\"\",I348*'Step 3. Lease Payments'!$G$8)","v":""},"","",null,"",{"$f":"IF(A348=\"\",\"\",VLOOKUP(A348,'Step 3. Lease Payments'!B:G,6,))","v":""},""]
[{"$f":"IF(B348<'Step 2. Basic Info'!$E$12,A348+1,\"\")","v":""},"","",{"$f":"IF(A349=\"\",\"\",(SUM('Step 3. Lease Payments'!$G$11:$G$5006)+'Step 2. Basic Info'!$E$24)/'Validations - DO NOT DELETE'!$H$1)","v":""},{"$f":"IF(A349=\"\",\"\",I349*'Step 3. Lease Payments'!$G$8)","v":""},"","",null,"",{"$f":"IF(A349=\"\",\"\",VLOOKUP(A349,'Step 3. Lease Payments'!B:G,6,))","v":""},""]
[{"$f":"IF(B349<'Step 2. Basic Info'!$E$12,A349+1,\"\")","v":""},"","",{"$f":"IF(A350=\"\",\"\",(SUM('Step 3. Lease Payments'!$G$11:$G$5006)+'Step 2. Basic Info'!$E$24)/'Validations - DO NOT DELETE'!$H$1)","v":""},{"$f":"IF(A350=\"\",\"\",I350*'Step 3. Lease Payments'!$G$8)","v":""},"","",null,"",{"$f":"IF(A350=\"\",\"\",VLOOKUP(A350,'Step 3. Lease Payments'!B:G,6,))","v":""},""]
[{"$f":"IF(B350<'Step 2. Basic Info'!$E$12,A350+1,\"\")","v":""},"","",{"$f":"IF(A351=\"\",\"\",(SUM('Step 3. Lease Payments'!$G$11:$G$5006)+'Step 2. Basic Info'!$E$24)/'Validations - DO NOT DELETE'!$H$1)","v":""},{"$f":"IF(A351=\"\",\"\",I351*'Step 3. Lease Payments'!$G$8)","v":""},"","",null,"",{"$f":"IF(A351=\"\",\"\",VLOOKUP(A351,'Step 3. Lease Payments'!B:G,6,))","v":""},""]
[{"$f":"IF(B351<'Step 2. Basic Info'!$E$12,A351+1,\"\")","v":""},"","",{"$f":"IF(A352=\"\",\"\",(SUM('Step 3. Lease Payments'!$G$11:$G$5006)+'Step 2. Basic Info'!$E$24)/'Validations - DO NOT DELETE'!$H$1)","v":""},{"$f":"IF(A352=\"\",\"\",I352*'Step 3. Lease Payments'!$G$8)","v":""},"","",null,"",{"$f":"IF(A352=\"\",\"\",VLOOKUP(A352,'Step 3. Lease Payments'!B:G,6,))","v":""},""]
[{"$f":"IF(B352<'Step 2. Basic Info'!$E$12,A352+1,\"\")","v":""},"","",{"$f":"IF(A353=\"\",\"\",(SUM('Step 3. Lease Payments'!$G$11:$G$5006)+'Step 2. Basic Info'!$E$24)/'Validations - DO NOT DELETE'!$H$1)","v":""},{"$f":"IF(A353=\"\",\"\",I353*'Step 3. Lease Payments'!$G$8)","v":""},"","",null,"",{"$f":"IF(A353=\"\",\"\",VLOOKUP(A353,'Step 3. Lease Payments'!B:G,6,))","v":""},""]
[{"$f":"IF(B353<'Step 2. Basic Info'!$E$12,A353+1,\"\")","v":""},"","",{"$f":"IF(A354=\"\",\"\",(SUM('Step 3. Lease Payments'!$G$11:$G$5006)+'Step 2. Basic Info'!$E$24)/'Validations - DO NOT DELETE'!$H$1)","v":""},{"$f":"IF(A354=\"\",\"\",I354*'Step 3. Lease Payments'!$G$8)","v":""},"","",null,"",{"$f":"IF(A354=\"\",\"\",VLOOKUP(A354,'Step 3. Lease Payments'!B:G,6,))","v":""},""]
[{"$f":"IF(B354<'Step 2. Basic Info'!$E$12,A354+1,\"\")","v":""},"","",{"$f":"IF(A355=\"\",\"\",(SUM('Step 3. Lease Payments'!$G$11:$G$5006)+'Step 2. Basic Info'!$E$24)/'Validations - DO NOT DELETE'!$H$1)","v":""},{"$f":"IF(A355=\"\",\"\",I355*'Step 3. Lease Payments'!$G$8)","v":""},"","",null,"",{"$f":"IF(A355=\"\",\"\",VLOOKUP(A355,'Step 3. Lease Payments'!B:G,6,))","v":""},""]
[{"$f":"IF(B355<'Step 2. Basic Info'!$E$12,A355+1,\"\")","v":""},"","",{"$f":"IF(A356=\"\",\"\",(SUM('Step 3. Lease Payments'!$G$11:$G$5006)+'Step 2. Basic Info'!$E$24)/'Validations - DO NOT DELETE'!$H$1)","v":""},{"$f":"IF(A356=\"\",\"\",I356*'Step 3. Lease Payments'!$G$8)","v":""},"","",null,"",{"$f":"IF(A356=\"\",\"\",VLOOKUP(A356,'Step 3. Lease Payments'!B:G,6,))","v":""},""]
[{"$f":"IF(B356<'Step 2. Basic Info'!$E$12,A356+1,\"\")","v":""},"","",{"$f":"IF(A357=\"\",\"\",(SUM('Step 3. Lease Payments'!$G$11:$G$5006)+'Step 2. Basic Info'!$E$24)/'Validations - DO NOT DELETE'!$H$1)","v":""},{"$f":"IF(A357=\"\",\"\",I357*'Step 3. Lease Payments'!$G$8)","v":""},"","",null,"",{"$f":"IF(A357=\"\",\"\",VLOOKUP(A357,'Step 3. Lease Payments'!B:G,6,))","v":""},""]
[{"$f":"IF(B357<'Step 2. Basic Info'!$E$12,A357+1,\"\")","v":""},"","",{"$f":"IF(A358=\"\",\"\",(SUM('Step 3. Lease Payments'!$G$11:$G$5006)+'Step 2. Basic Info'!$E$24)/'Validations - DO NOT DELETE'!$H$1)","v":""},{"$f":"IF(A358=\"\",\"\",I358*'Step 3. Lease Payments'!$G$8)","v":""},"","",null,"",{"$f":"IF(A358=\"\",\"\",VLOOKUP(A358,'Step 3. Lease Payments'!B:G,6,))","v":""},""]
[{"$f":"IF(B358<'Step 2. Basic Info'!$E$12,A358+1,\"\")","v":""},"","",{"$f":"IF(A359=\"\",\"\",(SUM('Step 3. Lease Payments'!$G$11:$G$5006)+'Step 2. Basic Info'!$E$24)/'Validations - DO NOT DELETE'!$H$1)","v":""},{"$f":"IF(A359=\"\",\"\",I359*'Step 3. Lease Payments'!$G$8)","v":""},"","",null,"",{"$f":"IF(A359=\"\",\"\",VLOOKUP(A359,'Step 3. Lease Payments'!B:G,6,))","v":""},""]
[{"$f":"IF(B359<'Step 2. Basic Info'!$E$12,A359+1,\"\")","v":""},"","",{"$f":"IF(A360=\"\",\"\",(SUM('Step 3. Lease Payments'!$G$11:$G$5006)+'Step 2. Basic Info'!$E$24)/'Validations - DO NOT DELETE'!$H$1)","v":""},{"$f":"IF(A360=\"\",\"\",I360*'Step 3. Lease Payments'!$G$8)","v":""},"","",null,"",{"$f":"IF(A360=\"\",\"\",VLOOKUP(A360,'Step 3. Lease Payments'!B:G,6,))","v":""},""]
[{"$f":"IF(B360<'Step 2. Basic Info'!$E$12,A360+1,\"\")","v":""},"","",{"$f":"IF(A361=\"\",\"\",(SUM('Step 3. Lease Payments'!$G$11:$G$5006)+'Step 2. Basic Info'!$E$24)/'Validations - DO NOT DELETE'!$H$1)","v":""},{"$f":"IF(A361=\"\",\"\",I361*'Step 3. Lease Payments'!$G$8)","v":""},"","",null,"",{"$f":"IF(A361=\"\",\"\",VLOOKUP(A361,'Step 3. Lease Payments'!B:G,6,))","v":""},""]
[{"$f":"IF(B361<'Step 2. Basic Info'!$E$12,A361+1,\"\")","v":""},"","",{"$f":"IF(A362=\"\",\"\",(SUM('Step 3. Lease Payments'!$G$11:$G$5006)+'Step 2. Basic Info'!$E$24)/'Validations - DO NOT DELETE'!$H$1)","v":""},{"$f":"IF(A362=\"\",\"\",I362*'Step 3. Lease Payments'!$G$8)","v":""},"","",null,"",{"$f":"IF(A362=\"\",\"\",VLOOKUP(A362,'Step 3. Lease Payments'!B:G,6,))","v":""},""]
[{"$f":"IF(B362<'Step 2. Basic Info'!$E$12,A362+1,\"\")","v":""},"","",{"$f":"IF(A363=\"\",\"\",(SUM('Step 3. Lease Payments'!$G$11:$G$5006)+'Step 2. Basic Info'!$E$24)/'Validations - DO NOT DELETE'!$H$1)","v":""},{"$f":"IF(A363=\"\",\"\",I363*'Step 3. Lease Payments'!$G$8)","v":""},"","",null,"",{"$f":"IF(A363=\"\",\"\",VLOOKUP(A363,'Step 3. Lease Payments'!B:G,6,))","v":""},""]
[{"$f":"IF(B363<'Step 2. Basic Info'!$E$12,A363+1,\"\")","v":""},"","",{"$f":"IF(A364=\"\",\"\",(SUM('Step 3. Lease Payments'!$G$11:$G$5006)+'Step 2. Basic Info'!$E$24)/'Validations - DO NOT DELETE'!$H$1)","v":""},{"$f":"IF(A364=\"\",\"\",I364*'Step 3. Lease Payments'!$G$8)","v":""},"","",null,"",{"$f":"IF(A364=\"\",\"\",VLOOKUP(A364,'Step 3. Lease Payments'!B:G,6,))","v":""},""]
[{"$f":"IF(B364<'Step 2. Basic Info'!$E$12,A364+1,\"\")","v":""},"","",{"$f":"IF(A365=\"\",\"\",(SUM('Step 3. Lease Payments'!$G$11:$G$5006)+'Step 2. Basic Info'!$E$24)/'Validations - DO NOT DELETE'!$H$1)","v":""},{"$f":"IF(A365=\"\",\"\",I365*'Step 3. Lease Payments'!$G$8)","v":""},"","",null,"",{"$f":"IF(A365=\"\",\"\",VLOOKUP(A365,'Step 3. Lease Payments'!B:G,6,))","v":""},""]
[{"$f":"IF(B365<'Step 2. Basic Info'!$E$12,A365+1,\"\")","v":""},"","",{"$f":"IF(A366=\"\",\"\",(SUM('Step 3. Lease Payments'!$G$11:$G$5006)+'Step 2. Basic Info'!$E$24)/'Validations - DO NOT DELETE'!$H$1)","v":""},{"$f":"IF(A366=\"\",\"\",I366*'Step 3. Lease Payments'!$G$8)","v":""},"","",null,"",{"$f":"IF(A366=\"\",\"\",VLOOKUP(A366,'Step 3. Lease Payments'!B:G,6,))","v":""},""]
[{"$f":"IF(B366<'Step 2. Basic Info'!$E$12,A366+1,\"\")","v":""},"","",{"$f":"IF(A367=\"\",\"\",(SUM('Step 3. Lease Payments'!$G$11:$G$5006)+'Step 2. Basic Info'!$E$24)/'Validations - DO NOT DELETE'!$H$1)","v":""},{"$f":"IF(A367=\"\",\"\",I367*'Step 3. Lease Payments'!$G$8)","v":""},"","",null,"",{"$f":"IF(A367=\"\",\"\",VLOOKUP(A367,'Step 3. Lease Payments'!B:G,6,))","v":""},""]
[{"$f":"IF(B367<'Step 2. Basic Info'!$E$12,A367+1,\"\")","v":""},"","",{"$f":"IF(A368=\"\",\"\",(SUM('Step 3. Lease Payments'!$G$11:$G$5006)+'Step 2. Basic Info'!$E$24)/'Validations - DO NOT DELETE'!$H$1)","v":""},{"$f":"IF(A368=\"\",\"\",I368*'Step 3. Lease Payments'!$G$8)","v":""},"","",null,"",{"$f":"IF(A368=\"\",\"\",VLOOKUP(A368,'Step 3. Lease Payments'!B:G,6,))","v":""},""]
[{"$f":"IF(B368<'Step 2. Basic Info'!$E$12,A368+1,\"\")","v":""},"","",{"$f":"IF(A369=\"\",\"\",(SUM('Step 3. Lease Payments'!$G$11:$G$5006)+'Step 2. Basic Info'!$E$24)/'Validations - DO NOT DELETE'!$H$1)","v":""},{"$f":"IF(A369=\"\",\"\",I369*'Step 3. Lease Payments'!$G$8)","v":""},"","",null,"",{"$f":"IF(A369=\"\",\"\",VLOOKUP(A369,'Step 3. Lease Payments'!B:G,6,))","v":""},""]
[{"$f":"IF(B369<'Step 2. Basic Info'!$E$12,A369+1,\"\")","v":""},"","",{"$f":"IF(A370=\"\",\"\",(SUM('Step 3. Lease Payments'!$G$11:$G$5006)+'Step 2. Basic Info'!$E$24)/'Validations - DO NOT DELETE'!$H$1)","v":""},{"$f":"IF(A370=\"\",\"\",I370*'Step 3. Lease Payments'!$G$8)","v":""},"","",null,"",{"$f":"IF(A370=\"\",\"\",VLOOKUP(A370,'Step 3. Lease Payments'!B:G,6,))","v":""},""]
[{"$f":"IF(B370<'Step 2. Basic Info'!$E$12,A370+1,\"\")","v":""},"","",{"$f":"IF(A371=\"\",\"\",(SUM('Step 3. Lease Payments'!$G$11:$G$5006)+'Step 2. Basic Info'!$E$24)/'Validations - DO NOT DELETE'!$H$1)","v":""},{"$f":"IF(A371=\"\",\"\",I371*'Step 3. Lease Payments'!$G$8)","v":""},"","",null,"",{"$f":"IF(A371=\"\",\"\",VLOOKUP(A371,'Step 3. Lease Payments'!B:G,6,))","v":""},""]
[{"$f":"IF(B371<'Step 2. Basic Info'!$E$12,A371+1,\"\")","v":""},"","",{"$f":"IF(A372=\"\",\"\",(SUM('Step 3. Lease Payments'!$G$11:$G$5006)+'Step 2. Basic Info'!$E$24)/'Validations - DO NOT DELETE'!$H$1)","v":""},{"$f":"IF(A372=\"\",\"\",I372*'Step 3. Lease Payments'!$G$8)","v":""},"","",null,"",{"$f":"IF(A372=\"\",\"\",VLOOKUP(A372,'Step 3. Lease Payments'!B:G,6,))","v":""},""]
[{"$f":"IF(B372<'Step 2. Basic Info'!$E$12,A372+1,\"\")","v":""},"","",{"$f":"IF(A373=\"\",\"\",(SUM('Step 3. Lease Payments'!$G$11:$G$5006)+'Step 2. Basic Info'!$E$24)/'Validations - DO NOT DELETE'!$H$1)","v":""},{"$f":"IF(A373=\"\",\"\",I373*'Step 3. Lease Payments'!$G$8)","v":""},"","",null,"",{"$f":"IF(A373=\"\",\"\",VLOOKUP(A373,'Step 3. Lease Payments'!B:G,6,))","v":""},""]
[{"$f":"IF(B373<'Step 2. Basic Info'!$E$12,A373+1,\"\")","v":""},"","",{"$f":"IF(A374=\"\",\"\",(SUM('Step 3. Lease Payments'!$G$11:$G$5006)+'Step 2. Basic Info'!$E$24)/'Validations - DO NOT DELETE'!$H$1)","v":""},{"$f":"IF(A374=\"\",\"\",I374*'Step 3. Lease Payments'!$G$8)","v":""},"","",null,"",{"$f":"IF(A374=\"\",\"\",VLOOKUP(A374,'Step 3. Lease Payments'!B:G,6,))","v":""},""]
[{"$f":"IF(B374<'Step 2. Basic Info'!$E$12,A374+1,\"\")","v":""},"","",{"$f":"IF(A375=\"\",\"\",(SUM('Step 3. Lease Payments'!$G$11:$G$5006)+'Step 2. Basic Info'!$E$24)/'Validations - DO NOT DELETE'!$H$1)","v":""},{"$f":"IF(A375=\"\",\"\",I375*'Step 3. Lease Payments'!$G$8)","v":""},"","",null,"",{"$f":"IF(A375=\"\",\"\",VLOOKUP(A375,'Step 3. Lease Payments'!B:G,6,))","v":""},""]
[{"$f":"IF(B375<'Step 2. Basic Info'!$E$12,A375+1,\"\")","v":""},"","",{"$f":"IF(A376=\"\",\"\",(SUM('Step 3. Lease Payments'!$G$11:$G$5006)+'Step 2. Basic Info'!$E$24)/'Validations - DO NOT DELETE'!$H$1)","v":""},{"$f":"IF(A376=\"\",\"\",I376*'Step 3. Lease Payments'!$G$8)","v":""},"","",null,"",{"$f":"IF(A376=\"\",\"\",VLOOKUP(A376,'Step 3. Lease Payments'!B:G,6,))","v":""},""]
[{"$f":"IF(B376<'Step 2. Basic Info'!$E$12,A376+1,\"\")","v":""},"","",{"$f":"IF(A377=\"\",\"\",(SUM('Step 3. Lease Payments'!$G$11:$G$5006)+'Step 2. Basic Info'!$E$24)/'Validations - DO NOT DELETE'!$H$1)","v":""},{"$f":"IF(A377=\"\",\"\",I377*'Step 3. Lease Payments'!$G$8)","v":""},"","",null,"",{"$f":"IF(A377=\"\",\"\",VLOOKUP(A377,'Step 3. Lease Payments'!B:G,6,))","v":""},""]
[{"$f":"IF(B377<'Step 2. Basic Info'!$E$12,A377+1,\"\")","v":""},"","",{"$f":"IF(A378=\"\",\"\",(SUM('Step 3. Lease Payments'!$G$11:$G$5006)+'Step 2. Basic Info'!$E$24)/'Validations - DO NOT DELETE'!$H$1)","v":""},{"$f":"IF(A378=\"\",\"\",I378*'Step 3. Lease Payments'!$G$8)","v":""},"","",null,"",{"$f":"IF(A378=\"\",\"\",VLOOKUP(A378,'Step 3. Lease Payments'!B:G,6,))","v":""},""]
[{"$f":"IF(B378<'Step 2. Basic Info'!$E$12,A378+1,\"\")","v":""},"","",{"$f":"IF(A379=\"\",\"\",(SUM('Step 3. Lease Payments'!$G$11:$G$5006)+'Step 2. Basic Info'!$E$24)/'Validations - DO NOT DELETE'!$H$1)","v":""},{"$f":"IF(A379=\"\",\"\",I379*'Step 3. Lease Payments'!$G$8)","v":""},"","",null,"",{"$f":"IF(A379=\"\",\"\",VLOOKUP(A379,'Step 3. Lease Payments'!B:G,6,))","v":""},""]
[{"$f":"IF(B379<'Step 2. Basic Info'!$E$12,A379+1,\"\")","v":""},"","",{"$f":"IF(A380=\"\",\"\",(SUM('Step 3. Lease Payments'!$G$11:$G$5006)+'Step 2. Basic Info'!$E$24)/'Validations - DO NOT DELETE'!$H$1)","v":""},{"$f":"IF(A380=\"\",\"\",I380*'Step 3. Lease Payments'!$G$8)","v":""},"","",null,"",{"$f":"IF(A380=\"\",\"\",VLOOKUP(A380,'Step 3. Lease Payments'!B:G,6,))","v":""},""]
[{"$f":"IF(B380<'Step 2. Basic Info'!$E$12,A380+1,\"\")","v":""},"","",{"$f":"IF(A381=\"\",\"\",(SUM('Step 3. Lease Payments'!$G$11:$G$5006)+'Step 2. Basic Info'!$E$24)/'Validations - DO NOT DELETE'!$H$1)","v":""},{"$f":"IF(A381=\"\",\"\",I381*'Step 3. Lease Payments'!$G$8)","v":""},"","",null,"",{"$f":"IF(A381=\"\",\"\",VLOOKUP(A381,'Step 3. Lease Payments'!B:G,6,))","v":""},""]
[{"$f":"IF(B381<'Step 2. Basic Info'!$E$12,A381+1,\"\")","v":""},"","",{"$f":"IF(A382=\"\",\"\",(SUM('Step 3. Lease Payments'!$G$11:$G$5006)+'Step 2. Basic Info'!$E$24)/'Validations - DO NOT DELETE'!$H$1)","v":""},{"$f":"IF(A382=\"\",\"\",I382*'Step 3. Lease Payments'!$G$8)","v":""},"","",null,"",{"$f":"IF(A382=\"\",\"\",VLOOKUP(A382,'Step 3. Lease Payments'!B:G,6,))","v":""},""]
[{"$f":"IF(B382<'Step 2. Basic Info'!$E$12,A382+1,\"\")","v":""},"","",{"$f":"IF(A383=\"\",\"\",(SUM('Step 3. Lease Payments'!$G$11:$G$5006)+'Step 2. Basic Info'!$E$24)/'Validations - DO NOT DELETE'!$H$1)","v":""},{"$f":"IF(A383=\"\",\"\",I383*'Step 3. Lease Payments'!$G$8)","v":""},"","",null,"",{"$f":"IF(A383=\"\",\"\",VLOOKUP(A383,'Step 3. Lease Payments'!B:G,6,))","v":""},""]
[{"$f":"IF(B383<'Step 2. Basic Info'!$E$12,A383+1,\"\")","v":""},"","",{"$f":"IF(A384=\"\",\"\",(SUM('Step 3. Lease Payments'!$G$11:$G$5006)+'Step 2. Basic Info'!$E$24)/'Validations - DO NOT DELETE'!$H$1)","v":""},{"$f":"IF(A384=\"\",\"\",I384*'Step 3. Lease Payments'!$G$8)","v":""},"","",null,"",{"$f":"IF(A384=\"\",\"\",VLOOKUP(A384,'Step 3. Lease Payments'!B:G,6,))","v":""},""]
[{"$f":"IF(B384<'Step 2. Basic Info'!$E$12,A384+1,\"\")","v":""},"","",{"$f":"IF(A385=\"\",\"\",(SUM('Step 3. Lease Payments'!$G$11:$G$5006)+'Step 2. Basic Info'!$E$24)/'Validations - DO NOT DELETE'!$H$1)","v":""},{"$f":"IF(A385=\"\",\"\",I385*'Step 3. Lease Payments'!$G$8)","v":""},"","",null,"",{"$f":"IF(A385=\"\",\"\",VLOOKUP(A385,'Step 3. Lease Payments'!B:G,6,))","v":""},""]
[{"$f":"IF(B385<'Step 2. Basic Info'!$E$12,A385+1,\"\")","v":""},"","",{"$f":"IF(A386=\"\",\"\",(SUM('Step 3. Lease Payments'!$G$11:$G$5006)+'Step 2. Basic Info'!$E$24)/'Validations - DO NOT DELETE'!$H$1)","v":""},{"$f":"IF(A386=\"\",\"\",I386*'Step 3. Lease Payments'!$G$8)","v":""},"","",null,"",{"$f":"IF(A386=\"\",\"\",VLOOKUP(A386,'Step 3. Lease Payments'!B:G,6,))","v":""},""]
[{"$f":"IF(B386<'Step 2. Basic Info'!$E$12,A386+1,\"\")","v":""},"","",{"$f":"IF(A387=\"\",\"\",(SUM('Step 3. Lease Payments'!$G$11:$G$5006)+'Step 2. Basic Info'!$E$24)/'Validations - DO NOT DELETE'!$H$1)","v":""},{"$f":"IF(A387=\"\",\"\",I387*'Step 3. Lease Payments'!$G$8)","v":""},"","",null,"",{"$f":"IF(A387=\"\",\"\",VLOOKUP(A387,'Step 3. Lease Payments'!B:G,6,))","v":""},""]
[{"$f":"IF(B387<'Step 2. Basic Info'!$E$12,A387+1,\"\")","v":""},"","",{"$f":"IF(A388=\"\",\"\",(SUM('Step 3. Lease Payments'!$G$11:$G$5006)+'Step 2. Basic Info'!$E$24)/'Validations - DO NOT DELETE'!$H$1)","v":""},{"$f":"IF(A388=\"\",\"\",I388*'Step 3. Lease Payments'!$G$8)","v":""},"","",null,"",{"$f":"IF(A388=\"\",\"\",VLOOKUP(A388,'Step 3. Lease Payments'!B:G,6,))","v":""},""]
[{"$f":"IF(B388<'Step 2. Basic Info'!$E$12,A388+1,\"\")","v":""},"","",{"$f":"IF(A389=\"\",\"\",(SUM('Step 3. Lease Payments'!$G$11:$G$5006)+'Step 2. Basic Info'!$E$24)/'Validations - DO NOT DELETE'!$H$1)","v":""},{"$f":"IF(A389=\"\",\"\",I389*'Step 3. Lease Payments'!$G$8)","v":""},"","",null,"",{"$f":"IF(A389=\"\",\"\",VLOOKUP(A389,'Step 3. Lease Payments'!B:G,6,))","v":""},""]
[{"$f":"IF(B389<'Step 2. Basic Info'!$E$12,A389+1,\"\")","v":""},"","",{"$f":"IF(A390=\"\",\"\",(SUM('Step 3. Lease Payments'!$G$11:$G$5006)+'Step 2. Basic Info'!$E$24)/'Validations - DO NOT DELETE'!$H$1)","v":""},{"$f":"IF(A390=\"\",\"\",I390*'Step 3. Lease Payments'!$G$8)","v":""},"","",null,"",{"$f":"IF(A390=\"\",\"\",VLOOKUP(A390,'Step 3. Lease Payments'!B:G,6,))","v":""},""]
[{"$f":"IF(B390<'Step 2. Basic Info'!$E$12,A390+1,\"\")","v":""},"","",{"$f":"IF(A391=\"\",\"\",(SUM('Step 3. Lease Payments'!$G$11:$G$5006)+'Step 2. Basic Info'!$E$24)/'Validations - DO NOT DELETE'!$H$1)","v":""},{"$f":"IF(A391=\"\",\"\",I391*'Step 3. Lease Payments'!$G$8)","v":""},"","",null,"",{"$f":"IF(A391=\"\",\"\",VLOOKUP(A391,'Step 3. Lease Payments'!B:G,6,))","v":""},""]
[{"$f":"IF(B391<'Step 2. Basic Info'!$E$12,A391+1,\"\")","v":""},"","",{"$f":"IF(A392=\"\",\"\",(SUM('Step 3. Lease Payments'!$G$11:$G$5006)+'Step 2. Basic Info'!$E$24)/'Validations - DO NOT DELETE'!$H$1)","v":""},{"$f":"IF(A392=\"\",\"\",I392*'Step 3. Lease Payments'!$G$8)","v":""},"","",null,"",{"$f":"IF(A392=\"\",\"\",VLOOKUP(A392,'Step 3. Lease Payments'!B:G,6,))","v":""},""]
[{"$f":"IF(B392<'Step 2. Basic Info'!$E$12,A392+1,\"\")","v":""},"","",{"$f":"IF(A393=\"\",\"\",(SUM('Step 3. Lease Payments'!$G$11:$G$5006)+'Step 2. Basic Info'!$E$24)/'Validations - DO NOT DELETE'!$H$1)","v":""},{"$f":"IF(A393=\"\",\"\",I393*'Step 3. Lease Payments'!$G$8)","v":""},"","",null,"",{"$f":"IF(A393=\"\",\"\",VLOOKUP(A393,'Step 3. Lease Payments'!B:G,6,))","v":""},""]
[{"$f":"IF(B393<'Step 2. Basic Info'!$E$12,A393+1,\"\")","v":""},"","",{"$f":"IF(A394=\"\",\"\",(SUM('Step 3. Lease Payments'!$G$11:$G$5006)+'Step 2. Basic Info'!$E$24)/'Validations - DO NOT DELETE'!$H$1)","v":""},{"$f":"IF(A394=\"\",\"\",I394*'Step 3. Lease Payments'!$G$8)","v":""},"","",null,"",{"$f":"IF(A394=\"\",\"\",VLOOKUP(A394,'Step 3. Lease Payments'!B:G,6,))","v":""},""]
[{"$f":"IF(B394<'Step 2. Basic Info'!$E$12,A394+1,\"\")","v":""},{"$f":"IF(A395=\"\",\"\",(DATE(YEAR(B394),MONTH(B394)+1,DAY(B394))))","v":""},{"$f":"IF(A395=\"\",\"\",G394)","v":""},{"$f":"IF(A395=\"\",\"\",(SUM('Step 3. Lease Payments'!$G$11:$G$5006)+'Step 2. Basic Info'!$E$24)/'Validations - DO NOT DELETE'!$H$1)","v":""},{"$f":"IF(A395=\"\",\"\",I395*'Step 3. Lease Payments'!$G$8)","v":""},{"$f":"IF(A395=\"\",\"\",D395-E395)","v":""},{"$f":"IF(A395=\"\",\"\",C395-F395)","v":""},null,{"$f":"IF(A395=\"\",\"\",K394)","v":""},{"$f":"IF(A395=\"\",\"\",VLOOKUP(A395,'Step 3. Lease Payments'!B:G,6,))","v":""},{"$f":"IF(A395=\"\",\"\",I395-J395+E395)","v":""}]
[{"$f":"IF(B395<'Step 2. Basic Info'!$E$12,A395+1,\"\")","v":""},"","",{"$f":"IF(A396=\"\",\"\",(SUM('Step 3. Lease Payments'!$G$11:$G$5006)+'Step 2. Basic Info'!$E$24)/'Validations - DO NOT DELETE'!$H$1)","v":""},{"$f":"IF(A396=\"\",\"\",I396*'Step 3. Lease Payments'!$G$8)","v":""},"","",null,"",{"$f":"IF(A396=\"\",\"\",VLOOKUP(A396,'Step 3. Lease Payments'!B:G,6,))","v":""},""]
[{"$f":"IF(B396<'Step 2. Basic Info'!$E$12,A396+1,\"\")","v":""},"","",{"$f":"IF(A397=\"\",\"\",(SUM('Step 3. Lease Payments'!$G$11:$G$5006)+'Step 2. Basic Info'!$E$24)/'Validations - DO NOT DELETE'!$H$1)","v":""},{"$f":"IF(A397=\"\",\"\",I397*'Step 3. Lease Payments'!$G$8)","v":""},"","",null,"",{"$f":"IF(A397=\"\",\"\",VLOOKUP(A397,'Step 3. Lease Payments'!B:G,6,))","v":""},""]
[{"$f":"IF(B397<'Step 2. Basic Info'!$E$12,A397+1,\"\")","v":""},"","",{"$f":"IF(A398=\"\",\"\",(SUM('Step 3. Lease Payments'!$G$11:$G$5006)+'Step 2. Basic Info'!$E$24)/'Validations - DO NOT DELETE'!$H$1)","v":""},{"$f":"IF(A398=\"\",\"\",I398*'Step 3. Lease Payments'!$G$8)","v":""},"","",null,"",{"$f":"IF(A398=\"\",\"\",VLOOKUP(A398,'Step 3. Lease Payments'!B:G,6,))","v":""},""]
[{"$f":"IF(B398<'Step 2. Basic Info'!$E$12,A398+1,\"\")","v":""},"","",{"$f":"IF(A399=\"\",\"\",(SUM('Step 3. Lease Payments'!$G$11:$G$5006)+'Step 2. Basic Info'!$E$24)/'Validations - DO NOT DELETE'!$H$1)","v":""},{"$f":"IF(A399=\"\",\"\",I399*'Step 3. Lease Payments'!$G$8)","v":""},"","",null,"",{"$f":"IF(A399=\"\",\"\",VLOOKUP(A399,'Step 3. Lease Payments'!B:G,6,))","v":""},""]
[{"$f":"IF(B399<'Step 2. Basic Info'!$E$12,A399+1,\"\")","v":""},"","",{"$f":"IF(A400=\"\",\"\",(SUM('Step 3. Lease Payments'!$G$11:$G$5006)+'Step 2. Basic Info'!$E$24)/'Validations - DO NOT DELETE'!$H$1)","v":""},{"$f":"IF(A400=\"\",\"\",I400*'Step 3. Lease Payments'!$G$8)","v":""},"","",null,"",{"$f":"IF(A400=\"\",\"\",VLOOKUP(A400,'Step 3. Lease Payments'!B:G,6,))","v":""},""]
[{"$f":"IF(B400<'Step 2. Basic Info'!$E$12,A400+1,\"\")","v":""},"","",{"$f":"IF(A401=\"\",\"\",(SUM('Step 3. Lease Payments'!$G$11:$G$5006)+'Step 2. Basic Info'!$E$24)/'Validations - DO NOT DELETE'!$H$1)","v":""},{"$f":"IF(A401=\"\",\"\",I401*'Step 3. Lease Payments'!$G$8)","v":""},"","",null,"",{"$f":"IF(A401=\"\",\"\",VLOOKUP(A401,'Step 3. Lease Payments'!B:G,6,))","v":""},""]
[{"$f":"IF(B401<'Step 2. Basic Info'!$E$12,A401+1,\"\")","v":""},"","",{"$f":"IF(A402=\"\",\"\",(SUM('Step 3. Lease Payments'!$G$11:$G$5006)+'Step 2. Basic Info'!$E$24)/'Validations - DO NOT DELETE'!$H$1)","v":""},{"$f":"IF(A402=\"\",\"\",I402*'Step 3. Lease Payments'!$G$8)","v":""},"","",null,"",{"$f":"IF(A402=\"\",\"\",VLOOKUP(A402,'Step 3. Lease Payments'!B:G,6,))","v":""},""]
[{"$f":"IF(B402<'Step 2. Basic Info'!$E$12,A402+1,\"\")","v":""},"","",{"$f":"IF(A403=\"\",\"\",(SUM('Step 3. Lease Payments'!$G$11:$G$5006)+'Step 2. Basic Info'!$E$24)/'Validations - DO NOT DELETE'!$H$1)","v":""},{"$f":"IF(A403=\"\",\"\",I403*'Step 3. Lease Payments'!$G$8)","v":""},"","",null,"",{"$f":"IF(A403=\"\",\"\",VLOOKUP(A403,'Step 3. Lease Payments'!B:G,6,))","v":""},""]
[{"$f":"IF(B403<'Step 2. Basic Info'!$E$12,A403+1,\"\")","v":""},"","",{"$f":"IF(A404=\"\",\"\",(SUM('Step 3. Lease Payments'!$G$11:$G$5006)+'Step 2. Basic Info'!$E$24)/'Validations - DO NOT DELETE'!$H$1)","v":""},{"$f":"IF(A404=\"\",\"\",I404*'Step 3. Lease Payments'!$G$8)","v":""},"","",null,"",{"$f":"IF(A404=\"\",\"\",VLOOKUP(A404,'Step 3. Lease Payments'!B:G,6,))","v":""},""]
[{"$f":"IF(B404<'Step 2. Basic Info'!$E$12,A404+1,\"\")","v":""},"","",{"$f":"IF(A405=\"\",\"\",(SUM('Step 3. Lease Payments'!$G$11:$G$5006)+'Step 2. Basic Info'!$E$24)/'Validations - DO NOT DELETE'!$H$1)","v":""},{"$f":"IF(A405=\"\",\"\",I405*'Step 3. Lease Payments'!$G$8)","v":""},"","",null,"",{"$f":"IF(A405=\"\",\"\",VLOOKUP(A405,'Step 3. Lease Payments'!B:G,6,))","v":""},""]
[{"$f":"IF(B405<'Step 2. Basic Info'!$E$12,A405+1,\"\")","v":""},"","",{"$f":"IF(A406=\"\",\"\",(SUM('Step 3. Lease Payments'!$G$11:$G$5006)+'Step 2. Basic Info'!$E$24)/'Validations - DO NOT DELETE'!$H$1)","v":""},{"$f":"IF(A406=\"\",\"\",I406*'Step 3. Lease Payments'!$G$8)","v":""},"","",null,"",{"$f":"IF(A406=\"\",\"\",VLOOKUP(A406,'Step 3. Lease Payments'!B:G,6,))","v":""},""]
[{"$f":"IF(B406<'Step 2. Basic Info'!$E$12,A406+1,\"\")","v":""},"","",{"$f":"IF(A407=\"\",\"\",(SUM('Step 3. Lease Payments'!$G$11:$G$5006)+'Step 2. Basic Info'!$E$24)/'Validations - DO NOT DELETE'!$H$1)","v":""},{"$f":"IF(A407=\"\",\"\",I407*'Step 3. Lease Payments'!$G$8)","v":""},"","",null,"",{"$f":"IF(A407=\"\",\"\",VLOOKUP(A407,'Step 3. Lease Payments'!B:G,6,))","v":""},""]
[{"$f":"IF(B407<'Step 2. Basic Info'!$E$12,A407+1,\"\")","v":""},"","",{"$f":"IF(A408=\"\",\"\",(SUM('Step 3. Lease Payments'!$G$11:$G$5006)+'Step 2. Basic Info'!$E$24)/'Validations - DO NOT DELETE'!$H$1)","v":""},{"$f":"IF(A408=\"\",\"\",I408*'Step 3. Lease Payments'!$G$8)","v":""},"","",null,"",{"$f":"IF(A408=\"\",\"\",VLOOKUP(A408,'Step 3. Lease Payments'!B:G,6,))","v":""},""]
[{"$f":"IF(B408<'Step 2. Basic Info'!$E$12,A408+1,\"\")","v":""},"","",{"$f":"IF(A409=\"\",\"\",(SUM('Step 3. Lease Payments'!$G$11:$G$5006)+'Step 2. Basic Info'!$E$24)/'Validations - DO NOT DELETE'!$H$1)","v":""},{"$f":"IF(A409=\"\",\"\",I409*'Step 3. Lease Payments'!$G$8)","v":""},"","",null,"",{"$f":"IF(A409=\"\",\"\",VLOOKUP(A409,'Step 3. Lease Payments'!B:G,6,))","v":""},""]
[{"$f":"IF(B409<'Step 2. Basic Info'!$E$12,A409+1,\"\")","v":""},"","",{"$f":"IF(A410=\"\",\"\",(SUM('Step 3. Lease Payments'!$G$11:$G$5006)+'Step 2. Basic Info'!$E$24)/'Validations - DO NOT DELETE'!$H$1)","v":""},{"$f":"IF(A410=\"\",\"\",I410*'Step 3. Lease Payments'!$G$8)","v":""},"","",null,"",{"$f":"IF(A410=\"\",\"\",VLOOKUP(A410,'Step 3. Lease Payments'!B:G,6,))","v":""},""]
[{"$f":"IF(B410<'Step 2. Basic Info'!$E$12,A410+1,\"\")","v":""},"","",{"$f":"IF(A411=\"\",\"\",(SUM('Step 3. Lease Payments'!$G$11:$G$5006)+'Step 2. Basic Info'!$E$24)/'Validations - DO NOT DELETE'!$H$1)","v":""},{"$f":"IF(A411=\"\",\"\",I411*'Step 3. Lease Payments'!$G$8)","v":""},"","",null,"",{"$f":"IF(A411=\"\",\"\",VLOOKUP(A411,'Step 3. Lease Payments'!B:G,6,))","v":""},""]
[{"$f":"IF(B411<'Step 2. Basic Info'!$E$12,A411+1,\"\")","v":""},"","",{"$f":"IF(A412=\"\",\"\",(SUM('Step 3. Lease Payments'!$G$11:$G$5006)+'Step 2. Basic Info'!$E$24)/'Validations - DO NOT DELETE'!$H$1)","v":""},{"$f":"IF(A412=\"\",\"\",I412*'Step 3. Lease Payments'!$G$8)","v":""},"","",null,"",{"$f":"IF(A412=\"\",\"\",VLOOKUP(A412,'Step 3. Lease Payments'!B:G,6,))","v":""},""]
[{"$f":"IF(B412<'Step 2. Basic Info'!$E$12,A412+1,\"\")","v":""},"","",{"$f":"IF(A413=\"\",\"\",(SUM('Step 3. Lease Payments'!$G$11:$G$5006)+'Step 2. Basic Info'!$E$24)/'Validations - DO NOT DELETE'!$H$1)","v":""},{"$f":"IF(A413=\"\",\"\",I413*'Step 3. Lease Payments'!$G$8)","v":""},"","",null,"",{"$f":"IF(A413=\"\",\"\",VLOOKUP(A413,'Step 3. Lease Payments'!B:G,6,))","v":""},""]
[{"$f":"IF(B413<'Step 2. Basic Info'!$E$12,A413+1,\"\")","v":""},"","",{"$f":"IF(A414=\"\",\"\",(SUM('Step 3. Lease Payments'!$G$11:$G$5006)+'Step 2. Basic Info'!$E$24)/'Validations - DO NOT DELETE'!$H$1)","v":""},{"$f":"IF(A414=\"\",\"\",I414*'Step 3. Lease Payments'!$G$8)","v":""},"","",null,"",{"$f":"IF(A414=\"\",\"\",VLOOKUP(A414,'Step 3. Lease Payments'!B:G,6,))","v":""},""]
[{"$f":"IF(B414<'Step 2. Basic Info'!$E$12,A414+1,\"\")","v":""},"","",{"$f":"IF(A415=\"\",\"\",(SUM('Step 3. Lease Payments'!$G$11:$G$5006)+'Step 2. Basic Info'!$E$24)/'Validations - DO NOT DELETE'!$H$1)","v":""},{"$f":"IF(A415=\"\",\"\",I415*'Step 3. Lease Payments'!$G$8)","v":""},"","",null,"",{"$f":"IF(A415=\"\",\"\",VLOOKUP(A415,'Step 3. Lease Payments'!B:G,6,))","v":""},""]
[{"$f":"IF(B415<'Step 2. Basic Info'!$E$12,A415+1,\"\")","v":""},"","",{"$f":"IF(A416=\"\",\"\",(SUM('Step 3. Lease Payments'!$G$11:$G$5006)+'Step 2. Basic Info'!$E$24)/'Validations - DO NOT DELETE'!$H$1)","v":""},{"$f":"IF(A416=\"\",\"\",I416*'Step 3. Lease Payments'!$G$8)","v":""},"","",null,"",{"$f":"IF(A416=\"\",\"\",VLOOKUP(A416,'Step 3. Lease Payments'!B:G,6,))","v":""},""]
[{"$f":"IF(B416<'Step 2. Basic Info'!$E$12,A416+1,\"\")","v":""},"","",{"$f":"IF(A417=\"\",\"\",(SUM('Step 3. Lease Payments'!$G$11:$G$5006)+'Step 2. Basic Info'!$E$24)/'Validations - DO NOT DELETE'!$H$1)","v":""},{"$f":"IF(A417=\"\",\"\",I417*'Step 3. Lease Payments'!$G$8)","v":""},"","",null,"",{"$f":"IF(A417=\"\",\"\",VLOOKUP(A417,'Step 3. Lease Payments'!B:G,6,))","v":""},""]
[{"$f":"IF(B417<'Step 2. Basic Info'!$E$12,A417+1,\"\")","v":""},"","",{"$f":"IF(A418=\"\",\"\",(SUM('Step 3. Lease Payments'!$G$11:$G$5006)+'Step 2. Basic Info'!$E$24)/'Validations - DO NOT DELETE'!$H$1)","v":""},{"$f":"IF(A418=\"\",\"\",I418*'Step 3. Lease Payments'!$G$8)","v":""},"","",null,"",{"$f":"IF(A418=\"\",\"\",VLOOKUP(A418,'Step 3. Lease Payments'!B:G,6,))","v":""},""]
[{"$f":"IF(B418<'Step 2. Basic Info'!$E$12,A418+1,\"\")","v":""},"","",{"$f":"IF(A419=\"\",\"\",(SUM('Step 3. Lease Payments'!$G$11:$G$5006)+'Step 2. Basic Info'!$E$24)/'Validations - DO NOT DELETE'!$H$1)","v":""},{"$f":"IF(A419=\"\",\"\",I419*'Step 3. Lease Payments'!$G$8)","v":""},"","",null,"",{"$f":"IF(A419=\"\",\"\",VLOOKUP(A419,'Step 3. Lease Payments'!B:G,6,))","v":""},""]
[{"$f":"IF(B419<'Step 2. Basic Info'!$E$12,A419+1,\"\")","v":""},"","",{"$f":"IF(A420=\"\",\"\",(SUM('Step 3. Lease Payments'!$G$11:$G$5006)+'Step 2. Basic Info'!$E$24)/'Validations - DO NOT DELETE'!$H$1)","v":""},{"$f":"IF(A420=\"\",\"\",I420*'Step 3. Lease Payments'!$G$8)","v":""},"","",null,"",{"$f":"IF(A420=\"\",\"\",VLOOKUP(A420,'Step 3. Lease Payments'!B:G,6,))","v":""},""]
[{"$f":"IF(B420<'Step 2. Basic Info'!$E$12,A420+1,\"\")","v":""},"","",{"$f":"IF(A421=\"\",\"\",(SUM('Step 3. Lease Payments'!$G$11:$G$5006)+'Step 2. Basic Info'!$E$24)/'Validations - DO NOT DELETE'!$H$1)","v":""},{"$f":"IF(A421=\"\",\"\",I421*'Step 3. Lease Payments'!$G$8)","v":""},"","",null,"",{"$f":"IF(A421=\"\",\"\",VLOOKUP(A421,'Step 3. Lease Payments'!B:G,6,))","v":""},""]
[{"$f":"IF(B421<'Step 2. Basic Info'!$E$12,A421+1,\"\")","v":""},"","",{"$f":"IF(A422=\"\",\"\",(SUM('Step 3. Lease Payments'!$G$11:$G$5006)+'Step 2. Basic Info'!$E$24)/'Validations - DO NOT DELETE'!$H$1)","v":""},{"$f":"IF(A422=\"\",\"\",I422*'Step 3. Lease Payments'!$G$8)","v":""},"","",null,"",{"$f":"IF(A422=\"\",\"\",VLOOKUP(A422,'Step 3. Lease Payments'!B:G,6,))","v":""},""]
[{"$f":"IF(B422<'Step 2. Basic Info'!$E$12,A422+1,\"\")","v":""},"","",{"$f":"IF(A423=\"\",\"\",(SUM('Step 3. Lease Payments'!$G$11:$G$5006)+'Step 2. Basic Info'!$E$24)/'Validations - DO NOT DELETE'!$H$1)","v":""},{"$f":"IF(A423=\"\",\"\",I423*'Step 3. Lease Payments'!$G$8)","v":""},"","",null,"",{"$f":"IF(A423=\"\",\"\",VLOOKUP(A423,'Step 3. Lease Payments'!B:G,6,))","v":""},""]
[{"$f":"IF(B423<'Step 2. Basic Info'!$E$12,A423+1,\"\")","v":""},"","",{"$f":"IF(A424=\"\",\"\",(SUM('Step 3. Lease Payments'!$G$11:$G$5006)+'Step 2. Basic Info'!$E$24)/'Validations - DO NOT DELETE'!$H$1)","v":""},{"$f":"IF(A424=\"\",\"\",I424*'Step 3. Lease Payments'!$G$8)","v":""},"","",null,"",{"$f":"IF(A424=\"\",\"\",VLOOKUP(A424,'Step 3. Lease Payments'!B:G,6,))","v":""},""]
[{"$f":"IF(B424<'Step 2. Basic Info'!$E$12,A424+1,\"\")","v":""},"","",{"$f":"IF(A425=\"\",\"\",(SUM('Step 3. Lease Payments'!$G$11:$G$5006)+'Step 2. Basic Info'!$E$24)/'Validations - DO NOT DELETE'!$H$1)","v":""},{"$f":"IF(A425=\"\",\"\",I425*'Step 3. Lease Payments'!$G$8)","v":""},"","",null,"",{"$f":"IF(A425=\"\",\"\",VLOOKUP(A425,'Step 3. Lease Payments'!B:G,6,))","v":""},""]
[{"$f":"IF(B425<'Step 2. Basic Info'!$E$12,A425+1,\"\")","v":""},"","",{"$f":"IF(A426=\"\",\"\",(SUM('Step 3. Lease Payments'!$G$11:$G$5006)+'Step 2. Basic Info'!$E$24)/'Validations - DO NOT DELETE'!$H$1)","v":""},{"$f":"IF(A426=\"\",\"\",I426*'Step 3. Lease Payments'!$G$8)","v":""},"","",null,"",{"$f":"IF(A426=\"\",\"\",VLOOKUP(A426,'Step 3. Lease Payments'!B:G,6,))","v":""},""]
[{"$f":"IF(B426<'Step 2. Basic Info'!$E$12,A426+1,\"\")","v":""},"","",{"$f":"IF(A427=\"\",\"\",(SUM('Step 3. Lease Payments'!$G$11:$G$5006)+'Step 2. Basic Info'!$E$24)/'Validations - DO NOT DELETE'!$H$1)","v":""},{"$f":"IF(A427=\"\",\"\",I427*'Step 3. Lease Payments'!$G$8)","v":""},"","",null,"",{"$f":"IF(A427=\"\",\"\",VLOOKUP(A427,'Step 3. Lease Payments'!B:G,6,))","v":""},""]
[{"$f":"IF(B427<'Step 2. Basic Info'!$E$12,A427+1,\"\")","v":""},"","",{"$f":"IF(A428=\"\",\"\",(SUM('Step 3. Lease Payments'!$G$11:$G$5006)+'Step 2. Basic Info'!$E$24)/'Validations - DO NOT DELETE'!$H$1)","v":""},{"$f":"IF(A428=\"\",\"\",I428*'Step 3. Lease Payments'!$G$8)","v":""},"","",null,"",{"$f":"IF(A428=\"\",\"\",VLOOKUP(A428,'Step 3. Lease Payments'!B:G,6,))","v":""},""]
[{"$f":"IF(B428<'Step 2. Basic Info'!$E$12,A428+1,\"\")","v":""},"","",{"$f":"IF(A429=\"\",\"\",(SUM('Step 3. Lease Payments'!$G$11:$G$5006)+'Step 2. Basic Info'!$E$24)/'Validations - DO NOT DELETE'!$H$1)","v":""},{"$f":"IF(A429=\"\",\"\",I429*'Step 3. Lease Payments'!$G$8)","v":""},"","",null,"",{"$f":"IF(A429=\"\",\"\",VLOOKUP(A429,'Step 3. Lease Payments'!B:G,6,))","v":""},""]
[{"$f":"IF(B429<'Step 2. Basic Info'!$E$12,A429+1,\"\")","v":""},"","",{"$f":"IF(A430=\"\",\"\",(SUM('Step 3. Lease Payments'!$G$11:$G$5006)+'Step 2. Basic Info'!$E$24)/'Validations - DO NOT DELETE'!$H$1)","v":""},{"$f":"IF(A430=\"\",\"\",I430*'Step 3. Lease Payments'!$G$8)","v":""},"","",null,"",{"$f":"IF(A430=\"\",\"\",VLOOKUP(A430,'Step 3. Lease Payments'!B:G,6,))","v":""},""]
[{"$f":"IF(B430<'Step 2. Basic Info'!$E$12,A430+1,\"\")","v":""},"","",{"$f":"IF(A431=\"\",\"\",(SUM('Step 3. Lease Payments'!$G$11:$G$5006)+'Step 2. Basic Info'!$E$24)/'Validations - DO NOT DELETE'!$H$1)","v":""},{"$f":"IF(A431=\"\",\"\",I431*'Step 3. Lease Payments'!$G$8)","v":""},"","",null,"",{"$f":"IF(A431=\"\",\"\",VLOOKUP(A431,'Step 3. Lease Payments'!B:G,6,))","v":""},""]
[{"$f":"IF(B431<'Step 2. Basic Info'!$E$12,A431+1,\"\")","v":""},"","",{"$f":"IF(A432=\"\",\"\",(SUM('Step 3. Lease Payments'!$G$11:$G$5006)+'Step 2. Basic Info'!$E$24)/'Validations - DO NOT DELETE'!$H$1)","v":""},{"$f":"IF(A432=\"\",\"\",I432*'Step 3. Lease Payments'!$G$8)","v":""},"","",null,"",{"$f":"IF(A432=\"\",\"\",VLOOKUP(A432,'Step 3. Lease Payments'!B:G,6,))","v":""},""]
[{"$f":"IF(B432<'Step 2. Basic Info'!$E$12,A432+1,\"\")","v":""},"","",{"$f":"IF(A433=\"\",\"\",(SUM('Step 3. Lease Payments'!$G$11:$G$5006)+'Step 2. Basic Info'!$E$24)/'Validations - DO NOT DELETE'!$H$1)","v":""},{"$f":"IF(A433=\"\",\"\",I433*'Step 3. Lease Payments'!$G$8)","v":""},"","",null,"",{"$f":"IF(A433=\"\",\"\",VLOOKUP(A433,'Step 3. Lease Payments'!B:G,6,))","v":""},""]
[{"$f":"IF(B433<'Step 2. Basic Info'!$E$12,A433+1,\"\")","v":""},"","",{"$f":"IF(A434=\"\",\"\",(SUM('Step 3. Lease Payments'!$G$11:$G$5006)+'Step 2. Basic Info'!$E$24)/'Validations - DO NOT DELETE'!$H$1)","v":""},{"$f":"IF(A434=\"\",\"\",I434*'Step 3. Lease Payments'!$G$8)","v":""},"","",null,"",{"$f":"IF(A434=\"\",\"\",VLOOKUP(A434,'Step 3. Lease Payments'!B:G,6,))","v":""},""]
[{"$f":"IF(B434<'Step 2. Basic Info'!$E$12,A434+1,\"\")","v":""},"","",{"$f":"IF(A435=\"\",\"\",(SUM('Step 3. Lease Payments'!$G$11:$G$5006)+'Step 2. Basic Info'!$E$24)/'Validations - DO NOT DELETE'!$H$1)","v":""},{"$f":"IF(A435=\"\",\"\",I435*'Step 3. Lease Payments'!$G$8)","v":""},"","",null,"",{"$f":"IF(A435=\"\",\"\",VLOOKUP(A435,'Step 3. Lease Payments'!B:G,6,))","v":""},""]
[{"$f":"IF(B435<'Step 2. Basic Info'!$E$12,A435+1,\"\")","v":""},"","",{"$f":"IF(A436=\"\",\"\",(SUM('Step 3. Lease Payments'!$G$11:$G$5006)+'Step 2. Basic Info'!$E$24)/'Validations - DO NOT DELETE'!$H$1)","v":""},{"$f":"IF(A436=\"\",\"\",I436*'Step 3. Lease Payments'!$G$8)","v":""},"","",null,"",{"$f":"IF(A436=\"\",\"\",VLOOKUP(A436,'Step 3. Lease Payments'!B:G,6,))","v":""},""]
[{"$f":"IF(B436<'Step 2. Basic Info'!$E$12,A436+1,\"\")","v":""},"","",{"$f":"IF(A437=\"\",\"\",(SUM('Step 3. Lease Payments'!$G$11:$G$5006)+'Step 2. Basic Info'!$E$24)/'Validations - DO NOT DELETE'!$H$1)","v":""},{"$f":"IF(A437=\"\",\"\",I437*'Step 3. Lease Payments'!$G$8)","v":""},"","",null,"",{"$f":"IF(A437=\"\",\"\",VLOOKUP(A437,'Step 3. Lease Payments'!B:G,6,))","v":""},""]
[{"$f":"IF(B437<'Step 2. Basic Info'!$E$12,A437+1,\"\")","v":""},"","",{"$f":"IF(A438=\"\",\"\",(SUM('Step 3. Lease Payments'!$G$11:$G$5006)+'Step 2. Basic Info'!$E$24)/'Validations - DO NOT DELETE'!$H$1)","v":""},{"$f":"IF(A438=\"\",\"\",I438*'Step 3. Lease Payments'!$G$8)","v":""},"","",null,"",{"$f":"IF(A438=\"\",\"\",VLOOKUP(A438,'Step 3. Lease Payments'!B:G,6,))","v":""},""]
[{"$f":"IF(B438<'Step 2. Basic Info'!$E$12,A438+1,\"\")","v":""},"","",{"$f":"IF(A439=\"\",\"\",(SUM('Step 3. Lease Payments'!$G$11:$G$5006)+'Step 2. Basic Info'!$E$24)/'Validations - DO NOT DELETE'!$H$1)","v":""},{"$f":"IF(A439=\"\",\"\",I439*'Step 3. Lease Payments'!$G$8)","v":""},"","",null,"",{"$f":"IF(A439=\"\",\"\",VLOOKUP(A439,'Step 3. Lease Payments'!B:G,6,))","v":""},""]
[{"$f":"IF(B439<'Step 2. Basic Info'!$E$12,A439+1,\"\")","v":""},"","",{"$f":"IF(A440=\"\",\"\",(SUM('Step 3. Lease Payments'!$G$11:$G$5006)+'Step 2. Basic Info'!$E$24)/'Validations - DO NOT DELETE'!$H$1)","v":""},{"$f":"IF(A440=\"\",\"\",I440*'Step 3. Lease Payments'!$G$8)","v":""},"","",null,"",{"$f":"IF(A440=\"\",\"\",VLOOKUP(A440,'Step 3. Lease Payments'!B:G,6,))","v":""},""]
[{"$f":"IF(B440<'Step 2. Basic Info'!$E$12,A440+1,\"\")","v":""},"","",{"$f":"IF(A441=\"\",\"\",(SUM('Step 3. Lease Payments'!$G$11:$G$5006)+'Step 2. Basic Info'!$E$24)/'Validations - DO NOT DELETE'!$H$1)","v":""},{"$f":"IF(A441=\"\",\"\",I441*'Step 3. Lease Payments'!$G$8)","v":""},"","",null,"",{"$f":"IF(A441=\"\",\"\",VLOOKUP(A441,'Step 3. Lease Payments'!B:G,6,))","v":""},""]
[{"$f":"IF(B441<'Step 2. Basic Info'!$E$12,A441+1,\"\")","v":""},"","",{"$f":"IF(A442=\"\",\"\",(SUM('Step 3. Lease Payments'!$G$11:$G$5006)+'Step 2. Basic Info'!$E$24)/'Validations - DO NOT DELETE'!$H$1)","v":""},{"$f":"IF(A442=\"\",\"\",I442*'Step 3. Lease Payments'!$G$8)","v":""},"","",null,"",{"$f":"IF(A442=\"\",\"\",VLOOKUP(A442,'Step 3. Lease Payments'!B:G,6,))","v":""},""]
[{"$f":"IF(B442<'Step 2. Basic Info'!$E$12,A442+1,\"\")","v":""},"","",{"$f":"IF(A443=\"\",\"\",(SUM('Step 3. Lease Payments'!$G$11:$G$5006)+'Step 2. Basic Info'!$E$24)/'Validations - DO NOT DELETE'!$H$1)","v":""},{"$f":"IF(A443=\"\",\"\",I443*'Step 3. Lease Payments'!$G$8)","v":""},"","",null,"",{"$f":"IF(A443=\"\",\"\",VLOOKUP(A443,'Step 3. Lease Payments'!B:G,6,))","v":""},""]
[{"$f":"IF(B443<'Step 2. Basic Info'!$E$12,A443+1,\"\")","v":""},"","",{"$f":"IF(A444=\"\",\"\",(SUM('Step 3. Lease Payments'!$G$11:$G$5006)+'Step 2. Basic Info'!$E$24)/'Validations - DO NOT DELETE'!$H$1)","v":""},{"$f":"IF(A444=\"\",\"\",I444*'Step 3. Lease Payments'!$G$8)","v":""},"","",null,"",{"$f":"IF(A444=\"\",\"\",VLOOKUP(A444,'Step 3. Lease Payments'!B:G,6,))","v":""},""]
[{"$f":"IF(B444<'Step 2. Basic Info'!$E$12,A444+1,\"\")","v":""},"","",{"$f":"IF(A445=\"\",\"\",(SUM('Step 3. Lease Payments'!$G$11:$G$5006)+'Step 2. Basic Info'!$E$24)/'Validations - DO NOT DELETE'!$H$1)","v":""},{"$f":"IF(A445=\"\",\"\",I445*'Step 3. Lease Payments'!$G$8)","v":""},"","",null,"",{"$f":"IF(A445=\"\",\"\",VLOOKUP(A445,'Step 3. Lease Payments'!B:G,6,))","v":""},""]
[{"$f":"IF(B445<'Step 2. Basic Info'!$E$12,A445+1,\"\")","v":""},"","",{"$f":"IF(A446=\"\",\"\",(SUM('Step 3. Lease Payments'!$G$11:$G$5006)+'Step 2. Basic Info'!$E$24)/'Validations - DO NOT DELETE'!$H$1)","v":""},{"$f":"IF(A446=\"\",\"\",I446*'Step 3. Lease Payments'!$G$8)","v":""},"","",null,"",{"$f":"IF(A446=\"\",\"\",VLOOKUP(A446,'Step 3. Lease Payments'!B:G,6,))","v":""},""]
[{"$f":"IF(B446<'Step 2. Basic Info'!$E$12,A446+1,\"\")","v":""},"","",{"$f":"IF(A447=\"\",\"\",(SUM('Step 3. Lease Payments'!$G$11:$G$5006)+'Step 2. Basic Info'!$E$24)/'Validations - DO NOT DELETE'!$H$1)","v":""},{"$f":"IF(A447=\"\",\"\",I447*'Step 3. Lease Payments'!$G$8)","v":""},"","",null,"",{"$f":"IF(A447=\"\",\"\",VLOOKUP(A447,'Step 3. Lease Payments'!B:G,6,))","v":""},""]
[{"$f":"IF(B447<'Step 2. Basic Info'!$E$12,A447+1,\"\")","v":""},"","",{"$f":"IF(A448=\"\",\"\",(SUM('Step 3. Lease Payments'!$G$11:$G$5006)+'Step 2. Basic Info'!$E$24)/'Validations - DO NOT DELETE'!$H$1)","v":""},{"$f":"IF(A448=\"\",\"\",I448*'Step 3. Lease Payments'!$G$8)","v":""},"","",null,"",{"$f":"IF(A448=\"\",\"\",VLOOKUP(A448,'Step 3. Lease Payments'!B:G,6,))","v":""},""]
[{"$f":"IF(B448<'Step 2. Basic Info'!$E$12,A448+1,\"\")","v":""},"","",{"$f":"IF(A449=\"\",\"\",(SUM('Step 3. Lease Payments'!$G$11:$G$5006)+'Step 2. Basic Info'!$E$24)/'Validations - DO NOT DELETE'!$H$1)","v":""},{"$f":"IF(A449=\"\",\"\",I449*'Step 3. Lease Payments'!$G$8)","v":""},"","",null,"",{"$f":"IF(A449=\"\",\"\",VLOOKUP(A449,'Step 3. Lease Payments'!B:G,6,))","v":""},""]
[{"$f":"IF(B449<'Step 2. Basic Info'!$E$12,A449+1,\"\")","v":""},"","",{"$f":"IF(A450=\"\",\"\",(SUM('Step 3. Lease Payments'!$G$11:$G$5006)+'Step 2. Basic Info'!$E$24)/'Validations - DO NOT DELETE'!$H$1)","v":""},{"$f":"IF(A450=\"\",\"\",I450*'Step 3. Lease Payments'!$G$8)","v":""},"","",null,"",{"$f":"IF(A450=\"\",\"\",VLOOKUP(A450,'Step 3. Lease Payments'!B:G,6,))","v":""},""]
[{"$f":"IF(B450<'Step 2. Basic Info'!$E$12,A450+1,\"\")","v":""},"","",{"$f":"IF(A451=\"\",\"\",(SUM('Step 3. Lease Payments'!$G$11:$G$5006)+'Step 2. Basic Info'!$E$24)/'Validations - DO NOT DELETE'!$H$1)","v":""},{"$f":"IF(A451=\"\",\"\",I451*'Step 3. Lease Payments'!$G$8)","v":""},"","",null,"",{"$f":"IF(A451=\"\",\"\",VLOOKUP(A451,'Step 3. Lease Payments'!B:G,6,))","v":""},""]
[{"$f":"IF(B451<'Step 2. Basic Info'!$E$12,A451+1,\"\")","v":""},"","",{"$f":"IF(A452=\"\",\"\",(SUM('Step 3. Lease Payments'!$G$11:$G$5006)+'Step 2. Basic Info'!$E$24)/'Validations - DO NOT DELETE'!$H$1)","v":""},{"$f":"IF(A452=\"\",\"\",I452*'Step 3. Lease Payments'!$G$8)","v":""},"","",null,"",{"$f":"IF(A452=\"\",\"\",VLOOKUP(A452,'Step 3. Lease Payments'!B:G,6,))","v":""},""]
[{"$f":"IF(B452<'Step 2. Basic Info'!$E$12,A452+1,\"\")","v":""},"","",{"$f":"IF(A453=\"\",\"\",(SUM('Step 3. Lease Payments'!$G$11:$G$5006)+'Step 2. Basic Info'!$E$24)/'Validations - DO NOT DELETE'!$H$1)","v":""},{"$f":"IF(A453=\"\",\"\",I453*'Step 3. Lease Payments'!$G$8)","v":""},"","",null,"",{"$f":"IF(A453=\"\",\"\",VLOOKUP(A453,'Step 3. Lease Payments'!B:G,6,))","v":""},""]
[{"$f":"IF(B453<'Step 2. Basic Info'!$E$12,A453+1,\"\")","v":""},"","",{"$f":"IF(A454=\"\",\"\",(SUM('Step 3. Lease Payments'!$G$11:$G$5006)+'Step 2. Basic Info'!$E$24)/'Validations - DO NOT DELETE'!$H$1)","v":""},{"$f":"IF(A454=\"\",\"\",I454*'Step 3. Lease Payments'!$G$8)","v":""},"","",null,"",{"$f":"IF(A454=\"\",\"\",VLOOKUP(A454,'Step 3. Lease Payments'!B:G,6,))","v":""},""]
[{"$f":"IF(B454<'Step 2. Basic Info'!$E$12,A454+1,\"\")","v":""},"","",{"$f":"IF(A455=\"\",\"\",(SUM('Step 3. Lease Payments'!$G$11:$G$5006)+'Step 2. Basic Info'!$E$24)/'Validations - DO NOT DELETE'!$H$1)","v":""},{"$f":"IF(A455=\"\",\"\",I455*'Step 3. Lease Payments'!$G$8)","v":""},"","",null,"",{"$f":"IF(A455=\"\",\"\",VLOOKUP(A455,'Step 3. Lease Payments'!B:G,6,))","v":""},""]
[{"$f":"IF(B455<'Step 2. Basic Info'!$E$12,A455+1,\"\")","v":""},"","",{"$f":"IF(A456=\"\",\"\",(SUM('Step 3. Lease Payments'!$G$11:$G$5006)+'Step 2. Basic Info'!$E$24)/'Validations - DO NOT DELETE'!$H$1)","v":""},{"$f":"IF(A456=\"\",\"\",I456*'Step 3. Lease Payments'!$G$8)","v":""},"","",null,"",{"$f":"IF(A456=\"\",\"\",VLOOKUP(A456,'Step 3. Lease Payments'!B:G,6,))","v":""},""]
[{"$f":"IF(B456<'Step 2. Basic Info'!$E$12,A456+1,\"\")","v":""},"","",{"$f":"IF(A457=\"\",\"\",(SUM('Step 3. Lease Payments'!$G$11:$G$5006)+'Step 2. Basic Info'!$E$24)/'Validations - DO NOT DELETE'!$H$1)","v":""},{"$f":"IF(A457=\"\",\"\",I457*'Step 3. Lease Payments'!$G$8)","v":""},"","",null,"",{"$f":"IF(A457=\"\",\"\",VLOOKUP(A457,'Step 3. Lease Payments'!B:G,6,))","v":""},""]
[{"$f":"IF(B457<'Step 2. Basic Info'!$E$12,A457+1,\"\")","v":""},"","",{"$f":"IF(A458=\"\",\"\",(SUM('Step 3. Lease Payments'!$G$11:$G$5006)+'Step 2. Basic Info'!$E$24)/'Validations - DO NOT DELETE'!$H$1)","v":""},{"$f":"IF(A458=\"\",\"\",I458*'Step 3. Lease Payments'!$G$8)","v":""},"","",null,"",{"$f":"IF(A458=\"\",\"\",VLOOKUP(A458,'Step 3. Lease Payments'!B:G,6,))","v":""},""]
[{"$f":"IF(B458<'Step 2. Basic Info'!$E$12,A458+1,\"\")","v":""},{"$f":"IF(A459=\"\",\"\",(DATE(YEAR(B458),MONTH(B458)+1,DAY(B458))))","v":""},{"$f":"IF(A459=\"\",\"\",G458)","v":""},{"$f":"IF(A459=\"\",\"\",(SUM('Step 3. Lease Payments'!$G$11:$G$5006)+'Step 2. Basic Info'!$E$24)/'Validations - DO NOT DELETE'!$H$1)","v":""},{"$f":"IF(A459=\"\",\"\",I459*'Step 3. Lease Payments'!$G$8)","v":""},{"$f":"IF(A459=\"\",\"\",D459-E459)","v":""},{"$f":"IF(A459=\"\",\"\",C459-F459)","v":""},null,{"$f":"IF(A459=\"\",\"\",K458)","v":""},{"$f":"IF(A459=\"\",\"\",VLOOKUP(A459,'Step 3. Lease Payments'!B:G,6,))","v":""},{"$f":"IF(A459=\"\",\"\",I459-J459+E459)","v":""}]
[{"$f":"IF(B459<'Step 2. Basic Info'!$E$12,A459+1,\"\")","v":""},"","",{"$f":"IF(A460=\"\",\"\",(SUM('Step 3. Lease Payments'!$G$11:$G$5006)+'Step 2. Basic Info'!$E$24)/'Validations - DO NOT DELETE'!$H$1)","v":""},{"$f":"IF(A460=\"\",\"\",I460*'Step 3. Lease Payments'!$G$8)","v":""},"","",null,"",{"$f":"IF(A460=\"\",\"\",VLOOKUP(A460,'Step 3. Lease Payments'!B:G,6,))","v":""},""]
[{"$f":"IF(B460<'Step 2. Basic Info'!$E$12,A460+1,\"\")","v":""},"","",{"$f":"IF(A461=\"\",\"\",(SUM('Step 3. Lease Payments'!$G$11:$G$5006)+'Step 2. Basic Info'!$E$24)/'Validations - DO NOT DELETE'!$H$1)","v":""},{"$f":"IF(A461=\"\",\"\",I461*'Step 3. Lease Payments'!$G$8)","v":""},"","",null,"",{"$f":"IF(A461=\"\",\"\",VLOOKUP(A461,'Step 3. Lease Payments'!B:G,6,))","v":""},""]
[{"$f":"IF(B461<'Step 2. Basic Info'!$E$12,A461+1,\"\")","v":""},"","",{"$f":"IF(A462=\"\",\"\",(SUM('Step 3. Lease Payments'!$G$11:$G$5006)+'Step 2. Basic Info'!$E$24)/'Validations - DO NOT DELETE'!$H$1)","v":""},{"$f":"IF(A462=\"\",\"\",I462*'Step 3. Lease Payments'!$G$8)","v":""},"","",null,"",{"$f":"IF(A462=\"\",\"\",VLOOKUP(A462,'Step 3. Lease Payments'!B:G,6,))","v":""},""]
[{"$f":"IF(B462<'Step 2. Basic Info'!$E$12,A462+1,\"\")","v":""},"","",{"$f":"IF(A463=\"\",\"\",(SUM('Step 3. Lease Payments'!$G$11:$G$5006)+'Step 2. Basic Info'!$E$24)/'Validations - DO NOT DELETE'!$H$1)","v":""},{"$f":"IF(A463=\"\",\"\",I463*'Step 3. Lease Payments'!$G$8)","v":""},"","",null,"",{"$f":"IF(A463=\"\",\"\",VLOOKUP(A463,'Step 3. Lease Payments'!B:G,6,))","v":""},""]
[{"$f":"IF(B463<'Step 2. Basic Info'!$E$12,A463+1,\"\")","v":""},"","",{"$f":"IF(A464=\"\",\"\",(SUM('Step 3. Lease Payments'!$G$11:$G$5006)+'Step 2. Basic Info'!$E$24)/'Validations - DO NOT DELETE'!$H$1)","v":""},{"$f":"IF(A464=\"\",\"\",I464*'Step 3. Lease Payments'!$G$8)","v":""},"","",null,"",{"$f":"IF(A464=\"\",\"\",VLOOKUP(A464,'Step 3. Lease Payments'!B:G,6,))","v":""},""]
[{"$f":"IF(B464<'Step 2. Basic Info'!$E$12,A464+1,\"\")","v":""},"","",{"$f":"IF(A465=\"\",\"\",(SUM('Step 3. Lease Payments'!$G$11:$G$5006)+'Step 2. Basic Info'!$E$24)/'Validations - DO NOT DELETE'!$H$1)","v":""},{"$f":"IF(A465=\"\",\"\",I465*'Step 3. Lease Payments'!$G$8)","v":""},"","",null,"",{"$f":"IF(A465=\"\",\"\",VLOOKUP(A465,'Step 3. Lease Payments'!B:G,6,))","v":""},""]
[{"$f":"IF(B465<'Step 2. Basic Info'!$E$12,A465+1,\"\")","v":""},"","",{"$f":"IF(A466=\"\",\"\",(SUM('Step 3. Lease Payments'!$G$11:$G$5006)+'Step 2. Basic Info'!$E$24)/'Validations - DO NOT DELETE'!$H$1)","v":""},{"$f":"IF(A466=\"\",\"\",I466*'Step 3. Lease Payments'!$G$8)","v":""},"","",null,"",{"$f":"IF(A466=\"\",\"\",VLOOKUP(A466,'Step 3. Lease Payments'!B:G,6,))","v":""},""]
[{"$f":"IF(B466<'Step 2. Basic Info'!$E$12,A466+1,\"\")","v":""},"","",{"$f":"IF(A467=\"\",\"\",(SUM('Step 3. Lease Payments'!$G$11:$G$5006)+'Step 2. Basic Info'!$E$24)/'Validations - DO NOT DELETE'!$H$1)","v":""},{"$f":"IF(A467=\"\",\"\",I467*'Step 3. Lease Payments'!$G$8)","v":""},"","",null,"",{"$f":"IF(A467=\"\",\"\",VLOOKUP(A467,'Step 3. Lease Payments'!B:G,6,))","v":""},""]
[{"$f":"IF(B467<'Step 2. Basic Info'!$E$12,A467+1,\"\")","v":""},"","",{"$f":"IF(A468=\"\",\"\",(SUM('Step 3. Lease Payments'!$G$11:$G$5006)+'Step 2. Basic Info'!$E$24)/'Validations - DO NOT DELETE'!$H$1)","v":""},{"$f":"IF(A468=\"\",\"\",I468*'Step 3. Lease Payments'!$G$8)","v":""},"","",null,"",{"$f":"IF(A468=\"\",\"\",VLOOKUP(A468,'Step 3. Lease Payments'!B:G,6,))","v":""},""]
[{"$f":"IF(B468<'Step 2. Basic Info'!$E$12,A468+1,\"\")","v":""},"","",{"$f":"IF(A469=\"\",\"\",(SUM('Step 3. Lease Payments'!$G$11:$G$5006)+'Step 2. Basic Info'!$E$24)/'Validations - DO NOT DELETE'!$H$1)","v":""},{"$f":"IF(A469=\"\",\"\",I469*'Step 3. Lease Payments'!$G$8)","v":""},"","",null,"",{"$f":"IF(A469=\"\",\"\",VLOOKUP(A469,'Step 3. Lease Payments'!B:G,6,))","v":""},""]
[{"$f":"IF(B469<'Step 2. Basic Info'!$E$12,A469+1,\"\")","v":""},"","",{"$f":"IF(A470=\"\",\"\",(SUM('Step 3. Lease Payments'!$G$11:$G$5006)+'Step 2. Basic Info'!$E$24)/'Validations - DO NOT DELETE'!$H$1)","v":""},{"$f":"IF(A470=\"\",\"\",I470*'Step 3. Lease Payments'!$G$8)","v":""},"","",null,"",{"$f":"IF(A470=\"\",\"\",VLOOKUP(A470,'Step 3. Lease Payments'!B:G,6,))","v":""},""]
[{"$f":"IF(B470<'Step 2. Basic Info'!$E$12,A470+1,\"\")","v":""},"","",{"$f":"IF(A471=\"\",\"\",(SUM('Step 3. Lease Payments'!$G$11:$G$5006)+'Step 2. Basic Info'!$E$24)/'Validations - DO NOT DELETE'!$H$1)","v":""},{"$f":"IF(A471=\"\",\"\",I471*'Step 3. Lease Payments'!$G$8)","v":""},"","",null,"",{"$f":"IF(A471=\"\",\"\",VLOOKUP(A471,'Step 3. Lease Payments'!B:G,6,))","v":""},""]
[{"$f":"IF(B471<'Step 2. Basic Info'!$E$12,A471+1,\"\")","v":""},"","",{"$f":"IF(A472=\"\",\"\",(SUM('Step 3. Lease Payments'!$G$11:$G$5006)+'Step 2. Basic Info'!$E$24)/'Validations - DO NOT DELETE'!$H$1)","v":""},{"$f":"IF(A472=\"\",\"\",I472*'Step 3. Lease Payments'!$G$8)","v":""},"","",null,"",{"$f":"IF(A472=\"\",\"\",VLOOKUP(A472,'Step 3. Lease Payments'!B:G,6,))","v":""},""]
[{"$f":"IF(B472<'Step 2. Basic Info'!$E$12,A472+1,\"\")","v":""},"","",{"$f":"IF(A473=\"\",\"\",(SUM('Step 3. Lease Payments'!$G$11:$G$5006)+'Step 2. Basic Info'!$E$24)/'Validations - DO NOT DELETE'!$H$1)","v":""},{"$f":"IF(A473=\"\",\"\",I473*'Step 3. Lease Payments'!$G$8)","v":""},"","",null,"",{"$f":"IF(A473=\"\",\"\",VLOOKUP(A473,'Step 3. Lease Payments'!B:G,6,))","v":""},""]
[{"$f":"IF(B473<'Step 2. Basic Info'!$E$12,A473+1,\"\")","v":""},"","",{"$f":"IF(A474=\"\",\"\",(SUM('Step 3. Lease Payments'!$G$11:$G$5006)+'Step 2. Basic Info'!$E$24)/'Validations - DO NOT DELETE'!$H$1)","v":""},{"$f":"IF(A474=\"\",\"\",I474*'Step 3. Lease Payments'!$G$8)","v":""},"","",null,"",{"$f":"IF(A474=\"\",\"\",VLOOKUP(A474,'Step 3. Lease Payments'!B:G,6,))","v":""},""]
[{"$f":"IF(B474<'Step 2. Basic Info'!$E$12,A474+1,\"\")","v":""},"","",{"$f":"IF(A475=\"\",\"\",(SUM('Step 3. Lease Payments'!$G$11:$G$5006)+'Step 2. Basic Info'!$E$24)/'Validations - DO NOT DELETE'!$H$1)","v":""},{"$f":"IF(A475=\"\",\"\",I475*'Step 3. Lease Payments'!$G$8)","v":""},"","",null,"",{"$f":"IF(A475=\"\",\"\",VLOOKUP(A475,'Step 3. Lease Payments'!B:G,6,))","v":""},""]
[{"$f":"IF(B475<'Step 2. Basic Info'!$E$12,A475+1,\"\")","v":""},"","",{"$f":"IF(A476=\"\",\"\",(SUM('Step 3. Lease Payments'!$G$11:$G$5006)+'Step 2. Basic Info'!$E$24)/'Validations - DO NOT DELETE'!$H$1)","v":""},{"$f":"IF(A476=\"\",\"\",I476*'Step 3. Lease Payments'!$G$8)","v":""},"","",null,"",{"$f":"IF(A476=\"\",\"\",VLOOKUP(A476,'Step 3. Lease Payments'!B:G,6,))","v":""},""]
[{"$f":"IF(B476<'Step 2. Basic Info'!$E$12,A476+1,\"\")","v":""},"","",{"$f":"IF(A477=\"\",\"\",(SUM('Step 3. Lease Payments'!$G$11:$G$5006)+'Step 2. Basic Info'!$E$24)/'Validations - DO NOT DELETE'!$H$1)","v":""},{"$f":"IF(A477=\"\",\"\",I477*'Step 3. Lease Payments'!$G$8)","v":""},"","",null,"",{"$f":"IF(A477=\"\",\"\",VLOOKUP(A477,'Step 3. Lease Payments'!B:G,6,))","v":""},""]
[{"$f":"IF(B477<'Step 2. Basic Info'!$E$12,A477+1,\"\")","v":""},"","",{"$f":"IF(A478=\"\",\"\",(SUM('Step 3. Lease Payments'!$G$11:$G$5006)+'Step 2. Basic Info'!$E$24)/'Validations - DO NOT DELETE'!$H$1)","v":""},{"$f":"IF(A478=\"\",\"\",I478*'Step 3. Lease Payments'!$G$8)","v":""},"","",null,"",{"$f":"IF(A478=\"\",\"\",VLOOKUP(A478,'Step 3. Lease Payments'!B:G,6,))","v":""},""]
[{"$f":"IF(B478<'Step 2. Basic Info'!$E$12,A478+1,\"\")","v":""},"","",{"$f":"IF(A479=\"\",\"\",(SUM('Step 3. Lease Payments'!$G$11:$G$5006)+'Step 2. Basic Info'!$E$24)/'Validations - DO NOT DELETE'!$H$1)","v":""},{"$f":"IF(A479=\"\",\"\",I479*'Step 3. Lease Payments'!$G$8)","v":""},"","",null,"",{"$f":"IF(A479=\"\",\"\",VLOOKUP(A479,'Step 3. Lease Payments'!B:G,6,))","v":""},""]
[{"$f":"IF(B479<'Step 2. Basic Info'!$E$12,A479+1,\"\")","v":""},"","",{"$f":"IF(A480=\"\",\"\",(SUM('Step 3. Lease Payments'!$G$11:$G$5006)+'Step 2. Basic Info'!$E$24)/'Validations - DO NOT DELETE'!$H$1)","v":""},{"$f":"IF(A480=\"\",\"\",I480*'Step 3. Lease Payments'!$G$8)","v":""},"","",null,"",{"$f":"IF(A480=\"\",\"\",VLOOKUP(A480,'Step 3. Lease Payments'!B:G,6,))","v":""},""]
[{"$f":"IF(B480<'Step 2. Basic Info'!$E$12,A480+1,\"\")","v":""},"","",{"$f":"IF(A481=\"\",\"\",(SUM('Step 3. Lease Payments'!$G$11:$G$5006)+'Step 2. Basic Info'!$E$24)/'Validations - DO NOT DELETE'!$H$1)","v":""},{"$f":"IF(A481=\"\",\"\",I481*'Step 3. Lease Payments'!$G$8)","v":""},"","",null,"",{"$f":"IF(A481=\"\",\"\",VLOOKUP(A481,'Step 3. Lease Payments'!B:G,6,))","v":""},""]
[{"$f":"IF(B481<'Step 2. Basic Info'!$E$12,A481+1,\"\")","v":""},"","",{"$f":"IF(A482=\"\",\"\",(SUM('Step 3. Lease Payments'!$G$11:$G$5006)+'Step 2. Basic Info'!$E$24)/'Validations - DO NOT DELETE'!$H$1)","v":""},{"$f":"IF(A482=\"\",\"\",I482*'Step 3. Lease Payments'!$G$8)","v":""},"","",null,"",{"$f":"IF(A482=\"\",\"\",VLOOKUP(A482,'Step 3. Lease Payments'!B:G,6,))","v":""},""]
[{"$f":"IF(B482<'Step 2. Basic Info'!$E$12,A482+1,\"\")","v":""},"","",{"$f":"IF(A483=\"\",\"\",(SUM('Step 3. Lease Payments'!$G$11:$G$5006)+'Step 2. Basic Info'!$E$24)/'Validations - DO NOT DELETE'!$H$1)","v":""},{"$f":"IF(A483=\"\",\"\",I483*'Step 3. Lease Payments'!$G$8)","v":""},"","",null,"",{"$f":"IF(A483=\"\",\"\",VLOOKUP(A483,'Step 3. Lease Payments'!B:G,6,))","v":""},""]
[{"$f":"IF(B483<'Step 2. Basic Info'!$E$12,A483+1,\"\")","v":""},"","",{"$f":"IF(A484=\"\",\"\",(SUM('Step 3. Lease Payments'!$G$11:$G$5006)+'Step 2. Basic Info'!$E$24)/'Validations - DO NOT DELETE'!$H$1)","v":""},{"$f":"IF(A484=\"\",\"\",I484*'Step 3. Lease Payments'!$G$8)","v":""},"","",null,"",{"$f":"IF(A484=\"\",\"\",VLOOKUP(A484,'Step 3. Lease Payments'!B:G,6,))","v":""},""]
[{"$f":"IF(B484<'Step 2. Basic Info'!$E$12,A484+1,\"\")","v":""},"","",{"$f":"IF(A485=\"\",\"\",(SUM('Step 3. Lease Payments'!$G$11:$G$5006)+'Step 2. Basic Info'!$E$24)/'Validations - DO NOT DELETE'!$H$1)","v":""},{"$f":"IF(A485=\"\",\"\",I485*'Step 3. Lease Payments'!$G$8)","v":""},"","",null,"",{"$f":"IF(A485=\"\",\"\",VLOOKUP(A485,'Step 3. Lease Payments'!B:G,6,))","v":""},""]
[{"$f":"IF(B485<'Step 2. Basic Info'!$E$12,A485+1,\"\")","v":""},"","",{"$f":"IF(A486=\"\",\"\",(SUM('Step 3. Lease Payments'!$G$11:$G$5006)+'Step 2. Basic Info'!$E$24)/'Validations - DO NOT DELETE'!$H$1)","v":""},{"$f":"IF(A486=\"\",\"\",I486*'Step 3. Lease Payments'!$G$8)","v":""},"","",null,"",{"$f":"IF(A486=\"\",\"\",VLOOKUP(A486,'Step 3. Lease Payments'!B:G,6,))","v":""},""]
[{"$f":"IF(B486<'Step 2. Basic Info'!$E$12,A486+1,\"\")","v":""},"","",{"$f":"IF(A487=\"\",\"\",(SUM('Step 3. Lease Payments'!$G$11:$G$5006)+'Step 2. Basic Info'!$E$24)/'Validations - DO NOT DELETE'!$H$1)","v":""},{"$f":"IF(A487=\"\",\"\",I487*'Step 3. Lease Payments'!$G$8)","v":""},"","",null,"",{"$f":"IF(A487=\"\",\"\",VLOOKUP(A487,'Step 3. Lease Payments'!B:G,6,))","v":""},""]
[{"$f":"IF(B487<'Step 2. Basic Info'!$E$12,A487+1,\"\")","v":""},"","",{"$f":"IF(A488=\"\",\"\",(SUM('Step 3. Lease Payments'!$G$11:$G$5006)+'Step 2. Basic Info'!$E$24)/'Validations - DO NOT DELETE'!$H$1)","v":""},{"$f":"IF(A488=\"\",\"\",I488*'Step 3. Lease Payments'!$G$8)","v":""},"","",null,"",{"$f":"IF(A488=\"\",\"\",VLOOKUP(A488,'Step 3. Lease Payments'!B:G,6,))","v":""},""]
[{"$f":"IF(B488<'Step 2. Basic Info'!$E$12,A488+1,\"\")","v":""},"","",{"$f":"IF(A489=\"\",\"\",(SUM('Step 3. Lease Payments'!$G$11:$G$5006)+'Step 2. Basic Info'!$E$24)/'Validations - DO NOT DELETE'!$H$1)","v":""},{"$f":"IF(A489=\"\",\"\",I489*'Step 3. Lease Payments'!$G$8)","v":""},"","",null,"",{"$f":"IF(A489=\"\",\"\",VLOOKUP(A489,'Step 3. Lease Payments'!B:G,6,))","v":""},""]
[{"$f":"IF(B489<'Step 2. Basic Info'!$E$12,A489+1,\"\")","v":""},"","",{"$f":"IF(A490=\"\",\"\",(SUM('Step 3. Lease Payments'!$G$11:$G$5006)+'Step 2. Basic Info'!$E$24)/'Validations - DO NOT DELETE'!$H$1)","v":""},{"$f":"IF(A490=\"\",\"\",I490*'Step 3. Lease Payments'!$G$8)","v":""},"","",null,"",{"$f":"IF(A490=\"\",\"\",VLOOKUP(A490,'Step 3. Lease Payments'!B:G,6,))","v":""},""]
[{"$f":"IF(B490<'Step 2. Basic Info'!$E$12,A490+1,\"\")","v":""},"","",{"$f":"IF(A491=\"\",\"\",(SUM('Step 3. Lease Payments'!$G$11:$G$5006)+'Step 2. Basic Info'!$E$24)/'Validations - DO NOT DELETE'!$H$1)","v":""},{"$f":"IF(A491=\"\",\"\",I491*'Step 3. Lease Payments'!$G$8)","v":""},"","",null,"",{"$f":"IF(A491=\"\",\"\",VLOOKUP(A491,'Step 3. Lease Payments'!B:G,6,))","v":""},""]
[{"$f":"IF(B491<'Step 2. Basic Info'!$E$12,A491+1,\"\")","v":""},"","",{"$f":"IF(A492=\"\",\"\",(SUM('Step 3. Lease Payments'!$G$11:$G$5006)+'Step 2. Basic Info'!$E$24)/'Validations - DO NOT DELETE'!$H$1)","v":""},{"$f":"IF(A492=\"\",\"\",I492*'Step 3. Lease Payments'!$G$8)","v":""},"","",null,"",{"$f":"IF(A492=\"\",\"\",VLOOKUP(A492,'Step 3. Lease Payments'!B:G,6,))","v":""},""]
[{"$f":"IF(B492<'Step 2. Basic Info'!$E$12,A492+1,\"\")","v":""},"","",{"$f":"IF(A493=\"\",\"\",(SUM('Step 3. Lease Payments'!$G$11:$G$5006)+'Step 2. Basic Info'!$E$24)/'Validations - DO NOT DELETE'!$H$1)","v":""},{"$f":"IF(A493=\"\",\"\",I493*'Step 3. Lease Payments'!$G$8)","v":""},"","",null,"",{"$f":"IF(A493=\"\",\"\",VLOOKUP(A493,'Step 3. Lease Payments'!B:G,6,))","v":""},""]
[{"$f":"IF(B493<'Step 2. Basic Info'!$E$12,A493+1,\"\")","v":""},"","",{"$f":"IF(A494=\"\",\"\",(SUM('Step 3. Lease Payments'!$G$11:$G$5006)+'Step 2. Basic Info'!$E$24)/'Validations - DO NOT DELETE'!$H$1)","v":""},{"$f":"IF(A494=\"\",\"\",I494*'Step 3. Lease Payments'!$G$8)","v":""},"","",null,"",{"$f":"IF(A494=\"\",\"\",VLOOKUP(A494,'Step 3. Lease Payments'!B:G,6,))","v":""},""]
[{"$f":"IF(B494<'Step 2. Basic Info'!$E$12,A494+1,\"\")","v":""},"","",{"$f":"IF(A495=\"\",\"\",(SUM('Step 3. Lease Payments'!$G$11:$G$5006)+'Step 2. Basic Info'!$E$24)/'Validations - DO NOT DELETE'!$H$1)","v":""},{"$f":"IF(A495=\"\",\"\",I495*'Step 3. Lease Payments'!$G$8)","v":""},"","",null,"",{"$f":"IF(A495=\"\",\"\",VLOOKUP(A495,'Step 3. Lease Payments'!B:G,6,))","v":""},""]
[{"$f":"IF(B495<'Step 2. Basic Info'!$E$12,A495+1,\"\")","v":""},"","",{"$f":"IF(A496=\"\",\"\",(SUM('Step 3. Lease Payments'!$G$11:$G$5006)+'Step 2. Basic Info'!$E$24)/'Validations - DO NOT DELETE'!$H$1)","v":""},{"$f":"IF(A496=\"\",\"\",I496*'Step 3. Lease Payments'!$G$8)","v":""},"","",null,"",{"$f":"IF(A496=\"\",\"\",VLOOKUP(A496,'Step 3. Lease Payments'!B:G,6,))","v":""},""]
[{"$f":"IF(B496<'Step 2. Basic Info'!$E$12,A496+1,\"\")","v":""},"","",{"$f":"IF(A497=\"\",\"\",(SUM('Step 3. Lease Payments'!$G$11:$G$5006)+'Step 2. Basic Info'!$E$24)/'Validations - DO NOT DELETE'!$H$1)","v":""},{"$f":"IF(A497=\"\",\"\",I497*'Step 3. Lease Payments'!$G$8)","v":""},"","",null,"",{"$f":"IF(A497=\"\",\"\",VLOOKUP(A497,'Step 3. Lease Payments'!B:G,6,))","v":""},""]
[{"$f":"IF(B497<'Step 2. Basic Info'!$E$12,A497+1,\"\")","v":""},"","",{"$f":"IF(A498=\"\",\"\",(SUM('Step 3. Lease Payments'!$G$11:$G$5006)+'Step 2. Basic Info'!$E$24)/'Validations - DO NOT DELETE'!$H$1)","v":""},{"$f":"IF(A498=\"\",\"\",I498*'Step 3. Lease Payments'!$G$8)","v":""},"","",null,"",{"$f":"IF(A498=\"\",\"\",VLOOKUP(A498,'Step 3. Lease Payments'!B:G,6,))","v":""},""]
[{"$f":"IF(B498<'Step 2. Basic Info'!$E$12,A498+1,\"\")","v":""},"","",{"$f":"IF(A499=\"\",\"\",(SUM('Step 3. Lease Payments'!$G$11:$G$5006)+'Step 2. Basic Info'!$E$24)/'Validations - DO NOT DELETE'!$H$1)","v":""},{"$f":"IF(A499=\"\",\"\",I499*'Step 3. Lease Payments'!$G$8)","v":""},"","",null,"",{"$f":"IF(A499=\"\",\"\",VLOOKUP(A499,'Step 3. Lease Payments'!B:G,6,))","v":""},""]
[{"$f":"IF(B499<'Step 2. Basic Info'!$E$12,A499+1,\"\")","v":""},"","",{"$f":"IF(A500=\"\",\"\",(SUM('Step 3. Lease Payments'!$G$11:$G$5006)+'Step 2. Basic Info'!$E$24)/'Validations - DO NOT DELETE'!$H$1)","v":""},{"$f":"IF(A500=\"\",\"\",I500*'Step 3. Lease Payments'!$G$8)","v":""},"","",null,"",{"$f":"IF(A500=\"\",\"\",VLOOKUP(A500,'Step 3. Lease Payments'!B:G,6,))","v":""},""]
[{"$f":"IF(B500<'Step 2. Basic Info'!$E$12,A500+1,\"\")","v":""},"","",{"$f":"IF(A501=\"\",\"\",(SUM('Step 3. Lease Payments'!$G$11:$G$5006)+'Step 2. Basic Info'!$E$24)/'Validations - DO NOT DELETE'!$H$1)","v":""},{"$f":"IF(A501=\"\",\"\",I501*'Step 3. Lease Payments'!$G$8)","v":""},"","",null,"",{"$f":"IF(A501=\"\",\"\",VLOOKUP(A501,'Step 3. Lease Payments'!B:G,6,))","v":""},""]
[{"$f":"IF(B501<'Step 2. Basic Info'!$E$12,A501+1,\"\")","v":""},"","",{"$f":"IF(A502=\"\",\"\",(SUM('Step 3. Lease Payments'!$G$11:$G$5006)+'Step 2. Basic Info'!$E$24)/'Validations - DO NOT DELETE'!$H$1)","v":""},{"$f":"IF(A502=\"\",\"\",I502*'Step 3. Lease Payments'!$G$8)","v":""},"","",null,"",{"$f":"IF(A502=\"\",\"\",VLOOKUP(A502,'Step 3. Lease Payments'!B:G,6,))","v":""},""]
[{"$f":"IF(B502<'Step 2. Basic Info'!$E$12,A502+1,\"\")","v":""},"","",{"$f":"IF(A503=\"\",\"\",(SUM('Step 3. Lease Payments'!$G$11:$G$5006)+'Step 2. Basic Info'!$E$24)/'Validations - DO NOT DELETE'!$H$1)","v":""},{"$f":"IF(A503=\"\",\"\",I503*'Step 3. Lease Payments'!$G$8)","v":""},"","",null,"",{"$f":"IF(A503=\"\",\"\",VLOOKUP(A503,'Step 3. Lease Payments'!B:G,6,))","v":""},""]
[{"$f":"IF(B503<'Step 2. Basic Info'!$E$12,A503+1,\"\")","v":""},"","",{"$f":"IF(A504=\"\",\"\",(SUM('Step 3. Lease Payments'!$G$11:$G$5006)+'Step 2. Basic Info'!$E$24)/'Validations - DO NOT DELETE'!$H$1)","v":""},{"$f":"IF(A504=\"\",\"\",I504*'Step 3. Lease Payments'!$G$8)","v":""},"","",null,"",{"$f":"IF(A504=\"\",\"\",VLOOKUP(A504,'Step 3. Lease Payments'!B:G,6,))","v":""},""]
[{"$f":"IF(B504<'Step 2. Basic Info'!$E$12,A504+1,\"\")","v":""},"","",{"$f":"IF(A505=\"\",\"\",(SUM('Step 3. Lease Payments'!$G$11:$G$5006)+'Step 2. Basic Info'!$E$24)/'Validations - DO NOT DELETE'!$H$1)","v":""},{"$f":"IF(A505=\"\",\"\",I505*'Step 3. Lease Payments'!$G$8)","v":""},"","",null,"",{"$f":"IF(A505=\"\",\"\",VLOOKUP(A505,'Step 3. Lease Payments'!B:G,6,))","v":""},""]
[{"$f":"IF(B505<'Step 2. Basic Info'!$E$12,A505+1,\"\")","v":""},"","",{"$f":"IF(A506=\"\",\"\",(SUM('Step 3. Lease Payments'!$G$11:$G$5006)+'Step 2. Basic Info'!$E$24)/'Validations - DO NOT DELETE'!$H$1)","v":""},{"$f":"IF(A506=\"\",\"\",I506*'Step 3. Lease Payments'!$G$8)","v":""},"","",null,"",{"$f":"IF(A506=\"\",\"\",VLOOKUP(A506,'Step 3. Lease Payments'!B:G,6,))","v":""},""]
[{"$f":"IF(B506<'Step 2. Basic Info'!$E$12,A506+1,\"\")","v":""},"","",{"$f":"IF(A507=\"\",\"\",(SUM('Step 3. Lease Payments'!$G$11:$G$5006)+'Step 2. Basic Info'!$E$24)/'Validations - DO NOT DELETE'!$H$1)","v":""},{"$f":"IF(A507=\"\",\"\",I507*'Step 3. Lease Payments'!$G$8)","v":""},"","",null,"",{"$f":"IF(A507=\"\",\"\",VLOOKUP(A507,'Step 3. Lease Payments'!B:G,6,))","v":""},""]
[{"$f":"IF(B507<'Step 2. Basic Info'!$E$12,A507+1,\"\")","v":""},"","",{"$f":"IF(A508=\"\",\"\",(SUM('Step 3. Lease Payments'!$G$11:$G$5006)+'Step 2. Basic Info'!$E$24)/'Validations - DO NOT DELETE'!$H$1)","v":""},{"$f":"IF(A508=\"\",\"\",I508*'Step 3. Lease Payments'!$G$8)","v":""},"","",null,"",{"$f":"IF(A508=\"\",\"\",VLOOKUP(A508,'Step 3. Lease Payments'!B:G,6,))","v":""},""]
[{"$f":"IF(B508<'Step 2. Basic Info'!$E$12,A508+1,\"\")","v":""},"","",{"$f":"IF(A509=\"\",\"\",(SUM('Step 3. Lease Payments'!$G$11:$G$5006)+'Step 2. Basic Info'!$E$24)/'Validations - DO NOT DELETE'!$H$1)","v":""},{"$f":"IF(A509=\"\",\"\",I509*'Step 3. Lease Payments'!$G$8)","v":""},"","",null,"",{"$f":"IF(A509=\"\",\"\",VLOOKUP(A509,'Step 3. Lease Payments'!B:G,6,))","v":""},""]
[{"$f":"IF(B509<'Step 2. Basic Info'!$E$12,A509+1,\"\")","v":""},"","",{"$f":"IF(A510=\"\",\"\",(SUM('Step 3. Lease Payments'!$G$11:$G$5006)+'Step 2. Basic Info'!$E$24)/'Validations - DO NOT DELETE'!$H$1)","v":""},{"$f":"IF(A510=\"\",\"\",I510*'Step 3. Lease Payments'!$G$8)","v":""},"","",null,"",{"$f":"IF(A510=\"\",\"\",VLOOKUP(A510,'Step 3. Lease Payments'!B:G,6,))","v":""},""]
[{"$f":"IF(B510<'Step 2. Basic Info'!$E$12,A510+1,\"\")","v":""},"","",{"$f":"IF(A511=\"\",\"\",(SUM('Step 3. Lease Payments'!$G$11:$G$5006)+'Step 2. Basic Info'!$E$24)/'Validations - DO NOT DELETE'!$H$1)","v":""},{"$f":"IF(A511=\"\",\"\",I511*'Step 3. Lease Payments'!$G$8)","v":""},"","",null,"",{"$f":"IF(A511=\"\",\"\",VLOOKUP(A511,'Step 3. Lease Payments'!B:G,6,))","v":""},""]
[{"$f":"IF(B511<'Step 2. Basic Info'!$E$12,A511+1,\"\")","v":""},"","",{"$f":"IF(A512=\"\",\"\",(SUM('Step 3. Lease Payments'!$G$11:$G$5006)+'Step 2. Basic Info'!$E$24)/'Validations - DO NOT DELETE'!$H$1)","v":""},{"$f":"IF(A512=\"\",\"\",I512*'Step 3. Lease Payments'!$G$8)","v":""},"","",null,"",{"$f":"IF(A512=\"\",\"\",VLOOKUP(A512,'Step 3. Lease Payments'!B:G,6,))","v":""},""]
[{"$f":"IF(B512<'Step 2. Basic Info'!$E$12,A512+1,\"\")","v":""},"","",{"$f":"IF(A513=\"\",\"\",(SUM('Step 3. Lease Payments'!$G$11:$G$5006)+'Step 2. Basic Info'!$E$24)/'Validations - DO NOT DELETE'!$H$1)","v":""},{"$f":"IF(A513=\"\",\"\",I513*'Step 3. Lease Payments'!$G$8)","v":""},"","",null,"",{"$f":"IF(A513=\"\",\"\",VLOOKUP(A513,'Step 3. Lease Payments'!B:G,6,))","v":""},""]
[{"$f":"IF(B513<'Step 2. Basic Info'!$E$12,A513+1,\"\")","v":""},"","",{"$f":"IF(A514=\"\",\"\",(SUM('Step 3. Lease Payments'!$G$11:$G$5006)+'Step 2. Basic Info'!$E$24)/'Validations - DO NOT DELETE'!$H$1)","v":""},{"$f":"IF(A514=\"\",\"\",I514*'Step 3. Lease Payments'!$G$8)","v":""},"","",null,"",{"$f":"IF(A514=\"\",\"\",VLOOKUP(A514,'Step 3. Lease Payments'!B:G,6,))","v":""},""]
[{"$f":"IF(B514<'Step 2. Basic Info'!$E$12,A514+1,\"\")","v":""},"","",{"$f":"IF(A515=\"\",\"\",(SUM('Step 3. Lease Payments'!$G$11:$G$5006)+'Step 2. Basic Info'!$E$24)/'Validations - DO NOT DELETE'!$H$1)","v":""},{"$f":"IF(A515=\"\",\"\",I515*'Step 3. Lease Payments'!$G$8)","v":""},"","",null,"",{"$f":"IF(A515=\"\",\"\",VLOOKUP(A515,'Step 3. Lease Payments'!B:G,6,))","v":""},""]
[{"$f":"IF(B515<'Step 2. Basic Info'!$E$12,A515+1,\"\")","v":""},"","",{"$f":"IF(A516=\"\",\"\",(SUM('Step 3. Lease Payments'!$G$11:$G$5006)+'Step 2. Basic Info'!$E$24)/'Validations - DO NOT DELETE'!$H$1)","v":""},{"$f":"IF(A516=\"\",\"\",I516*'Step 3. Lease Payments'!$G$8)","v":""},"","",null,"",{"$f":"IF(A516=\"\",\"\",VLOOKUP(A516,'Step 3. Lease Payments'!B:G,6,))","v":""},""]
[{"$f":"IF(B516<'Step 2. Basic Info'!$E$12,A516+1,\"\")","v":""},"","",{"$f":"IF(A517=\"\",\"\",(SUM('Step 3. Lease Payments'!$G$11:$G$5006)+'Step 2. Basic Info'!$E$24)/'Validations - DO NOT DELETE'!$H$1)","v":""},{"$f":"IF(A517=\"\",\"\",I517*'Step 3. Lease Payments'!$G$8)","v":""},"","",null,"",{"$f":"IF(A517=\"\",\"\",VLOOKUP(A517,'Step 3. Lease Payments'!B:G,6,))","v":""},""]
[{"$f":"IF(B517<'Step 2. Basic Info'!$E$12,A517+1,\"\")","v":""},"","",{"$f":"IF(A518=\"\",\"\",(SUM('Step 3. Lease Payments'!$G$11:$G$5006)+'Step 2. Basic Info'!$E$24)/'Validations - DO NOT DELETE'!$H$1)","v":""},{"$f":"IF(A518=\"\",\"\",I518*'Step 3. Lease Payments'!$G$8)","v":""},"","",null,"",{"$f":"IF(A518=\"\",\"\",VLOOKUP(A518,'Step 3. Lease Payments'!B:G,6,))","v":""},""]
[{"$f":"IF(B518<'Step 2. Basic Info'!$E$12,A518+1,\"\")","v":""},"","",{"$f":"IF(A519=\"\",\"\",(SUM('Step 3. Lease Payments'!$G$11:$G$5006)+'Step 2. Basic Info'!$E$24)/'Validations - DO NOT DELETE'!$H$1)","v":""},{"$f":"IF(A519=\"\",\"\",I519*'Step 3. Lease Payments'!$G$8)","v":""},"","",null,"",{"$f":"IF(A519=\"\",\"\",VLOOKUP(A519,'Step 3. Lease Payments'!B:G,6,))","v":""},""]
[{"$f":"IF(B519<'Step 2. Basic Info'!$E$12,A519+1,\"\")","v":""},"","",{"$f":"IF(A520=\"\",\"\",(SUM('Step 3. Lease Payments'!$G$11:$G$5006)+'Step 2. Basic Info'!$E$24)/'Validations - DO NOT DELETE'!$H$1)","v":""},{"$f":"IF(A520=\"\",\"\",I520*'Step 3. Lease Payments'!$G$8)","v":""},"","",null,"",{"$f":"IF(A520=\"\",\"\",VLOOKUP(A520,'Step 3. Lease Payments'!B:G,6,))","v":""},""]
[{"$f":"IF(B520<'Step 2. Basic Info'!$E$12,A520+1,\"\")","v":""},"","",{"$f":"IF(A521=\"\",\"\",(SUM('Step 3. Lease Payments'!$G$11:$G$5006)+'Step 2. Basic Info'!$E$24)/'Validations - DO NOT DELETE'!$H$1)","v":""},{"$f":"IF(A521=\"\",\"\",I521*'Step 3. Lease Payments'!$G$8)","v":""},"","",null,"",{"$f":"IF(A521=\"\",\"\",VLOOKUP(A521,'Step 3. Lease Payments'!B:G,6,))","v":""},""]
[{"$f":"IF(B521<'Step 2. Basic Info'!$E$12,A521+1,\"\")","v":""},"","",{"$f":"IF(A522=\"\",\"\",(SUM('Step 3. Lease Payments'!$G$11:$G$5006)+'Step 2. Basic Info'!$E$24)/'Validations - DO NOT DELETE'!$H$1)","v":""},{"$f":"IF(A522=\"\",\"\",I522*'Step 3. Lease Payments'!$G$8)","v":""},"","",null,"",{"$f":"IF(A522=\"\",\"\",VLOOKUP(A522,'Step 3. Lease Payments'!B:G,6,))","v":""},""]
[{"$f":"IF(B522<'Step 2. Basic Info'!$E$12,A522+1,\"\")","v":""},{"$f":"IF(A523=\"\",\"\",(DATE(YEAR(B522),MONTH(B522)+1,DAY(B522))))","v":""},{"$f":"IF(A523=\"\",\"\",G522)","v":""},{"$f":"IF(A523=\"\",\"\",(SUM('Step 3. Lease Payments'!$G$11:$G$5006)+'Step 2. Basic Info'!$E$24)/'Validations - DO NOT DELETE'!$H$1)","v":""},{"$f":"IF(A523=\"\",\"\",I523*'Step 3. Lease Payments'!$G$8)","v":""},{"$f":"IF(A523=\"\",\"\",D523-E523)","v":""},{"$f":"IF(A523=\"\",\"\",C523-F523)","v":""},null,{"$f":"IF(A523=\"\",\"\",K522)","v":""},{"$f":"IF(A523=\"\",\"\",VLOOKUP(A523,'Step 3. Lease Payments'!B:G,6,))","v":""},{"$f":"IF(A523=\"\",\"\",I523-J523+E523)","v":""}]
[{"$f":"IF(B523<'Step 2. Basic Info'!$E$12,A523+1,\"\")","v":""},"","",{"$f":"IF(A524=\"\",\"\",(SUM('Step 3. Lease Payments'!$G$11:$G$5006)+'Step 2. Basic Info'!$E$24)/'Validations - DO NOT DELETE'!$H$1)","v":""},{"$f":"IF(A524=\"\",\"\",I524*'Step 3. Lease Payments'!$G$8)","v":""},"","",null,"",{"$f":"IF(A524=\"\",\"\",VLOOKUP(A524,'Step 3. Lease Payments'!B:G,6,))","v":""},""]
[{"$f":"IF(B524<'Step 2. Basic Info'!$E$12,A524+1,\"\")","v":""},"","",{"$f":"IF(A525=\"\",\"\",(SUM('Step 3. Lease Payments'!$G$11:$G$5006)+'Step 2. Basic Info'!$E$24)/'Validations - DO NOT DELETE'!$H$1)","v":""},{"$f":"IF(A525=\"\",\"\",I525*'Step 3. Lease Payments'!$G$8)","v":""},"","",null,"",{"$f":"IF(A525=\"\",\"\",VLOOKUP(A525,'Step 3. Lease Payments'!B:G,6,))","v":""},""]
[{"$f":"IF(B525<'Step 2. Basic Info'!$E$12,A525+1,\"\")","v":""},"","",{"$f":"IF(A526=\"\",\"\",(SUM('Step 3. Lease Payments'!$G$11:$G$5006)+'Step 2. Basic Info'!$E$24)/'Validations - DO NOT DELETE'!$H$1)","v":""},{"$f":"IF(A526=\"\",\"\",I526*'Step 3. Lease Payments'!$G$8)","v":""},"","",null,"",{"$f":"IF(A526=\"\",\"\",VLOOKUP(A526,'Step 3. Lease Payments'!B:G,6,))","v":""},""]
[{"$f":"IF(B526<'Step 2. Basic Info'!$E$12,A526+1,\"\")","v":""},"","",{"$f":"IF(A527=\"\",\"\",(SUM('Step 3. Lease Payments'!$G$11:$G$5006)+'Step 2. Basic Info'!$E$24)/'Validations - DO NOT DELETE'!$H$1)","v":""},{"$f":"IF(A527=\"\",\"\",I527*'Step 3. Lease Payments'!$G$8)","v":""},"","",null,"",{"$f":"IF(A527=\"\",\"\",VLOOKUP(A527,'Step 3. Lease Payments'!B:G,6,))","v":""},""]
[{"$f":"IF(B527<'Step 2. Basic Info'!$E$12,A527+1,\"\")","v":""},"","",{"$f":"IF(A528=\"\",\"\",(SUM('Step 3. Lease Payments'!$G$11:$G$5006)+'Step 2. Basic Info'!$E$24)/'Validations - DO NOT DELETE'!$H$1)","v":""},{"$f":"IF(A528=\"\",\"\",I528*'Step 3. Lease Payments'!$G$8)","v":""},"","",null,"",{"$f":"IF(A528=\"\",\"\",VLOOKUP(A528,'Step 3. Lease Payments'!B:G,6,))","v":""},""]
[{"$f":"IF(B528<'Step 2. Basic Info'!$E$12,A528+1,\"\")","v":""},"","",{"$f":"IF(A529=\"\",\"\",(SUM('Step 3. Lease Payments'!$G$11:$G$5006)+'Step 2. Basic Info'!$E$24)/'Validations - DO NOT DELETE'!$H$1)","v":""},{"$f":"IF(A529=\"\",\"\",I529*'Step 3. Lease Payments'!$G$8)","v":""},"","",null,"",{"$f":"IF(A529=\"\",\"\",VLOOKUP(A529,'Step 3. Lease Payments'!B:G,6,))","v":""},""]
[{"$f":"IF(B529<'Step 2. Basic Info'!$E$12,A529+1,\"\")","v":""},"","",{"$f":"IF(A530=\"\",\"\",(SUM('Step 3. Lease Payments'!$G$11:$G$5006)+'Step 2. Basic Info'!$E$24)/'Validations - DO NOT DELETE'!$H$1)","v":""},{"$f":"IF(A530=\"\",\"\",I530*'Step 3. Lease Payments'!$G$8)","v":""},"","",null,"",{"$f":"IF(A530=\"\",\"\",VLOOKUP(A530,'Step 3. Lease Payments'!B:G,6,))","v":""},""]
[{"$f":"IF(B530<'Step 2. Basic Info'!$E$12,A530+1,\"\")","v":""},"","",{"$f":"IF(A531=\"\",\"\",(SUM('Step 3. Lease Payments'!$G$11:$G$5006)+'Step 2. Basic Info'!$E$24)/'Validations - DO NOT DELETE'!$H$1)","v":""},{"$f":"IF(A531=\"\",\"\",I531*'Step 3. Lease Payments'!$G$8)","v":""},"","",null,"",{"$f":"IF(A531=\"\",\"\",VLOOKUP(A531,'Step 3. Lease Payments'!B:G,6,))","v":""},""]
[{"$f":"IF(B531<'Step 2. Basic Info'!$E$12,A531+1,\"\")","v":""},"","",{"$f":"IF(A532=\"\",\"\",(SUM('Step 3. Lease Payments'!$G$11:$G$5006)+'Step 2. Basic Info'!$E$24)/'Validations - DO NOT DELETE'!$H$1)","v":""},{"$f":"IF(A532=\"\",\"\",I532*'Step 3. Lease Payments'!$G$8)","v":""},"","",null,"",{"$f":"IF(A532=\"\",\"\",VLOOKUP(A532,'Step 3. Lease Payments'!B:G,6,))","v":""},""]
[{"$f":"IF(B532<'Step 2. Basic Info'!$E$12,A532+1,\"\")","v":""},"","",{"$f":"IF(A533=\"\",\"\",(SUM('Step 3. Lease Payments'!$G$11:$G$5006)+'Step 2. Basic Info'!$E$24)/'Validations - DO NOT DELETE'!$H$1)","v":""},{"$f":"IF(A533=\"\",\"\",I533*'Step 3. Lease Payments'!$G$8)","v":""},"","",null,"",{"$f":"IF(A533=\"\",\"\",VLOOKUP(A533,'Step 3. Lease Payments'!B:G,6,))","v":""},""]
[{"$f":"IF(B533<'Step 2. Basic Info'!$E$12,A533+1,\"\")","v":""},"","",{"$f":"IF(A534=\"\",\"\",(SUM('Step 3. Lease Payments'!$G$11:$G$5006)+'Step 2. Basic Info'!$E$24)/'Validations - DO NOT DELETE'!$H$1)","v":""},{"$f":"IF(A534=\"\",\"\",I534*'Step 3. Lease Payments'!$G$8)","v":""},"","",null,"",{"$f":"IF(A534=\"\",\"\",VLOOKUP(A534,'Step 3. Lease Payments'!B:G,6,))","v":""},""]
[{"$f":"IF(B534<'Step 2. Basic Info'!$E$12,A534+1,\"\")","v":""},"","",{"$f":"IF(A535=\"\",\"\",(SUM('Step 3. Lease Payments'!$G$11:$G$5006)+'Step 2. Basic Info'!$E$24)/'Validations - DO NOT DELETE'!$H$1)","v":""},{"$f":"IF(A535=\"\",\"\",I535*'Step 3. Lease Payments'!$G$8)","v":""},"","",null,"",{"$f":"IF(A535=\"\",\"\",VLOOKUP(A535,'Step 3. Lease Payments'!B:G,6,))","v":""},""]
[{"$f":"IF(B535<'Step 2. Basic Info'!$E$12,A535+1,\"\")","v":""},"","",{"$f":"IF(A536=\"\",\"\",(SUM('Step 3. Lease Payments'!$G$11:$G$5006)+'Step 2. Basic Info'!$E$24)/'Validations - DO NOT DELETE'!$H$1)","v":""},{"$f":"IF(A536=\"\",\"\",I536*'Step 3. Lease Payments'!$G$8)","v":""},"","",null,"",{"$f":"IF(A536=\"\",\"\",VLOOKUP(A536,'Step 3. Lease Payments'!B:G,6,))","v":""},""]
[{"$f":"IF(B536<'Step 2. Basic Info'!$E$12,A536+1,\"\")","v":""},"","",{"$f":"IF(A537=\"\",\"\",(SUM('Step 3. Lease Payments'!$G$11:$G$5006)+'Step 2. Basic Info'!$E$24)/'Validations - DO NOT DELETE'!$H$1)","v":""},{"$f":"IF(A537=\"\",\"\",I537*'Step 3. Lease Payments'!$G$8)","v":""},"","",null,"",{"$f":"IF(A537=\"\",\"\",VLOOKUP(A537,'Step 3. Lease Payments'!B:G,6,))","v":""},""]
[{"$f":"IF(B537<'Step 2. Basic Info'!$E$12,A537+1,\"\")","v":""},"","",{"$f":"IF(A538=\"\",\"\",(SUM('Step 3. Lease Payments'!$G$11:$G$5006)+'Step 2. Basic Info'!$E$24)/'Validations - DO NOT DELETE'!$H$1)","v":""},{"$f":"IF(A538=\"\",\"\",I538*'Step 3. Lease Payments'!$G$8)","v":""},"","",null,"",{"$f":"IF(A538=\"\",\"\",VLOOKUP(A538,'Step 3. Lease Payments'!B:G,6,))","v":""},""]
[{"$f":"IF(B538<'Step 2. Basic Info'!$E$12,A538+1,\"\")","v":""},"","",{"$f":"IF(A539=\"\",\"\",(SUM('Step 3. Lease Payments'!$G$11:$G$5006)+'Step 2. Basic Info'!$E$24)/'Validations - DO NOT DELETE'!$H$1)","v":""},{"$f":"IF(A539=\"\",\"\",I539*'Step 3. Lease Payments'!$G$8)","v":""},"","",null,"",{"$f":"IF(A539=\"\",\"\",VLOOKUP(A539,'Step 3. Lease Payments'!B:G,6,))","v":""},""]
[{"$f":"IF(B539<'Step 2. Basic Info'!$E$12,A539+1,\"\")","v":""},"","",{"$f":"IF(A540=\"\",\"\",(SUM('Step 3. Lease Payments'!$G$11:$G$5006)+'Step 2. Basic Info'!$E$24)/'Validations - DO NOT DELETE'!$H$1)","v":""},{"$f":"IF(A540=\"\",\"\",I540*'Step 3. Lease Payments'!$G$8)","v":""},"","",null,"",{"$f":"IF(A540=\"\",\"\",VLOOKUP(A540,'Step 3. Lease Payments'!B:G,6,))","v":""},""]
[{"$f":"IF(B540<'Step 2. Basic Info'!$E$12,A540+1,\"\")","v":""},"","",{"$f":"IF(A541=\"\",\"\",(SUM('Step 3. Lease Payments'!$G$11:$G$5006)+'Step 2. Basic Info'!$E$24)/'Validations - DO NOT DELETE'!$H$1)","v":""},{"$f":"IF(A541=\"\",\"\",I541*'Step 3. Lease Payments'!$G$8)","v":""},"","",null,"",{"$f":"IF(A541=\"\",\"\",VLOOKUP(A541,'Step 3. Lease Payments'!B:G,6,))","v":""},""]
[{"$f":"IF(B541<'Step 2. Basic Info'!$E$12,A541+1,\"\")","v":""},"","",{"$f":"IF(A542=\"\",\"\",(SUM('Step 3. Lease Payments'!$G$11:$G$5006)+'Step 2. Basic Info'!$E$24)/'Validations - DO NOT DELETE'!$H$1)","v":""},{"$f":"IF(A542=\"\",\"\",I542*'Step 3. Lease Payments'!$G$8)","v":""},"","",null,"",{"$f":"IF(A542=\"\",\"\",VLOOKUP(A542,'Step 3. Lease Payments'!B:G,6,))","v":""},""]
[{"$f":"IF(B542<'Step 2. Basic Info'!$E$12,A542+1,\"\")","v":""},"","",{"$f":"IF(A543=\"\",\"\",(SUM('Step 3. Lease Payments'!$G$11:$G$5006)+'Step 2. Basic Info'!$E$24)/'Validations - DO NOT DELETE'!$H$1)","v":""},{"$f":"IF(A543=\"\",\"\",I543*'Step 3. Lease Payments'!$G$8)","v":""},"","",null,"",{"$f":"IF(A543=\"\",\"\",VLOOKUP(A543,'Step 3. Lease Payments'!B:G,6,))","v":""},""]
[{"$f":"IF(B543<'Step 2. Basic Info'!$E$12,A543+1,\"\")","v":""},"","",{"$f":"IF(A544=\"\",\"\",(SUM('Step 3. Lease Payments'!$G$11:$G$5006)+'Step 2. Basic Info'!$E$24)/'Validations - DO NOT DELETE'!$H$1)","v":""},{"$f":"IF(A544=\"\",\"\",I544*'Step 3. Lease Payments'!$G$8)","v":""},"","",null,"",{"$f":"IF(A544=\"\",\"\",VLOOKUP(A544,'Step 3. Lease Payments'!B:G,6,))","v":""},""]
[{"$f":"IF(B544<'Step 2. Basic Info'!$E$12,A544+1,\"\")","v":""},"","",{"$f":"IF(A545=\"\",\"\",(SUM('Step 3. Lease Payments'!$G$11:$G$5006)+'Step 2. Basic Info'!$E$24)/'Validations - DO NOT DELETE'!$H$1)","v":""},{"$f":"IF(A545=\"\",\"\",I545*'Step 3. Lease Payments'!$G$8)","v":""},"","",null,"",{"$f":"IF(A545=\"\",\"\",VLOOKUP(A545,'Step 3. Lease Payments'!B:G,6,))","v":""},""]
[{"$f":"IF(B545<'Step 2. Basic Info'!$E$12,A545+1,\"\")","v":""},"","",{"$f":"IF(A546=\"\",\"\",(SUM('Step 3. Lease Payments'!$G$11:$G$5006)+'Step 2. Basic Info'!$E$24)/'Validations - DO NOT DELETE'!$H$1)","v":""},{"$f":"IF(A546=\"\",\"\",I546*'Step 3. Lease Payments'!$G$8)","v":""},"","",null,"",{"$f":"IF(A546=\"\",\"\",VLOOKUP(A546,'Step 3. Lease Payments'!B:G,6,))","v":""},""]
[{"$f":"IF(B546<'Step 2. Basic Info'!$E$12,A546+1,\"\")","v":""},"","",{"$f":"IF(A547=\"\",\"\",(SUM('Step 3. Lease Payments'!$G$11:$G$5006)+'Step 2. Basic Info'!$E$24)/'Validations - DO NOT DELETE'!$H$1)","v":""},{"$f":"IF(A547=\"\",\"\",I547*'Step 3. Lease Payments'!$G$8)","v":""},"","",null,"",{"$f":"IF(A547=\"\",\"\",VLOOKUP(A547,'Step 3. Lease Payments'!B:G,6,))","v":""},""]
[{"$f":"IF(B547<'Step 2. Basic Info'!$E$12,A547+1,\"\")","v":""},"","",{"$f":"IF(A548=\"\",\"\",(SUM('Step 3. Lease Payments'!$G$11:$G$5006)+'Step 2. Basic Info'!$E$24)/'Validations - DO NOT DELETE'!$H$1)","v":""},{"$f":"IF(A548=\"\",\"\",I548*'Step 3. Lease Payments'!$G$8)","v":""},"","",null,"",{"$f":"IF(A548=\"\",\"\",VLOOKUP(A548,'Step 3. Lease Payments'!B:G,6,))","v":""},""]
[{"$f":"IF(B548<'Step 2. Basic Info'!$E$12,A548+1,\"\")","v":""},"","",{"$f":"IF(A549=\"\",\"\",(SUM('Step 3. Lease Payments'!$G$11:$G$5006)+'Step 2. Basic Info'!$E$24)/'Validations - DO NOT DELETE'!$H$1)","v":""},{"$f":"IF(A549=\"\",\"\",I549*'Step 3. Lease Payments'!$G$8)","v":""},"","",null,"",{"$f":"IF(A549=\"\",\"\",VLOOKUP(A549,'Step 3. Lease Payments'!B:G,6,))","v":""},""]
[{"$f":"IF(B549<'Step 2. Basic Info'!$E$12,A549+1,\"\")","v":""},"","",{"$f":"IF(A550=\"\",\"\",(SUM('Step 3. Lease Payments'!$G$11:$G$5006)+'Step 2. Basic Info'!$E$24)/'Validations - DO NOT DELETE'!$H$1)","v":""},{"$f":"IF(A550=\"\",\"\",I550*'Step 3. Lease Payments'!$G$8)","v":""},"","",null,"",{"$f":"IF(A550=\"\",\"\",VLOOKUP(A550,'Step 3. Lease Payments'!B:G,6,))","v":""},""]
[{"$f":"IF(B550<'Step 2. Basic Info'!$E$12,A550+1,\"\")","v":""},"","",{"$f":"IF(A551=\"\",\"\",(SUM('Step 3. Lease Payments'!$G$11:$G$5006)+'Step 2. Basic Info'!$E$24)/'Validations - DO NOT DELETE'!$H$1)","v":""},{"$f":"IF(A551=\"\",\"\",I551*'Step 3. Lease Payments'!$G$8)","v":""},"","",null,"",{"$f":"IF(A551=\"\",\"\",VLOOKUP(A551,'Step 3. Lease Payments'!B:G,6,))","v":""},""]
[{"$f":"IF(B551<'Step 2. Basic Info'!$E$12,A551+1,\"\")","v":""},"","",{"$f":"IF(A552=\"\",\"\",(SUM('Step 3. Lease Payments'!$G$11:$G$5006)+'Step 2. Basic Info'!$E$24)/'Validations - DO NOT DELETE'!$H$1)","v":""},{"$f":"IF(A552=\"\",\"\",I552*'Step 3. Lease Payments'!$G$8)","v":""},"","",null,"",{"$f":"IF(A552=\"\",\"\",VLOOKUP(A552,'Step 3. Lease Payments'!B:G,6,))","v":""},""]
[{"$f":"IF(B552<'Step 2. Basic Info'!$E$12,A552+1,\"\")","v":""},"","",{"$f":"IF(A553=\"\",\"\",(SUM('Step 3. Lease Payments'!$G$11:$G$5006)+'Step 2. Basic Info'!$E$24)/'Validations - DO NOT DELETE'!$H$1)","v":""},{"$f":"IF(A553=\"\",\"\",I553*'Step 3. Lease Payments'!$G$8)","v":""},"","",null,"",{"$f":"IF(A553=\"\",\"\",VLOOKUP(A553,'Step 3. Lease Payments'!B:G,6,))","v":""},""]
[{"$f":"IF(B553<'Step 2. Basic Info'!$E$12,A553+1,\"\")","v":""},"","",{"$f":"IF(A554=\"\",\"\",(SUM('Step 3. Lease Payments'!$G$11:$G$5006)+'Step 2. Basic Info'!$E$24)/'Validations - DO NOT DELETE'!$H$1)","v":""},{"$f":"IF(A554=\"\",\"\",I554*'Step 3. Lease Payments'!$G$8)","v":""},"","",null,"",{"$f":"IF(A554=\"\",\"\",VLOOKUP(A554,'Step 3. Lease Payments'!B:G,6,))","v":""},""]
[{"$f":"IF(B554<'Step 2. Basic Info'!$E$12,A554+1,\"\")","v":""},"","",{"$f":"IF(A555=\"\",\"\",(SUM('Step 3. Lease Payments'!$G$11:$G$5006)+'Step 2. Basic Info'!$E$24)/'Validations - DO NOT DELETE'!$H$1)","v":""},{"$f":"IF(A555=\"\",\"\",I555*'Step 3. Lease Payments'!$G$8)","v":""},"","",null,"",{"$f":"IF(A555=\"\",\"\",VLOOKUP(A555,'Step 3. Lease Payments'!B:G,6,))","v":""},""]
[{"$f":"IF(B555<'Step 2. Basic Info'!$E$12,A555+1,\"\")","v":""},"","",{"$f":"IF(A556=\"\",\"\",(SUM('Step 3. Lease Payments'!$G$11:$G$5006)+'Step 2. Basic Info'!$E$24)/'Validations - DO NOT DELETE'!$H$1)","v":""},{"$f":"IF(A556=\"\",\"\",I556*'Step 3. Lease Payments'!$G$8)","v":""},"","",null,"",{"$f":"IF(A556=\"\",\"\",VLOOKUP(A556,'Step 3. Lease Payments'!B:G,6,))","v":""},""]
[{"$f":"IF(B556<'Step 2. Basic Info'!$E$12,A556+1,\"\")","v":""},"","",{"$f":"IF(A557=\"\",\"\",(SUM('Step 3. Lease Payments'!$G$11:$G$5006)+'Step 2. Basic Info'!$E$24)/'Validations - DO NOT DELETE'!$H$1)","v":""},{"$f":"IF(A557=\"\",\"\",I557*'Step 3. Lease Payments'!$G$8)","v":""},"","",null,"",{"$f":"IF(A557=\"\",\"\",VLOOKUP(A557,'Step 3. Lease Payments'!B:G,6,))","v":""},""]
[{"$f":"IF(B557<'Step 2. Basic Info'!$E$12,A557+1,\"\")","v":""},"","",{"$f":"IF(A558=\"\",\"\",(SUM('Step 3. Lease Payments'!$G$11:$G$5006)+'Step 2. Basic Info'!$E$24)/'Validations - DO NOT DELETE'!$H$1)","v":""},{"$f":"IF(A558=\"\",\"\",I558*'Step 3. Lease Payments'!$G$8)","v":""},"","",null,"",{"$f":"IF(A558=\"\",\"\",VLOOKUP(A558,'Step 3. Lease Payments'!B:G,6,))","v":""},""]
[{"$f":"IF(B558<'Step 2. Basic Info'!$E$12,A558+1,\"\")","v":""},"","",{"$f":"IF(A559=\"\",\"\",(SUM('Step 3. Lease Payments'!$G$11:$G$5006)+'Step 2. Basic Info'!$E$24)/'Validations - DO NOT DELETE'!$H$1)","v":""},{"$f":"IF(A559=\"\",\"\",I559*'Step 3. Lease Payments'!$G$8)","v":""},"","",null,"",{"$f":"IF(A559=\"\",\"\",VLOOKUP(A559,'Step 3. Lease Payments'!B:G,6,))","v":""},""]
[{"$f":"IF(B559<'Step 2. Basic Info'!$E$12,A559+1,\"\")","v":""},"","",{"$f":"IF(A560=\"\",\"\",(SUM('Step 3. Lease Payments'!$G$11:$G$5006)+'Step 2. Basic Info'!$E$24)/'Validations - DO NOT DELETE'!$H$1)","v":""},{"$f":"IF(A560=\"\",\"\",I560*'Step 3. Lease Payments'!$G$8)","v":""},"","",null,"",{"$f":"IF(A560=\"\",\"\",VLOOKUP(A560,'Step 3. Lease Payments'!B:G,6,))","v":""},""]
[{"$f":"IF(B560<'Step 2. Basic Info'!$E$12,A560+1,\"\")","v":""},"","",{"$f":"IF(A561=\"\",\"\",(SUM('Step 3. Lease Payments'!$G$11:$G$5006)+'Step 2. Basic Info'!$E$24)/'Validations - DO NOT DELETE'!$H$1)","v":""},{"$f":"IF(A561=\"\",\"\",I561*'Step 3. Lease Payments'!$G$8)","v":""},"","",null,"",{"$f":"IF(A561=\"\",\"\",VLOOKUP(A561,'Step 3. Lease Payments'!B:G,6,))","v":""},""]
[{"$f":"IF(B561<'Step 2. Basic Info'!$E$12,A561+1,\"\")","v":""},"","",{"$f":"IF(A562=\"\",\"\",(SUM('Step 3. Lease Payments'!$G$11:$G$5006)+'Step 2. Basic Info'!$E$24)/'Validations - DO NOT DELETE'!$H$1)","v":""},{"$f":"IF(A562=\"\",\"\",I562*'Step 3. Lease Payments'!$G$8)","v":""},"","",null,"",{"$f":"IF(A562=\"\",\"\",VLOOKUP(A562,'Step 3. Lease Payments'!B:G,6,))","v":""},""]
[{"$f":"IF(B562<'Step 2. Basic Info'!$E$12,A562+1,\"\")","v":""},"","",{"$f":"IF(A563=\"\",\"\",(SUM('Step 3. Lease Payments'!$G$11:$G$5006)+'Step 2. Basic Info'!$E$24)/'Validations - DO NOT DELETE'!$H$1)","v":""},{"$f":"IF(A563=\"\",\"\",I563*'Step 3. Lease Payments'!$G$8)","v":""},"","",null,"",{"$f":"IF(A563=\"\",\"\",VLOOKUP(A563,'Step 3. Lease Payments'!B:G,6,))","v":""},""]
[{"$f":"IF(B563<'Step 2. Basic Info'!$E$12,A563+1,\"\")","v":""},"","",{"$f":"IF(A564=\"\",\"\",(SUM('Step 3. Lease Payments'!$G$11:$G$5006)+'Step 2. Basic Info'!$E$24)/'Validations - DO NOT DELETE'!$H$1)","v":""},{"$f":"IF(A564=\"\",\"\",I564*'Step 3. Lease Payments'!$G$8)","v":""},"","",null,"",{"$f":"IF(A564=\"\",\"\",VLOOKUP(A564,'Step 3. Lease Payments'!B:G,6,))","v":""},""]
[{"$f":"IF(B564<'Step 2. Basic Info'!$E$12,A564+1,\"\")","v":""},"","",{"$f":"IF(A565=\"\",\"\",(SUM('Step 3. Lease Payments'!$G$11:$G$5006)+'Step 2. Basic Info'!$E$24)/'Validations - DO NOT DELETE'!$H$1)","v":""},{"$f":"IF(A565=\"\",\"\",I565*'Step 3. Lease Payments'!$G$8)","v":""},"","",null,"",{"$f":"IF(A565=\"\",\"\",VLOOKUP(A565,'Step 3. Lease Payments'!B:G,6,))","v":""},""]
[{"$f":"IF(B565<'Step 2. Basic Info'!$E$12,A565+1,\"\")","v":""},"","",{"$f":"IF(A566=\"\",\"\",(SUM('Step 3. Lease Payments'!$G$11:$G$5006)+'Step 2. Basic Info'!$E$24)/'Validations - DO NOT DELETE'!$H$1)","v":""},{"$f":"IF(A566=\"\",\"\",I566*'Step 3. Lease Payments'!$G$8)","v":""},"","",null,"",{"$f":"IF(A566=\"\",\"\",VLOOKUP(A566,'Step 3. Lease Payments'!B:G,6,))","v":""},""]
[{"$f":"IF(B566<'Step 2. Basic Info'!$E$12,A566+1,\"\")","v":""},"","",{"$f":"IF(A567=\"\",\"\",(SUM('Step 3. Lease Payments'!$G$11:$G$5006)+'Step 2. Basic Info'!$E$24)/'Validations - DO NOT DELETE'!$H$1)","v":""},{"$f":"IF(A567=\"\",\"\",I567*'Step 3. Lease Payments'!$G$8)","v":""},"","",null,"",{"$f":"IF(A567=\"\",\"\",VLOOKUP(A567,'Step 3. Lease Payments'!B:G,6,))","v":""},""]
[{"$f":"IF(B567<'Step 2. Basic Info'!$E$12,A567+1,\"\")","v":""},"","",{"$f":"IF(A568=\"\",\"\",(SUM('Step 3. Lease Payments'!$G$11:$G$5006)+'Step 2. Basic Info'!$E$24)/'Validations - DO NOT DELETE'!$H$1)","v":""},{"$f":"IF(A568=\"\",\"\",I568*'Step 3. Lease Payments'!$G$8)","v":""},"","",null,"",{"$f":"IF(A568=\"\",\"\",VLOOKUP(A568,'Step 3. Lease Payments'!B:G,6,))","v":""},""]
[{"$f":"IF(B568<'Step 2. Basic Info'!$E$12,A568+1,\"\")","v":""},"","",{"$f":"IF(A569=\"\",\"\",(SUM('Step 3. Lease Payments'!$G$11:$G$5006)+'Step 2. Basic Info'!$E$24)/'Validations - DO NOT DELETE'!$H$1)","v":""},{"$f":"IF(A569=\"\",\"\",I569*'Step 3. Lease Payments'!$G$8)","v":""},"","",null,"",{"$f":"IF(A569=\"\",\"\",VLOOKUP(A569,'Step 3. Lease Payments'!B:G,6,))","v":""},""]
[{"$f":"IF(B569<'Step 2. Basic Info'!$E$12,A569+1,\"\")","v":""},"","",{"$f":"IF(A570=\"\",\"\",(SUM('Step 3. Lease Payments'!$G$11:$G$5006)+'Step 2. Basic Info'!$E$24)/'Validations - DO NOT DELETE'!$H$1)","v":""},{"$f":"IF(A570=\"\",\"\",I570*'Step 3. Lease Payments'!$G$8)","v":""},"","",null,"",{"$f":"IF(A570=\"\",\"\",VLOOKUP(A570,'Step 3. Lease Payments'!B:G,6,))","v":""},""]
[{"$f":"IF(B570<'Step 2. Basic Info'!$E$12,A570+1,\"\")","v":""},"","",{"$f":"IF(A571=\"\",\"\",(SUM('Step 3. Lease Payments'!$G$11:$G$5006)+'Step 2. Basic Info'!$E$24)/'Validations - DO NOT DELETE'!$H$1)","v":""},{"$f":"IF(A571=\"\",\"\",I571*'Step 3. Lease Payments'!$G$8)","v":""},"","",null,"",{"$f":"IF(A571=\"\",\"\",VLOOKUP(A571,'Step 3. Lease Payments'!B:G,6,))","v":""},""]
[{"$f":"IF(B571<'Step 2. Basic Info'!$E$12,A571+1,\"\")","v":""},"","",{"$f":"IF(A572=\"\",\"\",(SUM('Step 3. Lease Payments'!$G$11:$G$5006)+'Step 2. Basic Info'!$E$24)/'Validations - DO NOT DELETE'!$H$1)","v":""},{"$f":"IF(A572=\"\",\"\",I572*'Step 3. Lease Payments'!$G$8)","v":""},"","",null,"",{"$f":"IF(A572=\"\",\"\",VLOOKUP(A572,'Step 3. Lease Payments'!B:G,6,))","v":""},""]
[{"$f":"IF(B572<'Step 2. Basic Info'!$E$12,A572+1,\"\")","v":""},"","",{"$f":"IF(A573=\"\",\"\",(SUM('Step 3. Lease Payments'!$G$11:$G$5006)+'Step 2. Basic Info'!$E$24)/'Validations - DO NOT DELETE'!$H$1)","v":""},{"$f":"IF(A573=\"\",\"\",I573*'Step 3. Lease Payments'!$G$8)","v":""},"","",null,"",{"$f":"IF(A573=\"\",\"\",VLOOKUP(A573,'Step 3. Lease Payments'!B:G,6,))","v":""},""]
[{"$f":"IF(B573<'Step 2. Basic Info'!$E$12,A573+1,\"\")","v":""},"","",{"$f":"IF(A574=\"\",\"\",(SUM('Step 3. Lease Payments'!$G$11:$G$5006)+'Step 2. Basic Info'!$E$24)/'Validations - DO NOT DELETE'!$H$1)","v":""},{"$f":"IF(A574=\"\",\"\",I574*'Step 3. Lease Payments'!$G$8)","v":""},"","",null,"",{"$f":"IF(A574=\"\",\"\",VLOOKUP(A574,'Step 3. Lease Payments'!B:G,6,))","v":""},""]
[{"$f":"IF(B574<'Step 2. Basic Info'!$E$12,A574+1,\"\")","v":""},"","",{"$f":"IF(A575=\"\",\"\",(SUM('Step 3. Lease Payments'!$G$11:$G$5006)+'Step 2. Basic Info'!$E$24)/'Validations - DO NOT DELETE'!$H$1)","v":""},{"$f":"IF(A575=\"\",\"\",I575*'Step 3. Lease Payments'!$G$8)","v":""},"","",null,"",{"$f":"IF(A575=\"\",\"\",VLOOKUP(A575,'Step 3. Lease Payments'!B:G,6,))","v":""},""]
[{"$f":"IF(B575<'Step 2. Basic Info'!$E$12,A575+1,\"\")","v":""},"","",{"$f":"IF(A576=\"\",\"\",(SUM('Step 3. Lease Payments'!$G$11:$G$5006)+'Step 2. Basic Info'!$E$24)/'Validations - DO NOT DELETE'!$H$1)","v":""},{"$f":"IF(A576=\"\",\"\",I576*'Step 3. Lease Payments'!$G$8)","v":""},"","",null,"",{"$f":"IF(A576=\"\",\"\",VLOOKUP(A576,'Step 3. Lease Payments'!B:G,6,))","v":""},""]
[{"$f":"IF(B576<'Step 2. Basic Info'!$E$12,A576+1,\"\")","v":""},"","",{"$f":"IF(A577=\"\",\"\",(SUM('Step 3. Lease Payments'!$G$11:$G$5006)+'Step 2. Basic Info'!$E$24)/'Validations - DO NOT DELETE'!$H$1)","v":""},{"$f":"IF(A577=\"\",\"\",I577*'Step 3. Lease Payments'!$G$8)","v":""},"","",null,"",{"$f":"IF(A577=\"\",\"\",VLOOKUP(A577,'Step 3. Lease Payments'!B:G,6,))","v":""},""]
[{"$f":"IF(B577<'Step 2. Basic Info'!$E$12,A577+1,\"\")","v":""},"","",{"$f":"IF(A578=\"\",\"\",(SUM('Step 3. Lease Payments'!$G$11:$G$5006)+'Step 2. Basic Info'!$E$24)/'Validations - DO NOT DELETE'!$H$1)","v":""},{"$f":"IF(A578=\"\",\"\",I578*'Step 3. Lease Payments'!$G$8)","v":""},"","",null,"",{"$f":"IF(A578=\"\",\"\",VLOOKUP(A578,'Step 3. Lease Payments'!B:G,6,))","v":""},""]
[{"$f":"IF(B578<'Step 2. Basic Info'!$E$12,A578+1,\"\")","v":""},"","",{"$f":"IF(A579=\"\",\"\",(SUM('Step 3. Lease Payments'!$G$11:$G$5006)+'Step 2. Basic Info'!$E$24)/'Validations - DO NOT DELETE'!$H$1)","v":""},{"$f":"IF(A579=\"\",\"\",I579*'Step 3. Lease Payments'!$G$8)","v":""},"","",null,"",{"$f":"IF(A579=\"\",\"\",VLOOKUP(A579,'Step 3. Lease Payments'!B:G,6,))","v":""},""]
[{"$f":"IF(B579<'Step 2. Basic Info'!$E$12,A579+1,\"\")","v":""},"","",{"$f":"IF(A580=\"\",\"\",(SUM('Step 3. Lease Payments'!$G$11:$G$5006)+'Step 2. Basic Info'!$E$24)/'Validations - DO NOT DELETE'!$H$1)","v":""},{"$f":"IF(A580=\"\",\"\",I580*'Step 3. Lease Payments'!$G$8)","v":""},"","",null,"",{"$f":"IF(A580=\"\",\"\",VLOOKUP(A580,'Step 3. Lease Payments'!B:G,6,))","v":""},""]
[{"$f":"IF(B580<'Step 2. Basic Info'!$E$12,A580+1,\"\")","v":""},"","",{"$f":"IF(A581=\"\",\"\",(SUM('Step 3. Lease Payments'!$G$11:$G$5006)+'Step 2. Basic Info'!$E$24)/'Validations - DO NOT DELETE'!$H$1)","v":""},{"$f":"IF(A581=\"\",\"\",I581*'Step 3. Lease Payments'!$G$8)","v":""},"","",null,"",{"$f":"IF(A581=\"\",\"\",VLOOKUP(A581,'Step 3. Lease Payments'!B:G,6,))","v":""},""]
[{"$f":"IF(B581<'Step 2. Basic Info'!$E$12,A581+1,\"\")","v":""},"","",{"$f":"IF(A582=\"\",\"\",(SUM('Step 3. Lease Payments'!$G$11:$G$5006)+'Step 2. Basic Info'!$E$24)/'Validations - DO NOT DELETE'!$H$1)","v":""},{"$f":"IF(A582=\"\",\"\",I582*'Step 3. Lease Payments'!$G$8)","v":""},"","",null,"",{"$f":"IF(A582=\"\",\"\",VLOOKUP(A582,'Step 3. Lease Payments'!B:G,6,))","v":""},""]
[{"$f":"IF(B582<'Step 2. Basic Info'!$E$12,A582+1,\"\")","v":""},"","",{"$f":"IF(A583=\"\",\"\",(SUM('Step 3. Lease Payments'!$G$11:$G$5006)+'Step 2. Basic Info'!$E$24)/'Validations - DO NOT DELETE'!$H$1)","v":""},{"$f":"IF(A583=\"\",\"\",I583*'Step 3. Lease Payments'!$G$8)","v":""},"","",null,"",{"$f":"IF(A583=\"\",\"\",VLOOKUP(A583,'Step 3. Lease Payments'!B:G,6,))","v":""},""]
[{"$f":"IF(B583<'Step 2. Basic Info'!$E$12,A583+1,\"\")","v":""},"","",{"$f":"IF(A584=\"\",\"\",(SUM('Step 3. Lease Payments'!$G$11:$G$5006)+'Step 2. Basic Info'!$E$24)/'Validations - DO NOT DELETE'!$H$1)","v":""},{"$f":"IF(A584=\"\",\"\",I584*'Step 3. Lease Payments'!$G$8)","v":""},"","",null,"",{"$f":"IF(A584=\"\",\"\",VLOOKUP(A584,'Step 3. Lease Payments'!B:G,6,))","v":""},""]
[{"$f":"IF(B584<'Step 2. Basic Info'!$E$12,A584+1,\"\")","v":""},"","",{"$f":"IF(A585=\"\",\"\",(SUM('Step 3. Lease Payments'!$G$11:$G$5006)+'Step 2. Basic Info'!$E$24)/'Validations - DO NOT DELETE'!$H$1)","v":""},{"$f":"IF(A585=\"\",\"\",I585*'Step 3. Lease Payments'!$G$8)","v":""},"","",null,"",{"$f":"IF(A585=\"\",\"\",VLOOKUP(A585,'Step 3. Lease Payments'!B:G,6,))","v":""},""]
[{"$f":"IF(B585<'Step 2. Basic Info'!$E$12,A585+1,\"\")","v":""},"","",{"$f":"IF(A586=\"\",\"\",(SUM('Step 3. Lease Payments'!$G$11:$G$5006)+'Step 2. Basic Info'!$E$24)/'Validations - DO NOT DELETE'!$H$1)","v":""},{"$f":"IF(A586=\"\",\"\",I586*'Step 3. Lease Payments'!$G$8)","v":""},"","",null,"",{"$f":"IF(A586=\"\",\"\",VLOOKUP(A586,'Step 3. Lease Payments'!B:G,6,))","v":""},""]
[{"$f":"IF(B586<'Step 2. Basic Info'!$E$12,A586+1,\"\")","v":""},{"$f":"IF(A587=\"\",\"\",(DATE(YEAR(B586),MONTH(B586)+1,DAY(B586))))","v":""},{"$f":"IF(A587=\"\",\"\",G586)","v":""},{"$f":"IF(A587=\"\",\"\",(SUM('Step 3. Lease Payments'!$G$11:$G$5006)+'Step 2. Basic Info'!$E$24)/'Validations - DO NOT DELETE'!$H$1)","v":""},{"$f":"IF(A587=\"\",\"\",I587*'Step 3. Lease Payments'!$G$8)","v":""},{"$f":"IF(A587=\"\",\"\",D587-E587)","v":""},{"$f":"IF(A587=\"\",\"\",C587-F587)","v":""},null,{"$f":"IF(A587=\"\",\"\",K586)","v":""},{"$f":"IF(A587=\"\",\"\",VLOOKUP(A587,'Step 3. Lease Payments'!B:G,6,))","v":""},{"$f":"IF(A587=\"\",\"\",I587-J587+E587)","v":""}]
[{"$f":"IF(B587<'Step 2. Basic Info'!$E$12,A587+1,\"\")","v":""},"","",{"$f":"IF(A588=\"\",\"\",(SUM('Step 3. Lease Payments'!$G$11:$G$5006)+'Step 2. Basic Info'!$E$24)/'Validations - DO NOT DELETE'!$H$1)","v":""},{"$f":"IF(A588=\"\",\"\",I588*'Step 3. Lease Payments'!$G$8)","v":""},"","",null,"",{"$f":"IF(A588=\"\",\"\",VLOOKUP(A588,'Step 3. Lease Payments'!B:G,6,))","v":""},""]
[{"$f":"IF(B588<'Step 2. Basic Info'!$E$12,A588+1,\"\")","v":""},"","",{"$f":"IF(A589=\"\",\"\",(SUM('Step 3. Lease Payments'!$G$11:$G$5006)+'Step 2. Basic Info'!$E$24)/'Validations - DO NOT DELETE'!$H$1)","v":""},{"$f":"IF(A589=\"\",\"\",I589*'Step 3. Lease Payments'!$G$8)","v":""},"","",null,"",{"$f":"IF(A589=\"\",\"\",VLOOKUP(A589,'Step 3. Lease Payments'!B:G,6,))","v":""},""]
[{"$f":"IF(B589<'Step 2. Basic Info'!$E$12,A589+1,\"\")","v":""},"","",{"$f":"IF(A590=\"\",\"\",(SUM('Step 3. Lease Payments'!$G$11:$G$5006)+'Step 2. Basic Info'!$E$24)/'Validations - DO NOT DELETE'!$H$1)","v":""},{"$f":"IF(A590=\"\",\"\",I590*'Step 3. Lease Payments'!$G$8)","v":""},"","",null,"",{"$f":"IF(A590=\"\",\"\",VLOOKUP(A590,'Step 3. Lease Payments'!B:G,6,))","v":""},""]
[{"$f":"IF(B590<'Step 2. Basic Info'!$E$12,A590+1,\"\")","v":""},"","",{"$f":"IF(A591=\"\",\"\",(SUM('Step 3. Lease Payments'!$G$11:$G$5006)+'Step 2. Basic Info'!$E$24)/'Validations - DO NOT DELETE'!$H$1)","v":""},{"$f":"IF(A591=\"\",\"\",I591*'Step 3. Lease Payments'!$G$8)","v":""},"","",null,"",{"$f":"IF(A591=\"\",\"\",VLOOKUP(A591,'Step 3. Lease Payments'!B:G,6,))","v":""},""]
[{"$f":"IF(B591<'Step 2. Basic Info'!$E$12,A591+1,\"\")","v":""},"","",{"$f":"IF(A592=\"\",\"\",(SUM('Step 3. Lease Payments'!$G$11:$G$5006)+'Step 2. Basic Info'!$E$24)/'Validations - DO NOT DELETE'!$H$1)","v":""},{"$f":"IF(A592=\"\",\"\",I592*'Step 3. Lease Payments'!$G$8)","v":""},"","",null,"",{"$f":"IF(A592=\"\",\"\",VLOOKUP(A592,'Step 3. Lease Payments'!B:G,6,))","v":""},""]
[{"$f":"IF(B592<'Step 2. Basic Info'!$E$12,A592+1,\"\")","v":""},"","",{"$f":"IF(A593=\"\",\"\",(SUM('Step 3. Lease Payments'!$G$11:$G$5006)+'Step 2. Basic Info'!$E$24)/'Validations - DO NOT DELETE'!$H$1)","v":""},{"$f":"IF(A593=\"\",\"\",I593*'Step 3. Lease Payments'!$G$8)","v":""},"","",null,"",{"$f":"IF(A593=\"\",\"\",VLOOKUP(A593,'Step 3. Lease Payments'!B:G,6,))","v":""},""]
[{"$f":"IF(B593<'Step 2. Basic Info'!$E$12,A593+1,\"\")","v":""},"","",{"$f":"IF(A594=\"\",\"\",(SUM('Step 3. Lease Payments'!$G$11:$G$5006)+'Step 2. Basic Info'!$E$24)/'Validations - DO NOT DELETE'!$H$1)","v":""},{"$f":"IF(A594=\"\",\"\",I594*'Step 3. Lease Payments'!$G$8)","v":""},"","",null,"",{"$f":"IF(A594=\"\",\"\",VLOOKUP(A594,'Step 3. Lease Payments'!B:G,6,))","v":""},""]
[{"$f":"IF(B594<'Step 2. Basic Info'!$E$12,A594+1,\"\")","v":""},"","",{"$f":"IF(A595=\"\",\"\",(SUM('Step 3. Lease Payments'!$G$11:$G$5006)+'Step 2. Basic Info'!$E$24)/'Validations - DO NOT DELETE'!$H$1)","v":""},{"$f":"IF(A595=\"\",\"\",I595*'Step 3. Lease Payments'!$G$8)","v":""},"","",null,"",{"$f":"IF(A595=\"\",\"\",VLOOKUP(A595,'Step 3. Lease Payments'!B:G,6,))","v":""},""]
[{"$f":"IF(B595<'Step 2. Basic Info'!$E$12,A595+1,\"\")","v":""},"","",{"$f":"IF(A596=\"\",\"\",(SUM('Step 3. Lease Payments'!$G$11:$G$5006)+'Step 2. Basic Info'!$E$24)/'Validations - DO NOT DELETE'!$H$1)","v":""},{"$f":"IF(A596=\"\",\"\",I596*'Step 3. Lease Payments'!$G$8)","v":""},"","",null,"",{"$f":"IF(A596=\"\",\"\",VLOOKUP(A596,'Step 3. Lease Payments'!B:G,6,))","v":""},""]
[{"$f":"IF(B596<'Step 2. Basic Info'!$E$12,A596+1,\"\")","v":""},"","",{"$f":"IF(A597=\"\",\"\",(SUM('Step 3. Lease Payments'!$G$11:$G$5006)+'Step 2. Basic Info'!$E$24)/'Validations - DO NOT DELETE'!$H$1)","v":""},{"$f":"IF(A597=\"\",\"\",I597*'Step 3. Lease Payments'!$G$8)","v":""},"","",null,"",{"$f":"IF(A597=\"\",\"\",VLOOKUP(A597,'Step 3. Lease Payments'!B:G,6,))","v":""},""]
[{"$f":"IF(B597<'Step 2. Basic Info'!$E$12,A597+1,\"\")","v":""},"","",{"$f":"IF(A598=\"\",\"\",(SUM('Step 3. Lease Payments'!$G$11:$G$5006)+'Step 2. Basic Info'!$E$24)/'Validations - DO NOT DELETE'!$H$1)","v":""},{"$f":"IF(A598=\"\",\"\",I598*'Step 3. Lease Payments'!$G$8)","v":""},"","",null,"",{"$f":"IF(A598=\"\",\"\",VLOOKUP(A598,'Step 3. Lease Payments'!B:G,6,))","v":""},""]
[{"$f":"IF(B598<'Step 2. Basic Info'!$E$12,A598+1,\"\")","v":""},"","",{"$f":"IF(A599=\"\",\"\",(SUM('Step 3. Lease Payments'!$G$11:$G$5006)+'Step 2. Basic Info'!$E$24)/'Validations - DO NOT DELETE'!$H$1)","v":""},{"$f":"IF(A599=\"\",\"\",I599*'Step 3. Lease Payments'!$G$8)","v":""},"","",null,"",{"$f":"IF(A599=\"\",\"\",VLOOKUP(A599,'Step 3. Lease Payments'!B:G,6,))","v":""},""]
[{"$f":"IF(B599<'Step 2. Basic Info'!$E$12,A599+1,\"\")","v":""},"","",{"$f":"IF(A600=\"\",\"\",(SUM('Step 3. Lease Payments'!$G$11:$G$5006)+'Step 2. Basic Info'!$E$24)/'Validations - DO NOT DELETE'!$H$1)","v":""},{"$f":"IF(A600=\"\",\"\",I600*'Step 3. Lease Payments'!$G$8)","v":""},"","",null,"",{"$f":"IF(A600=\"\",\"\",VLOOKUP(A600,'Step 3. Lease Payments'!B:G,6,))","v":""},""]
[{"$f":"IF(B600<'Step 2. Basic Info'!$E$12,A600+1,\"\")","v":""},"","",{"$f":"IF(A601=\"\",\"\",(SUM('Step 3. Lease Payments'!$G$11:$G$5006)+'Step 2. Basic Info'!$E$24)/'Validations - DO NOT DELETE'!$H$1)","v":""},{"$f":"IF(A601=\"\",\"\",I601*'Step 3. Lease Payments'!$G$8)","v":""},"","",null,"",{"$f":"IF(A601=\"\",\"\",VLOOKUP(A601,'Step 3. Lease Payments'!B:G,6,))","v":""},""]
[{"$f":"IF(B601<'Step 2. Basic Info'!$E$12,A601+1,\"\")","v":""},"","",{"$f":"IF(A602=\"\",\"\",(SUM('Step 3. Lease Payments'!$G$11:$G$5006)+'Step 2. Basic Info'!$E$24)/'Validations - DO NOT DELETE'!$H$1)","v":""},{"$f":"IF(A602=\"\",\"\",I602*'Step 3. Lease Payments'!$G$8)","v":""},"","",null,"",{"$f":"IF(A602=\"\",\"\",VLOOKUP(A602,'Step 3. Lease Payments'!B:G,6,))","v":""},""]
[{"$f":"IF(B602<'Step 2. Basic Info'!$E$12,A602+1,\"\")","v":""},"","",{"$f":"IF(A603=\"\",\"\",(SUM('Step 3. Lease Payments'!$G$11:$G$5006)+'Step 2. Basic Info'!$E$24)/'Validations - DO NOT DELETE'!$H$1)","v":""},{"$f":"IF(A603=\"\",\"\",I603*'Step 3. Lease Payments'!$G$8)","v":""},"","",null,"",{"$f":"IF(A603=\"\",\"\",VLOOKUP(A603,'Step 3. Lease Payments'!B:G,6,))","v":""},""]
[{"$f":"IF(B603<'Step 2. Basic Info'!$E$12,A603+1,\"\")","v":""},"","",{"$f":"IF(A604=\"\",\"\",(SUM('Step 3. Lease Payments'!$G$11:$G$5006)+'Step 2. Basic Info'!$E$24)/'Validations - DO NOT DELETE'!$H$1)","v":""},{"$f":"IF(A604=\"\",\"\",I604*'Step 3. Lease Payments'!$G$8)","v":""},"","",null,"",{"$f":"IF(A604=\"\",\"\",VLOOKUP(A604,'Step 3. Lease Payments'!B:G,6,))","v":""},""]
[{"$f":"IF(B604<'Step 2. Basic Info'!$E$12,A604+1,\"\")","v":""},"","",{"$f":"IF(A605=\"\",\"\",(SUM('Step 3. Lease Payments'!$G$11:$G$5006)+'Step 2. Basic Info'!$E$24)/'Validations - DO NOT DELETE'!$H$1)","v":""},{"$f":"IF(A605=\"\",\"\",I605*'Step 3. Lease Payments'!$G$8)","v":""},"","",null,"",{"$f":"IF(A605=\"\",\"\",VLOOKUP(A605,'Step 3. Lease Payments'!B:G,6,))","v":""},""]
[{"$f":"IF(B605<'Step 2. Basic Info'!$E$12,A605+1,\"\")","v":""},"","",{"$f":"IF(A606=\"\",\"\",(SUM('Step 3. Lease Payments'!$G$11:$G$5006)+'Step 2. Basic Info'!$E$24)/'Validations - DO NOT DELETE'!$H$1)","v":""},{"$f":"IF(A606=\"\",\"\",I606*'Step 3. Lease Payments'!$G$8)","v":""},"","",null,"",{"$f":"IF(A606=\"\",\"\",VLOOKUP(A606,'Step 3. Lease Payments'!B:G,6,))","v":""},""]
[{"$f":"IF(B606<'Step 2. Basic Info'!$E$12,A606+1,\"\")","v":""},"","",{"$f":"IF(A607=\"\",\"\",(SUM('Step 3. Lease Payments'!$G$11:$G$5006)+'Step 2. Basic Info'!$E$24)/'Validations - DO NOT DELETE'!$H$1)","v":""},{"$f":"IF(A607=\"\",\"\",I607*'Step 3. Lease Payments'!$G$8)","v":""},"","",null,"",{"$f":"IF(A607=\"\",\"\",VLOOKUP(A607,'Step 3. Lease Payments'!B:G,6,))","v":""},""]
[{"$f":"IF(B607<'Step 2. Basic Info'!$E$12,A607+1,\"\")","v":""},"","",{"$f":"IF(A608=\"\",\"\",(SUM('Step 3. Lease Payments'!$G$11:$G$5006)+'Step 2. Basic Info'!$E$24)/'Validations - DO NOT DELETE'!$H$1)","v":""},{"$f":"IF(A608=\"\",\"\",I608*'Step 3. Lease Payments'!$G$8)","v":""},"","",null,"",{"$f":"IF(A608=\"\",\"\",VLOOKUP(A608,'Step 3. Lease Payments'!B:G,6,))","v":""},""]
[{"$f":"IF(B608<'Step 2. Basic Info'!$E$12,A608+1,\"\")","v":""},"","",{"$f":"IF(A609=\"\",\"\",(SUM('Step 3. Lease Payments'!$G$11:$G$5006)+'Step 2. Basic Info'!$E$24)/'Validations - DO NOT DELETE'!$H$1)","v":""},{"$f":"IF(A609=\"\",\"\",I609*'Step 3. Lease Payments'!$G$8)","v":""},"","",null,"",{"$f":"IF(A609=\"\",\"\",VLOOKUP(A609,'Step 3. Lease Payments'!B:G,6,))","v":""},""]
[{"$f":"IF(B609<'Step 2. Basic Info'!$E$12,A609+1,\"\")","v":""},"","",{"$f":"IF(A610=\"\",\"\",(SUM('Step 3. Lease Payments'!$G$11:$G$5006)+'Step 2. Basic Info'!$E$24)/'Validations - DO NOT DELETE'!$H$1)","v":""},{"$f":"IF(A610=\"\",\"\",I610*'Step 3. Lease Payments'!$G$8)","v":""},"","",null,"",{"$f":"IF(A610=\"\",\"\",VLOOKUP(A610,'Step 3. Lease Payments'!B:G,6,))","v":""},""]
[{"$f":"IF(B610<'Step 2. Basic Info'!$E$12,A610+1,\"\")","v":""},"","",{"$f":"IF(A611=\"\",\"\",(SUM('Step 3. Lease Payments'!$G$11:$G$5006)+'Step 2. Basic Info'!$E$24)/'Validations - DO NOT DELETE'!$H$1)","v":""},{"$f":"IF(A611=\"\",\"\",I611*'Step 3. Lease Payments'!$G$8)","v":""},"","",null,"",{"$f":"IF(A611=\"\",\"\",VLOOKUP(A611,'Step 3. Lease Payments'!B:G,6,))","v":""},""]
[{"$f":"IF(B611<'Step 2. Basic Info'!$E$12,A611+1,\"\")","v":""},"","",{"$f":"IF(A612=\"\",\"\",(SUM('Step 3. Lease Payments'!$G$11:$G$5006)+'Step 2. Basic Info'!$E$24)/'Validations - DO NOT DELETE'!$H$1)","v":""},{"$f":"IF(A612=\"\",\"\",I612*'Step 3. Lease Payments'!$G$8)","v":""},"","",null,"",{"$f":"IF(A612=\"\",\"\",VLOOKUP(A612,'Step 3. Lease Payments'!B:G,6,))","v":""},""]
[{"$f":"IF(B612<'Step 2. Basic Info'!$E$12,A612+1,\"\")","v":""},"","",{"$f":"IF(A613=\"\",\"\",(SUM('Step 3. Lease Payments'!$G$11:$G$5006)+'Step 2. Basic Info'!$E$24)/'Validations - DO NOT DELETE'!$H$1)","v":""},{"$f":"IF(A613=\"\",\"\",I613*'Step 3. Lease Payments'!$G$8)","v":""},"","",null,"",{"$f":"IF(A613=\"\",\"\",VLOOKUP(A613,'Step 3. Lease Payments'!B:G,6,))","v":""},""]
[{"$f":"IF(B613<'Step 2. Basic Info'!$E$12,A613+1,\"\")","v":""},"","",{"$f":"IF(A614=\"\",\"\",(SUM('Step 3. Lease Payments'!$G$11:$G$5006)+'Step 2. Basic Info'!$E$24)/'Validations - DO NOT DELETE'!$H$1)","v":""},{"$f":"IF(A614=\"\",\"\",I614*'Step 3. Lease Payments'!$G$8)","v":""},"","",null,"",{"$f":"IF(A614=\"\",\"\",VLOOKUP(A614,'Step 3. Lease Payments'!B:G,6,))","v":""},""]
[{"$f":"IF(B614<'Step 2. Basic Info'!$E$12,A614+1,\"\")","v":""},"","",{"$f":"IF(A615=\"\",\"\",(SUM('Step 3. Lease Payments'!$G$11:$G$5006)+'Step 2. Basic Info'!$E$24)/'Validations - DO NOT DELETE'!$H$1)","v":""},{"$f":"IF(A615=\"\",\"\",I615*'Step 3. Lease Payments'!$G$8)","v":""},"","",null,"",{"$f":"IF(A615=\"\",\"\",VLOOKUP(A615,'Step 3. Lease Payments'!B:G,6,))","v":""},""]
[{"$f":"IF(B615<'Step 2. Basic Info'!$E$12,A615+1,\"\")","v":""},"","",{"$f":"IF(A616=\"\",\"\",(SUM('Step 3. Lease Payments'!$G$11:$G$5006)+'Step 2. Basic Info'!$E$24)/'Validations - DO NOT DELETE'!$H$1)","v":""},{"$f":"IF(A616=\"\",\"\",I616*'Step 3. Lease Payments'!$G$8)","v":""},"","",null,"",{"$f":"IF(A616=\"\",\"\",VLOOKUP(A616,'Step 3. Lease Payments'!B:G,6,))","v":""},""]
[{"$f":"IF(B616<'Step 2. Basic Info'!$E$12,A616+1,\"\")","v":""},"","",{"$f":"IF(A617=\"\",\"\",(SUM('Step 3. Lease Payments'!$G$11:$G$5006)+'Step 2. Basic Info'!$E$24)/'Validations - DO NOT DELETE'!$H$1)","v":""},{"$f":"IF(A617=\"\",\"\",I617*'Step 3. Lease Payments'!$G$8)","v":""},"","",null,"",{"$f":"IF(A617=\"\",\"\",VLOOKUP(A617,'Step 3. Lease Payments'!B:G,6,))","v":""},""]
[{"$f":"IF(B617<'Step 2. Basic Info'!$E$12,A617+1,\"\")","v":""},"","",{"$f":"IF(A618=\"\",\"\",(SUM('Step 3. Lease Payments'!$G$11:$G$5006)+'Step 2. Basic Info'!$E$24)/'Validations - DO NOT DELETE'!$H$1)","v":""},{"$f":"IF(A618=\"\",\"\",I618*'Step 3. Lease Payments'!$G$8)","v":""},"","",null,"",{"$f":"IF(A618=\"\",\"\",VLOOKUP(A618,'Step 3. Lease Payments'!B:G,6,))","v":""},""]
[{"$f":"IF(B618<'Step 2. Basic Info'!$E$12,A618+1,\"\")","v":""},"","",{"$f":"IF(A619=\"\",\"\",(SUM('Step 3. Lease Payments'!$G$11:$G$5006)+'Step 2. Basic Info'!$E$24)/'Validations - DO NOT DELETE'!$H$1)","v":""},{"$f":"IF(A619=\"\",\"\",I619*'Step 3. Lease Payments'!$G$8)","v":""},"","",null,"",{"$f":"IF(A619=\"\",\"\",VLOOKUP(A619,'Step 3. Lease Payments'!B:G,6,))","v":""},""]
[{"$f":"IF(B619<'Step 2. Basic Info'!$E$12,A619+1,\"\")","v":""},"","",{"$f":"IF(A620=\"\",\"\",(SUM('Step 3. Lease Payments'!$G$11:$G$5006)+'Step 2. Basic Info'!$E$24)/'Validations - DO NOT DELETE'!$H$1)","v":""},{"$f":"IF(A620=\"\",\"\",I620*'Step 3. Lease Payments'!$G$8)","v":""},"","",null,"",{"$f":"IF(A620=\"\",\"\",VLOOKUP(A620,'Step 3. Lease Payments'!B:G,6,))","v":""},""]
[{"$f":"IF(B620<'Step 2. Basic Info'!$E$12,A620+1,\"\")","v":""},"","",{"$f":"IF(A621=\"\",\"\",(SUM('Step 3. Lease Payments'!$G$11:$G$5006)+'Step 2. Basic Info'!$E$24)/'Validations - DO NOT DELETE'!$H$1)","v":""},{"$f":"IF(A621=\"\",\"\",I621*'Step 3. Lease Payments'!$G$8)","v":""},"","",null,"",{"$f":"IF(A621=\"\",\"\",VLOOKUP(A621,'Step 3. Lease Payments'!B:G,6,))","v":""},""]
[{"$f":"IF(B621<'Step 2. Basic Info'!$E$12,A621+1,\"\")","v":""},"","",{"$f":"IF(A622=\"\",\"\",(SUM('Step 3. Lease Payments'!$G$11:$G$5006)+'Step 2. Basic Info'!$E$24)/'Validations - DO NOT DELETE'!$H$1)","v":""},{"$f":"IF(A622=\"\",\"\",I622*'Step 3. Lease Payments'!$G$8)","v":""},"","",null,"",{"$f":"IF(A622=\"\",\"\",VLOOKUP(A622,'Step 3. Lease Payments'!B:G,6,))","v":""},""]
[{"$f":"IF(B622<'Step 2. Basic Info'!$E$12,A622+1,\"\")","v":""},"","",{"$f":"IF(A623=\"\",\"\",(SUM('Step 3. Lease Payments'!$G$11:$G$5006)+'Step 2. Basic Info'!$E$24)/'Validations - DO NOT DELETE'!$H$1)","v":""},{"$f":"IF(A623=\"\",\"\",I623*'Step 3. Lease Payments'!$G$8)","v":""},"","",null,"",{"$f":"IF(A623=\"\",\"\",VLOOKUP(A623,'Step 3. Lease Payments'!B:G,6,))","v":""},""]
[{"$f":"IF(B623<'Step 2. Basic Info'!$E$12,A623+1,\"\")","v":""},"","",{"$f":"IF(A624=\"\",\"\",(SUM('Step 3. Lease Payments'!$G$11:$G$5006)+'Step 2. Basic Info'!$E$24)/'Validations - DO NOT DELETE'!$H$1)","v":""},{"$f":"IF(A624=\"\",\"\",I624*'Step 3. Lease Payments'!$G$8)","v":""},"","",null,"",{"$f":"IF(A624=\"\",\"\",VLOOKUP(A624,'Step 3. Lease Payments'!B:G,6,))","v":""},""]
[{"$f":"IF(B624<'Step 2. Basic Info'!$E$12,A624+1,\"\")","v":""},"","",{"$f":"IF(A625=\"\",\"\",(SUM('Step 3. Lease Payments'!$G$11:$G$5006)+'Step 2. Basic Info'!$E$24)/'Validations - DO NOT DELETE'!$H$1)","v":""},{"$f":"IF(A625=\"\",\"\",I625*'Step 3. Lease Payments'!$G$8)","v":""},"","",null,"",{"$f":"IF(A625=\"\",\"\",VLOOKUP(A625,'Step 3. Lease Payments'!B:G,6,))","v":""},""]
[{"$f":"IF(B625<'Step 2. Basic Info'!$E$12,A625+1,\"\")","v":""},"","",{"$f":"IF(A626=\"\",\"\",(SUM('Step 3. Lease Payments'!$G$11:$G$5006)+'Step 2. Basic Info'!$E$24)/'Validations - DO NOT DELETE'!$H$1)","v":""},{"$f":"IF(A626=\"\",\"\",I626*'Step 3. Lease Payments'!$G$8)","v":""},"","",null,"",{"$f":"IF(A626=\"\",\"\",VLOOKUP(A626,'Step 3. Lease Payments'!B:G,6,))","v":""},""]
[{"$f":"IF(B626<'Step 2. Basic Info'!$E$12,A626+1,\"\")","v":""},"","",{"$f":"IF(A627=\"\",\"\",(SUM('Step 3. Lease Payments'!$G$11:$G$5006)+'Step 2. Basic Info'!$E$24)/'Validations - DO NOT DELETE'!$H$1)","v":""},{"$f":"IF(A627=\"\",\"\",I627*'Step 3. Lease Payments'!$G$8)","v":""},"","",null,"",{"$f":"IF(A627=\"\",\"\",VLOOKUP(A627,'Step 3. Lease Payments'!B:G,6,))","v":""},""]
[{"$f":"IF(B627<'Step 2. Basic Info'!$E$12,A627+1,\"\")","v":""},"","",{"$f":"IF(A628=\"\",\"\",(SUM('Step 3. Lease Payments'!$G$11:$G$5006)+'Step 2. Basic Info'!$E$24)/'Validations - DO NOT DELETE'!$H$1)","v":""},{"$f":"IF(A628=\"\",\"\",I628*'Step 3. Lease Payments'!$G$8)","v":""},"","",null,"",{"$f":"IF(A628=\"\",\"\",VLOOKUP(A628,'Step 3. Lease Payments'!B:G,6,))","v":""},""]
[{"$f":"IF(B628<'Step 2. Basic Info'!$E$12,A628+1,\"\")","v":""},"","",{"$f":"IF(A629=\"\",\"\",(SUM('Step 3. Lease Payments'!$G$11:$G$5006)+'Step 2. Basic Info'!$E$24)/'Validations - DO NOT DELETE'!$H$1)","v":""},{"$f":"IF(A629=\"\",\"\",I629*'Step 3. Lease Payments'!$G$8)","v":""},"","",null,"",{"$f":"IF(A629=\"\",\"\",VLOOKUP(A629,'Step 3. Lease Payments'!B:G,6,))","v":""},""]
[{"$f":"IF(B629<'Step 2. Basic Info'!$E$12,A629+1,\"\")","v":""},"","",{"$f":"IF(A630=\"\",\"\",(SUM('Step 3. Lease Payments'!$G$11:$G$5006)+'Step 2. Basic Info'!$E$24)/'Validations - DO NOT DELETE'!$H$1)","v":""},{"$f":"IF(A630=\"\",\"\",I630*'Step 3. Lease Payments'!$G$8)","v":""},"","",null,"",{"$f":"IF(A630=\"\",\"\",VLOOKUP(A630,'Step 3. Lease Payments'!B:G,6,))","v":""},""]
[{"$f":"IF(B630<'Step 2. Basic Info'!$E$12,A630+1,\"\")","v":""},"","",{"$f":"IF(A631=\"\",\"\",(SUM('Step 3. Lease Payments'!$G$11:$G$5006)+'Step 2. Basic Info'!$E$24)/'Validations - DO NOT DELETE'!$H$1)","v":""},{"$f":"IF(A631=\"\",\"\",I631*'Step 3. Lease Payments'!$G$8)","v":""},"","",null,"",{"$f":"IF(A631=\"\",\"\",VLOOKUP(A631,'Step 3. Lease Payments'!B:G,6,))","v":""},""]
[{"$f":"IF(B631<'Step 2. Basic Info'!$E$12,A631+1,\"\")","v":""},"","",{"$f":"IF(A632=\"\",\"\",(SUM('Step 3. Lease Payments'!$G$11:$G$5006)+'Step 2. Basic Info'!$E$24)/'Validations - DO NOT DELETE'!$H$1)","v":""},{"$f":"IF(A632=\"\",\"\",I632*'Step 3. Lease Payments'!$G$8)","v":""},"","",null,"",{"$f":"IF(A632=\"\",\"\",VLOOKUP(A632,'Step 3. Lease Payments'!B:G,6,))","v":""},""]
[{"$f":"IF(B632<'Step 2. Basic Info'!$E$12,A632+1,\"\")","v":""},"","",{"$f":"IF(A633=\"\",\"\",(SUM('Step 3. Lease Payments'!$G$11:$G$5006)+'Step 2. Basic Info'!$E$24)/'Validations - DO NOT DELETE'!$H$1)","v":""},{"$f":"IF(A633=\"\",\"\",I633*'Step 3. Lease Payments'!$G$8)","v":""},"","",null,"",{"$f":"IF(A633=\"\",\"\",VLOOKUP(A633,'Step 3. Lease Payments'!B:G,6,))","v":""},""]
[{"$f":"IF(B633<'Step 2. Basic Info'!$E$12,A633+1,\"\")","v":""},"","",{"$f":"IF(A634=\"\",\"\",(SUM('Step 3. Lease Payments'!$G$11:$G$5006)+'Step 2. Basic Info'!$E$24)/'Validations - DO NOT DELETE'!$H$1)","v":""},{"$f":"IF(A634=\"\",\"\",I634*'Step 3. Lease Payments'!$G$8)","v":""},"","",null,"",{"$f":"IF(A634=\"\",\"\",VLOOKUP(A634,'Step 3. Lease Payments'!B:G,6,))","v":""},""]
[{"$f":"IF(B634<'Step 2. Basic Info'!$E$12,A634+1,\"\")","v":""},"","",{"$f":"IF(A635=\"\",\"\",(SUM('Step 3. Lease Payments'!$G$11:$G$5006)+'Step 2. Basic Info'!$E$24)/'Validations - DO NOT DELETE'!$H$1)","v":""},{"$f":"IF(A635=\"\",\"\",I635*'Step 3. Lease Payments'!$G$8)","v":""},"","",null,"",{"$f":"IF(A635=\"\",\"\",VLOOKUP(A635,'Step 3. Lease Payments'!B:G,6,))","v":""},""]
[{"$f":"IF(B635<'Step 2. Basic Info'!$E$12,A635+1,\"\")","v":""},"","",{"$f":"IF(A636=\"\",\"\",(SUM('Step 3. Lease Payments'!$G$11:$G$5006)+'Step 2. Basic Info'!$E$24)/'Validations - DO NOT DELETE'!$H$1)","v":""},{"$f":"IF(A636=\"\",\"\",I636*'Step 3. Lease Payments'!$G$8)","v":""},"","",null,"",{"$f":"IF(A636=\"\",\"\",VLOOKUP(A636,'Step 3. Lease Payments'!B:G,6,))","v":""},""]
[{"$f":"IF(B636<'Step 2. Basic Info'!$E$12,A636+1,\"\")","v":""},"","",{"$f":"IF(A637=\"\",\"\",(SUM('Step 3. Lease Payments'!$G$11:$G$5006)+'Step 2. Basic Info'!$E$24)/'Validations - DO NOT DELETE'!$H$1)","v":""},{"$f":"IF(A637=\"\",\"\",I637*'Step 3. Lease Payments'!$G$8)","v":""},"","",null,"",{"$f":"IF(A637=\"\",\"\",VLOOKUP(A637,'Step 3. Lease Payments'!B:G,6,))","v":""},""]
[{"$f":"IF(B637<'Step 2. Basic Info'!$E$12,A637+1,\"\")","v":""},"","",{"$f":"IF(A638=\"\",\"\",(SUM('Step 3. Lease Payments'!$G$11:$G$5006)+'Step 2. Basic Info'!$E$24)/'Validations - DO NOT DELETE'!$H$1)","v":""},{"$f":"IF(A638=\"\",\"\",I638*'Step 3. Lease Payments'!$G$8)","v":""},"","",null,"",{"$f":"IF(A638=\"\",\"\",VLOOKUP(A638,'Step 3. Lease Payments'!B:G,6,))","v":""},""]
[{"$f":"IF(B638<'Step 2. Basic Info'!$E$12,A638+1,\"\")","v":""},"","",{"$f":"IF(A639=\"\",\"\",(SUM('Step 3. Lease Payments'!$G$11:$G$5006)+'Step 2. Basic Info'!$E$24)/'Validations - DO NOT DELETE'!$H$1)","v":""},{"$f":"IF(A639=\"\",\"\",I639*'Step 3. Lease Payments'!$G$8)","v":""},"","",null,"",{"$f":"IF(A639=\"\",\"\",VLOOKUP(A639,'Step 3. Lease Payments'!B:G,6,))","v":""},""]
[{"$f":"IF(B639<'Step 2. Basic Info'!$E$12,A639+1,\"\")","v":""},"","",{"$f":"IF(A640=\"\",\"\",(SUM('Step 3. Lease Payments'!$G$11:$G$5006)+'Step 2. Basic Info'!$E$24)/'Validations - DO NOT DELETE'!$H$1)","v":""},{"$f":"IF(A640=\"\",\"\",I640*'Step 3. Lease Payments'!$G$8)","v":""},"","",null,"",{"$f":"IF(A640=\"\",\"\",VLOOKUP(A640,'Step 3. Lease Payments'!B:G,6,))","v":""},""]
[{"$f":"IF(B640<'Step 2. Basic Info'!$E$12,A640+1,\"\")","v":""},"","",{"$f":"IF(A641=\"\",\"\",(SUM('Step 3. Lease Payments'!$G$11:$G$5006)+'Step 2. Basic Info'!$E$24)/'Validations - DO NOT DELETE'!$H$1)","v":""},{"$f":"IF(A641=\"\",\"\",I641*'Step 3. Lease Payments'!$G$8)","v":""},"","",null,"",{"$f":"IF(A641=\"\",\"\",VLOOKUP(A641,'Step 3. Lease Payments'!B:G,6,))","v":""},""]
[{"$f":"IF(B641<'Step 2. Basic Info'!$E$12,A641+1,\"\")","v":""},"","",{"$f":"IF(A642=\"\",\"\",(SUM('Step 3. Lease Payments'!$G$11:$G$5006)+'Step 2. Basic Info'!$E$24)/'Validations - DO NOT DELETE'!$H$1)","v":""},{"$f":"IF(A642=\"\",\"\",I642*'Step 3. Lease Payments'!$G$8)","v":""},"","",null,"",{"$f":"IF(A642=\"\",\"\",VLOOKUP(A642,'Step 3. Lease Payments'!B:G,6,))","v":""},""]
[{"$f":"IF(B642<'Step 2. Basic Info'!$E$12,A642+1,\"\")","v":""},"","",{"$f":"IF(A643=\"\",\"\",(SUM('Step 3. Lease Payments'!$G$11:$G$5006)+'Step 2. Basic Info'!$E$24)/'Validations - DO NOT DELETE'!$H$1)","v":""},{"$f":"IF(A643=\"\",\"\",I643*'Step 3. Lease Payments'!$G$8)","v":""},"","",null,"",{"$f":"IF(A643=\"\",\"\",VLOOKUP(A643,'Step 3. Lease Payments'!B:G,6,))","v":""},""]
[{"$f":"IF(B643<'Step 2. Basic Info'!$E$12,A643+1,\"\")","v":""},"","",{"$f":"IF(A644=\"\",\"\",(SUM('Step 3. Lease Payments'!$G$11:$G$5006)+'Step 2. Basic Info'!$E$24)/'Validations - DO NOT DELETE'!$H$1)","v":""},{"$f":"IF(A644=\"\",\"\",I644*'Step 3. Lease Payments'!$G$8)","v":""},"","",null,"",{"$f":"IF(A644=\"\",\"\",VLOOKUP(A644,'Step 3. Lease Payments'!B:G,6,))","v":""},""]
[{"$f":"IF(B644<'Step 2. Basic Info'!$E$12,A644+1,\"\")","v":""},"","",{"$f":"IF(A645=\"\",\"\",(SUM('Step 3. Lease Payments'!$G$11:$G$5006)+'Step 2. Basic Info'!$E$24)/'Validations - DO NOT DELETE'!$H$1)","v":""},{"$f":"IF(A645=\"\",\"\",I645*'Step 3. Lease Payments'!$G$8)","v":""},"","",null,"",{"$f":"IF(A645=\"\",\"\",VLOOKUP(A645,'Step 3. Lease Payments'!B:G,6,))","v":""},""]
[{"$f":"IF(B645<'Step 2. Basic Info'!$E$12,A645+1,\"\")","v":""},"","",{"$f":"IF(A646=\"\",\"\",(SUM('Step 3. Lease Payments'!$G$11:$G$5006)+'Step 2. Basic Info'!$E$24)/'Validations - DO NOT DELETE'!$H$1)","v":""},{"$f":"IF(A646=\"\",\"\",I646*'Step 3. Lease Payments'!$G$8)","v":""},"","",null,"",{"$f":"IF(A646=\"\",\"\",VLOOKUP(A646,'Step 3. Lease Payments'!B:G,6,))","v":""},""]
[{"$f":"IF(B646<'Step 2. Basic Info'!$E$12,A646+1,\"\")","v":""},"","",{"$f":"IF(A647=\"\",\"\",(SUM('Step 3. Lease Payments'!$G$11:$G$5006)+'Step 2. Basic Info'!$E$24)/'Validations - DO NOT DELETE'!$H$1)","v":""},{"$f":"IF(A647=\"\",\"\",I647*'Step 3. Lease Payments'!$G$8)","v":""},"","",null,"",{"$f":"IF(A647=\"\",\"\",VLOOKUP(A647,'Step 3. Lease Payments'!B:G,6,))","v":""},""]
[{"$f":"IF(B647<'Step 2. Basic Info'!$E$12,A647+1,\"\")","v":""},"","",{"$f":"IF(A648=\"\",\"\",(SUM('Step 3. Lease Payments'!$G$11:$G$5006)+'Step 2. Basic Info'!$E$24)/'Validations - DO NOT DELETE'!$H$1)","v":""},{"$f":"IF(A648=\"\",\"\",I648*'Step 3. Lease Payments'!$G$8)","v":""},"","",null,"",{"$f":"IF(A648=\"\",\"\",VLOOKUP(A648,'Step 3. Lease Payments'!B:G,6,))","v":""},""]
[{"$f":"IF(B648<'Step 2. Basic Info'!$E$12,A648+1,\"\")","v":""},"","",{"$f":"IF(A649=\"\",\"\",(SUM('Step 3. Lease Payments'!$G$11:$G$5006)+'Step 2. Basic Info'!$E$24)/'Validations - DO NOT DELETE'!$H$1)","v":""},{"$f":"IF(A649=\"\",\"\",I649*'Step 3. Lease Payments'!$G$8)","v":""},"","",null,"",{"$f":"IF(A649=\"\",\"\",VLOOKUP(A649,'Step 3. Lease Payments'!B:G,6,))","v":""},""]
[{"$f":"IF(B649<'Step 2. Basic Info'!$E$12,A649+1,\"\")","v":""},"","",{"$f":"IF(A650=\"\",\"\",(SUM('Step 3. Lease Payments'!$G$11:$G$5006)+'Step 2. Basic Info'!$E$24)/'Validations - DO NOT DELETE'!$H$1)","v":""},{"$f":"IF(A650=\"\",\"\",I650*'Step 3. Lease Payments'!$G$8)","v":""},"","",null,"",{"$f":"IF(A650=\"\",\"\",VLOOKUP(A650,'Step 3. Lease Payments'!B:G,6,))","v":""},""]
[{"$f":"IF(B650<'Step 2. Basic Info'!$E$12,A650+1,\"\")","v":""},{"$f":"IF(A651=\"\",\"\",(DATE(YEAR(B650),MONTH(B650)+1,DAY(B650))))","v":""},{"$f":"IF(A651=\"\",\"\",G650)","v":""},{"$f":"IF(A651=\"\",\"\",(SUM('Step 3. Lease Payments'!$G$11:$G$5006)+'Step 2. Basic Info'!$E$24)/'Validations - DO NOT DELETE'!$H$1)","v":""},{"$f":"IF(A651=\"\",\"\",I651*'Step 3. Lease Payments'!$G$8)","v":""},{"$f":"IF(A651=\"\",\"\",D651-E651)","v":""},{"$f":"IF(A651=\"\",\"\",C651-F651)","v":""},null,{"$f":"IF(A651=\"\",\"\",K650)","v":""},{"$f":"IF(A651=\"\",\"\",VLOOKUP(A651,'Step 3. Lease Payments'!B:G,6,))","v":""},{"$f":"IF(A651=\"\",\"\",I651-J651+E651)","v":""}]
[{"$f":"IF(B651<'Step 2. Basic Info'!$E$12,A651+1,\"\")","v":""},"","",{"$f":"IF(A652=\"\",\"\",(SUM('Step 3. Lease Payments'!$G$11:$G$5006)+'Step 2. Basic Info'!$E$24)/'Validations - DO NOT DELETE'!$H$1)","v":""},{"$f":"IF(A652=\"\",\"\",I652*'Step 3. Lease Payments'!$G$8)","v":""},"","",null,"",{"$f":"IF(A652=\"\",\"\",VLOOKUP(A652,'Step 3. Lease Payments'!B:G,6,))","v":""},""]
[{"$f":"IF(B652<'Step 2. Basic Info'!$E$12,A652+1,\"\")","v":""},"","",{"$f":"IF(A653=\"\",\"\",(SUM('Step 3. Lease Payments'!$G$11:$G$5006)+'Step 2. Basic Info'!$E$24)/'Validations - DO NOT DELETE'!$H$1)","v":""},{"$f":"IF(A653=\"\",\"\",I653*'Step 3. Lease Payments'!$G$8)","v":""},"","",null,"",{"$f":"IF(A653=\"\",\"\",VLOOKUP(A653,'Step 3. Lease Payments'!B:G,6,))","v":""},""]
[{"$f":"IF(B653<'Step 2. Basic Info'!$E$12,A653+1,\"\")","v":""},"","",{"$f":"IF(A654=\"\",\"\",(SUM('Step 3. Lease Payments'!$G$11:$G$5006)+'Step 2. Basic Info'!$E$24)/'Validations - DO NOT DELETE'!$H$1)","v":""},{"$f":"IF(A654=\"\",\"\",I654*'Step 3. Lease Payments'!$G$8)","v":""},"","",null,"",{"$f":"IF(A654=\"\",\"\",VLOOKUP(A654,'Step 3. Lease Payments'!B:G,6,))","v":""},""]
[{"$f":"IF(B654<'Step 2. Basic Info'!$E$12,A654+1,\"\")","v":""},"","",{"$f":"IF(A655=\"\",\"\",(SUM('Step 3. Lease Payments'!$G$11:$G$5006)+'Step 2. Basic Info'!$E$24)/'Validations - DO NOT DELETE'!$H$1)","v":""},{"$f":"IF(A655=\"\",\"\",I655*'Step 3. Lease Payments'!$G$8)","v":""},"","",null,"",{"$f":"IF(A655=\"\",\"\",VLOOKUP(A655,'Step 3. Lease Payments'!B:G,6,))","v":""},""]
[{"$f":"IF(B655<'Step 2. Basic Info'!$E$12,A655+1,\"\")","v":""},"","",{"$f":"IF(A656=\"\",\"\",(SUM('Step 3. Lease Payments'!$G$11:$G$5006)+'Step 2. Basic Info'!$E$24)/'Validations - DO NOT DELETE'!$H$1)","v":""},{"$f":"IF(A656=\"\",\"\",I656*'Step 3. Lease Payments'!$G$8)","v":""},"","",null,"",{"$f":"IF(A656=\"\",\"\",VLOOKUP(A656,'Step 3. Lease Payments'!B:G,6,))","v":""},""]
[{"$f":"IF(B656<'Step 2. Basic Info'!$E$12,A656+1,\"\")","v":""},"","",{"$f":"IF(A657=\"\",\"\",(SUM('Step 3. Lease Payments'!$G$11:$G$5006)+'Step 2. Basic Info'!$E$24)/'Validations - DO NOT DELETE'!$H$1)","v":""},{"$f":"IF(A657=\"\",\"\",I657*'Step 3. Lease Payments'!$G$8)","v":""},"","",null,"",{"$f":"IF(A657=\"\",\"\",VLOOKUP(A657,'Step 3. Lease Payments'!B:G,6,))","v":""},""]
[{"$f":"IF(B657<'Step 2. Basic Info'!$E$12,A657+1,\"\")","v":""},"","",{"$f":"IF(A658=\"\",\"\",(SUM('Step 3. Lease Payments'!$G$11:$G$5006)+'Step 2. Basic Info'!$E$24)/'Validations - DO NOT DELETE'!$H$1)","v":""},{"$f":"IF(A658=\"\",\"\",I658*'Step 3. Lease Payments'!$G$8)","v":""},"","",null,"",{"$f":"IF(A658=\"\",\"\",VLOOKUP(A658,'Step 3. Lease Payments'!B:G,6,))","v":""},""]
[{"$f":"IF(B658<'Step 2. Basic Info'!$E$12,A658+1,\"\")","v":""},"","",{"$f":"IF(A659=\"\",\"\",(SUM('Step 3. Lease Payments'!$G$11:$G$5006)+'Step 2. Basic Info'!$E$24)/'Validations - DO NOT DELETE'!$H$1)","v":""},{"$f":"IF(A659=\"\",\"\",I659*'Step 3. Lease Payments'!$G$8)","v":""},"","",null,"",{"$f":"IF(A659=\"\",\"\",VLOOKUP(A659,'Step 3. Lease Payments'!B:G,6,))","v":""},""]
[{"$f":"IF(B659<'Step 2. Basic Info'!$E$12,A659+1,\"\")","v":""},"","",{"$f":"IF(A660=\"\",\"\",(SUM('Step 3. Lease Payments'!$G$11:$G$5006)+'Step 2. Basic Info'!$E$24)/'Validations - DO NOT DELETE'!$H$1)","v":""},{"$f":"IF(A660=\"\",\"\",I660*'Step 3. Lease Payments'!$G$8)","v":""},"","",null,"",{"$f":"IF(A660=\"\",\"\",VLOOKUP(A660,'Step 3. Lease Payments'!B:G,6,))","v":""},""]
[{"$f":"IF(B660<'Step 2. Basic Info'!$E$12,A660+1,\"\")","v":""},"","",{"$f":"IF(A661=\"\",\"\",(SUM('Step 3. Lease Payments'!$G$11:$G$5006)+'Step 2. Basic Info'!$E$24)/'Validations - DO NOT DELETE'!$H$1)","v":""},{"$f":"IF(A661=\"\",\"\",I661*'Step 3. Lease Payments'!$G$8)","v":""},"","",null,"",{"$f":"IF(A661=\"\",\"\",VLOOKUP(A661,'Step 3. Lease Payments'!B:G,6,))","v":""},""]
[{"$f":"IF(B661<'Step 2. Basic Info'!$E$12,A661+1,\"\")","v":""},"","",{"$f":"IF(A662=\"\",\"\",(SUM('Step 3. Lease Payments'!$G$11:$G$5006)+'Step 2. Basic Info'!$E$24)/'Validations - DO NOT DELETE'!$H$1)","v":""},{"$f":"IF(A662=\"\",\"\",I662*'Step 3. Lease Payments'!$G$8)","v":""},"","",null,"",{"$f":"IF(A662=\"\",\"\",VLOOKUP(A662,'Step 3. Lease Payments'!B:G,6,))","v":""},""]
[{"$f":"IF(B662<'Step 2. Basic Info'!$E$12,A662+1,\"\")","v":""},"","",{"$f":"IF(A663=\"\",\"\",(SUM('Step 3. Lease Payments'!$G$11:$G$5006)+'Step 2. Basic Info'!$E$24)/'Validations - DO NOT DELETE'!$H$1)","v":""},{"$f":"IF(A663=\"\",\"\",I663*'Step 3. Lease Payments'!$G$8)","v":""},"","",null,"",{"$f":"IF(A663=\"\",\"\",VLOOKUP(A663,'Step 3. Lease Payments'!B:G,6,))","v":""},""]
[{"$f":"IF(B663<'Step 2. Basic Info'!$E$12,A663+1,\"\")","v":""},"","",{"$f":"IF(A664=\"\",\"\",(SUM('Step 3. Lease Payments'!$G$11:$G$5006)+'Step 2. Basic Info'!$E$24)/'Validations - DO NOT DELETE'!$H$1)","v":""},{"$f":"IF(A664=\"\",\"\",I664*'Step 3. Lease Payments'!$G$8)","v":""},"","",null,"",{"$f":"IF(A664=\"\",\"\",VLOOKUP(A664,'Step 3. Lease Payments'!B:G,6,))","v":""},""]
[{"$f":"IF(B664<'Step 2. Basic Info'!$E$12,A664+1,\"\")","v":""},"","",{"$f":"IF(A665=\"\",\"\",(SUM('Step 3. Lease Payments'!$G$11:$G$5006)+'Step 2. Basic Info'!$E$24)/'Validations - DO NOT DELETE'!$H$1)","v":""},{"$f":"IF(A665=\"\",\"\",I665*'Step 3. Lease Payments'!$G$8)","v":""},"","",null,"",{"$f":"IF(A665=\"\",\"\",VLOOKUP(A665,'Step 3. Lease Payments'!B:G,6,))","v":""},""]
[{"$f":"IF(B665<'Step 2. Basic Info'!$E$12,A665+1,\"\")","v":""},"","",{"$f":"IF(A666=\"\",\"\",(SUM('Step 3. Lease Payments'!$G$11:$G$5006)+'Step 2. Basic Info'!$E$24)/'Validations - DO NOT DELETE'!$H$1)","v":""},{"$f":"IF(A666=\"\",\"\",I666*'Step 3. Lease Payments'!$G$8)","v":""},"","",null,"",{"$f":"IF(A666=\"\",\"\",VLOOKUP(A666,'Step 3. Lease Payments'!B:G,6,))","v":""},""]
[{"$f":"IF(B666<'Step 2. Basic Info'!$E$12,A666+1,\"\")","v":""},"","",{"$f":"IF(A667=\"\",\"\",(SUM('Step 3. Lease Payments'!$G$11:$G$5006)+'Step 2. Basic Info'!$E$24)/'Validations - DO NOT DELETE'!$H$1)","v":""},{"$f":"IF(A667=\"\",\"\",I667*'Step 3. Lease Payments'!$G$8)","v":""},"","",null,"",{"$f":"IF(A667=\"\",\"\",VLOOKUP(A667,'Step 3. Lease Payments'!B:G,6,))","v":""},""]
[{"$f":"IF(B667<'Step 2. Basic Info'!$E$12,A667+1,\"\")","v":""},"","",{"$f":"IF(A668=\"\",\"\",(SUM('Step 3. Lease Payments'!$G$11:$G$5006)+'Step 2. Basic Info'!$E$24)/'Validations - DO NOT DELETE'!$H$1)","v":""},{"$f":"IF(A668=\"\",\"\",I668*'Step 3. Lease Payments'!$G$8)","v":""},"","",null,"",{"$f":"IF(A668=\"\",\"\",VLOOKUP(A668,'Step 3. Lease Payments'!B:G,6,))","v":""},""]
[{"$f":"IF(B668<'Step 2. Basic Info'!$E$12,A668+1,\"\")","v":""},"","",{"$f":"IF(A669=\"\",\"\",(SUM('Step 3. Lease Payments'!$G$11:$G$5006)+'Step 2. Basic Info'!$E$24)/'Validations - DO NOT DELETE'!$H$1)","v":""},{"$f":"IF(A669=\"\",\"\",I669*'Step 3. Lease Payments'!$G$8)","v":""},"","",null,"",{"$f":"IF(A669=\"\",\"\",VLOOKUP(A669,'Step 3. Lease Payments'!B:G,6,))","v":""},""]
[{"$f":"IF(B669<'Step 2. Basic Info'!$E$12,A669+1,\"\")","v":""},"","",{"$f":"IF(A670=\"\",\"\",(SUM('Step 3. Lease Payments'!$G$11:$G$5006)+'Step 2. Basic Info'!$E$24)/'Validations - DO NOT DELETE'!$H$1)","v":""},{"$f":"IF(A670=\"\",\"\",I670*'Step 3. Lease Payments'!$G$8)","v":""},"","",null,"",{"$f":"IF(A670=\"\",\"\",VLOOKUP(A670,'Step 3. Lease Payments'!B:G,6,))","v":""},""]
[{"$f":"IF(B670<'Step 2. Basic Info'!$E$12,A670+1,\"\")","v":""},"","",{"$f":"IF(A671=\"\",\"\",(SUM('Step 3. Lease Payments'!$G$11:$G$5006)+'Step 2. Basic Info'!$E$24)/'Validations - DO NOT DELETE'!$H$1)","v":""},{"$f":"IF(A671=\"\",\"\",I671*'Step 3. Lease Payments'!$G$8)","v":""},"","",null,"",{"$f":"IF(A671=\"\",\"\",VLOOKUP(A671,'Step 3. Lease Payments'!B:G,6,))","v":""},""]
[{"$f":"IF(B671<'Step 2. Basic Info'!$E$12,A671+1,\"\")","v":""},"","",{"$f":"IF(A672=\"\",\"\",(SUM('Step 3. Lease Payments'!$G$11:$G$5006)+'Step 2. Basic Info'!$E$24)/'Validations - DO NOT DELETE'!$H$1)","v":""},{"$f":"IF(A672=\"\",\"\",I672*'Step 3. Lease Payments'!$G$8)","v":""},"","",null,"",{"$f":"IF(A672=\"\",\"\",VLOOKUP(A672,'Step 3. Lease Payments'!B:G,6,))","v":""},""]
[{"$f":"IF(B672<'Step 2. Basic Info'!$E$12,A672+1,\"\")","v":""},"","",{"$f":"IF(A673=\"\",\"\",(SUM('Step 3. Lease Payments'!$G$11:$G$5006)+'Step 2. Basic Info'!$E$24)/'Validations - DO NOT DELETE'!$H$1)","v":""},{"$f":"IF(A673=\"\",\"\",I673*'Step 3. Lease Payments'!$G$8)","v":""},"","",null,"",{"$f":"IF(A673=\"\",\"\",VLOOKUP(A673,'Step 3. Lease Payments'!B:G,6,))","v":""},""]
[{"$f":"IF(B673<'Step 2. Basic Info'!$E$12,A673+1,\"\")","v":""},"","",{"$f":"IF(A674=\"\",\"\",(SUM('Step 3. Lease Payments'!$G$11:$G$5006)+'Step 2. Basic Info'!$E$24)/'Validations - DO NOT DELETE'!$H$1)","v":""},{"$f":"IF(A674=\"\",\"\",I674*'Step 3. Lease Payments'!$G$8)","v":""},"","",null,"",{"$f":"IF(A674=\"\",\"\",VLOOKUP(A674,'Step 3. Lease Payments'!B:G,6,))","v":""},""]
[{"$f":"IF(B674<'Step 2. Basic Info'!$E$12,A674+1,\"\")","v":""},"","",{"$f":"IF(A675=\"\",\"\",(SUM('Step 3. Lease Payments'!$G$11:$G$5006)+'Step 2. Basic Info'!$E$24)/'Validations - DO NOT DELETE'!$H$1)","v":""},{"$f":"IF(A675=\"\",\"\",I675*'Step 3. Lease Payments'!$G$8)","v":""},"","",null,"",{"$f":"IF(A675=\"\",\"\",VLOOKUP(A675,'Step 3. Lease Payments'!B:G,6,))","v":""},""]
[{"$f":"IF(B675<'Step 2. Basic Info'!$E$12,A675+1,\"\")","v":""},"","",{"$f":"IF(A676=\"\",\"\",(SUM('Step 3. Lease Payments'!$G$11:$G$5006)+'Step 2. Basic Info'!$E$24)/'Validations - DO NOT DELETE'!$H$1)","v":""},{"$f":"IF(A676=\"\",\"\",I676*'Step 3. Lease Payments'!$G$8)","v":""},"","",null,"",{"$f":"IF(A676=\"\",\"\",VLOOKUP(A676,'Step 3. Lease Payments'!B:G,6,))","v":""},""]
[{"$f":"IF(B676<'Step 2. Basic Info'!$E$12,A676+1,\"\")","v":""},"","",{"$f":"IF(A677=\"\",\"\",(SUM('Step 3. Lease Payments'!$G$11:$G$5006)+'Step 2. Basic Info'!$E$24)/'Validations - DO NOT DELETE'!$H$1)","v":""},{"$f":"IF(A677=\"\",\"\",I677*'Step 3. Lease Payments'!$G$8)","v":""},"","",null,"",{"$f":"IF(A677=\"\",\"\",VLOOKUP(A677,'Step 3. Lease Payments'!B:G,6,))","v":""},""]
[{"$f":"IF(B677<'Step 2. Basic Info'!$E$12,A677+1,\"\")","v":""},"","",{"$f":"IF(A678=\"\",\"\",(SUM('Step 3. Lease Payments'!$G$11:$G$5006)+'Step 2. Basic Info'!$E$24)/'Validations - DO NOT DELETE'!$H$1)","v":""},{"$f":"IF(A678=\"\",\"\",I678*'Step 3. Lease Payments'!$G$8)","v":""},"","",null,"",{"$f":"IF(A678=\"\",\"\",VLOOKUP(A678,'Step 3. Lease Payments'!B:G,6,))","v":""},""]
[{"$f":"IF(B678<'Step 2. Basic Info'!$E$12,A678+1,\"\")","v":""},"","",{"$f":"IF(A679=\"\",\"\",(SUM('Step 3. Lease Payments'!$G$11:$G$5006)+'Step 2. Basic Info'!$E$24)/'Validations - DO NOT DELETE'!$H$1)","v":""},{"$f":"IF(A679=\"\",\"\",I679*'Step 3. Lease Payments'!$G$8)","v":""},"","",null,"",{"$f":"IF(A679=\"\",\"\",VLOOKUP(A679,'Step 3. Lease Payments'!B:G,6,))","v":""},""]
[{"$f":"IF(B679<'Step 2. Basic Info'!$E$12,A679+1,\"\")","v":""},"","",{"$f":"IF(A680=\"\",\"\",(SUM('Step 3. Lease Payments'!$G$11:$G$5006)+'Step 2. Basic Info'!$E$24)/'Validations - DO NOT DELETE'!$H$1)","v":""},{"$f":"IF(A680=\"\",\"\",I680*'Step 3. Lease Payments'!$G$8)","v":""},"","",null,"",{"$f":"IF(A680=\"\",\"\",VLOOKUP(A680,'Step 3. Lease Payments'!B:G,6,))","v":""},""]
[{"$f":"IF(B680<'Step 2. Basic Info'!$E$12,A680+1,\"\")","v":""},"","",{"$f":"IF(A681=\"\",\"\",(SUM('Step 3. Lease Payments'!$G$11:$G$5006)+'Step 2. Basic Info'!$E$24)/'Validations - DO NOT DELETE'!$H$1)","v":""},{"$f":"IF(A681=\"\",\"\",I681*'Step 3. Lease Payments'!$G$8)","v":""},"","",null,"",{"$f":"IF(A681=\"\",\"\",VLOOKUP(A681,'Step 3. Lease Payments'!B:G,6,))","v":""},""]
[{"$f":"IF(B681<'Step 2. Basic Info'!$E$12,A681+1,\"\")","v":""},"","",{"$f":"IF(A682=\"\",\"\",(SUM('Step 3. Lease Payments'!$G$11:$G$5006)+'Step 2. Basic Info'!$E$24)/'Validations - DO NOT DELETE'!$H$1)","v":""},{"$f":"IF(A682=\"\",\"\",I682*'Step 3. Lease Payments'!$G$8)","v":""},"","",null,"",{"$f":"IF(A682=\"\",\"\",VLOOKUP(A682,'Step 3. Lease Payments'!B:G,6,))","v":""},""]
[{"$f":"IF(B682<'Step 2. Basic Info'!$E$12,A682+1,\"\")","v":""},"","",{"$f":"IF(A683=\"\",\"\",(SUM('Step 3. Lease Payments'!$G$11:$G$5006)+'Step 2. Basic Info'!$E$24)/'Validations - DO NOT DELETE'!$H$1)","v":""},{"$f":"IF(A683=\"\",\"\",I683*'Step 3. Lease Payments'!$G$8)","v":""},"","",null,"",{"$f":"IF(A683=\"\",\"\",VLOOKUP(A683,'Step 3. Lease Payments'!B:G,6,))","v":""},""]
[{"$f":"IF(B683<'Step 2. Basic Info'!$E$12,A683+1,\"\")","v":""},"","",{"$f":"IF(A684=\"\",\"\",(SUM('Step 3. Lease Payments'!$G$11:$G$5006)+'Step 2. Basic Info'!$E$24)/'Validations - DO NOT DELETE'!$H$1)","v":""},{"$f":"IF(A684=\"\",\"\",I684*'Step 3. Lease Payments'!$G$8)","v":""},"","",null,"",{"$f":"IF(A684=\"\",\"\",VLOOKUP(A684,'Step 3. Lease Payments'!B:G,6,))","v":""},""]
[{"$f":"IF(B684<'Step 2. Basic Info'!$E$12,A684+1,\"\")","v":""},"","",{"$f":"IF(A685=\"\",\"\",(SUM('Step 3. Lease Payments'!$G$11:$G$5006)+'Step 2. Basic Info'!$E$24)/'Validations - DO NOT DELETE'!$H$1)","v":""},{"$f":"IF(A685=\"\",\"\",I685*'Step 3. Lease Payments'!$G$8)","v":""},"","",null,"",{"$f":"IF(A685=\"\",\"\",VLOOKUP(A685,'Step 3. Lease Payments'!B:G,6,))","v":""},""]
[{"$f":"IF(B685<'Step 2. Basic Info'!$E$12,A685+1,\"\")","v":""},"","",{"$f":"IF(A686=\"\",\"\",(SUM('Step 3. Lease Payments'!$G$11:$G$5006)+'Step 2. Basic Info'!$E$24)/'Validations - DO NOT DELETE'!$H$1)","v":""},{"$f":"IF(A686=\"\",\"\",I686*'Step 3. Lease Payments'!$G$8)","v":""},"","",null,"",{"$f":"IF(A686=\"\",\"\",VLOOKUP(A686,'Step 3. Lease Payments'!B:G,6,))","v":""},""]
[{"$f":"IF(B686<'Step 2. Basic Info'!$E$12,A686+1,\"\")","v":""},"","",{"$f":"IF(A687=\"\",\"\",(SUM('Step 3. Lease Payments'!$G$11:$G$5006)+'Step 2. Basic Info'!$E$24)/'Validations - DO NOT DELETE'!$H$1)","v":""},{"$f":"IF(A687=\"\",\"\",I687*'Step 3. Lease Payments'!$G$8)","v":""},"","",null,"",{"$f":"IF(A687=\"\",\"\",VLOOKUP(A687,'Step 3. Lease Payments'!B:G,6,))","v":""},""]
[{"$f":"IF(B687<'Step 2. Basic Info'!$E$12,A687+1,\"\")","v":""},"","",{"$f":"IF(A688=\"\",\"\",(SUM('Step 3. Lease Payments'!$G$11:$G$5006)+'Step 2. Basic Info'!$E$24)/'Validations - DO NOT DELETE'!$H$1)","v":""},{"$f":"IF(A688=\"\",\"\",I688*'Step 3. Lease Payments'!$G$8)","v":""},"","",null,"",{"$f":"IF(A688=\"\",\"\",VLOOKUP(A688,'Step 3. Lease Payments'!B:G,6,))","v":""},""]
[{"$f":"IF(B688<'Step 2. Basic Info'!$E$12,A688+1,\"\")","v":""},"","",{"$f":"IF(A689=\"\",\"\",(SUM('Step 3. Lease Payments'!$G$11:$G$5006)+'Step 2. Basic Info'!$E$24)/'Validations - DO NOT DELETE'!$H$1)","v":""},{"$f":"IF(A689=\"\",\"\",I689*'Step 3. Lease Payments'!$G$8)","v":""},"","",null,"",{"$f":"IF(A689=\"\",\"\",VLOOKUP(A689,'Step 3. Lease Payments'!B:G,6,))","v":""},""]
[{"$f":"IF(B689<'Step 2. Basic Info'!$E$12,A689+1,\"\")","v":""},"","",{"$f":"IF(A690=\"\",\"\",(SUM('Step 3. Lease Payments'!$G$11:$G$5006)+'Step 2. Basic Info'!$E$24)/'Validations - DO NOT DELETE'!$H$1)","v":""},{"$f":"IF(A690=\"\",\"\",I690*'Step 3. Lease Payments'!$G$8)","v":""},"","",null,"",{"$f":"IF(A690=\"\",\"\",VLOOKUP(A690,'Step 3. Lease Payments'!B:G,6,))","v":""},""]
[{"$f":"IF(B690<'Step 2. Basic Info'!$E$12,A690+1,\"\")","v":""},"","",{"$f":"IF(A691=\"\",\"\",(SUM('Step 3. Lease Payments'!$G$11:$G$5006)+'Step 2. Basic Info'!$E$24)/'Validations - DO NOT DELETE'!$H$1)","v":""},{"$f":"IF(A691=\"\",\"\",I691*'Step 3. Lease Payments'!$G$8)","v":""},"","",null,"",{"$f":"IF(A691=\"\",\"\",VLOOKUP(A691,'Step 3. Lease Payments'!B:G,6,))","v":""},""]
[{"$f":"IF(B691<'Step 2. Basic Info'!$E$12,A691+1,\"\")","v":""},"","",{"$f":"IF(A692=\"\",\"\",(SUM('Step 3. Lease Payments'!$G$11:$G$5006)+'Step 2. Basic Info'!$E$24)/'Validations - DO NOT DELETE'!$H$1)","v":""},{"$f":"IF(A692=\"\",\"\",I692*'Step 3. Lease Payments'!$G$8)","v":""},"","",null,"",{"$f":"IF(A692=\"\",\"\",VLOOKUP(A692,'Step 3. Lease Payments'!B:G,6,))","v":""},""]
[{"$f":"IF(B692<'Step 2. Basic Info'!$E$12,A692+1,\"\")","v":""},"","",{"$f":"IF(A693=\"\",\"\",(SUM('Step 3. Lease Payments'!$G$11:$G$5006)+'Step 2. Basic Info'!$E$24)/'Validations - DO NOT DELETE'!$H$1)","v":""},{"$f":"IF(A693=\"\",\"\",I693*'Step 3. Lease Payments'!$G$8)","v":""},"","",null,"",{"$f":"IF(A693=\"\",\"\",VLOOKUP(A693,'Step 3. Lease Payments'!B:G,6,))","v":""},""]
[{"$f":"IF(B693<'Step 2. Basic Info'!$E$12,A693+1,\"\")","v":""},"","",{"$f":"IF(A694=\"\",\"\",(SUM('Step 3. Lease Payments'!$G$11:$G$5006)+'Step 2. Basic Info'!$E$24)/'Validations - DO NOT DELETE'!$H$1)","v":""},{"$f":"IF(A694=\"\",\"\",I694*'Step 3. Lease Payments'!$G$8)","v":""},"","",null,"",{"$f":"IF(A694=\"\",\"\",VLOOKUP(A694,'Step 3. Lease Payments'!B:G,6,))","v":""},""]
[{"$f":"IF(B694<'Step 2. Basic Info'!$E$12,A694+1,\"\")","v":""},"","",{"$f":"IF(A695=\"\",\"\",(SUM('Step 3. Lease Payments'!$G$11:$G$5006)+'Step 2. Basic Info'!$E$24)/'Validations - DO NOT DELETE'!$H$1)","v":""},{"$f":"IF(A695=\"\",\"\",I695*'Step 3. Lease Payments'!$G$8)","v":""},"","",null,"",{"$f":"IF(A695=\"\",\"\",VLOOKUP(A695,'Step 3. Lease Payments'!B:G,6,))","v":""},""]
[{"$f":"IF(B695<'Step 2. Basic Info'!$E$12,A695+1,\"\")","v":""},"","",{"$f":"IF(A696=\"\",\"\",(SUM('Step 3. Lease Payments'!$G$11:$G$5006)+'Step 2. Basic Info'!$E$24)/'Validations - DO NOT DELETE'!$H$1)","v":""},{"$f":"IF(A696=\"\",\"\",I696*'Step 3. Lease Payments'!$G$8)","v":""},"","",null,"",{"$f":"IF(A696=\"\",\"\",VLOOKUP(A696,'Step 3. Lease Payments'!B:G,6,))","v":""},""]
[{"$f":"IF(B696<'Step 2. Basic Info'!$E$12,A696+1,\"\")","v":""},"","",{"$f":"IF(A697=\"\",\"\",(SUM('Step 3. Lease Payments'!$G$11:$G$5006)+'Step 2. Basic Info'!$E$24)/'Validations - DO NOT DELETE'!$H$1)","v":""},{"$f":"IF(A697=\"\",\"\",I697*'Step 3. Lease Payments'!$G$8)","v":""},"","",null,"",{"$f":"IF(A697=\"\",\"\",VLOOKUP(A697,'Step 3. Lease Payments'!B:G,6,))","v":""},""]
[{"$f":"IF(B697<'Step 2. Basic Info'!$E$12,A697+1,\"\")","v":""},"","",{"$f":"IF(A698=\"\",\"\",(SUM('Step 3. Lease Payments'!$G$11:$G$5006)+'Step 2. Basic Info'!$E$24)/'Validations - DO NOT DELETE'!$H$1)","v":""},{"$f":"IF(A698=\"\",\"\",I698*'Step 3. Lease Payments'!$G$8)","v":""},"","",null,"",{"$f":"IF(A698=\"\",\"\",VLOOKUP(A698,'Step 3. Lease Payments'!B:G,6,))","v":""},""]
[{"$f":"IF(B698<'Step 2. Basic Info'!$E$12,A698+1,\"\")","v":""},"","",{"$f":"IF(A699=\"\",\"\",(SUM('Step 3. Lease Payments'!$G$11:$G$5006)+'Step 2. Basic Info'!$E$24)/'Validations - DO NOT DELETE'!$H$1)","v":""},{"$f":"IF(A699=\"\",\"\",I699*'Step 3. Lease Payments'!$G$8)","v":""},"","",null,"",{"$f":"IF(A699=\"\",\"\",VLOOKUP(A699,'Step 3. Lease Payments'!B:G,6,))","v":""},""]
[{"$f":"IF(B699<'Step 2. Basic Info'!$E$12,A699+1,\"\")","v":""},"","",{"$f":"IF(A700=\"\",\"\",(SUM('Step 3. Lease Payments'!$G$11:$G$5006)+'Step 2. Basic Info'!$E$24)/'Validations - DO NOT DELETE'!$H$1)","v":""},{"$f":"IF(A700=\"\",\"\",I700*'Step 3. Lease Payments'!$G$8)","v":""},"","",null,"",{"$f":"IF(A700=\"\",\"\",VLOOKUP(A700,'Step 3. Lease Payments'!B:G,6,))","v":""},""]
[{"$f":"IF(B700<'Step 2. Basic Info'!$E$12,A700+1,\"\")","v":""},"","",{"$f":"IF(A701=\"\",\"\",(SUM('Step 3. Lease Payments'!$G$11:$G$5006)+'Step 2. Basic Info'!$E$24)/'Validations - DO NOT DELETE'!$H$1)","v":""},{"$f":"IF(A701=\"\",\"\",I701*'Step 3. Lease Payments'!$G$8)","v":""},"","",null,"",{"$f":"IF(A701=\"\",\"\",VLOOKUP(A701,'Step 3. Lease Payments'!B:G,6,))","v":""},""]
[{"$f":"IF(B701<'Step 2. Basic Info'!$E$12,A701+1,\"\")","v":""},"","",{"$f":"IF(A702=\"\",\"\",(SUM('Step 3. Lease Payments'!$G$11:$G$5006)+'Step 2. Basic Info'!$E$24)/'Validations - DO NOT DELETE'!$H$1)","v":""},{"$f":"IF(A702=\"\",\"\",I702*'Step 3. Lease Payments'!$G$8)","v":""},"","",null,"",{"$f":"IF(A702=\"\",\"\",VLOOKUP(A702,'Step 3. Lease Payments'!B:G,6,))","v":""},""]
[{"$f":"IF(B702<'Step 2. Basic Info'!$E$12,A702+1,\"\")","v":""},"","",{"$f":"IF(A703=\"\",\"\",(SUM('Step 3. Lease Payments'!$G$11:$G$5006)+'Step 2. Basic Info'!$E$24)/'Validations - DO NOT DELETE'!$H$1)","v":""},{"$f":"IF(A703=\"\",\"\",I703*'Step 3. Lease Payments'!$G$8)","v":""},"","",null,"",{"$f":"IF(A703=\"\",\"\",VLOOKUP(A703,'Step 3. Lease Payments'!B:G,6,))","v":""},""]
[{"$f":"IF(B703<'Step 2. Basic Info'!$E$12,A703+1,\"\")","v":""},"","",{"$f":"IF(A704=\"\",\"\",(SUM('Step 3. Lease Payments'!$G$11:$G$5006)+'Step 2. Basic Info'!$E$24)/'Validations - DO NOT DELETE'!$H$1)","v":""},{"$f":"IF(A704=\"\",\"\",I704*'Step 3. Lease Payments'!$G$8)","v":""},"","",null,"",{"$f":"IF(A704=\"\",\"\",VLOOKUP(A704,'Step 3. Lease Payments'!B:G,6,))","v":""},""]
[{"$f":"IF(B704<'Step 2. Basic Info'!$E$12,A704+1,\"\")","v":""},"","",{"$f":"IF(A705=\"\",\"\",(SUM('Step 3. Lease Payments'!$G$11:$G$5006)+'Step 2. Basic Info'!$E$24)/'Validations - DO NOT DELETE'!$H$1)","v":""},{"$f":"IF(A705=\"\",\"\",I705*'Step 3. Lease Payments'!$G$8)","v":""},"","",null,"",{"$f":"IF(A705=\"\",\"\",VLOOKUP(A705,'Step 3. Lease Payments'!B:G,6,))","v":""},""]
[{"$f":"IF(B705<'Step 2. Basic Info'!$E$12,A705+1,\"\")","v":""},"","",{"$f":"IF(A706=\"\",\"\",(SUM('Step 3. Lease Payments'!$G$11:$G$5006)+'Step 2. Basic Info'!$E$24)/'Validations - DO NOT DELETE'!$H$1)","v":""},{"$f":"IF(A706=\"\",\"\",I706*'Step 3. Lease Payments'!$G$8)","v":""},"","",null,"",{"$f":"IF(A706=\"\",\"\",VLOOKUP(A706,'Step 3. Lease Payments'!B:G,6,))","v":""},""]
[{"$f":"IF(B706<'Step 2. Basic Info'!$E$12,A706+1,\"\")","v":""},"","",{"$f":"IF(A707=\"\",\"\",(SUM('Step 3. Lease Payments'!$G$11:$G$5006)+'Step 2. Basic Info'!$E$24)/'Validations - DO NOT DELETE'!$H$1)","v":""},{"$f":"IF(A707=\"\",\"\",I707*'Step 3. Lease Payments'!$G$8)","v":""},"","",null,"",{"$f":"IF(A707=\"\",\"\",VLOOKUP(A707,'Step 3. Lease Payments'!B:G,6,))","v":""},""]
[{"$f":"IF(B707<'Step 2. Basic Info'!$E$12,A707+1,\"\")","v":""},"","",{"$f":"IF(A708=\"\",\"\",(SUM('Step 3. Lease Payments'!$G$11:$G$5006)+'Step 2. Basic Info'!$E$24)/'Validations - DO NOT DELETE'!$H$1)","v":""},{"$f":"IF(A708=\"\",\"\",I708*'Step 3. Lease Payments'!$G$8)","v":""},"","",null,"",{"$f":"IF(A708=\"\",\"\",VLOOKUP(A708,'Step 3. Lease Payments'!B:G,6,))","v":""},""]
[{"$f":"IF(B708<'Step 2. Basic Info'!$E$12,A708+1,\"\")","v":""},"","",{"$f":"IF(A709=\"\",\"\",(SUM('Step 3. Lease Payments'!$G$11:$G$5006)+'Step 2. Basic Info'!$E$24)/'Validations - DO NOT DELETE'!$H$1)","v":""},{"$f":"IF(A709=\"\",\"\",I709*'Step 3. Lease Payments'!$G$8)","v":""},"","",null,"",{"$f":"IF(A709=\"\",\"\",VLOOKUP(A709,'Step 3. Lease Payments'!B:G,6,))","v":""},""]
[{"$f":"IF(B709<'Step 2. Basic Info'!$E$12,A709+1,\"\")","v":""},"","",{"$f":"IF(A710=\"\",\"\",(SUM('Step 3. Lease Payments'!$G$11:$G$5006)+'Step 2. Basic Info'!$E$24)/'Validations - DO NOT DELETE'!$H$1)","v":""},{"$f":"IF(A710=\"\",\"\",I710*'Step 3. Lease Payments'!$G$8)","v":""},"","",null,"",{"$f":"IF(A710=\"\",\"\",VLOOKUP(A710,'Step 3. Lease Payments'!B:G,6,))","v":""},""]
[{"$f":"IF(B710<'Step 2. Basic Info'!$E$12,A710+1,\"\")","v":""},"","",{"$f":"IF(A711=\"\",\"\",(SUM('Step 3. Lease Payments'!$G$11:$G$5006)+'Step 2. Basic Info'!$E$24)/'Validations - DO NOT DELETE'!$H$1)","v":""},{"$f":"IF(A711=\"\",\"\",I711*'Step 3. Lease Payments'!$G$8)","v":""},"","",null,"",{"$f":"IF(A711=\"\",\"\",VLOOKUP(A711,'Step 3. Lease Payments'!B:G,6,))","v":""},""]
[{"$f":"IF(B711<'Step 2. Basic Info'!$E$12,A711+1,\"\")","v":""},"","",{"$f":"IF(A712=\"\",\"\",(SUM('Step 3. Lease Payments'!$G$11:$G$5006)+'Step 2. Basic Info'!$E$24)/'Validations - DO NOT DELETE'!$H$1)","v":""},{"$f":"IF(A712=\"\",\"\",I712*'Step 3. Lease Payments'!$G$8)","v":""},"","",null,"",{"$f":"IF(A712=\"\",\"\",VLOOKUP(A712,'Step 3. Lease Payments'!B:G,6,))","v":""},""]
[{"$f":"IF(B712<'Step 2. Basic Info'!$E$12,A712+1,\"\")","v":""},"","",{"$f":"IF(A713=\"\",\"\",(SUM('Step 3. Lease Payments'!$G$11:$G$5006)+'Step 2. Basic Info'!$E$24)/'Validations - DO NOT DELETE'!$H$1)","v":""},{"$f":"IF(A713=\"\",\"\",I713*'Step 3. Lease Payments'!$G$8)","v":""},"","",null,"",{"$f":"IF(A713=\"\",\"\",VLOOKUP(A713,'Step 3. Lease Payments'!B:G,6,))","v":""},""]
[{"$f":"IF(B713<'Step 2. Basic Info'!$E$12,A713+1,\"\")","v":""},"","",{"$f":"IF(A714=\"\",\"\",(SUM('Step 3. Lease Payments'!$G$11:$G$5006)+'Step 2. Basic Info'!$E$24)/'Validations - DO NOT DELETE'!$H$1)","v":""},{"$f":"IF(A714=\"\",\"\",I714*'Step 3. Lease Payments'!$G$8)","v":""},"","",null,"",{"$f":"IF(A714=\"\",\"\",VLOOKUP(A714,'Step 3. Lease Payments'!B:G,6,))","v":""},""]
[{"$f":"IF(B714<'Step 2. Basic Info'!$E$12,A714+1,\"\")","v":""},{"$f":"IF(A715=\"\",\"\",(DATE(YEAR(B714),MONTH(B714)+1,DAY(B714))))","v":""},{"$f":"IF(A715=\"\",\"\",G714)","v":""},{"$f":"IF(A715=\"\",\"\",(SUM('Step 3. Lease Payments'!$G$11:$G$5006)+'Step 2. Basic Info'!$E$24)/'Validations - DO NOT DELETE'!$H$1)","v":""},{"$f":"IF(A715=\"\",\"\",I715*'Step 3. Lease Payments'!$G$8)","v":""},{"$f":"IF(A715=\"\",\"\",D715-E715)","v":""},{"$f":"IF(A715=\"\",\"\",C715-F715)","v":""},null,{"$f":"IF(A715=\"\",\"\",K714)","v":""},{"$f":"IF(A715=\"\",\"\",VLOOKUP(A715,'Step 3. Lease Payments'!B:G,6,))","v":""},{"$f":"IF(A715=\"\",\"\",I715-J715+E715)","v":""}]
[{"$f":"IF(B715<'Step 2. Basic Info'!$E$12,A715+1,\"\")","v":""},"","",{"$f":"IF(A716=\"\",\"\",(SUM('Step 3. Lease Payments'!$G$11:$G$5006)+'Step 2. Basic Info'!$E$24)/'Validations - DO NOT DELETE'!$H$1)","v":""},{"$f":"IF(A716=\"\",\"\",I716*'Step 3. Lease Payments'!$G$8)","v":""},"","",null,"",{"$f":"IF(A716=\"\",\"\",VLOOKUP(A716,'Step 3. Lease Payments'!B:G,6,))","v":""},""]
[{"$f":"IF(B716<'Step 2. Basic Info'!$E$12,A716+1,\"\")","v":""},"","",{"$f":"IF(A717=\"\",\"\",(SUM('Step 3. Lease Payments'!$G$11:$G$5006)+'Step 2. Basic Info'!$E$24)/'Validations - DO NOT DELETE'!$H$1)","v":""},{"$f":"IF(A717=\"\",\"\",I717*'Step 3. Lease Payments'!$G$8)","v":""},"","",null,"",{"$f":"IF(A717=\"\",\"\",VLOOKUP(A717,'Step 3. Lease Payments'!B:G,6,))","v":""},""]
[{"$f":"IF(B717<'Step 2. Basic Info'!$E$12,A717+1,\"\")","v":""},"","",{"$f":"IF(A718=\"\",\"\",(SUM('Step 3. Lease Payments'!$G$11:$G$5006)+'Step 2. Basic Info'!$E$24)/'Validations - DO NOT DELETE'!$H$1)","v":""},{"$f":"IF(A718=\"\",\"\",I718*'Step 3. Lease Payments'!$G$8)","v":""},"","",null,"",{"$f":"IF(A718=\"\",\"\",VLOOKUP(A718,'Step 3. Lease Payments'!B:G,6,))","v":""},""]
[{"$f":"IF(B718<'Step 2. Basic Info'!$E$12,A718+1,\"\")","v":""},"","",{"$f":"IF(A719=\"\",\"\",(SUM('Step 3. Lease Payments'!$G$11:$G$5006)+'Step 2. Basic Info'!$E$24)/'Validations - DO NOT DELETE'!$H$1)","v":""},{"$f":"IF(A719=\"\",\"\",I719*'Step 3. Lease Payments'!$G$8)","v":""},"","",null,"",{"$f":"IF(A719=\"\",\"\",VLOOKUP(A719,'Step 3. Lease Payments'!B:G,6,))","v":""},""]
[{"$f":"IF(B719<'Step 2. Basic Info'!$E$12,A719+1,\"\")","v":""},"","",{"$f":"IF(A720=\"\",\"\",(SUM('Step 3. Lease Payments'!$G$11:$G$5006)+'Step 2. Basic Info'!$E$24)/'Validations - DO NOT DELETE'!$H$1)","v":""},{"$f":"IF(A720=\"\",\"\",I720*'Step 3. Lease Payments'!$G$8)","v":""},"","",null,"",{"$f":"IF(A720=\"\",\"\",VLOOKUP(A720,'Step 3. Lease Payments'!B:G,6,))","v":""},""]
[{"$f":"IF(B720<'Step 2. Basic Info'!$E$12,A720+1,\"\")","v":""},"","",{"$f":"IF(A721=\"\",\"\",(SUM('Step 3. Lease Payments'!$G$11:$G$5006)+'Step 2. Basic Info'!$E$24)/'Validations - DO NOT DELETE'!$H$1)","v":""},{"$f":"IF(A721=\"\",\"\",I721*'Step 3. Lease Payments'!$G$8)","v":""},"","",null,"",{"$f":"IF(A721=\"\",\"\",VLOOKUP(A721,'Step 3. Lease Payments'!B:G,6,))","v":""},""]
[{"$f":"IF(B721<'Step 2. Basic Info'!$E$12,A721+1,\"\")","v":""},"","",{"$f":"IF(A722=\"\",\"\",(SUM('Step 3. Lease Payments'!$G$11:$G$5006)+'Step 2. Basic Info'!$E$24)/'Validations - DO NOT DELETE'!$H$1)","v":""},{"$f":"IF(A722=\"\",\"\",I722*'Step 3. Lease Payments'!$G$8)","v":""},"","",null,"",{"$f":"IF(A722=\"\",\"\",VLOOKUP(A722,'Step 3. Lease Payments'!B:G,6,))","v":""},""]
[{"$f":"IF(B722<'Step 2. Basic Info'!$E$12,A722+1,\"\")","v":""},"","",{"$f":"IF(A723=\"\",\"\",(SUM('Step 3. Lease Payments'!$G$11:$G$5006)+'Step 2. Basic Info'!$E$24)/'Validations - DO NOT DELETE'!$H$1)","v":""},{"$f":"IF(A723=\"\",\"\",I723*'Step 3. Lease Payments'!$G$8)","v":""},"","",null,"",{"$f":"IF(A723=\"\",\"\",VLOOKUP(A723,'Step 3. Lease Payments'!B:G,6,))","v":""},""]
[{"$f":"IF(B723<'Step 2. Basic Info'!$E$12,A723+1,\"\")","v":""},"","",{"$f":"IF(A724=\"\",\"\",(SUM('Step 3. Lease Payments'!$G$11:$G$5006)+'Step 2. Basic Info'!$E$24)/'Validations - DO NOT DELETE'!$H$1)","v":""},{"$f":"IF(A724=\"\",\"\",I724*'Step 3. Lease Payments'!$G$8)","v":""},"","",null,"",{"$f":"IF(A724=\"\",\"\",VLOOKUP(A724,'Step 3. Lease Payments'!B:G,6,))","v":""},""]
[{"$f":"IF(B724<'Step 2. Basic Info'!$E$12,A724+1,\"\")","v":""},"","",{"$f":"IF(A725=\"\",\"\",(SUM('Step 3. Lease Payments'!$G$11:$G$5006)+'Step 2. Basic Info'!$E$24)/'Validations - DO NOT DELETE'!$H$1)","v":""},{"$f":"IF(A725=\"\",\"\",I725*'Step 3. Lease Payments'!$G$8)","v":""},"","",null,"",{"$f":"IF(A725=\"\",\"\",VLOOKUP(A725,'Step 3. Lease Payments'!B:G,6,))","v":""},""]
[{"$f":"IF(B725<'Step 2. Basic Info'!$E$12,A725+1,\"\")","v":""},"","",{"$f":"IF(A726=\"\",\"\",(SUM('Step 3. Lease Payments'!$G$11:$G$5006)+'Step 2. Basic Info'!$E$24)/'Validations - DO NOT DELETE'!$H$1)","v":""},{"$f":"IF(A726=\"\",\"\",I726*'Step 3. Lease Payments'!$G$8)","v":""},"","",null,"",{"$f":"IF(A726=\"\",\"\",VLOOKUP(A726,'Step 3. Lease Payments'!B:G,6,))","v":""},""]
[{"$f":"IF(B726<'Step 2. Basic Info'!$E$12,A726+1,\"\")","v":""},"","",{"$f":"IF(A727=\"\",\"\",(SUM('Step 3. Lease Payments'!$G$11:$G$5006)+'Step 2. Basic Info'!$E$24)/'Validations - DO NOT DELETE'!$H$1)","v":""},{"$f":"IF(A727=\"\",\"\",I727*'Step 3. Lease Payments'!$G$8)","v":""},"","",null,"",{"$f":"IF(A727=\"\",\"\",VLOOKUP(A727,'Step 3. Lease Payments'!B:G,6,))","v":""},""]
[{"$f":"IF(B727<'Step 2. Basic Info'!$E$12,A727+1,\"\")","v":""},"","",{"$f":"IF(A728=\"\",\"\",(SUM('Step 3. Lease Payments'!$G$11:$G$5006)+'Step 2. Basic Info'!$E$24)/'Validations - DO NOT DELETE'!$H$1)","v":""},{"$f":"IF(A728=\"\",\"\",I728*'Step 3. Lease Payments'!$G$8)","v":""},"","",null,"",{"$f":"IF(A728=\"\",\"\",VLOOKUP(A728,'Step 3. Lease Payments'!B:G,6,))","v":""},""]
[{"$f":"IF(B728<'Step 2. Basic Info'!$E$12,A728+1,\"\")","v":""},"","",{"$f":"IF(A729=\"\",\"\",(SUM('Step 3. Lease Payments'!$G$11:$G$5006)+'Step 2. Basic Info'!$E$24)/'Validations - DO NOT DELETE'!$H$1)","v":""},{"$f":"IF(A729=\"\",\"\",I729*'Step 3. Lease Payments'!$G$8)","v":""},"","",null,"",{"$f":"IF(A729=\"\",\"\",VLOOKUP(A729,'Step 3. Lease Payments'!B:G,6,))","v":""},""]
[{"$f":"IF(B729<'Step 2. Basic Info'!$E$12,A729+1,\"\")","v":""},"","",{"$f":"IF(A730=\"\",\"\",(SUM('Step 3. Lease Payments'!$G$11:$G$5006)+'Step 2. Basic Info'!$E$24)/'Validations - DO NOT DELETE'!$H$1)","v":""},{"$f":"IF(A730=\"\",\"\",I730*'Step 3. Lease Payments'!$G$8)","v":""},"","",null,"",{"$f":"IF(A730=\"\",\"\",VLOOKUP(A730,'Step 3. Lease Payments'!B:G,6,))","v":""},""]
[{"$f":"IF(B730<'Step 2. Basic Info'!$E$12,A730+1,\"\")","v":""},"","",{"$f":"IF(A731=\"\",\"\",(SUM('Step 3. Lease Payments'!$G$11:$G$5006)+'Step 2. Basic Info'!$E$24)/'Validations - DO NOT DELETE'!$H$1)","v":""},{"$f":"IF(A731=\"\",\"\",I731*'Step 3. Lease Payments'!$G$8)","v":""},"","",null,"",{"$f":"IF(A731=\"\",\"\",VLOOKUP(A731,'Step 3. Lease Payments'!B:G,6,))","v":""},""]
[{"$f":"IF(B731<'Step 2. Basic Info'!$E$12,A731+1,\"\")","v":""},"","",{"$f":"IF(A732=\"\",\"\",(SUM('Step 3. Lease Payments'!$G$11:$G$5006)+'Step 2. Basic Info'!$E$24)/'Validations - DO NOT DELETE'!$H$1)","v":""},{"$f":"IF(A732=\"\",\"\",I732*'Step 3. Lease Payments'!$G$8)","v":""},"","",null,"",{"$f":"IF(A732=\"\",\"\",VLOOKUP(A732,'Step 3. Lease Payments'!B:G,6,))","v":""},""]
[{"$f":"IF(B732<'Step 2. Basic Info'!$E$12,A732+1,\"\")","v":""},"","",{"$f":"IF(A733=\"\",\"\",(SUM('Step 3. Lease Payments'!$G$11:$G$5006)+'Step 2. Basic Info'!$E$24)/'Validations - DO NOT DELETE'!$H$1)","v":""},{"$f":"IF(A733=\"\",\"\",I733*'Step 3. Lease Payments'!$G$8)","v":""},"","",null,"",{"$f":"IF(A733=\"\",\"\",VLOOKUP(A733,'Step 3. Lease Payments'!B:G,6,))","v":""},""]
[{"$f":"IF(B733<'Step 2. Basic Info'!$E$12,A733+1,\"\")","v":""},"","",{"$f":"IF(A734=\"\",\"\",(SUM('Step 3. Lease Payments'!$G$11:$G$5006)+'Step 2. Basic Info'!$E$24)/'Validations - DO NOT DELETE'!$H$1)","v":""},{"$f":"IF(A734=\"\",\"\",I734*'Step 3. Lease Payments'!$G$8)","v":""},"","",null,"",{"$f":"IF(A734=\"\",\"\",VLOOKUP(A734,'Step 3. Lease Payments'!B:G,6,))","v":""},""]
[{"$f":"IF(B734<'Step 2. Basic Info'!$E$12,A734+1,\"\")","v":""},"","",{"$f":"IF(A735=\"\",\"\",(SUM('Step 3. Lease Payments'!$G$11:$G$5006)+'Step 2. Basic Info'!$E$24)/'Validations - DO NOT DELETE'!$H$1)","v":""},{"$f":"IF(A735=\"\",\"\",I735*'Step 3. Lease Payments'!$G$8)","v":""},"","",null,"",{"$f":"IF(A735=\"\",\"\",VLOOKUP(A735,'Step 3. Lease Payments'!B:G,6,))","v":""},""]
[{"$f":"IF(B735<'Step 2. Basic Info'!$E$12,A735+1,\"\")","v":""},"","",{"$f":"IF(A736=\"\",\"\",(SUM('Step 3. Lease Payments'!$G$11:$G$5006)+'Step 2. Basic Info'!$E$24)/'Validations - DO NOT DELETE'!$H$1)","v":""},{"$f":"IF(A736=\"\",\"\",I736*'Step 3. Lease Payments'!$G$8)","v":""},"","",null,"",{"$f":"IF(A736=\"\",\"\",VLOOKUP(A736,'Step 3. Lease Payments'!B:G,6,))","v":""},""]
[{"$f":"IF(B736<'Step 2. Basic Info'!$E$12,A736+1,\"\")","v":""},"","",{"$f":"IF(A737=\"\",\"\",(SUM('Step 3. Lease Payments'!$G$11:$G$5006)+'Step 2. Basic Info'!$E$24)/'Validations - DO NOT DELETE'!$H$1)","v":""},{"$f":"IF(A737=\"\",\"\",I737*'Step 3. Lease Payments'!$G$8)","v":""},"","",null,"",{"$f":"IF(A737=\"\",\"\",VLOOKUP(A737,'Step 3. Lease Payments'!B:G,6,))","v":""},""]
[{"$f":"IF(B737<'Step 2. Basic Info'!$E$12,A737+1,\"\")","v":""},"","",{"$f":"IF(A738=\"\",\"\",(SUM('Step 3. Lease Payments'!$G$11:$G$5006)+'Step 2. Basic Info'!$E$24)/'Validations - DO NOT DELETE'!$H$1)","v":""},{"$f":"IF(A738=\"\",\"\",I738*'Step 3. Lease Payments'!$G$8)","v":""},"","",null,"",{"$f":"IF(A738=\"\",\"\",VLOOKUP(A738,'Step 3. Lease Payments'!B:G,6,))","v":""},""]
[{"$f":"IF(B738<'Step 2. Basic Info'!$E$12,A738+1,\"\")","v":""},"","",{"$f":"IF(A739=\"\",\"\",(SUM('Step 3. Lease Payments'!$G$11:$G$5006)+'Step 2. Basic Info'!$E$24)/'Validations - DO NOT DELETE'!$H$1)","v":""},{"$f":"IF(A739=\"\",\"\",I739*'Step 3. Lease Payments'!$G$8)","v":""},"","",null,"",{"$f":"IF(A739=\"\",\"\",VLOOKUP(A739,'Step 3. Lease Payments'!B:G,6,))","v":""},""]
[{"$f":"IF(B739<'Step 2. Basic Info'!$E$12,A739+1,\"\")","v":""},"","",{"$f":"IF(A740=\"\",\"\",(SUM('Step 3. Lease Payments'!$G$11:$G$5006)+'Step 2. Basic Info'!$E$24)/'Validations - DO NOT DELETE'!$H$1)","v":""},{"$f":"IF(A740=\"\",\"\",I740*'Step 3. Lease Payments'!$G$8)","v":""},"","",null,"",{"$f":"IF(A740=\"\",\"\",VLOOKUP(A740,'Step 3. Lease Payments'!B:G,6,))","v":""},""]
[{"$f":"IF(B740<'Step 2. Basic Info'!$E$12,A740+1,\"\")","v":""},"","",{"$f":"IF(A741=\"\",\"\",(SUM('Step 3. Lease Payments'!$G$11:$G$5006)+'Step 2. Basic Info'!$E$24)/'Validations - DO NOT DELETE'!$H$1)","v":""},{"$f":"IF(A741=\"\",\"\",I741*'Step 3. Lease Payments'!$G$8)","v":""},"","",null,"",{"$f":"IF(A741=\"\",\"\",VLOOKUP(A741,'Step 3. Lease Payments'!B:G,6,))","v":""},""]
[{"$f":"IF(B741<'Step 2. Basic Info'!$E$12,A741+1,\"\")","v":""},"","",{"$f":"IF(A742=\"\",\"\",(SUM('Step 3. Lease Payments'!$G$11:$G$5006)+'Step 2. Basic Info'!$E$24)/'Validations - DO NOT DELETE'!$H$1)","v":""},{"$f":"IF(A742=\"\",\"\",I742*'Step 3. Lease Payments'!$G$8)","v":""},"","",null,"",{"$f":"IF(A742=\"\",\"\",VLOOKUP(A742,'Step 3. Lease Payments'!B:G,6,))","v":""},""]
[{"$f":"IF(B742<'Step 2. Basic Info'!$E$12,A742+1,\"\")","v":""},"","",{"$f":"IF(A743=\"\",\"\",(SUM('Step 3. Lease Payments'!$G$11:$G$5006)+'Step 2. Basic Info'!$E$24)/'Validations - DO NOT DELETE'!$H$1)","v":""},{"$f":"IF(A743=\"\",\"\",I743*'Step 3. Lease Payments'!$G$8)","v":""},"","",null,"",{"$f":"IF(A743=\"\",\"\",VLOOKUP(A743,'Step 3. Lease Payments'!B:G,6,))","v":""},""]
[{"$f":"IF(B743<'Step 2. Basic Info'!$E$12,A743+1,\"\")","v":""},"","",{"$f":"IF(A744=\"\",\"\",(SUM('Step 3. Lease Payments'!$G$11:$G$5006)+'Step 2. Basic Info'!$E$24)/'Validations - DO NOT DELETE'!$H$1)","v":""},{"$f":"IF(A744=\"\",\"\",I744*'Step 3. Lease Payments'!$G$8)","v":""},"","",null,"",{"$f":"IF(A744=\"\",\"\",VLOOKUP(A744,'Step 3. Lease Payments'!B:G,6,))","v":""},""]
[{"$f":"IF(B744<'Step 2. Basic Info'!$E$12,A744+1,\"\")","v":""},"","",{"$f":"IF(A745=\"\",\"\",(SUM('Step 3. Lease Payments'!$G$11:$G$5006)+'Step 2. Basic Info'!$E$24)/'Validations - DO NOT DELETE'!$H$1)","v":""},{"$f":"IF(A745=\"\",\"\",I745*'Step 3. Lease Payments'!$G$8)","v":""},"","",null,"",{"$f":"IF(A745=\"\",\"\",VLOOKUP(A745,'Step 3. Lease Payments'!B:G,6,))","v":""},""]
[{"$f":"IF(B745<'Step 2. Basic Info'!$E$12,A745+1,\"\")","v":""},"","",{"$f":"IF(A746=\"\",\"\",(SUM('Step 3. Lease Payments'!$G$11:$G$5006)+'Step 2. Basic Info'!$E$24)/'Validations - DO NOT DELETE'!$H$1)","v":""},{"$f":"IF(A746=\"\",\"\",I746*'Step 3. Lease Payments'!$G$8)","v":""},"","",null,"",{"$f":"IF(A746=\"\",\"\",VLOOKUP(A746,'Step 3. Lease Payments'!B:G,6,))","v":""},""]
[{"$f":"IF(B746<'Step 2. Basic Info'!$E$12,A746+1,\"\")","v":""},"","",{"$f":"IF(A747=\"\",\"\",(SUM('Step 3. Lease Payments'!$G$11:$G$5006)+'Step 2. Basic Info'!$E$24)/'Validations - DO NOT DELETE'!$H$1)","v":""},{"$f":"IF(A747=\"\",\"\",I747*'Step 3. Lease Payments'!$G$8)","v":""},"","",null,"",{"$f":"IF(A747=\"\",\"\",VLOOKUP(A747,'Step 3. Lease Payments'!B:G,6,))","v":""},""]
[{"$f":"IF(B747<'Step 2. Basic Info'!$E$12,A747+1,\"\")","v":""},"","",{"$f":"IF(A748=\"\",\"\",(SUM('Step 3. Lease Payments'!$G$11:$G$5006)+'Step 2. Basic Info'!$E$24)/'Validations - DO NOT DELETE'!$H$1)","v":""},{"$f":"IF(A748=\"\",\"\",I748*'Step 3. Lease Payments'!$G$8)","v":""},"","",null,"",{"$f":"IF(A748=\"\",\"\",VLOOKUP(A748,'Step 3. Lease Payments'!B:G,6,))","v":""},""]
[{"$f":"IF(B748<'Step 2. Basic Info'!$E$12,A748+1,\"\")","v":""},"","",{"$f":"IF(A749=\"\",\"\",(SUM('Step 3. Lease Payments'!$G$11:$G$5006)+'Step 2. Basic Info'!$E$24)/'Validations - DO NOT DELETE'!$H$1)","v":""},{"$f":"IF(A749=\"\",\"\",I749*'Step 3. Lease Payments'!$G$8)","v":""},"","",null,"",{"$f":"IF(A749=\"\",\"\",VLOOKUP(A749,'Step 3. Lease Payments'!B:G,6,))","v":""},""]
[{"$f":"IF(B749<'Step 2. Basic Info'!$E$12,A749+1,\"\")","v":""},"","",{"$f":"IF(A750=\"\",\"\",(SUM('Step 3. Lease Payments'!$G$11:$G$5006)+'Step 2. Basic Info'!$E$24)/'Validations - DO NOT DELETE'!$H$1)","v":""},{"$f":"IF(A750=\"\",\"\",I750*'Step 3. Lease Payments'!$G$8)","v":""},"","",null,"",{"$f":"IF(A750=\"\",\"\",VLOOKUP(A750,'Step 3. Lease Payments'!B:G,6,))","v":""},""]
[{"$f":"IF(B750<'Step 2. Basic Info'!$E$12,A750+1,\"\")","v":""},"","",{"$f":"IF(A751=\"\",\"\",(SUM('Step 3. Lease Payments'!$G$11:$G$5006)+'Step 2. Basic Info'!$E$24)/'Validations - DO NOT DELETE'!$H$1)","v":""},{"$f":"IF(A751=\"\",\"\",I751*'Step 3. Lease Payments'!$G$8)","v":""},"","",null,"",{"$f":"IF(A751=\"\",\"\",VLOOKUP(A751,'Step 3. Lease Payments'!B:G,6,))","v":""},""]
[{"$f":"IF(B751<'Step 2. Basic Info'!$E$12,A751+1,\"\")","v":""},"","",{"$f":"IF(A752=\"\",\"\",(SUM('Step 3. Lease Payments'!$G$11:$G$5006)+'Step 2. Basic Info'!$E$24)/'Validations - DO NOT DELETE'!$H$1)","v":""},{"$f":"IF(A752=\"\",\"\",I752*'Step 3. Lease Payments'!$G$8)","v":""},"","",null,"",{"$f":"IF(A752=\"\",\"\",VLOOKUP(A752,'Step 3. Lease Payments'!B:G,6,))","v":""},""]
[{"$f":"IF(B752<'Step 2. Basic Info'!$E$12,A752+1,\"\")","v":""},"","",{"$f":"IF(A753=\"\",\"\",(SUM('Step 3. Lease Payments'!$G$11:$G$5006)+'Step 2. Basic Info'!$E$24)/'Validations - DO NOT DELETE'!$H$1)","v":""},{"$f":"IF(A753=\"\",\"\",I753*'Step 3. Lease Payments'!$G$8)","v":""},"","",null,"",{"$f":"IF(A753=\"\",\"\",VLOOKUP(A753,'Step 3. Lease Payments'!B:G,6,))","v":""},""]
[{"$f":"IF(B753<'Step 2. Basic Info'!$E$12,A753+1,\"\")","v":""},"","",{"$f":"IF(A754=\"\",\"\",(SUM('Step 3. Lease Payments'!$G$11:$G$5006)+'Step 2. Basic Info'!$E$24)/'Validations - DO NOT DELETE'!$H$1)","v":""},{"$f":"IF(A754=\"\",\"\",I754*'Step 3. Lease Payments'!$G$8)","v":""},"","",null,"",{"$f":"IF(A754=\"\",\"\",VLOOKUP(A754,'Step 3. Lease Payments'!B:G,6,))","v":""},""]
[{"$f":"IF(B754<'Step 2. Basic Info'!$E$12,A754+1,\"\")","v":""},"","",{"$f":"IF(A755=\"\",\"\",(SUM('Step 3. Lease Payments'!$G$11:$G$5006)+'Step 2. Basic Info'!$E$24)/'Validations - DO NOT DELETE'!$H$1)","v":""},{"$f":"IF(A755=\"\",\"\",I755*'Step 3. Lease Payments'!$G$8)","v":""},"","",null,"",{"$f":"IF(A755=\"\",\"\",VLOOKUP(A755,'Step 3. Lease Payments'!B:G,6,))","v":""},""]
[{"$f":"IF(B755<'Step 2. Basic Info'!$E$12,A755+1,\"\")","v":""},"","",{"$f":"IF(A756=\"\",\"\",(SUM('Step 3. Lease Payments'!$G$11:$G$5006)+'Step 2. Basic Info'!$E$24)/'Validations - DO NOT DELETE'!$H$1)","v":""},{"$f":"IF(A756=\"\",\"\",I756*'Step 3. Lease Payments'!$G$8)","v":""},"","",null,"",{"$f":"IF(A756=\"\",\"\",VLOOKUP(A756,'Step 3. Lease Payments'!B:G,6,))","v":""},""]
[{"$f":"IF(B756<'Step 2. Basic Info'!$E$12,A756+1,\"\")","v":""},"","",{"$f":"IF(A757=\"\",\"\",(SUM('Step 3. Lease Payments'!$G$11:$G$5006)+'Step 2. Basic Info'!$E$24)/'Validations - DO NOT DELETE'!$H$1)","v":""},{"$f":"IF(A757=\"\",\"\",I757*'Step 3. Lease Payments'!$G$8)","v":""},"","",null,"",{"$f":"IF(A757=\"\",\"\",VLOOKUP(A757,'Step 3. Lease Payments'!B:G,6,))","v":""},""]
[{"$f":"IF(B757<'Step 2. Basic Info'!$E$12,A757+1,\"\")","v":""},"","",{"$f":"IF(A758=\"\",\"\",(SUM('Step 3. Lease Payments'!$G$11:$G$5006)+'Step 2. Basic Info'!$E$24)/'Validations - DO NOT DELETE'!$H$1)","v":""},{"$f":"IF(A758=\"\",\"\",I758*'Step 3. Lease Payments'!$G$8)","v":""},"","",null,"",{"$f":"IF(A758=\"\",\"\",VLOOKUP(A758,'Step 3. Lease Payments'!B:G,6,))","v":""},""]
[{"$f":"IF(B758<'Step 2. Basic Info'!$E$12,A758+1,\"\")","v":""},"","",{"$f":"IF(A759=\"\",\"\",(SUM('Step 3. Lease Payments'!$G$11:$G$5006)+'Step 2. Basic Info'!$E$24)/'Validations - DO NOT DELETE'!$H$1)","v":""},{"$f":"IF(A759=\"\",\"\",I759*'Step 3. Lease Payments'!$G$8)","v":""},"","",null,"",{"$f":"IF(A759=\"\",\"\",VLOOKUP(A759,'Step 3. Lease Payments'!B:G,6,))","v":""},""]
[{"$f":"IF(B759<'Step 2. Basic Info'!$E$12,A759+1,\"\")","v":""},"","",{"$f":"IF(A760=\"\",\"\",(SUM('Step 3. Lease Payments'!$G$11:$G$5006)+'Step 2. Basic Info'!$E$24)/'Validations - DO NOT DELETE'!$H$1)","v":""},{"$f":"IF(A760=\"\",\"\",I760*'Step 3. Lease Payments'!$G$8)","v":""},"","",null,"",{"$f":"IF(A760=\"\",\"\",VLOOKUP(A760,'Step 3. Lease Payments'!B:G,6,))","v":""},""]
[{"$f":"IF(B760<'Step 2. Basic Info'!$E$12,A760+1,\"\")","v":""},"","",{"$f":"IF(A761=\"\",\"\",(SUM('Step 3. Lease Payments'!$G$11:$G$5006)+'Step 2. Basic Info'!$E$24)/'Validations - DO NOT DELETE'!$H$1)","v":""},{"$f":"IF(A761=\"\",\"\",I761*'Step 3. Lease Payments'!$G$8)","v":""},"","",null,"",{"$f":"IF(A761=\"\",\"\",VLOOKUP(A761,'Step 3. Lease Payments'!B:G,6,))","v":""},""]
[{"$f":"IF(B761<'Step 2. Basic Info'!$E$12,A761+1,\"\")","v":""},"","",{"$f":"IF(A762=\"\",\"\",(SUM('Step 3. Lease Payments'!$G$11:$G$5006)+'Step 2. Basic Info'!$E$24)/'Validations - DO NOT DELETE'!$H$1)","v":""},{"$f":"IF(A762=\"\",\"\",I762*'Step 3. Lease Payments'!$G$8)","v":""},"","",null,"",{"$f":"IF(A762=\"\",\"\",VLOOKUP(A762,'Step 3. Lease Payments'!B:G,6,))","v":""},""]
[{"$f":"IF(B762<'Step 2. Basic Info'!$E$12,A762+1,\"\")","v":""},"","",{"$f":"IF(A763=\"\",\"\",(SUM('Step 3. Lease Payments'!$G$11:$G$5006)+'Step 2. Basic Info'!$E$24)/'Validations - DO NOT DELETE'!$H$1)","v":""},{"$f":"IF(A763=\"\",\"\",I763*'Step 3. Lease Payments'!$G$8)","v":""},"","",null,"",{"$f":"IF(A763=\"\",\"\",VLOOKUP(A763,'Step 3. Lease Payments'!B:G,6,))","v":""},""]
[{"$f":"IF(B763<'Step 2. Basic Info'!$E$12,A763+1,\"\")","v":""},"","",{"$f":"IF(A764=\"\",\"\",(SUM('Step 3. Lease Payments'!$G$11:$G$5006)+'Step 2. Basic Info'!$E$24)/'Validations - DO NOT DELETE'!$H$1)","v":""},{"$f":"IF(A764=\"\",\"\",I764*'Step 3. Lease Payments'!$G$8)","v":""},"","",null,"",{"$f":"IF(A764=\"\",\"\",VLOOKUP(A764,'Step 3. Lease Payments'!B:G,6,))","v":""},""]
[{"$f":"IF(B764<'Step 2. Basic Info'!$E$12,A764+1,\"\")","v":""},"","",{"$f":"IF(A765=\"\",\"\",(SUM('Step 3. Lease Payments'!$G$11:$G$5006)+'Step 2. Basic Info'!$E$24)/'Validations - DO NOT DELETE'!$H$1)","v":""},{"$f":"IF(A765=\"\",\"\",I765*'Step 3. Lease Payments'!$G$8)","v":""},"","",null,"",{"$f":"IF(A765=\"\",\"\",VLOOKUP(A765,'Step 3. Lease Payments'!B:G,6,))","v":""},""]
[{"$f":"IF(B765<'Step 2. Basic Info'!$E$12,A765+1,\"\")","v":""},"","",{"$f":"IF(A766=\"\",\"\",(SUM('Step 3. Lease Payments'!$G$11:$G$5006)+'Step 2. Basic Info'!$E$24)/'Validations - DO NOT DELETE'!$H$1)","v":""},{"$f":"IF(A766=\"\",\"\",I766*'Step 3. Lease Payments'!$G$8)","v":""},"","",null,"",{"$f":"IF(A766=\"\",\"\",VLOOKUP(A766,'Step 3. Lease Payments'!B:G,6,))","v":""},""]
[{"$f":"IF(B766<'Step 2. Basic Info'!$E$12,A766+1,\"\")","v":""},"","",{"$f":"IF(A767=\"\",\"\",(SUM('Step 3. Lease Payments'!$G$11:$G$5006)+'Step 2. Basic Info'!$E$24)/'Validations - DO NOT DELETE'!$H$1)","v":""},{"$f":"IF(A767=\"\",\"\",I767*'Step 3. Lease Payments'!$G$8)","v":""},"","",null,"",{"$f":"IF(A767=\"\",\"\",VLOOKUP(A767,'Step 3. Lease Payments'!B:G,6,))","v":""},""]
[{"$f":"IF(B767<'Step 2. Basic Info'!$E$12,A767+1,\"\")","v":""},"","",{"$f":"IF(A768=\"\",\"\",(SUM('Step 3. Lease Payments'!$G$11:$G$5006)+'Step 2. Basic Info'!$E$24)/'Validations - DO NOT DELETE'!$H$1)","v":""},{"$f":"IF(A768=\"\",\"\",I768*'Step 3. Lease Payments'!$G$8)","v":""},"","",null,"",{"$f":"IF(A768=\"\",\"\",VLOOKUP(A768,'Step 3. Lease Payments'!B:G,6,))","v":""},""]
[{"$f":"IF(B768<'Step 2. Basic Info'!$E$12,A768+1,\"\")","v":""},"","",{"$f":"IF(A769=\"\",\"\",(SUM('Step 3. Lease Payments'!$G$11:$G$5006)+'Step 2. Basic Info'!$E$24)/'Validations - DO NOT DELETE'!$H$1)","v":""},{"$f":"IF(A769=\"\",\"\",I769*'Step 3. Lease Payments'!$G$8)","v":""},"","",null,"",{"$f":"IF(A769=\"\",\"\",VLOOKUP(A769,'Step 3. Lease Payments'!B:G,6,))","v":""},""]
[{"$f":"IF(B769<'Step 2. Basic Info'!$E$12,A769+1,\"\")","v":""},"","",{"$f":"IF(A770=\"\",\"\",(SUM('Step 3. Lease Payments'!$G$11:$G$5006)+'Step 2. Basic Info'!$E$24)/'Validations - DO NOT DELETE'!$H$1)","v":""},{"$f":"IF(A770=\"\",\"\",I770*'Step 3. Lease Payments'!$G$8)","v":""},"","",null,"",{"$f":"IF(A770=\"\",\"\",VLOOKUP(A770,'Step 3. Lease Payments'!B:G,6,))","v":""},""]
[{"$f":"IF(B770<'Step 2. Basic Info'!$E$12,A770+1,\"\")","v":""},"","",{"$f":"IF(A771=\"\",\"\",(SUM('Step 3. Lease Payments'!$G$11:$G$5006)+'Step 2. Basic Info'!$E$24)/'Validations - DO NOT DELETE'!$H$1)","v":""},{"$f":"IF(A771=\"\",\"\",I771*'Step 3. Lease Payments'!$G$8)","v":""},"","",null,"",{"$f":"IF(A771=\"\",\"\",VLOOKUP(A771,'Step 3. Lease Payments'!B:G,6,))","v":""},""]
[{"$f":"IF(B771<'Step 2. Basic Info'!$E$12,A771+1,\"\")","v":""},"","",{"$f":"IF(A772=\"\",\"\",(SUM('Step 3. Lease Payments'!$G$11:$G$5006)+'Step 2. Basic Info'!$E$24)/'Validations - DO NOT DELETE'!$H$1)","v":""},{"$f":"IF(A772=\"\",\"\",I772*'Step 3. Lease Payments'!$G$8)","v":""},"","",null,"",{"$f":"IF(A772=\"\",\"\",VLOOKUP(A772,'Step 3. Lease Payments'!B:G,6,))","v":""},""]
[{"$f":"IF(B772<'Step 2. Basic Info'!$E$12,A772+1,\"\")","v":""},"","",{"$f":"IF(A773=\"\",\"\",(SUM('Step 3. Lease Payments'!$G$11:$G$5006)+'Step 2. Basic Info'!$E$24)/'Validations - DO NOT DELETE'!$H$1)","v":""},{"$f":"IF(A773=\"\",\"\",I773*'Step 3. Lease Payments'!$G$8)","v":""},"","",null,"",{"$f":"IF(A773=\"\",\"\",VLOOKUP(A773,'Step 3. Lease Payments'!B:G,6,))","v":""},""]
[{"$f":"IF(B773<'Step 2. Basic Info'!$E$12,A773+1,\"\")","v":""},"","",{"$f":"IF(A774=\"\",\"\",(SUM('Step 3. Lease Payments'!$G$11:$G$5006)+'Step 2. Basic Info'!$E$24)/'Validations - DO NOT DELETE'!$H$1)","v":""},{"$f":"IF(A774=\"\",\"\",I774*'Step 3. Lease Payments'!$G$8)","v":""},"","",null,"",{"$f":"IF(A774=\"\",\"\",VLOOKUP(A774,'Step 3. Lease Payments'!B:G,6,))","v":""},""]
[{"$f":"IF(B774<'Step 2. Basic Info'!$E$12,A774+1,\"\")","v":""},"","",{"$f":"IF(A775=\"\",\"\",(SUM('Step 3. Lease Payments'!$G$11:$G$5006)+'Step 2. Basic Info'!$E$24)/'Validations - DO NOT DELETE'!$H$1)","v":""},{"$f":"IF(A775=\"\",\"\",I775*'Step 3. Lease Payments'!$G$8)","v":""},"","",null,"",{"$f":"IF(A775=\"\",\"\",VLOOKUP(A775,'Step 3. Lease Payments'!B:G,6,))","v":""},""]
[{"$f":"IF(B775<'Step 2. Basic Info'!$E$12,A775+1,\"\")","v":""},"","",{"$f":"IF(A776=\"\",\"\",(SUM('Step 3. Lease Payments'!$G$11:$G$5006)+'Step 2. Basic Info'!$E$24)/'Validations - DO NOT DELETE'!$H$1)","v":""},{"$f":"IF(A776=\"\",\"\",I776*'Step 3. Lease Payments'!$G$8)","v":""},"","",null,"",{"$f":"IF(A776=\"\",\"\",VLOOKUP(A776,'Step 3. Lease Payments'!B:G,6,))","v":""},""]
[{"$f":"IF(B776<'Step 2. Basic Info'!$E$12,A776+1,\"\")","v":""},"","",{"$f":"IF(A777=\"\",\"\",(SUM('Step 3. Lease Payments'!$G$11:$G$5006)+'Step 2. Basic Info'!$E$24)/'Validations - DO NOT DELETE'!$H$1)","v":""},{"$f":"IF(A777=\"\",\"\",I777*'Step 3. Lease Payments'!$G$8)","v":""},"","",null,"",{"$f":"IF(A777=\"\",\"\",VLOOKUP(A777,'Step 3. Lease Payments'!B:G,6,))","v":""},""]
[{"$f":"IF(B777<'Step 2. Basic Info'!$E$12,A777+1,\"\")","v":""},"","",{"$f":"IF(A778=\"\",\"\",(SUM('Step 3. Lease Payments'!$G$11:$G$5006)+'Step 2. Basic Info'!$E$24)/'Validations - DO NOT DELETE'!$H$1)","v":""},{"$f":"IF(A778=\"\",\"\",I778*'Step 3. Lease Payments'!$G$8)","v":""},"","",null,"",{"$f":"IF(A778=\"\",\"\",VLOOKUP(A778,'Step 3. Lease Payments'!B:G,6,))","v":""},""]
[{"$f":"IF(B778<'Step 2. Basic Info'!$E$12,A778+1,\"\")","v":""},{"$f":"IF(A779=\"\",\"\",(DATE(YEAR(B778),MONTH(B778)+1,DAY(B778))))","v":""},{"$f":"IF(A779=\"\",\"\",G778)","v":""},{"$f":"IF(A779=\"\",\"\",(SUM('Step 3. Lease Payments'!$G$11:$G$5006)+'Step 2. Basic Info'!$E$24)/'Validations - DO NOT DELETE'!$H$1)","v":""},{"$f":"IF(A779=\"\",\"\",I779*'Step 3. Lease Payments'!$G$8)","v":""},{"$f":"IF(A779=\"\",\"\",D779-E779)","v":""},{"$f":"IF(A779=\"\",\"\",C779-F779)","v":""},null,{"$f":"IF(A779=\"\",\"\",K778)","v":""},{"$f":"IF(A779=\"\",\"\",VLOOKUP(A779,'Step 3. Lease Payments'!B:G,6,))","v":""},{"$f":"IF(A779=\"\",\"\",I779-J779+E779)","v":""}]
[{"$f":"IF(B779<'Step 2. Basic Info'!$E$12,A779+1,\"\")","v":""},"","",{"$f":"IF(A780=\"\",\"\",(SUM('Step 3. Lease Payments'!$G$11:$G$5006)+'Step 2. Basic Info'!$E$24)/'Validations - DO NOT DELETE'!$H$1)","v":""},{"$f":"IF(A780=\"\",\"\",I780*'Step 3. Lease Payments'!$G$8)","v":""},"","",null,"",{"$f":"IF(A780=\"\",\"\",VLOOKUP(A780,'Step 3. Lease Payments'!B:G,6,))","v":""},""]
[{"$f":"IF(B780<'Step 2. Basic Info'!$E$12,A780+1,\"\")","v":""},"","",{"$f":"IF(A781=\"\",\"\",(SUM('Step 3. Lease Payments'!$G$11:$G$5006)+'Step 2. Basic Info'!$E$24)/'Validations - DO NOT DELETE'!$H$1)","v":""},{"$f":"IF(A781=\"\",\"\",I781*'Step 3. Lease Payments'!$G$8)","v":""},"","",null,"",{"$f":"IF(A781=\"\",\"\",VLOOKUP(A781,'Step 3. Lease Payments'!B:G,6,))","v":""},""]
[{"$f":"IF(B781<'Step 2. Basic Info'!$E$12,A781+1,\"\")","v":""},"","",{"$f":"IF(A782=\"\",\"\",(SUM('Step 3. Lease Payments'!$G$11:$G$5006)+'Step 2. Basic Info'!$E$24)/'Validations - DO NOT DELETE'!$H$1)","v":""},{"$f":"IF(A782=\"\",\"\",I782*'Step 3. Lease Payments'!$G$8)","v":""},"","",null,"",{"$f":"IF(A782=\"\",\"\",VLOOKUP(A782,'Step 3. Lease Payments'!B:G,6,))","v":""},""]
[{"$f":"IF(B782<'Step 2. Basic Info'!$E$12,A782+1,\"\")","v":""},"","",{"$f":"IF(A783=\"\",\"\",(SUM('Step 3. Lease Payments'!$G$11:$G$5006)+'Step 2. Basic Info'!$E$24)/'Validations - DO NOT DELETE'!$H$1)","v":""},{"$f":"IF(A783=\"\",\"\",I783*'Step 3. Lease Payments'!$G$8)","v":""},"","",null,"",{"$f":"IF(A783=\"\",\"\",VLOOKUP(A783,'Step 3. Lease Payments'!B:G,6,))","v":""},""]
[{"$f":"IF(B783<'Step 2. Basic Info'!$E$12,A783+1,\"\")","v":""},"","",{"$f":"IF(A784=\"\",\"\",(SUM('Step 3. Lease Payments'!$G$11:$G$5006)+'Step 2. Basic Info'!$E$24)/'Validations - DO NOT DELETE'!$H$1)","v":""},{"$f":"IF(A784=\"\",\"\",I784*'Step 3. Lease Payments'!$G$8)","v":""},"","",null,"",{"$f":"IF(A784=\"\",\"\",VLOOKUP(A784,'Step 3. Lease Payments'!B:G,6,))","v":""},""]
[{"$f":"IF(B784<'Step 2. Basic Info'!$E$12,A784+1,\"\")","v":""},"","",{"$f":"IF(A785=\"\",\"\",(SUM('Step 3. Lease Payments'!$G$11:$G$5006)+'Step 2. Basic Info'!$E$24)/'Validations - DO NOT DELETE'!$H$1)","v":""},{"$f":"IF(A785=\"\",\"\",I785*'Step 3. Lease Payments'!$G$8)","v":""},"","",null,"",{"$f":"IF(A785=\"\",\"\",VLOOKUP(A785,'Step 3. Lease Payments'!B:G,6,))","v":""},""]
[{"$f":"IF(B785<'Step 2. Basic Info'!$E$12,A785+1,\"\")","v":""},"","",{"$f":"IF(A786=\"\",\"\",(SUM('Step 3. Lease Payments'!$G$11:$G$5006)+'Step 2. Basic Info'!$E$24)/'Validations - DO NOT DELETE'!$H$1)","v":""},{"$f":"IF(A786=\"\",\"\",I786*'Step 3. Lease Payments'!$G$8)","v":""},"","",null,"",{"$f":"IF(A786=\"\",\"\",VLOOKUP(A786,'Step 3. Lease Payments'!B:G,6,))","v":""},""]
[{"$f":"IF(B786<'Step 2. Basic Info'!$E$12,A786+1,\"\")","v":""},"","",{"$f":"IF(A787=\"\",\"\",(SUM('Step 3. Lease Payments'!$G$11:$G$5006)+'Step 2. Basic Info'!$E$24)/'Validations - DO NOT DELETE'!$H$1)","v":""},{"$f":"IF(A787=\"\",\"\",I787*'Step 3. Lease Payments'!$G$8)","v":""},"","",null,"",{"$f":"IF(A787=\"\",\"\",VLOOKUP(A787,'Step 3. Lease Payments'!B:G,6,))","v":""},""]
[{"$f":"IF(B787<'Step 2. Basic Info'!$E$12,A787+1,\"\")","v":""},"","",{"$f":"IF(A788=\"\",\"\",(SUM('Step 3. Lease Payments'!$G$11:$G$5006)+'Step 2. Basic Info'!$E$24)/'Validations - DO NOT DELETE'!$H$1)","v":""},{"$f":"IF(A788=\"\",\"\",I788*'Step 3. Lease Payments'!$G$8)","v":""},"","",null,"",{"$f":"IF(A788=\"\",\"\",VLOOKUP(A788,'Step 3. Lease Payments'!B:G,6,))","v":""},""]
[{"$f":"IF(B788<'Step 2. Basic Info'!$E$12,A788+1,\"\")","v":""},"","",{"$f":"IF(A789=\"\",\"\",(SUM('Step 3. Lease Payments'!$G$11:$G$5006)+'Step 2. Basic Info'!$E$24)/'Validations - DO NOT DELETE'!$H$1)","v":""},{"$f":"IF(A789=\"\",\"\",I789*'Step 3. Lease Payments'!$G$8)","v":""},"","",null,"",{"$f":"IF(A789=\"\",\"\",VLOOKUP(A789,'Step 3. Lease Payments'!B:G,6,))","v":""},""]
[{"$f":"IF(B789<'Step 2. Basic Info'!$E$12,A789+1,\"\")","v":""},"","",{"$f":"IF(A790=\"\",\"\",(SUM('Step 3. Lease Payments'!$G$11:$G$5006)+'Step 2. Basic Info'!$E$24)/'Validations - DO NOT DELETE'!$H$1)","v":""},{"$f":"IF(A790=\"\",\"\",I790*'Step 3. Lease Payments'!$G$8)","v":""},"","",null,"",{"$f":"IF(A790=\"\",\"\",VLOOKUP(A790,'Step 3. Lease Payments'!B:G,6,))","v":""},""]
[{"$f":"IF(B790<'Step 2. Basic Info'!$E$12,A790+1,\"\")","v":""},"","",{"$f":"IF(A791=\"\",\"\",(SUM('Step 3. Lease Payments'!$G$11:$G$5006)+'Step 2. Basic Info'!$E$24)/'Validations - DO NOT DELETE'!$H$1)","v":""},{"$f":"IF(A791=\"\",\"\",I791*'Step 3. Lease Payments'!$G$8)","v":""},"","",null,"",{"$f":"IF(A791=\"\",\"\",VLOOKUP(A791,'Step 3. Lease Payments'!B:G,6,))","v":""},""]
[{"$f":"IF(B791<'Step 2. Basic Info'!$E$12,A791+1,\"\")","v":""},"","",{"$f":"IF(A792=\"\",\"\",(SUM('Step 3. Lease Payments'!$G$11:$G$5006)+'Step 2. Basic Info'!$E$24)/'Validations - DO NOT DELETE'!$H$1)","v":""},{"$f":"IF(A792=\"\",\"\",I792*'Step 3. Lease Payments'!$G$8)","v":""},"","",null,"",{"$f":"IF(A792=\"\",\"\",VLOOKUP(A792,'Step 3. Lease Payments'!B:G,6,))","v":""},""]
[{"$f":"IF(B792<'Step 2. Basic Info'!$E$12,A792+1,\"\")","v":""},"","",{"$f":"IF(A793=\"\",\"\",(SUM('Step 3. Lease Payments'!$G$11:$G$5006)+'Step 2. Basic Info'!$E$24)/'Validations - DO NOT DELETE'!$H$1)","v":""},{"$f":"IF(A793=\"\",\"\",I793*'Step 3. Lease Payments'!$G$8)","v":""},"","",null,"",{"$f":"IF(A793=\"\",\"\",VLOOKUP(A793,'Step 3. Lease Payments'!B:G,6,))","v":""},""]
[{"$f":"IF(B793<'Step 2. Basic Info'!$E$12,A793+1,\"\")","v":""},"","",{"$f":"IF(A794=\"\",\"\",(SUM('Step 3. Lease Payments'!$G$11:$G$5006)+'Step 2. Basic Info'!$E$24)/'Validations - DO NOT DELETE'!$H$1)","v":""},{"$f":"IF(A794=\"\",\"\",I794*'Step 3. Lease Payments'!$G$8)","v":""},"","",null,"",{"$f":"IF(A794=\"\",\"\",VLOOKUP(A794,'Step 3. Lease Payments'!B:G,6,))","v":""},""]
[{"$f":"IF(B794<'Step 2. Basic Info'!$E$12,A794+1,\"\")","v":""},"","",{"$f":"IF(A795=\"\",\"\",(SUM('Step 3. Lease Payments'!$G$11:$G$5006)+'Step 2. Basic Info'!$E$24)/'Validations - DO NOT DELETE'!$H$1)","v":""},{"$f":"IF(A795=\"\",\"\",I795*'Step 3. Lease Payments'!$G$8)","v":""},"","",null,"",{"$f":"IF(A795=\"\",\"\",VLOOKUP(A795,'Step 3. Lease Payments'!B:G,6,))","v":""},""]
[{"$f":"IF(B795<'Step 2. Basic Info'!$E$12,A795+1,\"\")","v":""},"","",{"$f":"IF(A796=\"\",\"\",(SUM('Step 3. Lease Payments'!$G$11:$G$5006)+'Step 2. Basic Info'!$E$24)/'Validations - DO NOT DELETE'!$H$1)","v":""},{"$f":"IF(A796=\"\",\"\",I796*'Step 3. Lease Payments'!$G$8)","v":""},"","",null,"",{"$f":"IF(A796=\"\",\"\",VLOOKUP(A796,'Step 3. Lease Payments'!B:G,6,))","v":""},""]
[{"$f":"IF(B796<'Step 2. Basic Info'!$E$12,A796+1,\"\")","v":""},"","",{"$f":"IF(A797=\"\",\"\",(SUM('Step 3. Lease Payments'!$G$11:$G$5006)+'Step 2. Basic Info'!$E$24)/'Validations - DO NOT DELETE'!$H$1)","v":""},{"$f":"IF(A797=\"\",\"\",I797*'Step 3. Lease Payments'!$G$8)","v":""},"","",null,"",{"$f":"IF(A797=\"\",\"\",VLOOKUP(A797,'Step 3. Lease Payments'!B:G,6,))","v":""},""]
[{"$f":"IF(B797<'Step 2. Basic Info'!$E$12,A797+1,\"\")","v":""},"","",{"$f":"IF(A798=\"\",\"\",(SUM('Step 3. Lease Payments'!$G$11:$G$5006)+'Step 2. Basic Info'!$E$24)/'Validations - DO NOT DELETE'!$H$1)","v":""},{"$f":"IF(A798=\"\",\"\",I798*'Step 3. Lease Payments'!$G$8)","v":""},"","",null,"",{"$f":"IF(A798=\"\",\"\",VLOOKUP(A798,'Step 3. Lease Payments'!B:G,6,))","v":""},""]
[{"$f":"IF(B798<'Step 2. Basic Info'!$E$12,A798+1,\"\")","v":""},"","",{"$f":"IF(A799=\"\",\"\",(SUM('Step 3. Lease Payments'!$G$11:$G$5006)+'Step 2. Basic Info'!$E$24)/'Validations - DO NOT DELETE'!$H$1)","v":""},{"$f":"IF(A799=\"\",\"\",I799*'Step 3. Lease Payments'!$G$8)","v":""},"","",null,"",{"$f":"IF(A799=\"\",\"\",VLOOKUP(A799,'Step 3. Lease Payments'!B:G,6,))","v":""},""]
[{"$f":"IF(B799<'Step 2. Basic Info'!$E$12,A799+1,\"\")","v":""},"","",{"$f":"IF(A800=\"\",\"\",(SUM('Step 3. Lease Payments'!$G$11:$G$5006)+'Step 2. Basic Info'!$E$24)/'Validations - DO NOT DELETE'!$H$1)","v":""},{"$f":"IF(A800=\"\",\"\",I800*'Step 3. Lease Payments'!$G$8)","v":""},"","",null,"",{"$f":"IF(A800=\"\",\"\",VLOOKUP(A800,'Step 3. Lease Payments'!B:G,6,))","v":""},""]
[{"$f":"IF(B800<'Step 2. Basic Info'!$E$12,A800+1,\"\")","v":""},"","",{"$f":"IF(A801=\"\",\"\",(SUM('Step 3. Lease Payments'!$G$11:$G$5006)+'Step 2. Basic Info'!$E$24)/'Validations - DO NOT DELETE'!$H$1)","v":""},{"$f":"IF(A801=\"\",\"\",I801*'Step 3. Lease Payments'!$G$8)","v":""},"","",null,"",{"$f":"IF(A801=\"\",\"\",VLOOKUP(A801,'Step 3. Lease Payments'!B:G,6,))","v":""},""]
[{"$f":"IF(B801<'Step 2. Basic Info'!$E$12,A801+1,\"\")","v":""},"","",{"$f":"IF(A802=\"\",\"\",(SUM('Step 3. Lease Payments'!$G$11:$G$5006)+'Step 2. Basic Info'!$E$24)/'Validations - DO NOT DELETE'!$H$1)","v":""},{"$f":"IF(A802=\"\",\"\",I802*'Step 3. Lease Payments'!$G$8)","v":""},"","",null,"",{"$f":"IF(A802=\"\",\"\",VLOOKUP(A802,'Step 3. Lease Payments'!B:G,6,))","v":""},""]
[{"$f":"IF(B802<'Step 2. Basic Info'!$E$12,A802+1,\"\")","v":""},"","",{"$f":"IF(A803=\"\",\"\",(SUM('Step 3. Lease Payments'!$G$11:$G$5006)+'Step 2. Basic Info'!$E$24)/'Validations - DO NOT DELETE'!$H$1)","v":""},{"$f":"IF(A803=\"\",\"\",I803*'Step 3. Lease Payments'!$G$8)","v":""},"","",null,"",{"$f":"IF(A803=\"\",\"\",VLOOKUP(A803,'Step 3. Lease Payments'!B:G,6,))","v":""},""]
[{"$f":"IF(B803<'Step 2. Basic Info'!$E$12,A803+1,\"\")","v":""},"","",{"$f":"IF(A804=\"\",\"\",(SUM('Step 3. Lease Payments'!$G$11:$G$5006)+'Step 2. Basic Info'!$E$24)/'Validations - DO NOT DELETE'!$H$1)","v":""},{"$f":"IF(A804=\"\",\"\",I804*'Step 3. Lease Payments'!$G$8)","v":""},"","",null,"",{"$f":"IF(A804=\"\",\"\",VLOOKUP(A804,'Step 3. Lease Payments'!B:G,6,))","v":""},""]
[{"$f":"IF(B804<'Step 2. Basic Info'!$E$12,A804+1,\"\")","v":""},"","",{"$f":"IF(A805=\"\",\"\",(SUM('Step 3. Lease Payments'!$G$11:$G$5006)+'Step 2. Basic Info'!$E$24)/'Validations - DO NOT DELETE'!$H$1)","v":""},{"$f":"IF(A805=\"\",\"\",I805*'Step 3. Lease Payments'!$G$8)","v":""},"","",null,"",{"$f":"IF(A805=\"\",\"\",VLOOKUP(A805,'Step 3. Lease Payments'!B:G,6,))","v":""},""]
[{"$f":"IF(B805<'Step 2. Basic Info'!$E$12,A805+1,\"\")","v":""},"","",{"$f":"IF(A806=\"\",\"\",(SUM('Step 3. Lease Payments'!$G$11:$G$5006)+'Step 2. Basic Info'!$E$24)/'Validations - DO NOT DELETE'!$H$1)","v":""},{"$f":"IF(A806=\"\",\"\",I806*'Step 3. Lease Payments'!$G$8)","v":""},"","",null,"",{"$f":"IF(A806=\"\",\"\",VLOOKUP(A806,'Step 3. Lease Payments'!B:G,6,))","v":""},""]
[{"$f":"IF(B806<'Step 2. Basic Info'!$E$12,A806+1,\"\")","v":""},"","",{"$f":"IF(A807=\"\",\"\",(SUM('Step 3. Lease Payments'!$G$11:$G$5006)+'Step 2. Basic Info'!$E$24)/'Validations - DO NOT DELETE'!$H$1)","v":""},{"$f":"IF(A807=\"\",\"\",I807*'Step 3. Lease Payments'!$G$8)","v":""},"","",null,"",{"$f":"IF(A807=\"\",\"\",VLOOKUP(A807,'Step 3. Lease Payments'!B:G,6,))","v":""},""]
[{"$f":"IF(B807<'Step 2. Basic Info'!$E$12,A807+1,\"\")","v":""},"","",{"$f":"IF(A808=\"\",\"\",(SUM('Step 3. Lease Payments'!$G$11:$G$5006)+'Step 2. Basic Info'!$E$24)/'Validations - DO NOT DELETE'!$H$1)","v":""},{"$f":"IF(A808=\"\",\"\",I808*'Step 3. Lease Payments'!$G$8)","v":""},"","",null,"",{"$f":"IF(A808=\"\",\"\",VLOOKUP(A808,'Step 3. Lease Payments'!B:G,6,))","v":""},""]
[{"$f":"IF(B808<'Step 2. Basic Info'!$E$12,A808+1,\"\")","v":""},"","",{"$f":"IF(A809=\"\",\"\",(SUM('Step 3. Lease Payments'!$G$11:$G$5006)+'Step 2. Basic Info'!$E$24)/'Validations - DO NOT DELETE'!$H$1)","v":""},{"$f":"IF(A809=\"\",\"\",I809*'Step 3. Lease Payments'!$G$8)","v":""},"","",null,"",{"$f":"IF(A809=\"\",\"\",VLOOKUP(A809,'Step 3. Lease Payments'!B:G,6,))","v":""},""]
[{"$f":"IF(B809<'Step 2. Basic Info'!$E$12,A809+1,\"\")","v":""},"","",{"$f":"IF(A810=\"\",\"\",(SUM('Step 3. Lease Payments'!$G$11:$G$5006)+'Step 2. Basic Info'!$E$24)/'Validations - DO NOT DELETE'!$H$1)","v":""},{"$f":"IF(A810=\"\",\"\",I810*'Step 3. Lease Payments'!$G$8)","v":""},"","",null,"",{"$f":"IF(A810=\"\",\"\",VLOOKUP(A810,'Step 3. Lease Payments'!B:G,6,))","v":""},""]
[{"$f":"IF(B810<'Step 2. Basic Info'!$E$12,A810+1,\"\")","v":""},"","",{"$f":"IF(A811=\"\",\"\",(SUM('Step 3. Lease Payments'!$G$11:$G$5006)+'Step 2. Basic Info'!$E$24)/'Validations - DO NOT DELETE'!$H$1)","v":""},{"$f":"IF(A811=\"\",\"\",I811*'Step 3. Lease Payments'!$G$8)","v":""},"","",null,"",{"$f":"IF(A811=\"\",\"\",VLOOKUP(A811,'Step 3. Lease Payments'!B:G,6,))","v":""},""]
[{"$f":"IF(B811<'Step 2. Basic Info'!$E$12,A811+1,\"\")","v":""},"","",{"$f":"IF(A812=\"\",\"\",(SUM('Step 3. Lease Payments'!$G$11:$G$5006)+'Step 2. Basic Info'!$E$24)/'Validations - DO NOT DELETE'!$H$1)","v":""},{"$f":"IF(A812=\"\",\"\",I812*'Step 3. Lease Payments'!$G$8)","v":""},"","",null,"",{"$f":"IF(A812=\"\",\"\",VLOOKUP(A812,'Step 3. Lease Payments'!B:G,6,))","v":""},""]
[{"$f":"IF(B812<'Step 2. Basic Info'!$E$12,A812+1,\"\")","v":""},"","",{"$f":"IF(A813=\"\",\"\",(SUM('Step 3. Lease Payments'!$G$11:$G$5006)+'Step 2. Basic Info'!$E$24)/'Validations - DO NOT DELETE'!$H$1)","v":""},{"$f":"IF(A813=\"\",\"\",I813*'Step 3. Lease Payments'!$G$8)","v":""},"","",null,"",{"$f":"IF(A813=\"\",\"\",VLOOKUP(A813,'Step 3. Lease Payments'!B:G,6,))","v":""},""]
[{"$f":"IF(B813<'Step 2. Basic Info'!$E$12,A813+1,\"\")","v":""},"","",{"$f":"IF(A814=\"\",\"\",(SUM('Step 3. Lease Payments'!$G$11:$G$5006)+'Step 2. Basic Info'!$E$24)/'Validations - DO NOT DELETE'!$H$1)","v":""},{"$f":"IF(A814=\"\",\"\",I814*'Step 3. Lease Payments'!$G$8)","v":""},"","",null,"",{"$f":"IF(A814=\"\",\"\",VLOOKUP(A814,'Step 3. Lease Payments'!B:G,6,))","v":""},""]
[{"$f":"IF(B814<'Step 2. Basic Info'!$E$12,A814+1,\"\")","v":""},"","",{"$f":"IF(A815=\"\",\"\",(SUM('Step 3. Lease Payments'!$G$11:$G$5006)+'Step 2. Basic Info'!$E$24)/'Validations - DO NOT DELETE'!$H$1)","v":""},{"$f":"IF(A815=\"\",\"\",I815*'Step 3. Lease Payments'!$G$8)","v":""},"","",null,"",{"$f":"IF(A815=\"\",\"\",VLOOKUP(A815,'Step 3. Lease Payments'!B:G,6,))","v":""},""]
[{"$f":"IF(B815<'Step 2. Basic Info'!$E$12,A815+1,\"\")","v":""},"","",{"$f":"IF(A816=\"\",\"\",(SUM('Step 3. Lease Payments'!$G$11:$G$5006)+'Step 2. Basic Info'!$E$24)/'Validations - DO NOT DELETE'!$H$1)","v":""},{"$f":"IF(A816=\"\",\"\",I816*'Step 3. Lease Payments'!$G$8)","v":""},"","",null,"",{"$f":"IF(A816=\"\",\"\",VLOOKUP(A816,'Step 3. Lease Payments'!B:G,6,))","v":""},""]
[{"$f":"IF(B816<'Step 2. Basic Info'!$E$12,A816+1,\"\")","v":""},"","",{"$f":"IF(A817=\"\",\"\",(SUM('Step 3. Lease Payments'!$G$11:$G$5006)+'Step 2. Basic Info'!$E$24)/'Validations - DO NOT DELETE'!$H$1)","v":""},{"$f":"IF(A817=\"\",\"\",I817*'Step 3. Lease Payments'!$G$8)","v":""},"","",null,"",{"$f":"IF(A817=\"\",\"\",VLOOKUP(A817,'Step 3. Lease Payments'!B:G,6,))","v":""},""]
[{"$f":"IF(B817<'Step 2. Basic Info'!$E$12,A817+1,\"\")","v":""},"","",{"$f":"IF(A818=\"\",\"\",(SUM('Step 3. Lease Payments'!$G$11:$G$5006)+'Step 2. Basic Info'!$E$24)/'Validations - DO NOT DELETE'!$H$1)","v":""},{"$f":"IF(A818=\"\",\"\",I818*'Step 3. Lease Payments'!$G$8)","v":""},"","",null,"",{"$f":"IF(A818=\"\",\"\",VLOOKUP(A818,'Step 3. Lease Payments'!B:G,6,))","v":""},""]
[{"$f":"IF(B818<'Step 2. Basic Info'!$E$12,A818+1,\"\")","v":""},"","",{"$f":"IF(A819=\"\",\"\",(SUM('Step 3. Lease Payments'!$G$11:$G$5006)+'Step 2. Basic Info'!$E$24)/'Validations - DO NOT DELETE'!$H$1)","v":""},{"$f":"IF(A819=\"\",\"\",I819*'Step 3. Lease Payments'!$G$8)","v":""},"","",null,"",{"$f":"IF(A819=\"\",\"\",VLOOKUP(A819,'Step 3. Lease Payments'!B:G,6,))","v":""},""]
[{"$f":"IF(B819<'Step 2. Basic Info'!$E$12,A819+1,\"\")","v":""},"","",{"$f":"IF(A820=\"\",\"\",(SUM('Step 3. Lease Payments'!$G$11:$G$5006)+'Step 2. Basic Info'!$E$24)/'Validations - DO NOT DELETE'!$H$1)","v":""},{"$f":"IF(A820=\"\",\"\",I820*'Step 3. Lease Payments'!$G$8)","v":""},"","",null,"",{"$f":"IF(A820=\"\",\"\",VLOOKUP(A820,'Step 3. Lease Payments'!B:G,6,))","v":""},""]
[{"$f":"IF(B820<'Step 2. Basic Info'!$E$12,A820+1,\"\")","v":""},"","",{"$f":"IF(A821=\"\",\"\",(SUM('Step 3. Lease Payments'!$G$11:$G$5006)+'Step 2. Basic Info'!$E$24)/'Validations - DO NOT DELETE'!$H$1)","v":""},{"$f":"IF(A821=\"\",\"\",I821*'Step 3. Lease Payments'!$G$8)","v":""},"","",null,"",{"$f":"IF(A821=\"\",\"\",VLOOKUP(A821,'Step 3. Lease Payments'!B:G,6,))","v":""},""]
[{"$f":"IF(B821<'Step 2. Basic Info'!$E$12,A821+1,\"\")","v":""},"","",{"$f":"IF(A822=\"\",\"\",(SUM('Step 3. Lease Payments'!$G$11:$G$5006)+'Step 2. Basic Info'!$E$24)/'Validations - DO NOT DELETE'!$H$1)","v":""},{"$f":"IF(A822=\"\",\"\",I822*'Step 3. Lease Payments'!$G$8)","v":""},"","",null,"",{"$f":"IF(A822=\"\",\"\",VLOOKUP(A822,'Step 3. Lease Payments'!B:G,6,))","v":""},""]
[{"$f":"IF(B822<'Step 2. Basic Info'!$E$12,A822+1,\"\")","v":""},"","",{"$f":"IF(A823=\"\",\"\",(SUM('Step 3. Lease Payments'!$G$11:$G$5006)+'Step 2. Basic Info'!$E$24)/'Validations - DO NOT DELETE'!$H$1)","v":""},{"$f":"IF(A823=\"\",\"\",I823*'Step 3. Lease Payments'!$G$8)","v":""},"","",null,"",{"$f":"IF(A823=\"\",\"\",VLOOKUP(A823,'Step 3. Lease Payments'!B:G,6,))","v":""},""]
[{"$f":"IF(B823<'Step 2. Basic Info'!$E$12,A823+1,\"\")","v":""},"","",{"$f":"IF(A824=\"\",\"\",(SUM('Step 3. Lease Payments'!$G$11:$G$5006)+'Step 2. Basic Info'!$E$24)/'Validations - DO NOT DELETE'!$H$1)","v":""},{"$f":"IF(A824=\"\",\"\",I824*'Step 3. Lease Payments'!$G$8)","v":""},"","",null,"",{"$f":"IF(A824=\"\",\"\",VLOOKUP(A824,'Step 3. Lease Payments'!B:G,6,))","v":""},""]
[{"$f":"IF(B824<'Step 2. Basic Info'!$E$12,A824+1,\"\")","v":""},"","",{"$f":"IF(A825=\"\",\"\",(SUM('Step 3. Lease Payments'!$G$11:$G$5006)+'Step 2. Basic Info'!$E$24)/'Validations - DO NOT DELETE'!$H$1)","v":""},{"$f":"IF(A825=\"\",\"\",I825*'Step 3. Lease Payments'!$G$8)","v":""},"","",null,"",{"$f":"IF(A825=\"\",\"\",VLOOKUP(A825,'Step 3. Lease Payments'!B:G,6,))","v":""},""]
[{"$f":"IF(B825<'Step 2. Basic Info'!$E$12,A825+1,\"\")","v":""},"","",{"$f":"IF(A826=\"\",\"\",(SUM('Step 3. Lease Payments'!$G$11:$G$5006)+'Step 2. Basic Info'!$E$24)/'Validations - DO NOT DELETE'!$H$1)","v":""},{"$f":"IF(A826=\"\",\"\",I826*'Step 3. Lease Payments'!$G$8)","v":""},"","",null,"",{"$f":"IF(A826=\"\",\"\",VLOOKUP(A826,'Step 3. Lease Payments'!B:G,6,))","v":""},""]
[{"$f":"IF(B826<'Step 2. Basic Info'!$E$12,A826+1,\"\")","v":""},"","",{"$f":"IF(A827=\"\",\"\",(SUM('Step 3. Lease Payments'!$G$11:$G$5006)+'Step 2. Basic Info'!$E$24)/'Validations - DO NOT DELETE'!$H$1)","v":""},{"$f":"IF(A827=\"\",\"\",I827*'Step 3. Lease Payments'!$G$8)","v":""},"","",null,"",{"$f":"IF(A827=\"\",\"\",VLOOKUP(A827,'Step 3. Lease Payments'!B:G,6,))","v":""},""]
[{"$f":"IF(B827<'Step 2. Basic Info'!$E$12,A827+1,\"\")","v":""},"","",{"$f":"IF(A828=\"\",\"\",(SUM('Step 3. Lease Payments'!$G$11:$G$5006)+'Step 2. Basic Info'!$E$24)/'Validations - DO NOT DELETE'!$H$1)","v":""},{"$f":"IF(A828=\"\",\"\",I828*'Step 3. Lease Payments'!$G$8)","v":""},"","",null,"",{"$f":"IF(A828=\"\",\"\",VLOOKUP(A828,'Step 3. Lease Payments'!B:G,6,))","v":""},""]
[{"$f":"IF(B828<'Step 2. Basic Info'!$E$12,A828+1,\"\")","v":""},"","",{"$f":"IF(A829=\"\",\"\",(SUM('Step 3. Lease Payments'!$G$11:$G$5006)+'Step 2. Basic Info'!$E$24)/'Validations - DO NOT DELETE'!$H$1)","v":""},{"$f":"IF(A829=\"\",\"\",I829*'Step 3. Lease Payments'!$G$8)","v":""},"","",null,"",{"$f":"IF(A829=\"\",\"\",VLOOKUP(A829,'Step 3. Lease Payments'!B:G,6,))","v":""},""]
[{"$f":"IF(B829<'Step 2. Basic Info'!$E$12,A829+1,\"\")","v":""},"","",{"$f":"IF(A830=\"\",\"\",(SUM('Step 3. Lease Payments'!$G$11:$G$5006)+'Step 2. Basic Info'!$E$24)/'Validations - DO NOT DELETE'!$H$1)","v":""},{"$f":"IF(A830=\"\",\"\",I830*'Step 3. Lease Payments'!$G$8)","v":""},"","",null,"",{"$f":"IF(A830=\"\",\"\",VLOOKUP(A830,'Step 3. Lease Payments'!B:G,6,))","v":""},""]
[{"$f":"IF(B830<'Step 2. Basic Info'!$E$12,A830+1,\"\")","v":""},"","",{"$f":"IF(A831=\"\",\"\",(SUM('Step 3. Lease Payments'!$G$11:$G$5006)+'Step 2. Basic Info'!$E$24)/'Validations - DO NOT DELETE'!$H$1)","v":""},{"$f":"IF(A831=\"\",\"\",I831*'Step 3. Lease Payments'!$G$8)","v":""},"","",null,"",{"$f":"IF(A831=\"\",\"\",VLOOKUP(A831,'Step 3. Lease Payments'!B:G,6,))","v":""},""]
[{"$f":"IF(B831<'Step 2. Basic Info'!$E$12,A831+1,\"\")","v":""},"","",{"$f":"IF(A832=\"\",\"\",(SUM('Step 3. Lease Payments'!$G$11:$G$5006)+'Step 2. Basic Info'!$E$24)/'Validations - DO NOT DELETE'!$H$1)","v":""},{"$f":"IF(A832=\"\",\"\",I832*'Step 3. Lease Payments'!$G$8)","v":""},"","",null,"",{"$f":"IF(A832=\"\",\"\",VLOOKUP(A832,'Step 3. Lease Payments'!B:G,6,))","v":""},""]
[{"$f":"IF(B832<'Step 2. Basic Info'!$E$12,A832+1,\"\")","v":""},"","",{"$f":"IF(A833=\"\",\"\",(SUM('Step 3. Lease Payments'!$G$11:$G$5006)+'Step 2. Basic Info'!$E$24)/'Validations - DO NOT DELETE'!$H$1)","v":""},{"$f":"IF(A833=\"\",\"\",I833*'Step 3. Lease Payments'!$G$8)","v":""},"","",null,"",{"$f":"IF(A833=\"\",\"\",VLOOKUP(A833,'Step 3. Lease Payments'!B:G,6,))","v":""},""]
[{"$f":"IF(B833<'Step 2. Basic Info'!$E$12,A833+1,\"\")","v":""},"","",{"$f":"IF(A834=\"\",\"\",(SUM('Step 3. Lease Payments'!$G$11:$G$5006)+'Step 2. Basic Info'!$E$24)/'Validations - DO NOT DELETE'!$H$1)","v":""},{"$f":"IF(A834=\"\",\"\",I834*'Step 3. Lease Payments'!$G$8)","v":""},"","",null,"",{"$f":"IF(A834=\"\",\"\",VLOOKUP(A834,'Step 3. Lease Payments'!B:G,6,))","v":""},""]
[{"$f":"IF(B834<'Step 2. Basic Info'!$E$12,A834+1,\"\")","v":""},"","",{"$f":"IF(A835=\"\",\"\",(SUM('Step 3. Lease Payments'!$G$11:$G$5006)+'Step 2. Basic Info'!$E$24)/'Validations - DO NOT DELETE'!$H$1)","v":""},{"$f":"IF(A835=\"\",\"\",I835*'Step 3. Lease Payments'!$G$8)","v":""},"","",null,"",{"$f":"IF(A835=\"\",\"\",VLOOKUP(A835,'Step 3. Lease Payments'!B:G,6,))","v":""},""]
[{"$f":"IF(B835<'Step 2. Basic Info'!$E$12,A835+1,\"\")","v":""},"","",{"$f":"IF(A836=\"\",\"\",(SUM('Step 3. Lease Payments'!$G$11:$G$5006)+'Step 2. Basic Info'!$E$24)/'Validations - DO NOT DELETE'!$H$1)","v":""},{"$f":"IF(A836=\"\",\"\",I836*'Step 3. Lease Payments'!$G$8)","v":""},"","",null,"",{"$f":"IF(A836=\"\",\"\",VLOOKUP(A836,'Step 3. Lease Payments'!B:G,6,))","v":""},""]
[{"$f":"IF(B836<'Step 2. Basic Info'!$E$12,A836+1,\"\")","v":""},"","",{"$f":"IF(A837=\"\",\"\",(SUM('Step 3. Lease Payments'!$G$11:$G$5006)+'Step 2. Basic Info'!$E$24)/'Validations - DO NOT DELETE'!$H$1)","v":""},{"$f":"IF(A837=\"\",\"\",I837*'Step 3. Lease Payments'!$G$8)","v":""},"","",null,"",{"$f":"IF(A837=\"\",\"\",VLOOKUP(A837,'Step 3. Lease Payments'!B:G,6,))","v":""},""]
[{"$f":"IF(B837<'Step 2. Basic Info'!$E$12,A837+1,\"\")","v":""},"","",{"$f":"IF(A838=\"\",\"\",(SUM('Step 3. Lease Payments'!$G$11:$G$5006)+'Step 2. Basic Info'!$E$24)/'Validations - DO NOT DELETE'!$H$1)","v":""},{"$f":"IF(A838=\"\",\"\",I838*'Step 3. Lease Payments'!$G$8)","v":""},"","",null,"",{"$f":"IF(A838=\"\",\"\",VLOOKUP(A838,'Step 3. Lease Payments'!B:G,6,))","v":""},""]
[{"$f":"IF(B838<'Step 2. Basic Info'!$E$12,A838+1,\"\")","v":""},"","",{"$f":"IF(A839=\"\",\"\",(SUM('Step 3. Lease Payments'!$G$11:$G$5006)+'Step 2. Basic Info'!$E$24)/'Validations - DO NOT DELETE'!$H$1)","v":""},{"$f":"IF(A839=\"\",\"\",I839*'Step 3. Lease Payments'!$G$8)","v":""},"","",null,"",{"$f":"IF(A839=\"\",\"\",VLOOKUP(A839,'Step 3. Lease Payments'!B:G,6,))","v":""},""]
[{"$f":"IF(B839<'Step 2. Basic Info'!$E$12,A839+1,\"\")","v":""},"","",{"$f":"IF(A840=\"\",\"\",(SUM('Step 3. Lease Payments'!$G$11:$G$5006)+'Step 2. Basic Info'!$E$24)/'Validations - DO NOT DELETE'!$H$1)","v":""},{"$f":"IF(A840=\"\",\"\",I840*'Step 3. Lease Payments'!$G$8)","v":""},"","",null,"",{"$f":"IF(A840=\"\",\"\",VLOOKUP(A840,'Step 3. Lease Payments'!B:G,6,))","v":""},""]
[{"$f":"IF(B840<'Step 2. Basic Info'!$E$12,A840+1,\"\")","v":""},"","",{"$f":"IF(A841=\"\",\"\",(SUM('Step 3. Lease Payments'!$G$11:$G$5006)+'Step 2. Basic Info'!$E$24)/'Validations - DO NOT DELETE'!$H$1)","v":""},{"$f":"IF(A841=\"\",\"\",I841*'Step 3. Lease Payments'!$G$8)","v":""},"","",null,"",{"$f":"IF(A841=\"\",\"\",VLOOKUP(A841,'Step 3. Lease Payments'!B:G,6,))","v":""},""]
[{"$f":"IF(B841<'Step 2. Basic Info'!$E$12,A841+1,\"\")","v":""},"","",{"$f":"IF(A842=\"\",\"\",(SUM('Step 3. Lease Payments'!$G$11:$G$5006)+'Step 2. Basic Info'!$E$24)/'Validations - DO NOT DELETE'!$H$1)","v":""},{"$f":"IF(A842=\"\",\"\",I842*'Step 3. Lease Payments'!$G$8)","v":""},"","",null,"",{"$f":"IF(A842=\"\",\"\",VLOOKUP(A842,'Step 3. Lease Payments'!B:G,6,))","v":""},""]
[{"$f":"IF(B842<'Step 2. Basic Info'!$E$12,A842+1,\"\")","v":""},{"$f":"IF(A843=\"\",\"\",(DATE(YEAR(B842),MONTH(B842)+1,DAY(B842))))","v":""},{"$f":"IF(A843=\"\",\"\",G842)","v":""},{"$f":"IF(A843=\"\",\"\",(SUM('Step 3. Lease Payments'!$G$11:$G$5006)+'Step 2. Basic Info'!$E$24)/'Validations - DO NOT DELETE'!$H$1)","v":""},{"$f":"IF(A843=\"\",\"\",I843*'Step 3. Lease Payments'!$G$8)","v":""},{"$f":"IF(A843=\"\",\"\",D843-E843)","v":""},{"$f":"IF(A843=\"\",\"\",C843-F843)","v":""},null,{"$f":"IF(A843=\"\",\"\",K842)","v":""},{"$f":"IF(A843=\"\",\"\",VLOOKUP(A843,'Step 3. Lease Payments'!B:G,6,))","v":""},{"$f":"IF(A843=\"\",\"\",I843-J843+E843)","v":""}]
[{"$f":"IF(B843<'Step 2. Basic Info'!$E$12,A843+1,\"\")","v":""},"","",{"$f":"IF(A844=\"\",\"\",(SUM('Step 3. Lease Payments'!$G$11:$G$5006)+'Step 2. Basic Info'!$E$24)/'Validations - DO NOT DELETE'!$H$1)","v":""},{"$f":"IF(A844=\"\",\"\",I844*'Step 3. Lease Payments'!$G$8)","v":""},"","",null,"",{"$f":"IF(A844=\"\",\"\",VLOOKUP(A844,'Step 3. Lease Payments'!B:G,6,))","v":""},""]
[{"$f":"IF(B844<'Step 2. Basic Info'!$E$12,A844+1,\"\")","v":""},"","",{"$f":"IF(A845=\"\",\"\",(SUM('Step 3. Lease Payments'!$G$11:$G$5006)+'Step 2. Basic Info'!$E$24)/'Validations - DO NOT DELETE'!$H$1)","v":""},{"$f":"IF(A845=\"\",\"\",I845*'Step 3. Lease Payments'!$G$8)","v":""},"","",null,"",{"$f":"IF(A845=\"\",\"\",VLOOKUP(A845,'Step 3. Lease Payments'!B:G,6,))","v":""},""]
[{"$f":"IF(B845<'Step 2. Basic Info'!$E$12,A845+1,\"\")","v":""},"","",{"$f":"IF(A846=\"\",\"\",(SUM('Step 3. Lease Payments'!$G$11:$G$5006)+'Step 2. Basic Info'!$E$24)/'Validations - DO NOT DELETE'!$H$1)","v":""},{"$f":"IF(A846=\"\",\"\",I846*'Step 3. Lease Payments'!$G$8)","v":""},"","",null,"",{"$f":"IF(A846=\"\",\"\",VLOOKUP(A846,'Step 3. Lease Payments'!B:G,6,))","v":""},""]
[{"$f":"IF(B846<'Step 2. Basic Info'!$E$12,A846+1,\"\")","v":""},"","",{"$f":"IF(A847=\"\",\"\",(SUM('Step 3. Lease Payments'!$G$11:$G$5006)+'Step 2. Basic Info'!$E$24)/'Validations - DO NOT DELETE'!$H$1)","v":""},{"$f":"IF(A847=\"\",\"\",I847*'Step 3. Lease Payments'!$G$8)","v":""},"","",null,"",{"$f":"IF(A847=\"\",\"\",VLOOKUP(A847,'Step 3. Lease Payments'!B:G,6,))","v":""},""]
[{"$f":"IF(B847<'Step 2. Basic Info'!$E$12,A847+1,\"\")","v":""},"","",{"$f":"IF(A848=\"\",\"\",(SUM('Step 3. Lease Payments'!$G$11:$G$5006)+'Step 2. Basic Info'!$E$24)/'Validations - DO NOT DELETE'!$H$1)","v":""},{"$f":"IF(A848=\"\",\"\",I848*'Step 3. Lease Payments'!$G$8)","v":""},"","",null,"",{"$f":"IF(A848=\"\",\"\",VLOOKUP(A848,'Step 3. Lease Payments'!B:G,6,))","v":""},""]
[{"$f":"IF(B848<'Step 2. Basic Info'!$E$12,A848+1,\"\")","v":""},"","",{"$f":"IF(A849=\"\",\"\",(SUM('Step 3. Lease Payments'!$G$11:$G$5006)+'Step 2. Basic Info'!$E$24)/'Validations - DO NOT DELETE'!$H$1)","v":""},{"$f":"IF(A849=\"\",\"\",I849*'Step 3. Lease Payments'!$G$8)","v":""},"","",null,"",{"$f":"IF(A849=\"\",\"\",VLOOKUP(A849,'Step 3. Lease Payments'!B:G,6,))","v":""},""]
[{"$f":"IF(B849<'Step 2. Basic Info'!$E$12,A849+1,\"\")","v":""},"","",{"$f":"IF(A850=\"\",\"\",(SUM('Step 3. Lease Payments'!$G$11:$G$5006)+'Step 2. Basic Info'!$E$24)/'Validations - DO NOT DELETE'!$H$1)","v":""},{"$f":"IF(A850=\"\",\"\",I850*'Step 3. Lease Payments'!$G$8)","v":""},"","",null,"",{"$f":"IF(A850=\"\",\"\",VLOOKUP(A850,'Step 3. Lease Payments'!B:G,6,))","v":""},""]
[{"$f":"IF(B850<'Step 2. Basic Info'!$E$12,A850+1,\"\")","v":""},"","",{"$f":"IF(A851=\"\",\"\",(SUM('Step 3. Lease Payments'!$G$11:$G$5006)+'Step 2. Basic Info'!$E$24)/'Validations - DO NOT DELETE'!$H$1)","v":""},{"$f":"IF(A851=\"\",\"\",I851*'Step 3. Lease Payments'!$G$8)","v":""},"","",null,"",{"$f":"IF(A851=\"\",\"\",VLOOKUP(A851,'Step 3. Lease Payments'!B:G,6,))","v":""},""]
[{"$f":"IF(B851<'Step 2. Basic Info'!$E$12,A851+1,\"\")","v":""},"","",{"$f":"IF(A852=\"\",\"\",(SUM('Step 3. Lease Payments'!$G$11:$G$5006)+'Step 2. Basic Info'!$E$24)/'Validations - DO NOT DELETE'!$H$1)","v":""},{"$f":"IF(A852=\"\",\"\",I852*'Step 3. Lease Payments'!$G$8)","v":""},"","",null,"",{"$f":"IF(A852=\"\",\"\",VLOOKUP(A852,'Step 3. Lease Payments'!B:G,6,))","v":""},""]
[{"$f":"IF(B852<'Step 2. Basic Info'!$E$12,A852+1,\"\")","v":""},"","",{"$f":"IF(A853=\"\",\"\",(SUM('Step 3. Lease Payments'!$G$11:$G$5006)+'Step 2. Basic Info'!$E$24)/'Validations - DO NOT DELETE'!$H$1)","v":""},{"$f":"IF(A853=\"\",\"\",I853*'Step 3. Lease Payments'!$G$8)","v":""},"","",null,"",{"$f":"IF(A853=\"\",\"\",VLOOKUP(A853,'Step 3. Lease Payments'!B:G,6,))","v":""},""]
[{"$f":"IF(B853<'Step 2. Basic Info'!$E$12,A853+1,\"\")","v":""},"","",{"$f":"IF(A854=\"\",\"\",(SUM('Step 3. Lease Payments'!$G$11:$G$5006)+'Step 2. Basic Info'!$E$24)/'Validations - DO NOT DELETE'!$H$1)","v":""},{"$f":"IF(A854=\"\",\"\",I854*'Step 3. Lease Payments'!$G$8)","v":""},"","",null,"",{"$f":"IF(A854=\"\",\"\",VLOOKUP(A854,'Step 3. Lease Payments'!B:G,6,))","v":""},""]
[{"$f":"IF(B854<'Step 2. Basic Info'!$E$12,A854+1,\"\")","v":""},"","",{"$f":"IF(A855=\"\",\"\",(SUM('Step 3. Lease Payments'!$G$11:$G$5006)+'Step 2. Basic Info'!$E$24)/'Validations - DO NOT DELETE'!$H$1)","v":""},{"$f":"IF(A855=\"\",\"\",I855*'Step 3. Lease Payments'!$G$8)","v":""},"","",null,"",{"$f":"IF(A855=\"\",\"\",VLOOKUP(A855,'Step 3. Lease Payments'!B:G,6,))","v":""},""]
[{"$f":"IF(B855<'Step 2. Basic Info'!$E$12,A855+1,\"\")","v":""},"","",{"$f":"IF(A856=\"\",\"\",(SUM('Step 3. Lease Payments'!$G$11:$G$5006)+'Step 2. Basic Info'!$E$24)/'Validations - DO NOT DELETE'!$H$1)","v":""},{"$f":"IF(A856=\"\",\"\",I856*'Step 3. Lease Payments'!$G$8)","v":""},"","",null,"",{"$f":"IF(A856=\"\",\"\",VLOOKUP(A856,'Step 3. Lease Payments'!B:G,6,))","v":""},""]
[{"$f":"IF(B856<'Step 2. Basic Info'!$E$12,A856+1,\"\")","v":""},"","",{"$f":"IF(A857=\"\",\"\",(SUM('Step 3. Lease Payments'!$G$11:$G$5006)+'Step 2. Basic Info'!$E$24)/'Validations - DO NOT DELETE'!$H$1)","v":""},{"$f":"IF(A857=\"\",\"\",I857*'Step 3. Lease Payments'!$G$8)","v":""},"","",null,"",{"$f":"IF(A857=\"\",\"\",VLOOKUP(A857,'Step 3. Lease Payments'!B:G,6,))","v":""},""]
[{"$f":"IF(B857<'Step 2. Basic Info'!$E$12,A857+1,\"\")","v":""},"","",{"$f":"IF(A858=\"\",\"\",(SUM('Step 3. Lease Payments'!$G$11:$G$5006)+'Step 2. Basic Info'!$E$24)/'Validations - DO NOT DELETE'!$H$1)","v":""},{"$f":"IF(A858=\"\",\"\",I858*'Step 3. Lease Payments'!$G$8)","v":""},"","",null,"",{"$f":"IF(A858=\"\",\"\",VLOOKUP(A858,'Step 3. Lease Payments'!B:G,6,))","v":""},""]
[{"$f":"IF(B858<'Step 2. Basic Info'!$E$12,A858+1,\"\")","v":""},"","",{"$f":"IF(A859=\"\",\"\",(SUM('Step 3. Lease Payments'!$G$11:$G$5006)+'Step 2. Basic Info'!$E$24)/'Validations - DO NOT DELETE'!$H$1)","v":""},{"$f":"IF(A859=\"\",\"\",I859*'Step 3. Lease Payments'!$G$8)","v":""},"","",null,"",{"$f":"IF(A859=\"\",\"\",VLOOKUP(A859,'Step 3. Lease Payments'!B:G,6,))","v":""},""]
[{"$f":"IF(B859<'Step 2. Basic Info'!$E$12,A859+1,\"\")","v":""},"","",{"$f":"IF(A860=\"\",\"\",(SUM('Step 3. Lease Payments'!$G$11:$G$5006)+'Step 2. Basic Info'!$E$24)/'Validations - DO NOT DELETE'!$H$1)","v":""},{"$f":"IF(A860=\"\",\"\",I860*'Step 3. Lease Payments'!$G$8)","v":""},"","",null,"",{"$f":"IF(A860=\"\",\"\",VLOOKUP(A860,'Step 3. Lease Payments'!B:G,6,))","v":""},""]
[{"$f":"IF(B860<'Step 2. Basic Info'!$E$12,A860+1,\"\")","v":""},"","",{"$f":"IF(A861=\"\",\"\",(SUM('Step 3. Lease Payments'!$G$11:$G$5006)+'Step 2. Basic Info'!$E$24)/'Validations - DO NOT DELETE'!$H$1)","v":""},{"$f":"IF(A861=\"\",\"\",I861*'Step 3. Lease Payments'!$G$8)","v":""},"","",null,"",{"$f":"IF(A861=\"\",\"\",VLOOKUP(A861,'Step 3. Lease Payments'!B:G,6,))","v":""},""]
[{"$f":"IF(B861<'Step 2. Basic Info'!$E$12,A861+1,\"\")","v":""},"","",{"$f":"IF(A862=\"\",\"\",(SUM('Step 3. Lease Payments'!$G$11:$G$5006)+'Step 2. Basic Info'!$E$24)/'Validations - DO NOT DELETE'!$H$1)","v":""},{"$f":"IF(A862=\"\",\"\",I862*'Step 3. Lease Payments'!$G$8)","v":""},"","",null,"",{"$f":"IF(A862=\"\",\"\",VLOOKUP(A862,'Step 3. Lease Payments'!B:G,6,))","v":""},""]
[{"$f":"IF(B862<'Step 2. Basic Info'!$E$12,A862+1,\"\")","v":""},"","",{"$f":"IF(A863=\"\",\"\",(SUM('Step 3. Lease Payments'!$G$11:$G$5006)+'Step 2. Basic Info'!$E$24)/'Validations - DO NOT DELETE'!$H$1)","v":""},{"$f":"IF(A863=\"\",\"\",I863*'Step 3. Lease Payments'!$G$8)","v":""},"","",null,"",{"$f":"IF(A863=\"\",\"\",VLOOKUP(A863,'Step 3. Lease Payments'!B:G,6,))","v":""},""]
[{"$f":"IF(B863<'Step 2. Basic Info'!$E$12,A863+1,\"\")","v":""},"","",{"$f":"IF(A864=\"\",\"\",(SUM('Step 3. Lease Payments'!$G$11:$G$5006)+'Step 2. Basic Info'!$E$24)/'Validations - DO NOT DELETE'!$H$1)","v":""},{"$f":"IF(A864=\"\",\"\",I864*'Step 3. Lease Payments'!$G$8)","v":""},"","",null,"",{"$f":"IF(A864=\"\",\"\",VLOOKUP(A864,'Step 3. Lease Payments'!B:G,6,))","v":""},""]
[{"$f":"IF(B864<'Step 2. Basic Info'!$E$12,A864+1,\"\")","v":""},"","",{"$f":"IF(A865=\"\",\"\",(SUM('Step 3. Lease Payments'!$G$11:$G$5006)+'Step 2. Basic Info'!$E$24)/'Validations - DO NOT DELETE'!$H$1)","v":""},{"$f":"IF(A865=\"\",\"\",I865*'Step 3. Lease Payments'!$G$8)","v":""},"","",null,"",{"$f":"IF(A865=\"\",\"\",VLOOKUP(A865,'Step 3. Lease Payments'!B:G,6,))","v":""},""]
[{"$f":"IF(B865<'Step 2. Basic Info'!$E$12,A865+1,\"\")","v":""},"","",{"$f":"IF(A866=\"\",\"\",(SUM('Step 3. Lease Payments'!$G$11:$G$5006)+'Step 2. Basic Info'!$E$24)/'Validations - DO NOT DELETE'!$H$1)","v":""},{"$f":"IF(A866=\"\",\"\",I866*'Step 3. Lease Payments'!$G$8)","v":""},"","",null,"",{"$f":"IF(A866=\"\",\"\",VLOOKUP(A866,'Step 3. Lease Payments'!B:G,6,))","v":""},""]
[{"$f":"IF(B866<'Step 2. Basic Info'!$E$12,A866+1,\"\")","v":""},"","",{"$f":"IF(A867=\"\",\"\",(SUM('Step 3. Lease Payments'!$G$11:$G$5006)+'Step 2. Basic Info'!$E$24)/'Validations - DO NOT DELETE'!$H$1)","v":""},{"$f":"IF(A867=\"\",\"\",I867*'Step 3. Lease Payments'!$G$8)","v":""},"","",null,"",{"$f":"IF(A867=\"\",\"\",VLOOKUP(A867,'Step 3. Lease Payments'!B:G,6,))","v":""},""]
[{"$f":"IF(B867<'Step 2. Basic Info'!$E$12,A867+1,\"\")","v":""},"","",{"$f":"IF(A868=\"\",\"\",(SUM('Step 3. Lease Payments'!$G$11:$G$5006)+'Step 2. Basic Info'!$E$24)/'Validations - DO NOT DELETE'!$H$1)","v":""},{"$f":"IF(A868=\"\",\"\",I868*'Step 3. Lease Payments'!$G$8)","v":""},"","",null,"",{"$f":"IF(A868=\"\",\"\",VLOOKUP(A868,'Step 3. Lease Payments'!B:G,6,))","v":""},""]
[{"$f":"IF(B868<'Step 2. Basic Info'!$E$12,A868+1,\"\")","v":""},"","",{"$f":"IF(A869=\"\",\"\",(SUM('Step 3. Lease Payments'!$G$11:$G$5006)+'Step 2. Basic Info'!$E$24)/'Validations - DO NOT DELETE'!$H$1)","v":""},{"$f":"IF(A869=\"\",\"\",I869*'Step 3. Lease Payments'!$G$8)","v":""},"","",null,"",{"$f":"IF(A869=\"\",\"\",VLOOKUP(A869,'Step 3. Lease Payments'!B:G,6,))","v":""},""]
[{"$f":"IF(B869<'Step 2. Basic Info'!$E$12,A869+1,\"\")","v":""},"","",{"$f":"IF(A870=\"\",\"\",(SUM('Step 3. Lease Payments'!$G$11:$G$5006)+'Step 2. Basic Info'!$E$24)/'Validations - DO NOT DELETE'!$H$1)","v":""},{"$f":"IF(A870=\"\",\"\",I870*'Step 3. Lease Payments'!$G$8)","v":""},"","",null,"",{"$f":"IF(A870=\"\",\"\",VLOOKUP(A870,'Step 3. Lease Payments'!B:G,6,))","v":""},""]
[{"$f":"IF(B870<'Step 2. Basic Info'!$E$12,A870+1,\"\")","v":""},"","",{"$f":"IF(A871=\"\",\"\",(SUM('Step 3. Lease Payments'!$G$11:$G$5006)+'Step 2. Basic Info'!$E$24)/'Validations - DO NOT DELETE'!$H$1)","v":""},{"$f":"IF(A871=\"\",\"\",I871*'Step 3. Lease Payments'!$G$8)","v":""},"","",null,"",{"$f":"IF(A871=\"\",\"\",VLOOKUP(A871,'Step 3. Lease Payments'!B:G,6,))","v":""},""]
[{"$f":"IF(B871<'Step 2. Basic Info'!$E$12,A871+1,\"\")","v":""},"","",{"$f":"IF(A872=\"\",\"\",(SUM('Step 3. Lease Payments'!$G$11:$G$5006)+'Step 2. Basic Info'!$E$24)/'Validations - DO NOT DELETE'!$H$1)","v":""},{"$f":"IF(A872=\"\",\"\",I872*'Step 3. Lease Payments'!$G$8)","v":""},"","",null,"",{"$f":"IF(A872=\"\",\"\",VLOOKUP(A872,'Step 3. Lease Payments'!B:G,6,))","v":""},""]
[{"$f":"IF(B872<'Step 2. Basic Info'!$E$12,A872+1,\"\")","v":""},"","",{"$f":"IF(A873=\"\",\"\",(SUM('Step 3. Lease Payments'!$G$11:$G$5006)+'Step 2. Basic Info'!$E$24)/'Validations - DO NOT DELETE'!$H$1)","v":""},{"$f":"IF(A873=\"\",\"\",I873*'Step 3. Lease Payments'!$G$8)","v":""},"","",null,"",{"$f":"IF(A873=\"\",\"\",VLOOKUP(A873,'Step 3. Lease Payments'!B:G,6,))","v":""},""]
[{"$f":"IF(B873<'Step 2. Basic Info'!$E$12,A873+1,\"\")","v":""},"","",{"$f":"IF(A874=\"\",\"\",(SUM('Step 3. Lease Payments'!$G$11:$G$5006)+'Step 2. Basic Info'!$E$24)/'Validations - DO NOT DELETE'!$H$1)","v":""},{"$f":"IF(A874=\"\",\"\",I874*'Step 3. Lease Payments'!$G$8)","v":""},"","",null,"",{"$f":"IF(A874=\"\",\"\",VLOOKUP(A874,'Step 3. Lease Payments'!B:G,6,))","v":""},""]
[{"$f":"IF(B874<'Step 2. Basic Info'!$E$12,A874+1,\"\")","v":""},"","",{"$f":"IF(A875=\"\",\"\",(SUM('Step 3. Lease Payments'!$G$11:$G$5006)+'Step 2. Basic Info'!$E$24)/'Validations - DO NOT DELETE'!$H$1)","v":""},{"$f":"IF(A875=\"\",\"\",I875*'Step 3. Lease Payments'!$G$8)","v":""},"","",null,"",{"$f":"IF(A875=\"\",\"\",VLOOKUP(A875,'Step 3. Lease Payments'!B:G,6,))","v":""},""]
[{"$f":"IF(B875<'Step 2. Basic Info'!$E$12,A875+1,\"\")","v":""},"","",{"$f":"IF(A876=\"\",\"\",(SUM('Step 3. Lease Payments'!$G$11:$G$5006)+'Step 2. Basic Info'!$E$24)/'Validations - DO NOT DELETE'!$H$1)","v":""},{"$f":"IF(A876=\"\",\"\",I876*'Step 3. Lease Payments'!$G$8)","v":""},"","",null,"",{"$f":"IF(A876=\"\",\"\",VLOOKUP(A876,'Step 3. Lease Payments'!B:G,6,))","v":""},""]
[{"$f":"IF(B876<'Step 2. Basic Info'!$E$12,A876+1,\"\")","v":""},"","",{"$f":"IF(A877=\"\",\"\",(SUM('Step 3. Lease Payments'!$G$11:$G$5006)+'Step 2. Basic Info'!$E$24)/'Validations - DO NOT DELETE'!$H$1)","v":""},{"$f":"IF(A877=\"\",\"\",I877*'Step 3. Lease Payments'!$G$8)","v":""},"","",null,"",{"$f":"IF(A877=\"\",\"\",VLOOKUP(A877,'Step 3. Lease Payments'!B:G,6,))","v":""},""]
[{"$f":"IF(B877<'Step 2. Basic Info'!$E$12,A877+1,\"\")","v":""},"","",{"$f":"IF(A878=\"\",\"\",(SUM('Step 3. Lease Payments'!$G$11:$G$5006)+'Step 2. Basic Info'!$E$24)/'Validations - DO NOT DELETE'!$H$1)","v":""},{"$f":"IF(A878=\"\",\"\",I878*'Step 3. Lease Payments'!$G$8)","v":""},"","",null,"",{"$f":"IF(A878=\"\",\"\",VLOOKUP(A878,'Step 3. Lease Payments'!B:G,6,))","v":""},""]
[{"$f":"IF(B878<'Step 2. Basic Info'!$E$12,A878+1,\"\")","v":""},"","",{"$f":"IF(A879=\"\",\"\",(SUM('Step 3. Lease Payments'!$G$11:$G$5006)+'Step 2. Basic Info'!$E$24)/'Validations - DO NOT DELETE'!$H$1)","v":""},{"$f":"IF(A879=\"\",\"\",I879*'Step 3. Lease Payments'!$G$8)","v":""},"","",null,"",{"$f":"IF(A879=\"\",\"\",VLOOKUP(A879,'Step 3. Lease Payments'!B:G,6,))","v":""},""]
[{"$f":"IF(B879<'Step 2. Basic Info'!$E$12,A879+1,\"\")","v":""},"","",{"$f":"IF(A880=\"\",\"\",(SUM('Step 3. Lease Payments'!$G$11:$G$5006)+'Step 2. Basic Info'!$E$24)/'Validations - DO NOT DELETE'!$H$1)","v":""},{"$f":"IF(A880=\"\",\"\",I880*'Step 3. Lease Payments'!$G$8)","v":""},"","",null,"",{"$f":"IF(A880=\"\",\"\",VLOOKUP(A880,'Step 3. Lease Payments'!B:G,6,))","v":""},""]
[{"$f":"IF(B880<'Step 2. Basic Info'!$E$12,A880+1,\"\")","v":""},"","",{"$f":"IF(A881=\"\",\"\",(SUM('Step 3. Lease Payments'!$G$11:$G$5006)+'Step 2. Basic Info'!$E$24)/'Validations - DO NOT DELETE'!$H$1)","v":""},{"$f":"IF(A881=\"\",\"\",I881*'Step 3. Lease Payments'!$G$8)","v":""},"","",null,"",{"$f":"IF(A881=\"\",\"\",VLOOKUP(A881,'Step 3. Lease Payments'!B:G,6,))","v":""},""]
[{"$f":"IF(B881<'Step 2. Basic Info'!$E$12,A881+1,\"\")","v":""},"","",{"$f":"IF(A882=\"\",\"\",(SUM('Step 3. Lease Payments'!$G$11:$G$5006)+'Step 2. Basic Info'!$E$24)/'Validations - DO NOT DELETE'!$H$1)","v":""},{"$f":"IF(A882=\"\",\"\",I882*'Step 3. Lease Payments'!$G$8)","v":""},"","",null,"",{"$f":"IF(A882=\"\",\"\",VLOOKUP(A882,'Step 3. Lease Payments'!B:G,6,))","v":""},""]
[{"$f":"IF(B882<'Step 2. Basic Info'!$E$12,A882+1,\"\")","v":""},"","",{"$f":"IF(A883=\"\",\"\",(SUM('Step 3. Lease Payments'!$G$11:$G$5006)+'Step 2. Basic Info'!$E$24)/'Validations - DO NOT DELETE'!$H$1)","v":""},{"$f":"IF(A883=\"\",\"\",I883*'Step 3. Lease Payments'!$G$8)","v":""},"","",null,"",{"$f":"IF(A883=\"\",\"\",VLOOKUP(A883,'Step 3. Lease Payments'!B:G,6,))","v":""},""]
[{"$f":"IF(B883<'Step 2. Basic Info'!$E$12,A883+1,\"\")","v":""},"","",{"$f":"IF(A884=\"\",\"\",(SUM('Step 3. Lease Payments'!$G$11:$G$5006)+'Step 2. Basic Info'!$E$24)/'Validations - DO NOT DELETE'!$H$1)","v":""},{"$f":"IF(A884=\"\",\"\",I884*'Step 3. Lease Payments'!$G$8)","v":""},"","",null,"",{"$f":"IF(A884=\"\",\"\",VLOOKUP(A884,'Step 3. Lease Payments'!B:G,6,))","v":""},""]
[{"$f":"IF(B884<'Step 2. Basic Info'!$E$12,A884+1,\"\")","v":""},"","",{"$f":"IF(A885=\"\",\"\",(SUM('Step 3. Lease Payments'!$G$11:$G$5006)+'Step 2. Basic Info'!$E$24)/'Validations - DO NOT DELETE'!$H$1)","v":""},{"$f":"IF(A885=\"\",\"\",I885*'Step 3. Lease Payments'!$G$8)","v":""},"","",null,"",{"$f":"IF(A885=\"\",\"\",VLOOKUP(A885,'Step 3. Lease Payments'!B:G,6,))","v":""},""]
[{"$f":"IF(B885<'Step 2. Basic Info'!$E$12,A885+1,\"\")","v":""},"","",{"$f":"IF(A886=\"\",\"\",(SUM('Step 3. Lease Payments'!$G$11:$G$5006)+'Step 2. Basic Info'!$E$24)/'Validations - DO NOT DELETE'!$H$1)","v":""},{"$f":"IF(A886=\"\",\"\",I886*'Step 3. Lease Payments'!$G$8)","v":""},"","",null,"",{"$f":"IF(A886=\"\",\"\",VLOOKUP(A886,'Step 3. Lease Payments'!B:G,6,))","v":""},""]
[{"$f":"IF(B886<'Step 2. Basic Info'!$E$12,A886+1,\"\")","v":""},"","",{"$f":"IF(A887=\"\",\"\",(SUM('Step 3. Lease Payments'!$G$11:$G$5006)+'Step 2. Basic Info'!$E$24)/'Validations - DO NOT DELETE'!$H$1)","v":""},{"$f":"IF(A887=\"\",\"\",I887*'Step 3. Lease Payments'!$G$8)","v":""},"","",null,"",{"$f":"IF(A887=\"\",\"\",VLOOKUP(A887,'Step 3. Lease Payments'!B:G,6,))","v":""},""]
[{"$f":"IF(B887<'Step 2. Basic Info'!$E$12,A887+1,\"\")","v":""},"","",{"$f":"IF(A888=\"\",\"\",(SUM('Step 3. Lease Payments'!$G$11:$G$5006)+'Step 2. Basic Info'!$E$24)/'Validations - DO NOT DELETE'!$H$1)","v":""},{"$f":"IF(A888=\"\",\"\",I888*'Step 3. Lease Payments'!$G$8)","v":""},"","",null,"",{"$f":"IF(A888=\"\",\"\",VLOOKUP(A888,'Step 3. Lease Payments'!B:G,6,))","v":""},""]
[{"$f":"IF(B888<'Step 2. Basic Info'!$E$12,A888+1,\"\")","v":""},"","",{"$f":"IF(A889=\"\",\"\",(SUM('Step 3. Lease Payments'!$G$11:$G$5006)+'Step 2. Basic Info'!$E$24)/'Validations - DO NOT DELETE'!$H$1)","v":""},{"$f":"IF(A889=\"\",\"\",I889*'Step 3. Lease Payments'!$G$8)","v":""},"","",null,"",{"$f":"IF(A889=\"\",\"\",VLOOKUP(A889,'Step 3. Lease Payments'!B:G,6,))","v":""},""]
[{"$f":"IF(B889<'Step 2. Basic Info'!$E$12,A889+1,\"\")","v":""},"","",{"$f":"IF(A890=\"\",\"\",(SUM('Step 3. Lease Payments'!$G$11:$G$5006)+'Step 2. Basic Info'!$E$24)/'Validations - DO NOT DELETE'!$H$1)","v":""},{"$f":"IF(A890=\"\",\"\",I890*'Step 3. Lease Payments'!$G$8)","v":""},"","",null,"",{"$f":"IF(A890=\"\",\"\",VLOOKUP(A890,'Step 3. Lease Payments'!B:G,6,))","v":""},""]
[{"$f":"IF(B890<'Step 2. Basic Info'!$E$12,A890+1,\"\")","v":""},"","",{"$f":"IF(A891=\"\",\"\",(SUM('Step 3. Lease Payments'!$G$11:$G$5006)+'Step 2. Basic Info'!$E$24)/'Validations - DO NOT DELETE'!$H$1)","v":""},{"$f":"IF(A891=\"\",\"\",I891*'Step 3. Lease Payments'!$G$8)","v":""},"","",null,"",{"$f":"IF(A891=\"\",\"\",VLOOKUP(A891,'Step 3. Lease Payments'!B:G,6,))","v":""},""]
[{"$f":"IF(B891<'Step 2. Basic Info'!$E$12,A891+1,\"\")","v":""},"","",{"$f":"IF(A892=\"\",\"\",(SUM('Step 3. Lease Payments'!$G$11:$G$5006)+'Step 2. Basic Info'!$E$24)/'Validations - DO NOT DELETE'!$H$1)","v":""},{"$f":"IF(A892=\"\",\"\",I892*'Step 3. Lease Payments'!$G$8)","v":""},"","",null,"",{"$f":"IF(A892=\"\",\"\",VLOOKUP(A892,'Step 3. Lease Payments'!B:G,6,))","v":""},""]
[{"$f":"IF(B892<'Step 2. Basic Info'!$E$12,A892+1,\"\")","v":""},"","",{"$f":"IF(A893=\"\",\"\",(SUM('Step 3. Lease Payments'!$G$11:$G$5006)+'Step 2. Basic Info'!$E$24)/'Validations - DO NOT DELETE'!$H$1)","v":""},{"$f":"IF(A893=\"\",\"\",I893*'Step 3. Lease Payments'!$G$8)","v":""},"","",null,"",{"$f":"IF(A893=\"\",\"\",VLOOKUP(A893,'Step 3. Lease Payments'!B:G,6,))","v":""},""]
[{"$f":"IF(B893<'Step 2. Basic Info'!$E$12,A893+1,\"\")","v":""},"","",{"$f":"IF(A894=\"\",\"\",(SUM('Step 3. Lease Payments'!$G$11:$G$5006)+'Step 2. Basic Info'!$E$24)/'Validations - DO NOT DELETE'!$H$1)","v":""},{"$f":"IF(A894=\"\",\"\",I894*'Step 3. Lease Payments'!$G$8)","v":""},"","",null,"",{"$f":"IF(A894=\"\",\"\",VLOOKUP(A894,'Step 3. Lease Payments'!B:G,6,))","v":""},""]
[{"$f":"IF(B894<'Step 2. Basic Info'!$E$12,A894+1,\"\")","v":""},"","",{"$f":"IF(A895=\"\",\"\",(SUM('Step 3. Lease Payments'!$G$11:$G$5006)+'Step 2. Basic Info'!$E$24)/'Validations - DO NOT DELETE'!$H$1)","v":""},{"$f":"IF(A895=\"\",\"\",I895*'Step 3. Lease Payments'!$G$8)","v":""},"","",null,"",{"$f":"IF(A895=\"\",\"\",VLOOKUP(A895,'Step 3. Lease Payments'!B:G,6,))","v":""},""]
[{"$f":"IF(B895<'Step 2. Basic Info'!$E$12,A895+1,\"\")","v":""},"","",{"$f":"IF(A896=\"\",\"\",(SUM('Step 3. Lease Payments'!$G$11:$G$5006)+'Step 2. Basic Info'!$E$24)/'Validations - DO NOT DELETE'!$H$1)","v":""},{"$f":"IF(A896=\"\",\"\",I896*'Step 3. Lease Payments'!$G$8)","v":""},"","",null,"",{"$f":"IF(A896=\"\",\"\",VLOOKUP(A896,'Step 3. Lease Payments'!B:G,6,))","v":""},""]
[{"$f":"IF(B896<'Step 2. Basic Info'!$E$12,A896+1,\"\")","v":""},"","",{"$f":"IF(A897=\"\",\"\",(SUM('Step 3. Lease Payments'!$G$11:$G$5006)+'Step 2. Basic Info'!$E$24)/'Validations - DO NOT DELETE'!$H$1)","v":""},{"$f":"IF(A897=\"\",\"\",I897*'Step 3. Lease Payments'!$G$8)","v":""},"","",null,"",{"$f":"IF(A897=\"\",\"\",VLOOKUP(A897,'Step 3. Lease Payments'!B:G,6,))","v":""},""]
[{"$f":"IF(B897<'Step 2. Basic Info'!$E$12,A897+1,\"\")","v":""},"","",{"$f":"IF(A898=\"\",\"\",(SUM('Step 3. Lease Payments'!$G$11:$G$5006)+'Step 2. Basic Info'!$E$24)/'Validations - DO NOT DELETE'!$H$1)","v":""},{"$f":"IF(A898=\"\",\"\",I898*'Step 3. Lease Payments'!$G$8)","v":""},"","",null,"",{"$f":"IF(A898=\"\",\"\",VLOOKUP(A898,'Step 3. Lease Payments'!B:G,6,))","v":""},""]
[{"$f":"IF(B898<'Step 2. Basic Info'!$E$12,A898+1,\"\")","v":""},"","",{"$f":"IF(A899=\"\",\"\",(SUM('Step 3. Lease Payments'!$G$11:$G$5006)+'Step 2. Basic Info'!$E$24)/'Validations - DO NOT DELETE'!$H$1)","v":""},{"$f":"IF(A899=\"\",\"\",I899*'Step 3. Lease Payments'!$G$8)","v":""},"","",null,"",{"$f":"IF(A899=\"\",\"\",VLOOKUP(A899,'Step 3. Lease Payments'!B:G,6,))","v":""},""]
[{"$f":"IF(B899<'Step 2. Basic Info'!$E$12,A899+1,\"\")","v":""},"","",{"$f":"IF(A900=\"\",\"\",(SUM('Step 3. Lease Payments'!$G$11:$G$5006)+'Step 2. Basic Info'!$E$24)/'Validations - DO NOT DELETE'!$H$1)","v":""},{"$f":"IF(A900=\"\",\"\",I900*'Step 3. Lease Payments'!$G$8)","v":""},"","",null,"",{"$f":"IF(A900=\"\",\"\",VLOOKUP(A900,'Step 3. Lease Payments'!B:G,6,))","v":""},""]
[{"$f":"IF(B900<'Step 2. Basic Info'!$E$12,A900+1,\"\")","v":""},"","",{"$f":"IF(A901=\"\",\"\",(SUM('Step 3. Lease Payments'!$G$11:$G$5006)+'Step 2. Basic Info'!$E$24)/'Validations - DO NOT DELETE'!$H$1)","v":""},{"$f":"IF(A901=\"\",\"\",I901*'Step 3. Lease Payments'!$G$8)","v":""},"","",null,"",{"$f":"IF(A901=\"\",\"\",VLOOKUP(A901,'Step 3. Lease Payments'!B:G,6,))","v":""},""]
[{"$f":"IF(B901<'Step 2. Basic Info'!$E$12,A901+1,\"\")","v":""},"","",{"$f":"IF(A902=\"\",\"\",(SUM('Step 3. Lease Payments'!$G$11:$G$5006)+'Step 2. Basic Info'!$E$24)/'Validations - DO NOT DELETE'!$H$1)","v":""},{"$f":"IF(A902=\"\",\"\",I902*'Step 3. Lease Payments'!$G$8)","v":""},"","",null,"",{"$f":"IF(A902=\"\",\"\",VLOOKUP(A902,'Step 3. Lease Payments'!B:G,6,))","v":""},""]
[{"$f":"IF(B902<'Step 2. Basic Info'!$E$12,A902+1,\"\")","v":""},"","",{"$f":"IF(A903=\"\",\"\",(SUM('Step 3. Lease Payments'!$G$11:$G$5006)+'Step 2. Basic Info'!$E$24)/'Validations - DO NOT DELETE'!$H$1)","v":""},{"$f":"IF(A903=\"\",\"\",I903*'Step 3. Lease Payments'!$G$8)","v":""},"","",null,"",{"$f":"IF(A903=\"\",\"\",VLOOKUP(A903,'Step 3. Lease Payments'!B:G,6,))","v":""},""]
[{"$f":"IF(B903<'Step 2. Basic Info'!$E$12,A903+1,\"\")","v":""},"","",{"$f":"IF(A904=\"\",\"\",(SUM('Step 3. Lease Payments'!$G$11:$G$5006)+'Step 2. Basic Info'!$E$24)/'Validations - DO NOT DELETE'!$H$1)","v":""},{"$f":"IF(A904=\"\",\"\",I904*'Step 3. Lease Payments'!$G$8)","v":""},"","",null,"",{"$f":"IF(A904=\"\",\"\",VLOOKUP(A904,'Step 3. Lease Payments'!B:G,6,))","v":""},""]
[{"$f":"IF(B904<'Step 2. Basic Info'!$E$12,A904+1,\"\")","v":""},"","",{"$f":"IF(A905=\"\",\"\",(SUM('Step 3. Lease Payments'!$G$11:$G$5006)+'Step 2. Basic Info'!$E$24)/'Validations - DO NOT DELETE'!$H$1)","v":""},{"$f":"IF(A905=\"\",\"\",I905*'Step 3. Lease Payments'!$G$8)","v":""},"","",null,"",{"$f":"IF(A905=\"\",\"\",VLOOKUP(A905,'Step 3. Lease Payments'!B:G,6,))","v":""},""]
[{"$f":"IF(B905<'Step 2. Basic Info'!$E$12,A905+1,\"\")","v":""},"","",{"$f":"IF(A906=\"\",\"\",(SUM('Step 3. Lease Payments'!$G$11:$G$5006)+'Step 2. Basic Info'!$E$24)/'Validations - DO NOT DELETE'!$H$1)","v":""},{"$f":"IF(A906=\"\",\"\",I906*'Step 3. Lease Payments'!$G$8)","v":""},"","",null,"",{"$f":"IF(A906=\"\",\"\",VLOOKUP(A906,'Step 3. Lease Payments'!B:G,6,))","v":""},""]
[{"$f":"IF(B906<'Step 2. Basic Info'!$E$12,A906+1,\"\")","v":""},{"$f":"IF(A907=\"\",\"\",(DATE(YEAR(B906),MONTH(B906)+1,DAY(B906))))","v":""},{"$f":"IF(A907=\"\",\"\",G906)","v":""},{"$f":"IF(A907=\"\",\"\",(SUM('Step 3. Lease Payments'!$G$11:$G$5006)+'Step 2. Basic Info'!$E$24)/'Validations - DO NOT DELETE'!$H$1)","v":""},{"$f":"IF(A907=\"\",\"\",I907*'Step 3. Lease Payments'!$G$8)","v":""},{"$f":"IF(A907=\"\",\"\",D907-E907)","v":""},{"$f":"IF(A907=\"\",\"\",C907-F907)","v":""},null,{"$f":"IF(A907=\"\",\"\",K906)","v":""},{"$f":"IF(A907=\"\",\"\",VLOOKUP(A907,'Step 3. Lease Payments'!B:G,6,))","v":""},{"$f":"IF(A907=\"\",\"\",I907-J907+E907)","v":""}]
[{"$f":"IF(B907<'Step 2. Basic Info'!$E$12,A907+1,\"\")","v":""},"","",{"$f":"IF(A908=\"\",\"\",(SUM('Step 3. Lease Payments'!$G$11:$G$5006)+'Step 2. Basic Info'!$E$24)/'Validations - DO NOT DELETE'!$H$1)","v":""},{"$f":"IF(A908=\"\",\"\",I908*'Step 3. Lease Payments'!$G$8)","v":""},"","",null,"",{"$f":"IF(A908=\"\",\"\",VLOOKUP(A908,'Step 3. Lease Payments'!B:G,6,))","v":""},""]
[{"$f":"IF(B908<'Step 2. Basic Info'!$E$12,A908+1,\"\")","v":""},"","",{"$f":"IF(A909=\"\",\"\",(SUM('Step 3. Lease Payments'!$G$11:$G$5006)+'Step 2. Basic Info'!$E$24)/'Validations - DO NOT DELETE'!$H$1)","v":""},{"$f":"IF(A909=\"\",\"\",I909*'Step 3. Lease Payments'!$G$8)","v":""},"","",null,"",{"$f":"IF(A909=\"\",\"\",VLOOKUP(A909,'Step 3. Lease Payments'!B:G,6,))","v":""},""]
[{"$f":"IF(B909<'Step 2. Basic Info'!$E$12,A909+1,\"\")","v":""},"","",{"$f":"IF(A910=\"\",\"\",(SUM('Step 3. Lease Payments'!$G$11:$G$5006)+'Step 2. Basic Info'!$E$24)/'Validations - DO NOT DELETE'!$H$1)","v":""},{"$f":"IF(A910=\"\",\"\",I910*'Step 3. Lease Payments'!$G$8)","v":""},"","",null,"",{"$f":"IF(A910=\"\",\"\",VLOOKUP(A910,'Step 3. Lease Payments'!B:G,6,))","v":""},""]
[{"$f":"IF(B910<'Step 2. Basic Info'!$E$12,A910+1,\"\")","v":""},"","",{"$f":"IF(A911=\"\",\"\",(SUM('Step 3. Lease Payments'!$G$11:$G$5006)+'Step 2. Basic Info'!$E$24)/'Validations - DO NOT DELETE'!$H$1)","v":""},{"$f":"IF(A911=\"\",\"\",I911*'Step 3. Lease Payments'!$G$8)","v":""},"","",null,"",{"$f":"IF(A911=\"\",\"\",VLOOKUP(A911,'Step 3. Lease Payments'!B:G,6,))","v":""},""]
[{"$f":"IF(B911<'Step 2. Basic Info'!$E$12,A911+1,\"\")","v":""},"","",{"$f":"IF(A912=\"\",\"\",(SUM('Step 3. Lease Payments'!$G$11:$G$5006)+'Step 2. Basic Info'!$E$24)/'Validations - DO NOT DELETE'!$H$1)","v":""},{"$f":"IF(A912=\"\",\"\",I912*'Step 3. Lease Payments'!$G$8)","v":""},"","",null,"",{"$f":"IF(A912=\"\",\"\",VLOOKUP(A912,'Step 3. Lease Payments'!B:G,6,))","v":""},""]
[{"$f":"IF(B912<'Step 2. Basic Info'!$E$12,A912+1,\"\")","v":""},"","",{"$f":"IF(A913=\"\",\"\",(SUM('Step 3. Lease Payments'!$G$11:$G$5006)+'Step 2. Basic Info'!$E$24)/'Validations - DO NOT DELETE'!$H$1)","v":""},{"$f":"IF(A913=\"\",\"\",I913*'Step 3. Lease Payments'!$G$8)","v":""},"","",null,"",{"$f":"IF(A913=\"\",\"\",VLOOKUP(A913,'Step 3. Lease Payments'!B:G,6,))","v":""},""]
[{"$f":"IF(B913<'Step 2. Basic Info'!$E$12,A913+1,\"\")","v":""},"","",{"$f":"IF(A914=\"\",\"\",(SUM('Step 3. Lease Payments'!$G$11:$G$5006)+'Step 2. Basic Info'!$E$24)/'Validations - DO NOT DELETE'!$H$1)","v":""},{"$f":"IF(A914=\"\",\"\",I914*'Step 3. Lease Payments'!$G$8)","v":""},"","",null,"",{"$f":"IF(A914=\"\",\"\",VLOOKUP(A914,'Step 3. Lease Payments'!B:G,6,))","v":""},""]
[{"$f":"IF(B914<'Step 2. Basic Info'!$E$12,A914+1,\"\")","v":""},"","",{"$f":"IF(A915=\"\",\"\",(SUM('Step 3. Lease Payments'!$G$11:$G$5006)+'Step 2. Basic Info'!$E$24)/'Validations - DO NOT DELETE'!$H$1)","v":""},{"$f":"IF(A915=\"\",\"\",I915*'Step 3. Lease Payments'!$G$8)","v":""},"","",null,"",{"$f":"IF(A915=\"\",\"\",VLOOKUP(A915,'Step 3. Lease Payments'!B:G,6,))","v":""},""]
[{"$f":"IF(B915<'Step 2. Basic Info'!$E$12,A915+1,\"\")","v":""},"","",{"$f":"IF(A916=\"\",\"\",(SUM('Step 3. Lease Payments'!$G$11:$G$5006)+'Step 2. Basic Info'!$E$24)/'Validations - DO NOT DELETE'!$H$1)","v":""},{"$f":"IF(A916=\"\",\"\",I916*'Step 3. Lease Payments'!$G$8)","v":""},"","",null,"",{"$f":"IF(A916=\"\",\"\",VLOOKUP(A916,'Step 3. Lease Payments'!B:G,6,))","v":""},""]
[{"$f":"IF(B916<'Step 2. Basic Info'!$E$12,A916+1,\"\")","v":""},"","",{"$f":"IF(A917=\"\",\"\",(SUM('Step 3. Lease Payments'!$G$11:$G$5006)+'Step 2. Basic Info'!$E$24)/'Validations - DO NOT DELETE'!$H$1)","v":""},{"$f":"IF(A917=\"\",\"\",I917*'Step 3. Lease Payments'!$G$8)","v":""},"","",null,"",{"$f":"IF(A917=\"\",\"\",VLOOKUP(A917,'Step 3. Lease Payments'!B:G,6,))","v":""},""]
[{"$f":"IF(B917<'Step 2. Basic Info'!$E$12,A917+1,\"\")","v":""},"","",{"$f":"IF(A918=\"\",\"\",(SUM('Step 3. Lease Payments'!$G$11:$G$5006)+'Step 2. Basic Info'!$E$24)/'Validations - DO NOT DELETE'!$H$1)","v":""},{"$f":"IF(A918=\"\",\"\",I918*'Step 3. Lease Payments'!$G$8)","v":""},"","",null,"",{"$f":"IF(A918=\"\",\"\",VLOOKUP(A918,'Step 3. Lease Payments'!B:G,6,))","v":""},""]
[{"$f":"IF(B918<'Step 2. Basic Info'!$E$12,A918+1,\"\")","v":""},"","",{"$f":"IF(A919=\"\",\"\",(SUM('Step 3. Lease Payments'!$G$11:$G$5006)+'Step 2. Basic Info'!$E$24)/'Validations - DO NOT DELETE'!$H$1)","v":""},{"$f":"IF(A919=\"\",\"\",I919*'Step 3. Lease Payments'!$G$8)","v":""},"","",null,"",{"$f":"IF(A919=\"\",\"\",VLOOKUP(A919,'Step 3. Lease Payments'!B:G,6,))","v":""},""]
[{"$f":"IF(B919<'Step 2. Basic Info'!$E$12,A919+1,\"\")","v":""},"","",{"$f":"IF(A920=\"\",\"\",(SUM('Step 3. Lease Payments'!$G$11:$G$5006)+'Step 2. Basic Info'!$E$24)/'Validations - DO NOT DELETE'!$H$1)","v":""},{"$f":"IF(A920=\"\",\"\",I920*'Step 3. Lease Payments'!$G$8)","v":""},"","",null,"",{"$f":"IF(A920=\"\",\"\",VLOOKUP(A920,'Step 3. Lease Payments'!B:G,6,))","v":""},""]
[{"$f":"IF(B920<'Step 2. Basic Info'!$E$12,A920+1,\"\")","v":""},"","",{"$f":"IF(A921=\"\",\"\",(SUM('Step 3. Lease Payments'!$G$11:$G$5006)+'Step 2. Basic Info'!$E$24)/'Validations - DO NOT DELETE'!$H$1)","v":""},{"$f":"IF(A921=\"\",\"\",I921*'Step 3. Lease Payments'!$G$8)","v":""},"","",null,"",{"$f":"IF(A921=\"\",\"\",VLOOKUP(A921,'Step 3. Lease Payments'!B:G,6,))","v":""},""]
[{"$f":"IF(B921<'Step 2. Basic Info'!$E$12,A921+1,\"\")","v":""},"","",{"$f":"IF(A922=\"\",\"\",(SUM('Step 3. Lease Payments'!$G$11:$G$5006)+'Step 2. Basic Info'!$E$24)/'Validations - DO NOT DELETE'!$H$1)","v":""},{"$f":"IF(A922=\"\",\"\",I922*'Step 3. Lease Payments'!$G$8)","v":""},"","",null,"",{"$f":"IF(A922=\"\",\"\",VLOOKUP(A922,'Step 3. Lease Payments'!B:G,6,))","v":""},""]
[{"$f":"IF(B922<'Step 2. Basic Info'!$E$12,A922+1,\"\")","v":""},"","",{"$f":"IF(A923=\"\",\"\",(SUM('Step 3. Lease Payments'!$G$11:$G$5006)+'Step 2. Basic Info'!$E$24)/'Validations - DO NOT DELETE'!$H$1)","v":""},{"$f":"IF(A923=\"\",\"\",I923*'Step 3. Lease Payments'!$G$8)","v":""},"","",null,"",{"$f":"IF(A923=\"\",\"\",VLOOKUP(A923,'Step 3. Lease Payments'!B:G,6,))","v":""},""]
[{"$f":"IF(B923<'Step 2. Basic Info'!$E$12,A923+1,\"\")","v":""},"","",{"$f":"IF(A924=\"\",\"\",(SUM('Step 3. Lease Payments'!$G$11:$G$5006)+'Step 2. Basic Info'!$E$24)/'Validations - DO NOT DELETE'!$H$1)","v":""},{"$f":"IF(A924=\"\",\"\",I924*'Step 3. Lease Payments'!$G$8)","v":""},"","",null,"",{"$f":"IF(A924=\"\",\"\",VLOOKUP(A924,'Step 3. Lease Payments'!B:G,6,))","v":""},""]
[{"$f":"IF(B924<'Step 2. Basic Info'!$E$12,A924+1,\"\")","v":""},"","",{"$f":"IF(A925=\"\",\"\",(SUM('Step 3. Lease Payments'!$G$11:$G$5006)+'Step 2. Basic Info'!$E$24)/'Validations - DO NOT DELETE'!$H$1)","v":""},{"$f":"IF(A925=\"\",\"\",I925*'Step 3. Lease Payments'!$G$8)","v":""},"","",null,"",{"$f":"IF(A925=\"\",\"\",VLOOKUP(A925,'Step 3. Lease Payments'!B:G,6,))","v":""},""]
[{"$f":"IF(B925<'Step 2. Basic Info'!$E$12,A925+1,\"\")","v":""},"","",{"$f":"IF(A926=\"\",\"\",(SUM('Step 3. Lease Payments'!$G$11:$G$5006)+'Step 2. Basic Info'!$E$24)/'Validations - DO NOT DELETE'!$H$1)","v":""},{"$f":"IF(A926=\"\",\"\",I926*'Step 3. Lease Payments'!$G$8)","v":""},"","",null,"",{"$f":"IF(A926=\"\",\"\",VLOOKUP(A926,'Step 3. Lease Payments'!B:G,6,))","v":""},""]
[{"$f":"IF(B926<'Step 2. Basic Info'!$E$12,A926+1,\"\")","v":""},"","",{"$f":"IF(A927=\"\",\"\",(SUM('Step 3. Lease Payments'!$G$11:$G$5006)+'Step 2. Basic Info'!$E$24)/'Validations - DO NOT DELETE'!$H$1)","v":""},{"$f":"IF(A927=\"\",\"\",I927*'Step 3. Lease Payments'!$G$8)","v":""},"","",null,"",{"$f":"IF(A927=\"\",\"\",VLOOKUP(A927,'Step 3. Lease Payments'!B:G,6,))","v":""},""]
[{"$f":"IF(B927<'Step 2. Basic Info'!$E$12,A927+1,\"\")","v":""},"","",{"$f":"IF(A928=\"\",\"\",(SUM('Step 3. Lease Payments'!$G$11:$G$5006)+'Step 2. Basic Info'!$E$24)/'Validations - DO NOT DELETE'!$H$1)","v":""},{"$f":"IF(A928=\"\",\"\",I928*'Step 3. Lease Payments'!$G$8)","v":""},"","",null,"",{"$f":"IF(A928=\"\",\"\",VLOOKUP(A928,'Step 3. Lease Payments'!B:G,6,))","v":""},""]
[{"$f":"IF(B928<'Step 2. Basic Info'!$E$12,A928+1,\"\")","v":""},"","",{"$f":"IF(A929=\"\",\"\",(SUM('Step 3. Lease Payments'!$G$11:$G$5006)+'Step 2. Basic Info'!$E$24)/'Validations - DO NOT DELETE'!$H$1)","v":""},{"$f":"IF(A929=\"\",\"\",I929*'Step 3. Lease Payments'!$G$8)","v":""},"","",null,"",{"$f":"IF(A929=\"\",\"\",VLOOKUP(A929,'Step 3. Lease Payments'!B:G,6,))","v":""},""]
[{"$f":"IF(B929<'Step 2. Basic Info'!$E$12,A929+1,\"\")","v":""},"","",{"$f":"IF(A930=\"\",\"\",(SUM('Step 3. Lease Payments'!$G$11:$G$5006)+'Step 2. Basic Info'!$E$24)/'Validations - DO NOT DELETE'!$H$1)","v":""},{"$f":"IF(A930=\"\",\"\",I930*'Step 3. Lease Payments'!$G$8)","v":""},"","",null,"",{"$f":"IF(A930=\"\",\"\",VLOOKUP(A930,'Step 3. Lease Payments'!B:G,6,))","v":""},""]
[{"$f":"IF(B930<'Step 2. Basic Info'!$E$12,A930+1,\"\")","v":""},"","",{"$f":"IF(A931=\"\",\"\",(SUM('Step 3. Lease Payments'!$G$11:$G$5006)+'Step 2. Basic Info'!$E$24)/'Validations - DO NOT DELETE'!$H$1)","v":""},{"$f":"IF(A931=\"\",\"\",I931*'Step 3. Lease Payments'!$G$8)","v":""},"","",null,"",{"$f":"IF(A931=\"\",\"\",VLOOKUP(A931,'Step 3. Lease Payments'!B:G,6,))","v":""},""]
[{"$f":"IF(B931<'Step 2. Basic Info'!$E$12,A931+1,\"\")","v":""},"","",{"$f":"IF(A932=\"\",\"\",(SUM('Step 3. Lease Payments'!$G$11:$G$5006)+'Step 2. Basic Info'!$E$24)/'Validations - DO NOT DELETE'!$H$1)","v":""},{"$f":"IF(A932=\"\",\"\",I932*'Step 3. Lease Payments'!$G$8)","v":""},"","",null,"",{"$f":"IF(A932=\"\",\"\",VLOOKUP(A932,'Step 3. Lease Payments'!B:G,6,))","v":""},""]
[{"$f":"IF(B932<'Step 2. Basic Info'!$E$12,A932+1,\"\")","v":""},"","",{"$f":"IF(A933=\"\",\"\",(SUM('Step 3. Lease Payments'!$G$11:$G$5006)+'Step 2. Basic Info'!$E$24)/'Validations - DO NOT DELETE'!$H$1)","v":""},{"$f":"IF(A933=\"\",\"\",I933*'Step 3. Lease Payments'!$G$8)","v":""},"","",null,"",{"$f":"IF(A933=\"\",\"\",VLOOKUP(A933,'Step 3. Lease Payments'!B:G,6,))","v":""},""]
[{"$f":"IF(B933<'Step 2. Basic Info'!$E$12,A933+1,\"\")","v":""},"","",{"$f":"IF(A934=\"\",\"\",(SUM('Step 3. Lease Payments'!$G$11:$G$5006)+'Step 2. Basic Info'!$E$24)/'Validations - DO NOT DELETE'!$H$1)","v":""},{"$f":"IF(A934=\"\",\"\",I934*'Step 3. Lease Payments'!$G$8)","v":""},"","",null,"",{"$f":"IF(A934=\"\",\"\",VLOOKUP(A934,'Step 3. Lease Payments'!B:G,6,))","v":""},""]
[{"$f":"IF(B934<'Step 2. Basic Info'!$E$12,A934+1,\"\")","v":""},"","",{"$f":"IF(A935=\"\",\"\",(SUM('Step 3. Lease Payments'!$G$11:$G$5006)+'Step 2. Basic Info'!$E$24)/'Validations - DO NOT DELETE'!$H$1)","v":""},{"$f":"IF(A935=\"\",\"\",I935*'Step 3. Lease Payments'!$G$8)","v":""},"","",null,"",{"$f":"IF(A935=\"\",\"\",VLOOKUP(A935,'Step 3. Lease Payments'!B:G,6,))","v":""},""]
[{"$f":"IF(B935<'Step 2. Basic Info'!$E$12,A935+1,\"\")","v":""},"","",{"$f":"IF(A936=\"\",\"\",(SUM('Step 3. Lease Payments'!$G$11:$G$5006)+'Step 2. Basic Info'!$E$24)/'Validations - DO NOT DELETE'!$H$1)","v":""},{"$f":"IF(A936=\"\",\"\",I936*'Step 3. Lease Payments'!$G$8)","v":""},"","",null,"",{"$f":"IF(A936=\"\",\"\",VLOOKUP(A936,'Step 3. Lease Payments'!B:G,6,))","v":""},""]
[{"$f":"IF(B936<'Step 2. Basic Info'!$E$12,A936+1,\"\")","v":""},"","",{"$f":"IF(A937=\"\",\"\",(SUM('Step 3. Lease Payments'!$G$11:$G$5006)+'Step 2. Basic Info'!$E$24)/'Validations - DO NOT DELETE'!$H$1)","v":""},{"$f":"IF(A937=\"\",\"\",I937*'Step 3. Lease Payments'!$G$8)","v":""},"","",null,"",{"$f":"IF(A937=\"\",\"\",VLOOKUP(A937,'Step 3. Lease Payments'!B:G,6,))","v":""},""]
[{"$f":"IF(B937<'Step 2. Basic Info'!$E$12,A937+1,\"\")","v":""},"","",{"$f":"IF(A938=\"\",\"\",(SUM('Step 3. Lease Payments'!$G$11:$G$5006)+'Step 2. Basic Info'!$E$24)/'Validations - DO NOT DELETE'!$H$1)","v":""},{"$f":"IF(A938=\"\",\"\",I938*'Step 3. Lease Payments'!$G$8)","v":""},"","",null,"",{"$f":"IF(A938=\"\",\"\",VLOOKUP(A938,'Step 3. Lease Payments'!B:G,6,))","v":""},""]
[{"$f":"IF(B938<'Step 2. Basic Info'!$E$12,A938+1,\"\")","v":""},"","",{"$f":"IF(A939=\"\",\"\",(SUM('Step 3. Lease Payments'!$G$11:$G$5006)+'Step 2. Basic Info'!$E$24)/'Validations - DO NOT DELETE'!$H$1)","v":""},{"$f":"IF(A939=\"\",\"\",I939*'Step 3. Lease Payments'!$G$8)","v":""},"","",null,"",{"$f":"IF(A939=\"\",\"\",VLOOKUP(A939,'Step 3. Lease Payments'!B:G,6,))","v":""},""]
[{"$f":"IF(B939<'Step 2. Basic Info'!$E$12,A939+1,\"\")","v":""},"","",{"$f":"IF(A940=\"\",\"\",(SUM('Step 3. Lease Payments'!$G$11:$G$5006)+'Step 2. Basic Info'!$E$24)/'Validations - DO NOT DELETE'!$H$1)","v":""},{"$f":"IF(A940=\"\",\"\",I940*'Step 3. Lease Payments'!$G$8)","v":""},"","",null,"",{"$f":"IF(A940=\"\",\"\",VLOOKUP(A940,'Step 3. Lease Payments'!B:G,6,))","v":""},""]
[{"$f":"IF(B940<'Step 2. Basic Info'!$E$12,A940+1,\"\")","v":""},"","",{"$f":"IF(A941=\"\",\"\",(SUM('Step 3. Lease Payments'!$G$11:$G$5006)+'Step 2. Basic Info'!$E$24)/'Validations - DO NOT DELETE'!$H$1)","v":""},{"$f":"IF(A941=\"\",\"\",I941*'Step 3. Lease Payments'!$G$8)","v":""},"","",null,"",{"$f":"IF(A941=\"\",\"\",VLOOKUP(A941,'Step 3. Lease Payments'!B:G,6,))","v":""},""]
[{"$f":"IF(B941<'Step 2. Basic Info'!$E$12,A941+1,\"\")","v":""},"","",{"$f":"IF(A942=\"\",\"\",(SUM('Step 3. Lease Payments'!$G$11:$G$5006)+'Step 2. Basic Info'!$E$24)/'Validations - DO NOT DELETE'!$H$1)","v":""},{"$f":"IF(A942=\"\",\"\",I942*'Step 3. Lease Payments'!$G$8)","v":""},"","",null,"",{"$f":"IF(A942=\"\",\"\",VLOOKUP(A942,'Step 3. Lease Payments'!B:G,6,))","v":""},""]
[{"$f":"IF(B942<'Step 2. Basic Info'!$E$12,A942+1,\"\")","v":""},"","",{"$f":"IF(A943=\"\",\"\",(SUM('Step 3. Lease Payments'!$G$11:$G$5006)+'Step 2. Basic Info'!$E$24)/'Validations - DO NOT DELETE'!$H$1)","v":""},{"$f":"IF(A943=\"\",\"\",I943*'Step 3. Lease Payments'!$G$8)","v":""},"","",null,"",{"$f":"IF(A943=\"\",\"\",VLOOKUP(A943,'Step 3. Lease Payments'!B:G,6,))","v":""},""]
[{"$f":"IF(B943<'Step 2. Basic Info'!$E$12,A943+1,\"\")","v":""},"","",{"$f":"IF(A944=\"\",\"\",(SUM('Step 3. Lease Payments'!$G$11:$G$5006)+'Step 2. Basic Info'!$E$24)/'Validations - DO NOT DELETE'!$H$1)","v":""},{"$f":"IF(A944=\"\",\"\",I944*'Step 3. Lease Payments'!$G$8)","v":""},"","",null,"",{"$f":"IF(A944=\"\",\"\",VLOOKUP(A944,'Step 3. Lease Payments'!B:G,6,))","v":""},""]
[{"$f":"IF(B944<'Step 2. Basic Info'!$E$12,A944+1,\"\")","v":""},"","",{"$f":"IF(A945=\"\",\"\",(SUM('Step 3. Lease Payments'!$G$11:$G$5006)+'Step 2. Basic Info'!$E$24)/'Validations - DO NOT DELETE'!$H$1)","v":""},{"$f":"IF(A945=\"\",\"\",I945*'Step 3. Lease Payments'!$G$8)","v":""},"","",null,"",{"$f":"IF(A945=\"\",\"\",VLOOKUP(A945,'Step 3. Lease Payments'!B:G,6,))","v":""},""]
[{"$f":"IF(B945<'Step 2. Basic Info'!$E$12,A945+1,\"\")","v":""},"","",{"$f":"IF(A946=\"\",\"\",(SUM('Step 3. Lease Payments'!$G$11:$G$5006)+'Step 2. Basic Info'!$E$24)/'Validations - DO NOT DELETE'!$H$1)","v":""},{"$f":"IF(A946=\"\",\"\",I946*'Step 3. Lease Payments'!$G$8)","v":""},"","",null,"",{"$f":"IF(A946=\"\",\"\",VLOOKUP(A946,'Step 3. Lease Payments'!B:G,6,))","v":""},""]
[{"$f":"IF(B946<'Step 2. Basic Info'!$E$12,A946+1,\"\")","v":""},"","",{"$f":"IF(A947=\"\",\"\",(SUM('Step 3. Lease Payments'!$G$11:$G$5006)+'Step 2. Basic Info'!$E$24)/'Validations - DO NOT DELETE'!$H$1)","v":""},{"$f":"IF(A947=\"\",\"\",I947*'Step 3. Lease Payments'!$G$8)","v":""},"","",null,"",{"$f":"IF(A947=\"\",\"\",VLOOKUP(A947,'Step 3. Lease Payments'!B:G,6,))","v":""},""]
[{"$f":"IF(B947<'Step 2. Basic Info'!$E$12,A947+1,\"\")","v":""},"","",{"$f":"IF(A948=\"\",\"\",(SUM('Step 3. Lease Payments'!$G$11:$G$5006)+'Step 2. Basic Info'!$E$24)/'Validations - DO NOT DELETE'!$H$1)","v":""},{"$f":"IF(A948=\"\",\"\",I948*'Step 3. Lease Payments'!$G$8)","v":""},"","",null,"",{"$f":"IF(A948=\"\",\"\",VLOOKUP(A948,'Step 3. Lease Payments'!B:G,6,))","v":""},""]
[{"$f":"IF(B948<'Step 2. Basic Info'!$E$12,A948+1,\"\")","v":""},"","",{"$f":"IF(A949=\"\",\"\",(SUM('Step 3. Lease Payments'!$G$11:$G$5006)+'Step 2. Basic Info'!$E$24)/'Validations - DO NOT DELETE'!$H$1)","v":""},{"$f":"IF(A949=\"\",\"\",I949*'Step 3. Lease Payments'!$G$8)","v":""},"","",null,"",{"$f":"IF(A949=\"\",\"\",VLOOKUP(A949,'Step 3. Lease Payments'!B:G,6,))","v":""},""]
[{"$f":"IF(B949<'Step 2. Basic Info'!$E$12,A949+1,\"\")","v":""},"","",{"$f":"IF(A950=\"\",\"\",(SUM('Step 3. Lease Payments'!$G$11:$G$5006)+'Step 2. Basic Info'!$E$24)/'Validations - DO NOT DELETE'!$H$1)","v":""},{"$f":"IF(A950=\"\",\"\",I950*'Step 3. Lease Payments'!$G$8)","v":""},"","",null,"",{"$f":"IF(A950=\"\",\"\",VLOOKUP(A950,'Step 3. Lease Payments'!B:G,6,))","v":""},""]
[{"$f":"IF(B950<'Step 2. Basic Info'!$E$12,A950+1,\"\")","v":""},"","",{"$f":"IF(A951=\"\",\"\",(SUM('Step 3. Lease Payments'!$G$11:$G$5006)+'Step 2. Basic Info'!$E$24)/'Validations - DO NOT DELETE'!$H$1)","v":""},{"$f":"IF(A951=\"\",\"\",I951*'Step 3. Lease Payments'!$G$8)","v":""},"","",null,"",{"$f":"IF(A951=\"\",\"\",VLOOKUP(A951,'Step 3. Lease Payments'!B:G,6,))","v":""},""]
[{"$f":"IF(B951<'Step 2. Basic Info'!$E$12,A951+1,\"\")","v":""},"","",{"$f":"IF(A952=\"\",\"\",(SUM('Step 3. Lease Payments'!$G$11:$G$5006)+'Step 2. Basic Info'!$E$24)/'Validations - DO NOT DELETE'!$H$1)","v":""},{"$f":"IF(A952=\"\",\"\",I952*'Step 3. Lease Payments'!$G$8)","v":""},"","",null,"",{"$f":"IF(A952=\"\",\"\",VLOOKUP(A952,'Step 3. Lease Payments'!B:G,6,))","v":""},""]
[{"$f":"IF(B952<'Step 2. Basic Info'!$E$12,A952+1,\"\")","v":""},"","",{"$f":"IF(A953=\"\",\"\",(SUM('Step 3. Lease Payments'!$G$11:$G$5006)+'Step 2. Basic Info'!$E$24)/'Validations - DO NOT DELETE'!$H$1)","v":""},{"$f":"IF(A953=\"\",\"\",I953*'Step 3. Lease Payments'!$G$8)","v":""},"","",null,"",{"$f":"IF(A953=\"\",\"\",VLOOKUP(A953,'Step 3. Lease Payments'!B:G,6,))","v":""},""]
[{"$f":"IF(B953<'Step 2. Basic Info'!$E$12,A953+1,\"\")","v":""},"","",{"$f":"IF(A954=\"\",\"\",(SUM('Step 3. Lease Payments'!$G$11:$G$5006)+'Step 2. Basic Info'!$E$24)/'Validations - DO NOT DELETE'!$H$1)","v":""},{"$f":"IF(A954=\"\",\"\",I954*'Step 3. Lease Payments'!$G$8)","v":""},"","",null,"",{"$f":"IF(A954=\"\",\"\",VLOOKUP(A954,'Step 3. Lease Payments'!B:G,6,))","v":""},""]
[{"$f":"IF(B954<'Step 2. Basic Info'!$E$12,A954+1,\"\")","v":""},"","",{"$f":"IF(A955=\"\",\"\",(SUM('Step 3. Lease Payments'!$G$11:$G$5006)+'Step 2. Basic Info'!$E$24)/'Validations - DO NOT DELETE'!$H$1)","v":""},{"$f":"IF(A955=\"\",\"\",I955*'Step 3. Lease Payments'!$G$8)","v":""},"","",null,"",{"$f":"IF(A955=\"\",\"\",VLOOKUP(A955,'Step 3. Lease Payments'!B:G,6,))","v":""},""]
[{"$f":"IF(B955<'Step 2. Basic Info'!$E$12,A955+1,\"\")","v":""},"","",{"$f":"IF(A956=\"\",\"\",(SUM('Step 3. Lease Payments'!$G$11:$G$5006)+'Step 2. Basic Info'!$E$24)/'Validations - DO NOT DELETE'!$H$1)","v":""},{"$f":"IF(A956=\"\",\"\",I956*'Step 3. Lease Payments'!$G$8)","v":""},"","",null,"",{"$f":"IF(A956=\"\",\"\",VLOOKUP(A956,'Step 3. Lease Payments'!B:G,6,))","v":""},""]
[{"$f":"IF(B956<'Step 2. Basic Info'!$E$12,A956+1,\"\")","v":""},"","",{"$f":"IF(A957=\"\",\"\",(SUM('Step 3. Lease Payments'!$G$11:$G$5006)+'Step 2. Basic Info'!$E$24)/'Validations - DO NOT DELETE'!$H$1)","v":""},{"$f":"IF(A957=\"\",\"\",I957*'Step 3. Lease Payments'!$G$8)","v":""},"","",null,"",{"$f":"IF(A957=\"\",\"\",VLOOKUP(A957,'Step 3. Lease Payments'!B:G,6,))","v":""},""]
[{"$f":"IF(B957<'Step 2. Basic Info'!$E$12,A957+1,\"\")","v":""},"","",{"$f":"IF(A958=\"\",\"\",(SUM('Step 3. Lease Payments'!$G$11:$G$5006)+'Step 2. Basic Info'!$E$24)/'Validations - DO NOT DELETE'!$H$1)","v":""},{"$f":"IF(A958=\"\",\"\",I958*'Step 3. Lease Payments'!$G$8)","v":""},"","",null,"",{"$f":"IF(A958=\"\",\"\",VLOOKUP(A958,'Step 3. Lease Payments'!B:G,6,))","v":""},""]
[{"$f":"IF(B958<'Step 2. Basic Info'!$E$12,A958+1,\"\")","v":""},"","",{"$f":"IF(A959=\"\",\"\",(SUM('Step 3. Lease Payments'!$G$11:$G$5006)+'Step 2. Basic Info'!$E$24)/'Validations - DO NOT DELETE'!$H$1)","v":""},{"$f":"IF(A959=\"\",\"\",I959*'Step 3. Lease Payments'!$G$8)","v":""},"","",null,"",{"$f":"IF(A959=\"\",\"\",VLOOKUP(A959,'Step 3. Lease Payments'!B:G,6,))","v":""},""]
[{"$f":"IF(B959<'Step 2. Basic Info'!$E$12,A959+1,\"\")","v":""},"","",{"$f":"IF(A960=\"\",\"\",(SUM('Step 3. Lease Payments'!$G$11:$G$5006)+'Step 2. Basic Info'!$E$24)/'Validations - DO NOT DELETE'!$H$1)","v":""},{"$f":"IF(A960=\"\",\"\",I960*'Step 3. Lease Payments'!$G$8)","v":""},"","",null,"",{"$f":"IF(A960=\"\",\"\",VLOOKUP(A960,'Step 3. Lease Payments'!B:G,6,))","v":""},""]
[{"$f":"IF(B960<'Step 2. Basic Info'!$E$12,A960+1,\"\")","v":""},"","",{"$f":"IF(A961=\"\",\"\",(SUM('Step 3. Lease Payments'!$G$11:$G$5006)+'Step 2. Basic Info'!$E$24)/'Validations - DO NOT DELETE'!$H$1)","v":""},{"$f":"IF(A961=\"\",\"\",I961*'Step 3. Lease Payments'!$G$8)","v":""},"","",null,"",{"$f":"IF(A961=\"\",\"\",VLOOKUP(A961,'Step 3. Lease Payments'!B:G,6,))","v":""},""]
[{"$f":"IF(B961<'Step 2. Basic Info'!$E$12,A961+1,\"\")","v":""},"","",{"$f":"IF(A962=\"\",\"\",(SUM('Step 3. Lease Payments'!$G$11:$G$5006)+'Step 2. Basic Info'!$E$24)/'Validations - DO NOT DELETE'!$H$1)","v":""},{"$f":"IF(A962=\"\",\"\",I962*'Step 3. Lease Payments'!$G$8)","v":""},"","",null,"",{"$f":"IF(A962=\"\",\"\",VLOOKUP(A962,'Step 3. Lease Payments'!B:G,6,))","v":""},""]
[{"$f":"IF(B962<'Step 2. Basic Info'!$E$12,A962+1,\"\")","v":""},"","",{"$f":"IF(A963=\"\",\"\",(SUM('Step 3. Lease Payments'!$G$11:$G$5006)+'Step 2. Basic Info'!$E$24)/'Validations - DO NOT DELETE'!$H$1)","v":""},{"$f":"IF(A963=\"\",\"\",I963*'Step 3. Lease Payments'!$G$8)","v":""},"","",null,"",{"$f":"IF(A963=\"\",\"\",VLOOKUP(A963,'Step 3. Lease Payments'!B:G,6,))","v":""},""]
[{"$f":"IF(B963<'Step 2. Basic Info'!$E$12,A963+1,\"\")","v":""},"","",{"$f":"IF(A964=\"\",\"\",(SUM('Step 3. Lease Payments'!$G$11:$G$5006)+'Step 2. Basic Info'!$E$24)/'Validations - DO NOT DELETE'!$H$1)","v":""},{"$f":"IF(A964=\"\",\"\",I964*'Step 3. Lease Payments'!$G$8)","v":""},"","",null,"",{"$f":"IF(A964=\"\",\"\",VLOOKUP(A964,'Step 3. Lease Payments'!B:G,6,))","v":""},""]
[{"$f":"IF(B964<'Step 2. Basic Info'!$E$12,A964+1,\"\")","v":""},"","",{"$f":"IF(A965=\"\",\"\",(SUM('Step 3. Lease Payments'!$G$11:$G$5006)+'Step 2. Basic Info'!$E$24)/'Validations - DO NOT DELETE'!$H$1)","v":""},{"$f":"IF(A965=\"\",\"\",I965*'Step 3. Lease Payments'!$G$8)","v":""},"","",null,"",{"$f":"IF(A965=\"\",\"\",VLOOKUP(A965,'Step 3. Lease Payments'!B:G,6,))","v":""},""]
[{"$f":"IF(B965<'Step 2. Basic Info'!$E$12,A965+1,\"\")","v":""},"","",{"$f":"IF(A966=\"\",\"\",(SUM('Step 3. Lease Payments'!$G$11:$G$5006)+'Step 2. Basic Info'!$E$24)/'Validations - DO NOT DELETE'!$H$1)","v":""},{"$f":"IF(A966=\"\",\"\",I966*'Step 3. Lease Payments'!$G$8)","v":""},"","",null,"",{"$f":"IF(A966=\"\",\"\",VLOOKUP(A966,'Step 3. Lease Payments'!B:G,6,))","v":""},""]
[{"$f":"IF(B966<'Step 2. Basic Info'!$E$12,A966+1,\"\")","v":""},"","",{"$f":"IF(A967=\"\",\"\",(SUM('Step 3. Lease Payments'!$G$11:$G$5006)+'Step 2. Basic Info'!$E$24)/'Validations - DO NOT DELETE'!$H$1)","v":""},{"$f":"IF(A967=\"\",\"\",I967*'Step 3. Lease Payments'!$G$8)","v":""},"","",null,"",{"$f":"IF(A967=\"\",\"\",VLOOKUP(A967,'Step 3. Lease Payments'!B:G,6,))","v":""},""]
[{"$f":"IF(B967<'Step 2. Basic Info'!$E$12,A967+1,\"\")","v":""},"","",{"$f":"IF(A968=\"\",\"\",(SUM('Step 3. Lease Payments'!$G$11:$G$5006)+'Step 2. Basic Info'!$E$24)/'Validations - DO NOT DELETE'!$H$1)","v":""},{"$f":"IF(A968=\"\",\"\",I968*'Step 3. Lease Payments'!$G$8)","v":""},"","",null,"",{"$f":"IF(A968=\"\",\"\",VLOOKUP(A968,'Step 3. Lease Payments'!B:G,6,))","v":""},""]
[{"$f":"IF(B968<'Step 2. Basic Info'!$E$12,A968+1,\"\")","v":""},"","",{"$f":"IF(A969=\"\",\"\",(SUM('Step 3. Lease Payments'!$G$11:$G$5006)+'Step 2. Basic Info'!$E$24)/'Validations - DO NOT DELETE'!$H$1)","v":""},{"$f":"IF(A969=\"\",\"\",I969*'Step 3. Lease Payments'!$G$8)","v":""},"","",null,"",{"$f":"IF(A969=\"\",\"\",VLOOKUP(A969,'Step 3. Lease Payments'!B:G,6,))","v":""},""]
[{"$f":"IF(B969<'Step 2. Basic Info'!$E$12,A969+1,\"\")","v":""},"","",{"$f":"IF(A970=\"\",\"\",(SUM('Step 3. Lease Payments'!$G$11:$G$5006)+'Step 2. Basic Info'!$E$24)/'Validations - DO NOT DELETE'!$H$1)","v":""},{"$f":"IF(A970=\"\",\"\",I970*'Step 3. Lease Payments'!$G$8)","v":""},"","",null,"",{"$f":"IF(A970=\"\",\"\",VLOOKUP(A970,'Step 3. Lease Payments'!B:G,6,))","v":""},""]
[{"$f":"IF(B970<'Step 2. Basic Info'!$E$12,A970+1,\"\")","v":""},{"$f":"IF(A971=\"\",\"\",(DATE(YEAR(B970),MONTH(B970)+1,DAY(B970))))","v":""},{"$f":"IF(A971=\"\",\"\",G970)","v":""},{"$f":"IF(A971=\"\",\"\",(SUM('Step 3. Lease Payments'!$G$11:$G$5006)+'Step 2. Basic Info'!$E$24)/'Validations - DO NOT DELETE'!$H$1)","v":""},{"$f":"IF(A971=\"\",\"\",I971*'Step 3. Lease Payments'!$G$8)","v":""},{"$f":"IF(A971=\"\",\"\",D971-E971)","v":""},{"$f":"IF(A971=\"\",\"\",C971-F971)","v":""},null,{"$f":"IF(A971=\"\",\"\",K970)","v":""},{"$f":"IF(A971=\"\",\"\",VLOOKUP(A971,'Step 3. Lease Payments'!B:G,6,))","v":""},{"$f":"IF(A971=\"\",\"\",I971-J971+E971)","v":""}]
[{"$f":"IF(B971<'Step 2. Basic Info'!$E$12,A971+1,\"\")","v":""},"","",{"$f":"IF(A972=\"\",\"\",(SUM('Step 3. Lease Payments'!$G$11:$G$5006)+'Step 2. Basic Info'!$E$24)/'Validations - DO NOT DELETE'!$H$1)","v":""},{"$f":"IF(A972=\"\",\"\",I972*'Step 3. Lease Payments'!$G$8)","v":""},"","",null,"",{"$f":"IF(A972=\"\",\"\",VLOOKUP(A972,'Step 3. Lease Payments'!B:G,6,))","v":""},""]
[{"$f":"IF(B972<'Step 2. Basic Info'!$E$12,A972+1,\"\")","v":""},"","",{"$f":"IF(A973=\"\",\"\",(SUM('Step 3. Lease Payments'!$G$11:$G$5006)+'Step 2. Basic Info'!$E$24)/'Validations - DO NOT DELETE'!$H$1)","v":""},{"$f":"IF(A973=\"\",\"\",I973*'Step 3. Lease Payments'!$G$8)","v":""},"","",null,"",{"$f":"IF(A973=\"\",\"\",VLOOKUP(A973,'Step 3. Lease Payments'!B:G,6,))","v":""},""]
[{"$f":"IF(B973<'Step 2. Basic Info'!$E$12,A973+1,\"\")","v":""},"","",{"$f":"IF(A974=\"\",\"\",(SUM('Step 3. Lease Payments'!$G$11:$G$5006)+'Step 2. Basic Info'!$E$24)/'Validations - DO NOT DELETE'!$H$1)","v":""},{"$f":"IF(A974=\"\",\"\",I974*'Step 3. Lease Payments'!$G$8)","v":""},"","",null,"",{"$f":"IF(A974=\"\",\"\",VLOOKUP(A974,'Step 3. Lease Payments'!B:G,6,))","v":""},""]
[{"$f":"IF(B974<'Step 2. Basic Info'!$E$12,A974+1,\"\")","v":""},"","",{"$f":"IF(A975=\"\",\"\",(SUM('Step 3. Lease Payments'!$G$11:$G$5006)+'Step 2. Basic Info'!$E$24)/'Validations - DO NOT DELETE'!$H$1)","v":""},{"$f":"IF(A975=\"\",\"\",I975*'Step 3. Lease Payments'!$G$8)","v":""},"","",null,"",{"$f":"IF(A975=\"\",\"\",VLOOKUP(A975,'Step 3. Lease Payments'!B:G,6,))","v":""},""]
[{"$f":"IF(B975<'Step 2. Basic Info'!$E$12,A975+1,\"\")","v":""},"","",{"$f":"IF(A976=\"\",\"\",(SUM('Step 3. Lease Payments'!$G$11:$G$5006)+'Step 2. Basic Info'!$E$24)/'Validations - DO NOT DELETE'!$H$1)","v":""},{"$f":"IF(A976=\"\",\"\",I976*'Step 3. Lease Payments'!$G$8)","v":""},"","",null,"",{"$f":"IF(A976=\"\",\"\",VLOOKUP(A976,'Step 3. Lease Payments'!B:G,6,))","v":""},""]
[{"$f":"IF(B976<'Step 2. Basic Info'!$E$12,A976+1,\"\")","v":""},"","",{"$f":"IF(A977=\"\",\"\",(SUM('Step 3. Lease Payments'!$G$11:$G$5006)+'Step 2. Basic Info'!$E$24)/'Validations - DO NOT DELETE'!$H$1)","v":""},{"$f":"IF(A977=\"\",\"\",I977*'Step 3. Lease Payments'!$G$8)","v":""},"","",null,"",{"$f":"IF(A977=\"\",\"\",VLOOKUP(A977,'Step 3. Lease Payments'!B:G,6,))","v":""},""]
[{"$f":"IF(B977<'Step 2. Basic Info'!$E$12,A977+1,\"\")","v":""},"","",{"$f":"IF(A978=\"\",\"\",(SUM('Step 3. Lease Payments'!$G$11:$G$5006)+'Step 2. Basic Info'!$E$24)/'Validations - DO NOT DELETE'!$H$1)","v":""},{"$f":"IF(A978=\"\",\"\",I978*'Step 3. Lease Payments'!$G$8)","v":""},"","",null,"",{"$f":"IF(A978=\"\",\"\",VLOOKUP(A978,'Step 3. Lease Payments'!B:G,6,))","v":""},""]
[{"$f":"IF(B978<'Step 2. Basic Info'!$E$12,A978+1,\"\")","v":""},"","",{"$f":"IF(A979=\"\",\"\",(SUM('Step 3. Lease Payments'!$G$11:$G$5006)+'Step 2. Basic Info'!$E$24)/'Validations - DO NOT DELETE'!$H$1)","v":""},{"$f":"IF(A979=\"\",\"\",I979*'Step 3. Lease Payments'!$G$8)","v":""},"","",null,"",{"$f":"IF(A979=\"\",\"\",VLOOKUP(A979,'Step 3. Lease Payments'!B:G,6,))","v":""},""]
[{"$f":"IF(B979<'Step 2. Basic Info'!$E$12,A979+1,\"\")","v":""},"","",{"$f":"IF(A980=\"\",\"\",(SUM('Step 3. Lease Payments'!$G$11:$G$5006)+'Step 2. Basic Info'!$E$24)/'Validations - DO NOT DELETE'!$H$1)","v":""},{"$f":"IF(A980=\"\",\"\",I980*'Step 3. Lease Payments'!$G$8)","v":""},"","",null,"",{"$f":"IF(A980=\"\",\"\",VLOOKUP(A980,'Step 3. Lease Payments'!B:G,6,))","v":""},""]
[{"$f":"IF(B980<'Step 2. Basic Info'!$E$12,A980+1,\"\")","v":""},"","",{"$f":"IF(A981=\"\",\"\",(SUM('Step 3. Lease Payments'!$G$11:$G$5006)+'Step 2. Basic Info'!$E$24)/'Validations - DO NOT DELETE'!$H$1)","v":""},{"$f":"IF(A981=\"\",\"\",I981*'Step 3. Lease Payments'!$G$8)","v":""},"","",null,"",{"$f":"IF(A981=\"\",\"\",VLOOKUP(A981,'Step 3. Lease Payments'!B:G,6,))","v":""},""]
[{"$f":"IF(B981<'Step 2. Basic Info'!$E$12,A981+1,\"\")","v":""},"","",{"$f":"IF(A982=\"\",\"\",(SUM('Step 3. Lease Payments'!$G$11:$G$5006)+'Step 2. Basic Info'!$E$24)/'Validations - DO NOT DELETE'!$H$1)","v":""},{"$f":"IF(A982=\"\",\"\",I982*'Step 3. Lease Payments'!$G$8)","v":""},"","",null,"",{"$f":"IF(A982=\"\",\"\",VLOOKUP(A982,'Step 3. Lease Payments'!B:G,6,))","v":""},""]
[{"$f":"IF(B982<'Step 2. Basic Info'!$E$12,A982+1,\"\")","v":""},"","",{"$f":"IF(A983=\"\",\"\",(SUM('Step 3. Lease Payments'!$G$11:$G$5006)+'Step 2. Basic Info'!$E$24)/'Validations - DO NOT DELETE'!$H$1)","v":""},{"$f":"IF(A983=\"\",\"\",I983*'Step 3. Lease Payments'!$G$8)","v":""},"","",null,"",{"$f":"IF(A983=\"\",\"\",VLOOKUP(A983,'Step 3. Lease Payments'!B:G,6,))","v":""},""]
[{"$f":"IF(B983<'Step 2. Basic Info'!$E$12,A983+1,\"\")","v":""},"","",{"$f":"IF(A984=\"\",\"\",(SUM('Step 3. Lease Payments'!$G$11:$G$5006)+'Step 2. Basic Info'!$E$24)/'Validations - DO NOT DELETE'!$H$1)","v":""},{"$f":"IF(A984=\"\",\"\",I984*'Step 3. Lease Payments'!$G$8)","v":""},"","",null,"",{"$f":"IF(A984=\"\",\"\",VLOOKUP(A984,'Step 3. Lease Payments'!B:G,6,))","v":""},""]
[{"$f":"IF(B984<'Step 2. Basic Info'!$E$12,A984+1,\"\")","v":""},"","",{"$f":"IF(A985=\"\",\"\",(SUM('Step 3. Lease Payments'!$G$11:$G$5006)+'Step 2. Basic Info'!$E$24)/'Validations - DO NOT DELETE'!$H$1)","v":""},{"$f":"IF(A985=\"\",\"\",I985*'Step 3. Lease Payments'!$G$8)","v":""},"","",null,"",{"$f":"IF(A985=\"\",\"\",VLOOKUP(A985,'Step 3. Lease Payments'!B:G,6,))","v":""},""]
[{"$f":"IF(B985<'Step 2. Basic Info'!$E$12,A985+1,\"\")","v":""},"","",{"$f":"IF(A986=\"\",\"\",(SUM('Step 3. Lease Payments'!$G$11:$G$5006)+'Step 2. Basic Info'!$E$24)/'Validations - DO NOT DELETE'!$H$1)","v":""},{"$f":"IF(A986=\"\",\"\",I986*'Step 3. Lease Payments'!$G$8)","v":""},"","",null,"",{"$f":"IF(A986=\"\",\"\",VLOOKUP(A986,'Step 3. Lease Payments'!B:G,6,))","v":""},""]
[{"$f":"IF(B986<'Step 2. Basic Info'!$E$12,A986+1,\"\")","v":""},"","",{"$f":"IF(A987=\"\",\"\",(SUM('Step 3. Lease Payments'!$G$11:$G$5006)+'Step 2. Basic Info'!$E$24)/'Validations - DO NOT DELETE'!$H$1)","v":""},{"$f":"IF(A987=\"\",\"\",I987*'Step 3. Lease Payments'!$G$8)","v":""},"","",null,"",{"$f":"IF(A987=\"\",\"\",VLOOKUP(A987,'Step 3. Lease Payments'!B:G,6,))","v":""},""]
[{"$f":"IF(B987<'Step 2. Basic Info'!$E$12,A987+1,\"\")","v":""},"","",{"$f":"IF(A988=\"\",\"\",(SUM('Step 3. Lease Payments'!$G$11:$G$5006)+'Step 2. Basic Info'!$E$24)/'Validations - DO NOT DELETE'!$H$1)","v":""},{"$f":"IF(A988=\"\",\"\",I988*'Step 3. Lease Payments'!$G$8)","v":""},"","",null,"",{"$f":"IF(A988=\"\",\"\",VLOOKUP(A988,'Step 3. Lease Payments'!B:G,6,))","v":""},""]
[{"$f":"IF(B988<'Step 2. Basic Info'!$E$12,A988+1,\"\")","v":""},"","",{"$f":"IF(A989=\"\",\"\",(SUM('Step 3. Lease Payments'!$G$11:$G$5006)+'Step 2. Basic Info'!$E$24)/'Validations - DO NOT DELETE'!$H$1)","v":""},{"$f":"IF(A989=\"\",\"\",I989*'Step 3. Lease Payments'!$G$8)","v":""},"","",null,"",{"$f":"IF(A989=\"\",\"\",VLOOKUP(A989,'Step 3. Lease Payments'!B:G,6,))","v":""},""]
[{"$f":"IF(B989<'Step 2. Basic Info'!$E$12,A989+1,\"\")","v":""},"","",{"$f":"IF(A990=\"\",\"\",(SUM('Step 3. Lease Payments'!$G$11:$G$5006)+'Step 2. Basic Info'!$E$24)/'Validations - DO NOT DELETE'!$H$1)","v":""},{"$f":"IF(A990=\"\",\"\",I990*'Step 3. Lease Payments'!$G$8)","v":""},"","",null,"",{"$f":"IF(A990=\"\",\"\",VLOOKUP(A990,'Step 3. Lease Payments'!B:G,6,))","v":""},""]
[{"$f":"IF(B990<'Step 2. Basic Info'!$E$12,A990+1,\"\")","v":""},"","",{"$f":"IF(A991=\"\",\"\",(SUM('Step 3. Lease Payments'!$G$11:$G$5006)+'Step 2. Basic Info'!$E$24)/'Validations - DO NOT DELETE'!$H$1)","v":""},{"$f":"IF(A991=\"\",\"\",I991*'Step 3. Lease Payments'!$G$8)","v":""},"","",null,"",{"$f":"IF(A991=\"\",\"\",VLOOKUP(A991,'Step 3. Lease Payments'!B:G,6,))","v":""},""]
[{"$f":"IF(B991<'Step 2. Basic Info'!$E$12,A991+1,\"\")","v":""},"","",{"$f":"IF(A992=\"\",\"\",(SUM('Step 3. Lease Payments'!$G$11:$G$5006)+'Step 2. Basic Info'!$E$24)/'Validations - DO NOT DELETE'!$H$1)","v":""},{"$f":"IF(A992=\"\",\"\",I992*'Step 3. Lease Payments'!$G$8)","v":""},"","",null,"",{"$f":"IF(A992=\"\",\"\",VLOOKUP(A992,'Step 3. Lease Payments'!B:G,6,))","v":""},""]
[{"$f":"IF(B992<'Step 2. Basic Info'!$E$12,A992+1,\"\")","v":""},"","",{"$f":"IF(A993=\"\",\"\",(SUM('Step 3. Lease Payments'!$G$11:$G$5006)+'Step 2. Basic Info'!$E$24)/'Validations - DO NOT DELETE'!$H$1)","v":""},{"$f":"IF(A993=\"\",\"\",I993*'Step 3. Lease Payments'!$G$8)","v":""},"","",null,"",{"$f":"IF(A993=\"\",\"\",VLOOKUP(A993,'Step 3. Lease Payments'!B:G,6,))","v":""},""]
[{"$f":"IF(B993<'Step 2. Basic Info'!$E$12,A993+1,\"\")","v":""},"","",{"$f":"IF(A994=\"\",\"\",(SUM('Step 3. Lease Payments'!$G$11:$G$5006)+'Step 2. Basic Info'!$E$24)/'Validations - DO NOT DELETE'!$H$1)","v":""},{"$f":"IF(A994=\"\",\"\",I994*'Step 3. Lease Payments'!$G$8)","v":""},"","",null,"",{"$f":"IF(A994=\"\",\"\",VLOOKUP(A994,'Step 3. Lease Payments'!B:G,6,))","v":""},""]
[{"$f":"IF(B994<'Step 2. Basic Info'!$E$12,A994+1,\"\")","v":""},"","",{"$f":"IF(A995=\"\",\"\",(SUM('Step 3. Lease Payments'!$G$11:$G$5006)+'Step 2. Basic Info'!$E$24)/'Validations - DO NOT DELETE'!$H$1)","v":""},{"$f":"IF(A995=\"\",\"\",I995*'Step 3. Lease Payments'!$G$8)","v":""},"","",null,"",{"$f":"IF(A995=\"\",\"\",VLOOKUP(A995,'Step 3. Lease Payments'!B:G,6,))","v":""},""]
[{"$f":"IF(B995<'Step 2. Basic Info'!$E$12,A995+1,\"\")","v":""},"","",{"$f":"IF(A996=\"\",\"\",(SUM('Step 3. Lease Payments'!$G$11:$G$5006)+'Step 2. Basic Info'!$E$24)/'Validations - DO NOT DELETE'!$H$1)","v":""},{"$f":"IF(A996=\"\",\"\",I996*'Step 3. Lease Payments'!$G$8)","v":""},"","",null,"",{"$f":"IF(A996=\"\",\"\",VLOOKUP(A996,'Step 3. Lease Payments'!B:G,6,))","v":""},""]
[{"$f":"IF(B996<'Step 2. Basic Info'!$E$12,A996+1,\"\")","v":""},"","",{"$f":"IF(A997=\"\",\"\",(SUM('Step 3. Lease Payments'!$G$11:$G$5006)+'Step 2. Basic Info'!$E$24)/'Validations - DO NOT DELETE'!$H$1)","v":""},{"$f":"IF(A997=\"\",\"\",I997*'Step 3. Lease Payments'!$G$8)","v":""},"","",null,"",{"$f":"IF(A997=\"\",\"\",VLOOKUP(A997,'Step 3. Lease Payments'!B:G,6,))","v":""},""]
[{"$f":"IF(B997<'Step 2. Basic Info'!$E$12,A997+1,\"\")","v":""},"","",{"$f":"IF(A998=\"\",\"\",(SUM('Step 3. Lease Payments'!$G$11:$G$5006)+'Step 2. Basic Info'!$E$24)/'Validations - DO NOT DELETE'!$H$1)","v":""},{"$f":"IF(A998=\"\",\"\",I998*'Step 3. Lease Payments'!$G$8)","v":""},"","",null,"",{"$f":"IF(A998=\"\",\"\",VLOOKUP(A998,'Step 3. Lease Payments'!B:G,6,))","v":""},""]
[{"$f":"IF(B998<'Step 2. Basic Info'!$E$12,A998+1,\"\")","v":""},"","",{"$f":"IF(A999=\"\",\"\",(SUM('Step 3. Lease Payments'!$G$11:$G$5006)+'Step 2. Basic Info'!$E$24)/'Validations - DO NOT DELETE'!$H$1)","v":""},{"$f":"IF(A999=\"\",\"\",I999*'Step 3. Lease Payments'!$G$8)","v":""},"","",null,"",{"$f":"IF(A999=\"\",\"\",VLOOKUP(A999,'Step 3. Lease Payments'!B:G,6,))","v":""},""]
[{"$f":"IF(B999<'Step 2. Basic Info'!$E$12,A999+1,\"\")","v":""},"","",{"$f":"IF(A1000=\"\",\"\",(SUM('Step 3. Lease Payments'!$G$11:$G$5006)+'Step 2. Basic Info'!$E$24)/'Validations - DO NOT DELETE'!$H$1)","v":""},{"$f":"IF(A1000=\"\",\"\",I1000*'Step 3. Lease Payments'!$G$8)","v":""},"","",null,"",{"$f":"IF(A1000=\"\",\"\",VLOOKUP(A1000,'Step 3. Lease Payments'!B:G,6,))","v":""},""]

{"sheet":"Output FIN Lease Amort","index":6,"n_rows":1000,"n_cols":10,"rows_kept":1000,"cut":false,"hidden":true,"merged":[[6,6,7,6],[6,8,7,8],[6,9,7,9],[6,7,7,7],[6,0,7,0],[6,1,7,1],[6,2,7,2],[6,3,7,3],[6,4,7,4],[5,0,5,9],[4,1,4,2],[4,3,4,4],[1,1,1,2],[1,3,1,4],[2,1,2,2],[2,3,2,4],[3,1,3,2],[3,3,3,4]]}
[]
[null,"BDO"]
[null,"ENTITY NAME",null,{"$f":"IF(ISBLANK('Step 1. Scoping'!C3)=TRUE,\"\",'Step 1. Scoping'!C3)","v":""}]
[null,"DOCUMENT NAME",null,"ASC 842 - Leases - Template"]
[null,"PERIOD END",null,{"$f":"IF(ISBLANK('Step 1. Scoping'!C5)=TRUE,\"\",'Step 1. Scoping'!C5)","v":""}]
["Finance Lease Amortization"]
["Payment #","Date","ROU Asset Opening Balance","Amortization of ROU Asset","ROU Asset Closing Balance",null,"Lease Liability Opening Balance","Interest Expense","Rents Paid","Lease Liability Closing Balance"]
[]
[0,{"$f":"'Step 2. Basic Info'!E11","v":"00:00:00"},null,null,{"$f":"J9+I9+'Step 2. Basic Info'!E24","v":0},null,{"$f":"SUM('Step 3. Lease Payments'!H11:H1706)","v":0},null,{"$f":"_xlfn.IFNA(IF(A9=\"\",\"\",(VLOOKUP(A9,'Step 3. Lease Payments'!B:G,6,))),\"0\")","v":0},{"$f":"G9-I9","v":0}]
[{"$f":"IF(A9<'Step 4. Classification'!$E$17,'Output FIN Lease Amort'!A9+1,\"\")","v":""},{"$f":"IF(A10=\"\",\"\",(DATE(YEAR(B9),MONTH(B9)+1,DAY(B9))))","v":""},{"$f":"IF(A10=\"\",\"\",E9)","v":""},{"$f":"IF(A10=\"\",\"\",$C$10/'Step 4. Classification'!$E$17)","v":""},{"$f":"IF(A10=\"\",\"\",C10-D10)","v":""},null,{"$f":"IF(A10=\"\",\"\",J9)","v":""},{"$f":"IF(A10=\"\",\"\",G10*'Step 3. Lease Payments'!$G$8)","v":""},{"$f":"_xlfn.IFNA(IF(A10=\"\",\"\",(VLOOKUP(A10,'Step 3. Lease Payments'!B:G,6,))),\"0\")","v":""},{"$f":"IF(A10=\"\",\"\",G10-I10+H10)","v":""}]
[{"$f":"IF(A10<'Step 4. Classification'!$E$17,'Output FIN Lease Amort'!A10+1,\"\")","v":""},{"$f":"IF(A11=\"\",\"\",(DATE(YEAR(B10),MONTH(B10)+1,DAY(B10))))","v":""},{"$f":"IF(A11=\"\",\"\",E10)","v":""},{"$f":"IF(A11=\"\",\"\",$C$10/'Step 4. Classification'!$E$17)","v":""},{"$f":"IF(A11=\"\",\"\",C11-D11)","v":""},null,{"$f":"IF(A11=\"\",\"\",J10)","v":""},{"$f":"IF(A11=\"\",\"\",G11*'Step 3. Lease Payments'!$G$8)","v":""},{"$f":"_xlfn.IFNA(IF(A11=\"\",\"\",(VLOOKUP(A11,'Step 3. Lease Payments'!B:G,6,))),\"0\")","v":""},{"$f":"IF(A11=\"\",\"\",G11-I11+H11)","v":""}]
[{"$f":"IF(A11<'Step 4. Classification'!$E$17,'Output FIN Lease Amort'!A11+1,\"\")","v":""},"","",{"$f":"IF(A12=\"\",\"\",$C$10/'Step 4. Classification'!$E$17)","v":""},"",null,"",{"$f":"IF(A12=\"\",\"\",G12*'Step 3. Lease Payments'!$G$8)","v":""},{"$f":"_xlfn.IFNA(IF(A12=\"\",\"\",(VLOOKUP(A12,'Step 3. Lease Payments'!B:G,6,))),\"0\")","v":""},""]
[{"$f":"IF(A12<'Step 4. Classification'!$E$17,'Output FIN Lease Amort'!A12+1,\"\")","v":""},"","",{"$f":"IF(A13=\"\",\"\",$C$10/'Step 4. Classification'!$E$17)","v":""},"",null,"",{"$f":"IF(A13=\"\",\"\",G13*'Step 3. Lease Payments'!$G$8)","v":""},{"$f":"_xlfn.IFNA(IF(A13=\"\",\"\",(VLOOKUP(A13,'Step 3. Lease Payments'!B:G,6,))),\"0\")","v":""},""]
[{"$f":"IF(A13<'Step 4. Classification'!$E$17,'Output FIN Lease Amort'!A13+1,\"\")","v":""},"","",{"$f":"IF(A14=\"\",\"\",$C$10/'Step 4. Classification'!$E$17)","v":""},"",null,"",{"$f":"IF(A14=\"\",\"\",G14*'Step 3. Lease Payments'!$G$8)","v":""},{"$f":"_xlfn.IFNA(IF(A14=\"\",\"\",(VLOOKUP(A14,'Step 3. Lease Payments'!B:G,6,))),\"0\")","v":""},""]
[{"$f":"IF(A14<'Step 4. Classification'!$E$17,'Output FIN Lease Amort'!A14+1,\"\")","v":""},"","",{"$f":"IF(A15=\"\",\"\",$C$10/'Step 4. Classification'!$E$17)","v":""},"",null,"",{"$f":"IF(A15=\"\",\"\",G15*'Step 3. Lease Payments'!$G$8)","v":""},{"$f":"_xlfn.IFNA(IF(A15=\"\",\"\",(VLOOKUP(A15,'Step 3. Lease Payments'!B:G,6,))),\"0\")","v":""},""]
[{"$f":"IF(A15<'Step 4. Classification'!$E$17,'Output FIN Lease Amort'!A15+1,\"\")","v":""},"","",{"$f":"IF(A16=\"\",\"\",$C$10/'Step 4. Classification'!$E$17)","v":""},"",null,"",{"$f":"IF(A16=\"\",\"\",G16*'Step 3. Lease Payments'!$G$8)","v":""},{"$f":"_xlfn.IFNA(IF(A16=\"\",\"\",(VLOOKUP(A16,'Step 3. Lease Payments'!B:G,6,))),\"0\")","v":""},""]
[{"$f":"IF(A16<'Step 4. Classification'!$E$17,'Output FIN Lease Amort'!A16+1,\"\")","v":""},"","",{"$f":"IF(A17=\"\",\"\",$C$10/'Step 4. Classification'!$E$17)","v":""},"",null,"",{"$f":"IF(A17=\"\",\"\",G17*'Step 3. Lease Payments'!$G$8)","v":""},{"$f":"_xlfn.IFNA(IF(A17=\"\",\"\",(VLOOKUP(A17,'Step 3. Lease Payments'!B:G,6,))),\"0\")","v":""},""]
[{"$f":"IF(A17<'Step 4. Classification'!$E$17,'Output FIN Lease Amort'!A17+1,\"\")","v":""},"","",{"$f":"IF(A18=\"\",\"\",$C$10/'Step 4. Classification'!$E$17)","v":""},"",null,"",{"$f":"IF(A18=\"\",\"\",G18*'Step 3. Lease Payments'!$G$8)","v":""},{"$f":"_xlfn.IFNA(IF(A18=\"\",\"\",(VLOOKUP(A18,'Step 3. Lease Payments'!B:G,6,))),\"0\")","v":""},""]
[{"$f":"IF(A18<'Step 4. Classification'!$E$17,'Output FIN Lease Amort'!A18+1,\"\")","v":""},"","",{"$f":"IF(A19=\"\",\"\",$C$10/'Step 4. Classification'!$E$17)","v":""},"",null,"",{"$f":"IF(A19=\"\",\"\",G19*'Step 3. Lease Payments'!$G$8)","v":""},{"$f":"_xlfn.IFNA(IF(A19=\"\",\"\",(VLOOKUP(A19,'Step 3. Lease Payments'!B:G,6,))),\"0\")","v":""},""]
[{"$f":"IF(A19<'Step 4. Classification'!$E$17,'Output FIN Lease Amort'!A19+1,\"\")","v":""},"","",{"$f":"IF(A20=\"\",\"\",$C$10/'Step 4. Classification'!$E$17)","v":""},"",null,"",{"$f":"IF(A20=\"\",\"\",G20*'Step 3. Lease Payments'!$G$8)","v":""},{"$f":"_xlfn.IFNA(IF(A20=\"\",\"\",(VLOOKUP(A20,'Step 3. Lease Payments'!B:G,6,))),\"0\")","v":""},""]
[{"$f":"IF(A20<'Step 4. Classification'!$E$17,'Output FIN Lease Amort'!A20+1,\"\")","v":""},"","",{"$f":"IF(A21=\"\",\"\",$C$10/'Step 4. Classification'!$E$17)","v":""},"",null,"",{"$f":"IF(A21=\"\",\"\",G21*'Step 3. Lease Payments'!$G$8)","v":""},{"$f":"_xlfn.IFNA(IF(A21=\"\",\"\",(VLOOKUP(A21,'Step 3. Lease Payments'!B:G,6,))),\"0\")","v":""},""]
[{"$f":"IF(A21<'Step 4. Classification'!$E$17,'Output FIN Lease Amort'!A21+1,\"\")","v":""},"","",{"$f":"IF(A22=\"\",\"\",$C$10/'Step 4. Classification'!$E$17)","v":""},"",null,"",{"$f":"IF(A22=\"\",\"\",G22*'Step 3. Lease Payments'!$G$8)","v":""},{"$f":"_xlfn.IFNA(IF(A22=\"\",\"\",(VLOOKUP(A22,'Step 3. Lease Payments'!B:G,6,))),\"0\")","v":""},""]
[{"$f":"IF(A22<'Step 4. Classification'!$E$17,'Output FIN Lease Amort'!A22+1,\"\")","v":""},"","",{"$f":"IF(A23=\"\",\"\",$C$10/'Step 4. Classification'!$E$17)","v":""},"",null,"",{"$f":"IF(A23=\"\",\"\",G23*'Step 3. Lease Payments'!$G$8)","v":""},{"$f":"_xlfn.IFNA(IF(A23=\"\",\"\",(VLOOKUP(A23,'Step 3. Lease Payments'!B:G,6,))),\"0\")","v":""},""]
[{"$f":"IF(A23<'Step 4. Classification'!$E$17,'Output FIN Lease Amort'!A23+1,\"\")","v":""},"","",{"$f":"IF(A24=\"\",\"\",$C$10/'Step 4. Classification'!$E$17)","v":""},"",null,"",{"$f":"IF(A24=\"\",\"\",G24*'Step 3. Lease Payments'!$G$8)","v":""},{"$f":"_xlfn.IFNA(IF(A24=\"\",\"\",(VLOOKUP(A24,'Step 3. Lease Payments'!B:G,6,))),\"0\")","v":""},""]
[{"$f":"IF(A24<'Step 4. Classification'!$E$17,'Output FIN Lease Amort'!A24+1,\"\")","v":""},"","",{"$f":"IF(A25=\"\",\"\",$C$10/'Step 4. Classification'!$E$17)","v":""},"",null,"",{"$f":"IF(A25=\"\",\"\",G25*'Step 3. Lease Payments'!$G$8)","v":""},{"$f":"_xlfn.IFNA(IF(A25=\"\",\"\",(VLOOKUP(A25,'Step 3. Lease Payments'!B:G,6,))),\"0\")","v":""},""]
[{"$f":"IF(A25<'Step 4. Classification'!$E$17,'Output FIN Lease Amort'!A25+1,\"\")","v":""},"","",{"$f":"IF(A26=\"\",\"\",$C$10/'Step 4. Classification'!$E$17)","v":""},"",null,"",{"$f":"IF(A26=\"\",\"\",G26*'Step 3. Lease Payments'!$G$8)","v":""},{"$f":"_xlfn.IFNA(IF(A26=\"\",\"\",(VLOOKUP(A26,'Step 3. Lease Payments'!B:G,6,))),\"0\")","v":""},""]
[{"$f":"IF(A26<'Step 4. Classification'!$E$17,'Output FIN Lease Amort'!A26+1,\"\")","v":""},"","",{"$f":"IF(A27=\"\",\"\",$C$10/'Step 4. Classification'!$E$17)","v":""},"",null,"",{"$f":"IF(A27=\"\",\"\",G27*'Step 3. Lease Payments'!$G$8)","v":""},{"$f":"_xlfn.IFNA(IF(A27=\"\",\"\",(VLOOKUP(A27,'Step 3. Lease Payments'!B:G,6,))),\"0\")","v":""},""]
[{"$f":"IF(A27<'Step 4. Classification'!$E$17,'Output FIN Lease Amort'!A27+1,\"\")","v":""},"","",{"$f":"IF(A28=\"\",\"\",$C$10/'Step 4. Classification'!$E$17)","v":""},"",null,"",{"$f":"IF(A28=\"\",\"\",G28*'Step 3. Lease Payments'!$G$8)","v":""},{"$f":"_xlfn.IFNA(IF(A28=\"\",\"\",(VLOOKUP(A28,'Step 3. Lease Payments'!B:G,6,))),\"0\")","v":""},""]
[{"$f":"IF(A28<'Step 4. Classification'!$E$17,'Output FIN Lease Amort'!A28+1,\"\")","v":""},"","",{"$f":"IF(A29=\"\",\"\",$C$10/'Step 4. Classification'!$E$17)","v":""},"",null,"",{"$f":"IF(A29=\"\",\"\",G29*'Step 3. Lease Payments'!$G$8)","v":""},{"$f":"_xlfn.IFNA(IF(A29=\"\",\"\",(VLOOKUP(A29,'Step 3. Lease Payments'!B:G,6,))),\"0\")","v":""},""]
[{"$f":"IF(A29<'Step 4. Classification'!$E$17,'Output FIN Lease Amort'!A29+1,\"\")","v":""},"","",{"$f":"IF(A30=\"\",\"\",$C$10/'Step 4. Classification'!$E$17)","v":""},"",null,"",{"$f":"IF(A30=\"\",\"\",G30*'Step 3. Lease Payments'!$G$8)","v":""},{"$f":"_xlfn.IFNA(IF(A30=\"\",\"\",(VLOOKUP(A30,'Step 3. Lease Payments'!B:G,6,))),\"0\")","v":""},""]
[{"$f":"IF(A30<'Step 4. Classification'!$E$17,'Output FIN Lease Amort'!A30+1,\"\")","v":""},"","",{"$f":"IF(A31=\"\",\"\",$C$10/'Step 4. Classification'!$E$17)","v":""},"",null,"",{"$f":"IF(A31=\"\",\"\",G31*'Step 3. Lease Payments'!$G$8)","v":""},{"$f":"_xlfn.IFNA(IF(A31=\"\",\"\",(VLOOKUP(A31,'Step 3. Lease Payments'!B:G,6,))),\"0\")","v":""},""]
[{"$f":"IF(A31<'Step 4. Classification'!$E$17,'Output FIN Lease Amort'!A31+1,\"\")","v":""},"","",{"$f":"IF(A32=\"\",\"\",$C$10/'Step 4. Classification'!$E$17)","v":""},"",null,"",{"$f":"IF(A32=\"\",\"\",G32*'Step 3. Lease Payments'!$G$8)","v":""},{"$f":"_xlfn.IFNA(IF(A32=\"\",\"\",(VLOOKUP(A32,'Step 3. Lease Payments'!B:G,6,))),\"0\")","v":""},""]
[{"$f":"IF(A32<'Step 4. Classification'!$E$17,'Output FIN Lease Amort'!A32+1,\"\")","v":""},"","",{"$f":"IF(A33=\"\",\"\",$C$10/'Step 4. Classification'!$E$17)","v":""},"",null,"",{"$f":"IF(A33=\"\",\"\",G33*'Step 3. Lease Payments'!$G$8)","v":""},{"$f":"_xlfn.IFNA(IF(A33=\"\",\"\",(VLOOKUP(A33,'Step 3. Lease Payments'!B:G,6,))),\"0\")","v":""},""]
[{"$f":"IF(A33<'Step 4. Classification'!$E$17,'Output FIN Lease Amort'!A33+1,\"\")","v":""},"","",{"$f":"IF(A34=\"\",\"\",$C$10/'Step 4. Classification'!$E$17)","v":""},"",null,"",{"$f":"IF(A34=\"\",\"\",G34*'Step 3. Lease Payments'!$G$8)","v":""},{"$f":"_xlfn.IFNA(IF(A34=\"\",\"\",(VLOOKUP(A34,'Step 3. Lease Payments'!B:G,6,))),\"0\")","v":""},""]
[{"$f":"IF(A34<'Step 4. Classification'!$E$17,'Output FIN Lease Amort'!A34+1,\"\")","v":""},"","",{"$f":"IF(A35=\"\",\"\",$C$10/'Step 4. Classification'!$E$17)","v":""},"",null,"",{"$f":"IF(A35=\"\",\"\",G35*'Step 3. Lease Payments'!$G$8)","v":""},{"$f":"_xlfn.IFNA(IF(A35=\"\",\"\",(VLOOKUP(A35,'Step 3. Lease Payments'!B:G,6,))),\"0\")","v":""},""]
[{"$f":"IF(A35<'Step 4. Classification'!$E$17,'Output FIN Lease Amort'!A35+1,\"\")","v":""},"","",{"$f":"IF(A36=\"\",\"\",$C$10/'Step 4. Classification'!$E$17)","v":""},"",null,"",{"$f":"IF(A36=\"\",\"\",G36*'Step 3. Lease Payments'!$G$8)","v":""},{"$f":"_xlfn.IFNA(IF(A36=\"\",\"\",(VLOOKUP(A36,'Step 3. Lease Payments'!B:G,6,))),\"0\")","v":""},""]
[{"$f":"IF(A36<'Step 4. Classification'!$E$17,'Output FIN Lease Amort'!A36+1,\"\")","v":""},"","",{"$f":"IF(A37=\"\",\"\",$C$10/'Step 4. Classification'!$E$17)","v":""},"",null,"",{"$f":"IF(A37=\"\",\"\",G37*'Step 3. Lease Payments'!$G$8)","v":""},{"$f":"_xlfn.IFNA(IF(A37=\"\",\"\",(VLOOKUP(A37,'Step 3. Lease Payments'!B:G,6,))),\"0\")","v":""},""]
[{"$f":"IF(A37<'Step 4. Classification'!$E$17,'Output FIN Lease Amort'!A37+1,\"\")","v":""},"","",{"$f":"IF(A38=\"\",\"\",$C$10/'Step 4. Classification'!$E$17)","v":""},"",null,"",{"$f":"IF(A38=\"\",\"\",G38*'Step 3. Lease Payments'!$G$8)","v":""},{"$f":"_xlfn.IFNA(IF(A38=\"\",\"\",(VLOOKUP(A38,'Step 3. Lease Payments'!B:G,6,))),\"0\")","v":""},""]
[{"$f":"IF(A38<'Step 4. Classification'!$E$17,'Output FIN Lease Amort'!A38+1,\"\")","v":""},"","",{"$f":"IF(A39=\"\",\"\",$C$10/'Step 4. Classification'!$E$17)","v":""},"",null,"",{"$f":"IF(A39=\"\",\"\",G39*'Step 3. Lease Payments'!$G$8)","v":""},{"$f":"_xlfn.IFNA(IF(A39=\"\",\"\",(VLOOKUP(A39,'Step 3. Lease Payments'!B:G,6,))),\"0\")","v":""},""]
[{"$f":"IF(A39<'Step 4. Classification'!$E$17,'Output FIN Lease Amort'!A39+1,\"\")","v":""},"","",{"$f":"IF(A40=\"\",\"\",$C$10/'Step 4. Classification'!$E$17)","v":""},"",null,"",{"$f":"IF(A40=\"\",\"\",G40*'Step 3. Lease Payments'!$G$8)","v":""},{"$f":"_xlfn.IFNA(IF(A40=\"\",\"\",(VLOOKUP(A40,'Step 3. Lease Payments'!B:G,6,))),\"0\")","v":""},""]
[{"$f":"IF(A40<'Step 4. Classification'!$E$17,'Output FIN Lease Amort'!A40+1,\"\")","v":""},"","",{"$f":"IF(A41=\"\",\"\",$C$10/'Step 4. Classification'!$E$17)","v":""},"",null,"",{"$f":"IF(A41=\"\",\"\",G41*'Step 3. Lease Payments'!$G$8)","v":""},{"$f":"_xlfn.IFNA(IF(A41=\"\",\"\",(VLOOKUP(A41,'Step 3. Lease Payments'!B:G,6,))),\"0\")","v":""},""]
[{"$f":"IF(A41<'Step 4. Classification'!$E$17,'Output FIN Lease Amort'!A41+1,\"\")","v":""},"","",{"$f":"IF(A42=\"\",\"\",$C$10/'Step 4. Classification'!$E$17)","v":""},"",null,"",{"$f":"IF(A42=\"\",\"\",G42*'Step 3. Lease Payments'!$G$8)","v":""},{"$f":"_xlfn.IFNA(IF(A42=\"\",\"\",(VLOOKUP(A42,'Step 3. Lease Payments'!B:G,6,))),\"0\")","v":""},""]
[{"$f":"IF(A42<'Step 4. Classification'!$E$17,'Output FIN Lease Amort'!A42+1,\"\")","v":""},"","",{"$f":"IF(A43=\"\",\"\",$C$10/'Step 4. Classification'!$E$17)","v":""},"",null,"",{"$f":"IF(A43=\"\",\"\",G43*'Step 3. Lease Payments'!$G$8)","v":""},{"$f":"_xlfn.IFNA(IF(A43=\"\",\"\",(VLOOKUP(A43,'Step 3. Lease Payments'!B:G,6,))),\"0\")","v":""},""]
[{"$f":"IF(A43<'Step 4. Classification'!$E$17,'Output FIN Lease Amort'!A43+1,\"\")","v":""},"","",{"$f":"IF(A44=\"\",\"\",$C$10/'Step 4. Classification'!$E$17)","v":""},"",null,"",{"$f":"IF(A44=\"\",\"\",G44*'Step 3. Lease Payments'!$G$8)","v":""},{"$f":"_xlfn.IFNA(IF(A44=\"\",\"\",(VLOOKUP(A44,'Step 3. Lease Payments'!B:G,6,))),\"0\")","v":""},""]
[{"$f":"IF(A44<'Step 4. Classification'!$E$17,'Output FIN Lease Amort'!A44+1,\"\")","v":""},"","",{"$f":"IF(A45=\"\",\"\",$C$10/'Step 4. Classification'!$E$17)","v":""},"",null,"",{"$f":"IF(A45=\"\",\"\",G45*'Step 3. Lease Payments'!$G$8)","v":""},{"$f":"_xlfn.IFNA(IF(A45=\"\",\"\",(VLOOKUP(A45,'Step 3. Lease Payments'!B:G,6,))),\"0\")","v":""},""]
[{"$f":"IF(A45<'Step 4. Classification'!$E$17,'Output FIN Lease Amort'!A45+1,\"\")","v":""},"","",{"$f":"IF(A46=\"\",\"\",$C$10/'Step 4. Classification'!$E$17)","v":""},"",null,"",{"$f":"IF(A46=\"\",\"\",G46*'Step 3. Lease Payments'!$G$8)","v":""},{"$f":"_xlfn.IFNA(IF(A46=\"\",\"\",(VLOOKUP(A46,'Step 3. Lease Payments'!B:G,6,))),\"0\")","v":""},""]
[{"$f":"IF(A46<'Step 4. Classification'!$E$17,'Output FIN Lease Amort'!A46+1,\"\")","v":""},"","",{"$f":"IF(A47=\"\",\"\",$C$10/'Step 4. Classification'!$E$17)","v":""},"",null,"",{"$f":"IF(A47=\"\",\"\",G47*'Step 3. Lease Payments'!$G$8)","v":""},{"$f":"_xlfn.IFNA(IF(A47=\"\",\"\",(VLOOKUP(A47,'Step 3. Lease Payments'!B:G,6,))),\"0\")","v":""},""]
[{"$f":"IF(A47<'Step 4. Classification'!$E$17,'Output FIN Lease Amort'!A47+1,\"\")","v":""},"","",{"$f":"IF(A48=\"\",\"\",$C$10/'Step 4. Classification'!$E$17)","v":""},"",null,"",{"$f":"IF(A48=\"\",\"\",G48*'Step 3. Lease Payments'!$G$8)","v":""},{"$f":"_xlfn.IFNA(IF(A48=\"\",\"\",(VLOOKUP(A48,'Step 3. Lease Payments'!B:G,6,))),\"0\")","v":""},""]
[{"$f":"IF(A48<'Step 4. Classification'!$E$17,'Output FIN Lease Amort'!A48+1,\"\")","v":""},"","",{"$f":"IF(A49=\"\",\"\",$C$10/'Step 4. Classification'!$E$17)","v":""},"",null,"",{"$f":"IF(A49=\"\",\"\",G49*'Step 3. Lease Payments'!$G$8)","v":""},{"$f":"_xlfn.IFNA(IF(A49=\"\",\"\",(VLOOKUP(A49,'Step 3. Lease Payments'!B:G,6,))),\"0\")","v":""},""]
[{"$f":"IF(A49<'Step 4. Classification'!$E$17,'Output FIN Lease Amort'!A49+1,\"\")","v":""},"","",{"$f":"IF(A50=\"\",\"\",$C$10/'Step 4. Classification'!$E$17)","v":""},"",null,"",{"$f":"IF(A50=\"\",\"\",G50*'Step 3. Lease Payments'!$G$8)","v":""},{"$f":"_xlfn.IFNA(IF(A50=\"\",\"\",(VLOOKUP(A50,'Step 3. Lease Payments'!B:G,6,))),\"0\")","v":""},""]
[{"$f":"IF(A50<'Step 4. Classification'!$E$17,'Output FIN Lease Amort'!A50+1,\"\")","v":""},"","",{"$f":"IF(A51=\"\",\"\",$C$10/'Step 4. Classification'!$E$17)","v":""},"",null,"",{"$f":"IF(A51=\"\",\"\",G51*'Step 3. Lease Payments'!$G$8)","v":""},{"$f":"_xlfn.IFNA(IF(A51=\"\",\"\",(VLOOKUP(A51,'Step 3. Lease Payments'!B:G,6,))),\"0\")","v":""},""]
[{"$f":"IF(A51<'Step 4. Classification'!$E$17,'Output FIN Lease Amort'!A51+1,\"\")","v":""},"","",{"$f":"IF(A52=\"\",\"\",$C$10/'Step 4. Classification'!$E$17)","v":""},"",null,"",{"$f":"IF(A52=\"\",\"\",G52*'Step 3. Lease Payments'!$G$8)","v":""},{"$f":"_xlfn.IFNA(IF(A52=\"\",\"\",(VLOOKUP(A52,'Step 3. Lease Payments'!B:G,6,))),\"0\")","v":""},""]
[{"$f":"IF(A52<'Step 4. Classification'!$E$17,'Output FIN Lease Amort'!A52+1,\"\")","v":""},"","",{"$f":"IF(A53=\"\",\"\",$C$10/'Step 4. Classification'!$E$17)","v":""},"",null,"",{"$f":"IF(A53=\"\",\"\",G53*'Step 3. Lease Payments'!$G$8)","v":""},{"$f":"_xlfn.IFNA(IF(A53=\"\",\"\",(VLOOKUP(A53,'Step 3. Lease Payments'!B:G,6,))),\"0\")","v":""},""]
[{"$f":"IF(A53<'Step 4. Classification'!$E$17,'Output FIN Lease Amort'!A53+1,\"\")","v":""},"","",{"$f":"IF(A54=\"\",\"\",$C$10/'Step 4. Classification'!$E$17)","v":""},"",null,"",{"$f":"IF(A54=\"\",\"\",G54*'Step 3. Lease Payments'!$G$8)","v":""},{"$f":"_xlfn.IFNA(IF(A54=\"\",\"\",(VLOOKUP(A54,'Step 3. Lease Payments'!B:G,6,))),\"0\")","v":""},""]
[{"$f":"IF(A54<'Step 4. Classification'!$E$17,'Output FIN Lease Amort'!A54+1,\"\")","v":""},"","",{"$f":"IF(A55=\"\",\"\",$C$10/'Step 4. Classification'!$E$17)","v":""},"",null,"",{"$f":"IF(A55=\"\",\"\",G55*'Step 3. Lease Payments'!$G$8)","v":""},{"$f":"_xlfn.IFNA(IF(A55=\"\",\"\",(VLOOKUP(A55,'Step 3. Lease Payments'!B:G,6,))),\"0\")","v":""},""]
[{"$f":"IF(A55<'Step 4. Classification'!$E$17,'Output FIN Lease Amort'!A55+1,\"\")","v":""},"","",{"$f":"IF(A56=\"\",\"\",$C$10/'Step 4. Classification'!$E$17)","v":""},"",null,"",{"$f":"IF(A56=\"\",\"\",G56*'Step 3. Lease Payments'!$G$8)","v":""},{"$f":"_xlfn.IFNA(IF(A56=\"\",\"\",(VLOOKUP(A56,'Step 3. Lease Payments'!B:G,6,))),\"0\")","v":""},""]
[{"$f":"IF(A56<'Step 4. Classification'!$E$17,'Output FIN Lease Amort'!A56+1,\"\")","v":""},"","",{"$f":"IF(A57=\"\",\"\",$C$10/'Step 4. Classification'!$E$17)","v":""},"",null,"",{"$f":"IF(A57=\"\",\"\",G57*'Step 3. Lease Payments'!$G$8)","v":""},{"$f":"_xlfn.IFNA(IF(A57=\"\",\"\",(VLOOKUP(A57,'Step 3. Lease Payments'!B:G,6,))),\"0\")","v":""},""]
[{"$f":"IF(A57<'Step 4. Classification'!$E$17,'Output FIN Lease Amort'!A57+1,\"\")","v":""},"","",{"$f":"IF(A58=\"\",\"\",$C$10/'Step 4. Classification'!$E$17)","v":""},"",null,"",{"$f":"IF(A58=\"\",\"\",G58*'Step 3. Lease Payments'!$G$8)","v":""},{"$f":"_xlfn.IFNA(IF(A58=\"\",\"\",(VLOOKUP(A58,'Step 3. Lease Payments'!B:G,6,))),\"0\")","v":""},""]
[{"$f":"IF(A58<'Step 4. Classification'!$E$17,'Output FIN Lease Amort'!A58+1,\"\")","v":""},"","",{"$f":"IF(A59=\"\",\"\",$C$10/'Step 4. Classification'!$E$17)","v":""},"",null,"",{"$f":"IF(A59=\"\",\"\",G59*'Step 3. Lease Payments'!$G$8)","v":""},{"$f":"_xlfn.IFNA(IF(A59=\"\",\"\",(VLOOKUP(A59,'Step 3. Lease Payments'!B:G,6,))),\"0\")","v":""},""]
[{"$f":"IF(A59<'Step 4. Classification'!$E$17,'Output FIN Lease Amort'!A59+1,\"\")","v":""},"","",{"$f":"IF(A60=\"\",\"\",$C$10/'Step 4. Classification'!$E$17)","v":""},"",null,"",{"$f":"IF(A60=\"\",\"\",G60*'Step 3. Lease Payments'!$G$8)","v":""},{"$f":"_xlfn.IFNA(IF(A60=\"\",\"\",(VLOOKUP(A60,'Step 3. Lease Payments'!B:G,6,))),\"0\")","v":""},""]
[{"$f":"IF(A60<'Step 4. Classification'!$E$17,'Output FIN Lease Amort'!A60+1,\"\")","v":""},"","",{"$f":"IF(A61=\"\",\"\",$C$10/'Step 4. Classification'!$E$17)","v":""},"",null,"",{"$f":"IF(A61=\"\",\"\",G61*'Step 3. Lease Payments'!$G$8)","v":""},{"$f":"_xlfn.IFNA(IF(A61=\"\",\"\",(VLOOKUP(A61,'Step 3. Lease Payments'!B:G,6,))),\"0\")","v":""},""]
[{"$f":"IF(A61<'Step 4. Classification'!$E$17,'Output FIN Lease Amort'!A61+1,\"\")","v":""},"","",{"$f":"IF(A62=\"\",\"\",$C$10/'Step 4. Classification'!$E$17)","v":""},"",null,"",{"$f":"IF(A62=\"\",\"\",G62*'Step 3. Lease Payments'!$G$8)","v":""},{"$f":"_xlfn.IFNA(IF(A62=\"\",\"\",(VLOOKUP(A62,'Step 3. Lease Payments'!B:G,6,))),\"0\")","v":""},""]
[{"$f":"IF(A62<'Step 4. Classification'!$E$17,'Output FIN Lease Amort'!A62+1,\"\")","v":""},"","",{"$f":"IF(A63=\"\",\"\",$C$10/'Step 4. Classification'!$E$17)","v":""},"",null,"",{"$f":"IF(A63=\"\",\"\",G63*'Step 3. Lease Payments'!$G$8)","v":""},{"$f":"_xlfn.IFNA(IF(A63=\"\",\"\",(VLOOKUP(A63,'Step 3. Lease Payments'!B:G,6,))),\"0\")","v":""},""]
[{"$f":"IF(A63<'Step 4. Classification'!$E$17,'Output FIN Lease Amort'!A63+1,\"\")","v":""},"","",{"$f":"IF(A64=\"\",\"\",$C$10/'Step 4. Classification'!$E$17)","v":""},"",null,"",{"$f":"IF(A64=\"\",\"\",G64*'Step 3. Lease Payments'!$G$8)","v":""},{"$f":"_xlfn.IFNA(IF(A64=\"\",\"\",(VLOOKUP(A64,'Step 3. Lease Payments'!B:G,6,))),\"0\")","v":""},""]
[{"$f":"IF(A64<'Step 4. Classification'!$E$17,'Output FIN Lease Amort'!A64+1,\"\")","v":""},"","",{"$f":"IF(A65=\"\",\"\",$C$10/'Step 4. Classification'!$E$17)","v":""},"",null,"",{"$f":"IF(A65=\"\",\"\",G65*'Step 3. Lease Payments'!$G$8)","v":""},{"$f":"_xlfn.IFNA(IF(A65=\"\",\"\",(VLOOKUP(A65,'Step 3. Lease Payments'!B:G,6,))),\"0\")","v":""},""]
[{"$f":"IF(A65<'Step 4. Classification'!$E$17,'Output FIN Lease Amort'!A65+1,\"\")","v":""},"","",{"$f":"IF(A66=\"\",\"\",$C$10/'Step 4. Classification'!$E$17)","v":""},"",null,"",{"$f":"IF(A66=\"\",\"\",G66*'Step 3. Lease Payments'!$G$8)","v":""},{"$f":"_xlfn.IFNA(IF(A66=\"\",\"\",(VLOOKUP(A66,'Step 3. Lease Payments'!B:G,6,))),\"0\")","v":""},""]
[{"$f":"IF(A66<'Step 4. Classification'!$E$17,'Output FIN Lease Amort'!A66+1,\"\")","v":""},"","",{"$f":"IF(A67=\"\",\"\",$C$10/'Step 4. Classification'!$E$17)","v":""},"",null,"",{"$f":"IF(A67=\"\",\"\",G67*'Step 3. Lease Payments'!$G$8)","v":""},{"$f":"_xlfn.IFNA(IF(A67=\"\",\"\",(VLOOKUP(A67,'Step 3. Lease Payments'!B:G,6,))),\"0\")","v":""},""]
[{"$f":"IF(A67<'Step 4. Classification'!$E$17,'Output FIN Lease Amort'!A67+1,\"\")","v":""},"","",{"$f":"IF(A68=\"\",\"\",$C$10/'Step 4. Classification'!$E$17)","v":""},"",null,"",{"$f":"IF(A68=\"\",\"\",G68*'Step 3. Lease Payments'!$G$8)","v":""},{"$f":"_xlfn.IFNA(IF(A68=\"\",\"\",(VLOOKUP(A68,'Step 3. Lease Payments'!B:G,6,))),\"0\")","v":""},""]
[{"$f":"IF(A68<'Step 4. Classification'!$E$17,'Output FIN Lease Amort'!A68+1,\"\")","v":""},"","",{"$f":"IF(A69=\"\",\"\",$C$10/'Step 4. Classification'!$E$17)","v":""},"",null,"",{"$f":"IF(A69=\"\",\"\",G69*'Step 3. Lease Payments'!$G$8)","v":""},{"$f":"_xlfn.IFNA(IF(A69=\"\",\"\",(VLOOKUP(A69,'Step 3. Lease Payments'!B:G,6,))),\"0\")","v":""},""]
[{"$f":"IF(A69<'Step 4. Classification'!$E$17,'Output FIN Lease Amort'!A69+1,\"\")","v":""},"","",{"$f":"IF(A70=\"\",\"\",$C$10/'Step 4. Classification'!$E$17)","v":""},"",null,"",{"$f":"IF(A70=\"\",\"\",G70*'Step 3. Lease Payments'!$G$8)","v":""},{"$f":"_xlfn.IFNA(IF(A70=\"\",\"\",(VLOOKUP(A70,'Step 3. Lease Payments'!B:G,6,))),\"0\")","v":""},""]
[{"$f":"IF(A70<'Step 4. Classification'!$E$17,'Output FIN Lease Amort'!A70+1,\"\")","v":""},"","",{"$f":"IF(A71=\"\",\"\",$C$10/'Step 4. Classification'!$E$17)","v":""},"",null,"",{"$f":"IF(A71=\"\",\"\",G71*'Step 3. Lease Payments'!$G$8)","v":""},{"$f":"_xlfn.IFNA(IF(A71=\"\",\"\",(VLOOKUP(A71,'Step 3. Lease Payments'!B:G,6,))),\"0\")","v":""},""]
[{"$f":"IF(A71<'Step 4. Classification'!$E$17,'Output FIN Lease Amort'!A71+1,\"\")","v":""},"","",{"$f":"IF(A72=\"\",\"\",$C$10/'Step 4. Classification'!$E$17)","v":""},"",null,"",{"$f":"IF(A72=\"\",\"\",G72*'Step 3. Lease Payments'!$G$8)","v":""},{"$f":"_xlfn.IFNA(IF(A72=\"\",\"\",(VLOOKUP(A72,'Step 3. Lease Payments'!B:G,6,))),\"0\")","v":""},""]
[{"$f":"IF(A72<'Step 4. Classification'!$E$17,'Output FIN Lease Amort'!A72+1,\"\")","v":""},"","",{"$f":"IF(A73=\"\",\"\",$C$10/'Step 4. Classification'!$E$17)","v":""},"",null,"",{"$f":"IF(A73=\"\",\"\",G73*'Step 3. Lease Payments'!$G$8)","v":""},{"$f":"_xlfn.IFNA(IF(A73=\"\",\"\",(VLOOKUP(A73,'Step 3. Lease Payments'!B:G,6,))),\"0\")","v":""},""]
[{"$f":"IF(A73<'Step 4. Classification'!$E$17,'Output FIN Lease Amort'!A73+1,\"\")","v":""},"","",{"$f":"IF(A74=\"\",\"\",$C$10/'Step 4. Classification'!$E$17)","v":""},"",null,"",{"$f":"IF(A74=\"\",\"\",G74*'Step 3. Lease Payments'!$G$8)","v":""},{"$f":"_xlfn.IFNA(IF(A74=\"\",\"\",(VLOOKUP(A74,'Step 3. Lease Payments'!B:G,6,))),\"0\")","v":""},""]
[{"$f":"IF(A74<'Step 4. Classification'!$E$17,'Output FIN Lease Amort'!A74+1,\"\")","v":""},{"$f":"IF(A75=\"\",\"\",(DATE(YEAR(B74),MONTH(B74)+1,DAY(B74))))","v":""},{"$f":"IF(A75=\"\",\"\",E74)","v":""},{"$f":"IF(A75=\"\",\"\",$C$10/'Step 4. Classification'!$E$17)","v":""},{"$f":"IF(A75=\"\",\"\",C75-D75)","v":""},null,{"$f":"IF(A75=\"\",\"\",J74)","v":""},{"$f":"IF(A75=\"\",\"\",G75*'Step 3. Lease Payments'!$G$8)","v":""},{"$f":"_xlfn.IFNA(IF(A75=\"\",\"\",(VLOOKUP(A75,'Step 3. Lease Payments'!B:G,6,))),\"0\")","v":""},{"$f":"IF(A75=\"\",\"\",G75-I75+H75)","v":""}]
[{"$f":"IF(A75<'Step 4. Classification'!$E$17,'Output FIN Lease Amort'!A75+1,\"\")","v":""},"","",{"$f":"IF(A76=\"\",\"\",$C$10/'Step 4. Classification'!$E$17)","v":""},"",null,"",{"$f":"IF(A76=\"\",\"\",G76*'Step 3. Lease Payments'!$G$8)","v":""},{"$f":"_xlfn.IFNA(IF(A76=\"\",\"\",(VLOOKUP(A76,'Step 3. Lease Payments'!B:G,6,))),\"0\")","v":""},""]
[{"$f":"IF(A76<'Step 4. Classification'!$E$17,'Output FIN Lease Amort'!A76+1,\"\")","v":""},"","",{"$f":"IF(A77=\"\",\"\",$C$10/'Step 4. Classification'!$E$17)","v":""},"",null,"",{"$f":"IF(A77=\"\",\"\",G77*'Step 3. Lease Payments'!$G$8)","v":""},{"$f":"_xlfn.IFNA(IF(A77=\"\",\"\",(VLOOKUP(A77,'Step 3. Lease Payments'!B:G,6,))),\"0\")","v":""},""]
[{"$f":"IF(A77<'Step 4. Classification'!$E$17,'Output FIN Lease Amort'!A77+1,\"\")","v":""},"","",{"$f":"IF(A78=\"\",\"\",$C$10/'Step 4. Classification'!$E$17)","v":""},"",null,"",{"$f":"IF(A78=\"\",\"\",G78*'Step 3. Lease Payments'!$G$8)","v":""},{"$f":"_xlfn.IFNA(IF(A78=\"\",\"\",(VLOOKUP(A78,'Step 3. Lease Payments'!B:G,6,))),\"0\")","v":""},""]
[{"$f":"IF(A78<'Step 4. Classification'!$E$17,'Output FIN Lease Amort'!A78+1,\"\")","v":""},"","",{"$f":"IF(A79=\"\",\"\",$C$10/'Step 4. Classification'!$E$17)","v":""},"",null,"",{"$f":"IF(A79=\"\",\"\",G79*'Step 3. Lease Payments'!$G$8)","v":""},{"$f":"_xlfn.IFNA(IF(A79=\"\",\"\",(VLOOKUP(A79,'Step 3. Lease Payments'!B:G,6,))),\"0\")","v":""},""]
[{"$f":"IF(A79<'Step 4. Classification'!$E$17,'Output FIN Lease Amort'!A79+1,\"\")","v":""},"","",{"$f":"IF(A80=\"\",\"\",$C$10/'Step 4. Classification'!$E$17)","v":""},"",null,"",{"$f":"IF(A80=\"\",\"\",G80*'Step 3. Lease Payments'!$G$8)","v":""},{"$f":"_xlfn.IFNA(IF(A80=\"\",\"\",(VLOOKUP(A80,'Step 3. Lease Payments'!B:G,6,))),\"0\")","v":""},""]
[{"$f":"IF(A80<'Step 4. Classification'!$E$17,'Output FIN Lease Amort'!A80+1,\"\")","v":""},"","",{"$f":"IF(A81=\"\",\"\",$C$10/'Step 4. Classification'!$E$17)","v":""},"",null,"",{"$f":"IF(A81=\"\",\"\",G81*'Step 3. Lease Payments'!$G$8)","v":""},{"$f":"_xlfn.IFNA(IF(A81=\"\",\"\",(VLOOKUP(A81,'Step 3. Lease Payments'!B:G,6,))),\"0\")","v":""},""]
[{"$f":"IF(A81<'Step 4. Classification'!$E$17,'Output FIN Lease Amort'!A81+1,\"\")","v":""},"","",{"$f":"IF(A82=\"\",\"\",$C$10/'Step 4. Classification'!$E$17)","v":""},"",null,"",{"$f":"IF(A82=\"\",\"\",G82*'Step 3. Lease Payments'!$G$8)","v":""},{"$f":"_xlfn.IFNA(IF(A82=\"\",\"\",(VLOOKUP(A82,'Step 3. Lease Payments'!B:G,6,))),\"0\")","v":""},""]
[{"$f":"IF(A82<'Step 4. Classification'!$E$17,'Output FIN Lease Amort'!A82+1,\"\")","v":""},"","",{"$f":"IF(A83=\"\",\"\",$C$10/'Step 4. Classification'!$E$17)","v":""},"",null,"",{"$f":"IF(A83=\"\",\"\",G83*'Step 3. Lease Payments'!$G$8)","v":""},{"$f":"_xlfn.IFNA(IF(A83=\"\",\"\",(VLOOKUP(A83,'Step 3. Lease Payments'!B:G,6,))),\"0\")","v":""},""]
[{"$f":"IF(A83<'Step 4. Classification'!$E$17,'Output FIN Lease Amort'!A83+1,\"\")","v":""},"","",{"$f":"IF(A84=\"\",\"\",$C$10/'Step 4. Classification'!$E$17)","v":""},"",null,"",{"$f":"IF(A84=\"\",\"\",G84*'Step 3. Lease Payments'!$G$8)","v":""},{"$f":"_xlfn.IFNA(IF(A84=\"\",\"\",(VLOOKUP(A84,'Step 3. Lease Payments'!B:G,6,))),\"0\")","v":""},""]
[{"$f":"IF(A84<'Step 4. Classification'!$E$17,'Output FIN Lease Amort'!A84+1,\"\")","v":""},"","",{"$f":"IF(A85=\"\",\"\",$C$10/'Step 4. Classification'!$E$17)","v":""},"",null,"",{"$f":"IF(A85=\"\",\"\",G85*'Step 3. Lease Payments'!$G$8)","v":""},{"$f":"_xlfn.IFNA(IF(A85=\"\",\"\",(VLOOKUP(A85,'Step 3. Lease Payments'!B:G,6,))),\"0\")","v":""},""]
[{"$f":"IF(A85<'Step 4. Classification'!$E$17,'Output FIN Lease Amort'!A85+1,\"\")","v":""},"","",{"$f":"IF(A86=\"\",\"\",$C$10/'Step 4. Classification'!$E$17)","v":""},"",null,"",{"$f":"IF(A86=\"\",\"\",G86*'Step 3. Lease Payments'!$G$8)","v":""},{"$f":"_xlfn.IFNA(IF(A86=\"\",\"\",(VLOOKUP(A86,'Step 3. Lease Payments'!B:G,6,))),\"0\")","v":""},""]
[{"$f":"IF(A86<'Step 4. Classification'!$E$17,'Output FIN Lease Amort'!A86+1,\"\")","v":""},"","",{"$f":"IF(A87=\"\",\"\",$C$10/'Step 4. Classification'!$E$17)","v":""},"",null,"",{"$f":"IF(A87=\"\",\"\",G87*'Step 3. Lease Payments'!$G$8)","v":""},{"$f":"_xlfn.IFNA(IF(A87=\"\",\"\",(VLOOKUP(A87,'Step 3. Lease Payments'!B:G,6,))),\"0\")","v":""},""]
[{"$f":"IF(A87<'Step 4. Classification'!$E$17,'Output FIN Lease Amort'!A87+1,\"\")","v":""},"","",{"$f":"IF(A88=\"\",\"\",$C$10/'Step 4. Classification'!$E$17)","v":""},"",null,"",{"$f":"IF(A88=\"\",\"\",G88*'Step 3. Lease Payments'!$G$8)","v":""},{"$f":"_xlfn.IFNA(IF(A88=\"\",\"\",(VLOOKUP(A88,'Step 3. Lease Payments'!B:G,6,))),\"0\")","v":""},""]
[{"$f":"IF(A88<'Step 4. Classification'!$E$17,'Output FIN Lease Amort'!A88+1,\"\")","v":""},"","",{"$f":"IF(A89=\"\",\"\",$C$10/'Step 4. Classification'!$E$17)","v":""},"",null,"",{"$f":"IF(A89=\"\",\"\",G89*'Step 3. Lease Payments'!$G$8)","v":""},{"$f":"_xlfn.IFNA(IF(A89=\"\",\"\",(VLOOKUP(A89,'Step 3. Lease Payments'!B:G,6,))),\"0\")","v":""},""]
[{"$f":"IF(A89<'Step 4. Classification'!$E$17,'Output FIN Lease Amort'!A89+1,\"\")","v":""},"","",{"$f":"IF(A90=\"\",\"\",$C$10/'Step 4. Classification'!$E$17)","v":""},"",null,"",{"$f":"IF(A90=\"\",\"\",G90*'Step 3. Lease Payments'!$G$8)","v":""},{"$f":"_xlfn.IFNA(IF(A90=\"\",\"\",(VLOOKUP(A90,'Step 3. Lease Payments'!B:G,6,))),\"0\")","v":""},""]
[{"$f":"IF(A90<'Step 4. Classification'!$E$17,'Output FIN Lease Amort'!A90+1,\"\")","v":""},"","",{"$f":"IF(A91=\"\",\"\",$C$10/'Step 4. Classification'!$E$17)","v":""},"",null,"",{"$f":"IF(A91=\"\",\"\",G91*'Step 3. Lease Payments'!$G$8)","v":""},{"$f":"_xlfn.IFNA(IF(A91=\"\",\"\",(VLOOKUP(A91,'Step 3. Lease Payments'!B:G,6,))),\"0\")","v":""},""]
[{"$f":"IF(A91<'Step 4. Classification'!$E$17,'Output FIN Lease Amort'!A91+1,\"\")","v":""},"","",{"$f":"IF(A92=\"\",\"\",$C$10/'Step 4. Classification'!$E$17)","v":""},"",null,"",{"$f":"IF(A92=\"\",\"\",G92*'Step 3. Lease Payments'!$G$8)","v":""},{"$f":"_xlfn.IFNA(IF(A92=\"\",\"\",(VLOOKUP(A92,'Step 3. Lease Payments'!B:G,6,))),\"0\")","v":""},""]
[{"$f":"IF(A92<'Step 4. Classification'!$E$17,'Output FIN Lease Amort'!A92+1,\"\")","v":""},"","",{"$f":"IF(A93=\"\",\"\",$C$10/'Step 4. Classification'!$E$17)","v":""},"",null,"",{"$f":"IF(A93=\"\",\"\",G93*'Step 3. Lease Payments'!$G$8)","v":""},{"$f":"_xlfn.IFNA(IF(A93=\"\",\"\",(VLOOKUP(A93,'Step 3. Lease Payments'!B:G,6,))),\"0\")","v":""},""]
[{"$f":"IF(A93<'Step 4. Classification'!$E$17,'Output FIN Lease Amort'!A93+1,\"\")","v":""},"","",{"$f":"IF(A94=\"\",\"\",$C$10/'Step 4. Classification'!$E$17)","v":""},"",null,"",{"$f":"IF(A94=\"\",\"\",G94*'Step 3. Lease Payments'!$G$8)","v":""},{"$f":"_xlfn.IFNA(IF(A94=\"\",\"\",(VLOOKUP(A94,'Step 3. Lease Payments'!B:G,6,))),\"0\")","v":""},""]
[{"$f":"IF(A94<'Step 4. Classification'!$E$17,'Output FIN Lease Amort'!A94+1,\"\")","v":""},"","",{"$f":"IF(A95=\"\",\"\",$C$10/'Step 4. Classification'!$E$17)","v":""},"",null,"",{"$f":"IF(A95=\"\",\"\",G95*'Step 3. Lease Payments'!$G$8)","v":""},{"$f":"_xlfn.IFNA(IF(A95=\"\",\"\",(VLOOKUP(A95,'Step 3. Lease Payments'!B:G,6,))),\"0\")","v":""},""]
[{"$f":"IF(A95<'Step 4. Classification'!$E$17,'Output FIN Lease Amort'!A95+1,\"\")","v":""},"","",{"$f":"IF(A96=\"\",\"\",$C$10/'Step 4. Classification'!$E$17)","v":""},"",null,"",{"$f":"IF(A96=\"\",\"\",G96*'Step 3. Lease Payments'!$G$8)","v":""},{"$f":"_xlfn.IFNA(IF(A96=\"\",\"\",(VLOOKUP(A96,'Step 3. Lease Payments'!B:G,6,))),\"0\")","v":""},""]
[{"$f":"IF(A96<'Step 4. Classification'!$E$17,'Output FIN Lease Amort'!A96+1,\"\")","v":""},"","",{"$f":"IF(A97=\"\",\"\",$C$10/'Step 4. Classification'!$E$17)","v":""},"",null,"",{"$f":"IF(A97=\"\",\"\",G97*'Step 3. Lease Payments'!$G$8)","v":""},{"$f":"_xlfn.IFNA(IF(A97=\"\",\"\",(VLOOKUP(A97,'Step 3. Lease Payments'!B:G,6,))),\"0\")","v":""},""]
[{"$f":"IF(A97<'Step 4. Classification'!$E$17,'Output FIN Lease Amort'!A97+1,\"\")","v":""},"","",{"$f":"IF(A98=\"\",\"\",$C$10/'Step 4. Classification'!$E$17)","v":""},"",null,"",{"$f":"IF(A98=\"\",\"\",G98*'Step 3. Lease Payments'!$G$8)","v":""},{"$f":"_xlfn.IFNA(IF(A98=\"\",\"\",(VLOOKUP(A98,'Step 3. Lease Payments'!B:G,6,))),\"0\")","v":""},""]
[{"$f":"IF(A98<'Step 4. Classification'!$E$17,'Output FIN Lease Amort'!A98+1,\"\")","v":""},"","",{"$f":"IF(A99=\"\",\"\",$C$10/'Step 4. Classification'!$E$17)","v":""},"",null,"",{"$f":"IF(A99=\"\",\"\",G99*'Step 3. Lease Payments'!$G$8)","v":""},{"$f":"_xlfn.IFNA(IF(A99=\"\",\"\",(VLOOKUP(A99,'Step 3. Lease Payments'!B:G,6,))),\"0\")","v":""},""]
[{"$f":"IF(A99<'Step 4. Classification'!$E$17,'Output FIN Lease Amort'!A99+1,\"\")","v":""},"","",{"$f":"IF(A100=\"\",\"\",$C$10/'Step 4. Classification'!$E$17)","v":""},"",null,"",{"$f":"IF(A100=\"\",\"\",G100*'Step 3. Lease Payments'!$G$8)","v":""},{"$f":"_xlfn.IFNA(IF(A100=\"\",\"\",(VLOOKUP(A100,'Step 3. Lease Payments'!B:G,6,))),\"0\")","v":""},""]
[{"$f":"IF(A100<'Step 4. Classification'!$E$17,'Output FIN Lease Amort'!A100+1,\"\")","v":""},"","",{"$f":"IF(A101=\"\",\"\",$C$10/'Step 4. Classification'!$E$17)","v":""},"",null,"",{"$f":"IF(A101=\"\",\"\",G101*'Step 3. Lease Payments'!$G$8)","v":""},{"$f":"_xlfn.IFNA(IF(A101=\"\",\"\",(VLOOKUP(A101,'Step 3. Lease Payments'!B:G,6,))),\"0\")","v":""},""]
[{"$f":"IF(A101<'Step 4. Classification'!$E$17,'Output FIN Lease Amort'!A101+1,\"\")","v":""},"","",{"$f":"IF(A102=\"\",\"\",$C$10/'Step 4. Classification'!$E$17)","v":""},"",null,"",{"$f":"IF(A102=\"\",\"\",G102*'Step 3. Lease Payments'!$G$8)","v":""},{"$f":"_xlfn.IFNA(IF(A102=\"\",\"\",(VLOOKUP(A102,'Step 3. Lease Payments'!B:G,6,))),\"0\")","v":""},""]
[{"$f":"IF(A102<'Step 4. Classification'!$E$17,'Output FIN Lease Amort'!A102+1,\"\")","v":""},"","",{"$f":"IF(A103=\"\",\"\",$C$10/'Step 4. Classification'!$E$17)","v":""},"",null,"",{"$f":"IF(A103=\"\",\"\",G103*'Step 3. Lease Payments'!$G$8)","v":""},{"$f":"_xlfn.IFNA(IF(A103=\"\",\"\",(VLOOKUP(A103,'Step 3. Lease Payments'!B:G,6,))),\"0\")","v":""},""]
[{"$f":"IF(A103<'Step 4. Classification'!$E$17,'Output FIN Lease Amort'!A103+1,\"\")","v":""},"","",{"$f":"IF(A104=\"\",\"\",$C$10/'Step 4. Classification'!$E$17)","v":""},"",null,"",{"$f":"IF(A104=\"\",\"\",G104*'Step 3. Lease Payments'!$G$8)","v":""},{"$f":"_xlfn.IFNA(IF(A104=\"\",\"\",(VLOOKUP(A104,'Step 3. Lease Payments'!B:G,6,))),\"0\")","v":""},""]
[{"$f":"IF(A104<'Step 4. Classification'!$E$17,'Output FIN Lease Amort'!A104+1,\"\")","v":""},"","",{"$f":"IF(A105=\"\",\"\",$C$10/'Step 4. Classification'!$E$17)","v":""},"",null,"",{"$f":"IF(A105=\"\",\"\",G105*'Step 3. Lease Payments'!$G$8)","v":""},{"$f":"_xlfn.IFNA(IF(A105=\"\",\"\",(VLOOKUP(A105,'Step 3. Lease Payments'!B:G,6,))),\"0\")","v":""},""]
[{"$f":"IF(A105<'Step 4. Classification'!$E$17,'Output FIN Lease Amort'!A105+1,\"\")","v":""},"","",{"$f":"IF(A106=\"\",\"\",$C$10/'Step 4. Classification'!$E$17)","v":""},"",null,"",{"$f":"IF(A106=\"\",\"\",G106*'Step 3. Lease Payments'!$G$8)","v":""},{"$f":"_xlfn.IFNA(IF(A106=\"\",\"\",(VLOOKUP(A106,'Step 3. Lease Payments'!B:G,6,))),\"0\")","v":""},""]
[{"$f":"IF(A106<'Step 4. Classification'!$E$17,'Output FIN Lease Amort'!A106+1,\"\")","v":""},"","",{"$f":"IF(A107=\"\",\"\",$C$10/'Step 4. Classification'!$E$17)","v":""},"",null,"",{"$f":"IF(A107=\"\",\"\",G107*'Step 3. Lease Payments'!$G$8)","v":""},{"$f":"_xlfn.IFNA(IF(A107=\"\",\"\",(VLOOKUP(A107,'Step 3. Lease Payments'!B:G,6,))),\"0\")","v":""},""]
[{"$f":"IF(A107<'Step 4. Classification'!$E$17,'Output FIN Lease Amort'!A107+1,\"\")","v":""},"","",{"$f":"IF(A108=\"\",\"\",$C$10/'Step 4. Classification'!$E$17)","v":""},"",null,"",{"$f":"IF(A108=\"\",\"\",G108*'Step 3. Lease Payments'!$G$8)","v":""},{"$f":"_xlfn.IFNA(IF(A108=\"\",\"\",(VLOOKUP(A108,'Step 3. Lease Payments'!B:G,6,))),\"0\")","v":""},""]
[{"$f":"IF(A108<'Step 4. Classification'!$E$17,'Output FIN Lease Amort'!A108+1,\"\")","v":""},"","",{"$f":"IF(A109=\"\",\"\",$C$10/'Step 4. Classification'!$E$17)","v":""},"",null,"",{"$f":"IF(A109=\"\",\"\",G109*'Step 3. Lease Payments'!$G$8)","v":""},{"$f":"_xlfn.IFNA(IF(A109=\"\",\"\",(VLOOKUP(A109,'Step 3. Lease Payments'!B:G,6,))),\"0\")","v":""},""]
[{"$f":"IF(A109<'Step 4. Classification'!$E$17,'Output FIN Lease Amort'!A109+1,\"\")","v":""},"","",{"$f":"IF(A110=\"\",\"\",$C$10/'Step 4. Classification'!$E$17)","v":""},"",null,"",{"$f":"IF(A110=\"\",\"\",G110*'Step 3. Lease Payments'!$G$8)","v":""},{"$f":"_xlfn.IFNA(IF(A110=\"\",\"\",(VLOOKUP(A110,'Step 3. Lease Payments'!B:G,6,))),\"0\")","v":""},""]
[{"$f":"IF(A110<'Step 4. Classification'!$E$17,'Output FIN Lease Amort'!A110+1,\"\")","v":""},"","",{"$f":"IF(A111=\"\",\"\",$C$10/'Step 4. Classification'!$E$17)","v":""},"",null,"",{"$f":"IF(A111=\"\",\"\",G111*'Step 3. Lease Payments'!$G$8)","v":""},{"$f":"_xlfn.IFNA(IF(A111=\"\",\"\",(VLOOKUP(A111,'Step 3. Lease Payments'!B:G,6,))),\"0\")","v":""},""]
[{"$f":"IF(A111<'Step 4. Classification'!$E$17,'Output FIN Lease Amort'!A111+1,\"\")","v":""},"","",{"$f":"IF(A112=\"\",\"\",$C$10/'Step 4. Classification'!$E$17)","v":""},"",null,"",{"$f":"IF(A112=\"\",\"\",G112*'Step 3. Lease Payments'!$G$8)","v":""},{"$f":"_xlfn.IFNA(IF(A112=\"\",\"\",(VLOOKUP(A112,'Step 3. Lease Payments'!B:G,6,))),\"0\")","v":""},""]
[{"$f":"IF(A112<'Step 4. Classification'!$E$17,'Output FIN Lease Amort'!A112+1,\"\")","v":""},"","",{"$f":"IF(A113=\"\",\"\",$C$10/'Step 4. Classification'!$E$17)","v":""},"",null,"",{"$f":"IF(A113=\"\",\"\",G113*'Step 3. Lease Payments'!$G$8)","v":""},{"$f":"_xlfn.IFNA(IF(A113=\"\",\"\",(VLOOKUP(A113,'Step 3. Lease Payments'!B:G,6,))),\"0\")","v":""},""]
[{"$f":"IF(A113<'Step 4. Classification'!$E$17,'Output FIN Lease Amort'!A113+1,\"\")","v":""},"","",{"$f":"IF(A114=\"\",\"\",$C$10/'Step 4. Classification'!$E$17)","v":""},"",null,"",{"$f":"IF(A114=\"\",\"\",G114*'Step 3. Lease Payments'!$G$8)","v":""},{"$f":"_xlfn.IFNA(IF(A114=\"\",\"\",(VLOOKUP(A114,'Step 3. Lease Payments'!B:G,6,))),\"0\")","v":""},""]
[{"$f":"IF(A114<'Step 4. Classification'!$E$17,'Output FIN Lease Amort'!A114+1,\"\")","v":""},"","",{"$f":"IF(A115=\"\",\"\",$C$10/'Step 4. Classification'!$E$17)","v":""},"",null,"",{"$f":"IF(A115=\"\",\"\",G115*'Step 3. Lease Payments'!$G$8)","v":""},{"$f":"_xlfn.IFNA(IF(A115=\"\",\"\",(VLOOKUP(A115,'Step 3. Lease Payments'!B:G,6,))),\"0\")","v":""},""]
[{"$f":"IF(A115<'Step 4. Classification'!$E$17,'Output FIN Lease Amort'!A115+1,\"\")","v":""},"","",{"$f":"IF(A116=\"\",\"\",$C$10/'Step 4. Classification'!$E$17)","v":""},"",null,"",{"$f":"IF(A116=\"\",\"\",G116*'Step 3. Lease Payments'!$G$8)","v":""},{"$f":"_xlfn.IFNA(IF(A116=\"\",\"\",(VLOOKUP(A116,'Step 3. Lease Payments'!B:G,6,))),\"0\")","v":""},""]
[{"$f":"IF(A116<'Step 4. Classification'!$E$17,'Output FIN Lease Amort'!A116+1,\"\")","v":""},"","",{"$f":"IF(A117=\"\",\"\",$C$10/'Step 4. Classification'!$E$17)","v":""},"",null,"",{"$f":"IF(A117=\"\",\"\",G117*'Step 3. Lease Payments'!$G$8)","v":""},{"$f":"_xlfn.IFNA(IF(A117=\"\",\"\",(VLOOKUP(A117,'Step 3. Lease Payments'!B:G,6,))),\"0\")","v":""},""]
[{"$f":"IF(A117<'Step 4. Classification'!$E$17,'Output FIN Lease Amort'!A117+1,\"\")","v":""},"","",{"$f":"IF(A118=\"\",\"\",$C$10/'Step 4. Classification'!$E$17)","v":""},"",null,"",{"$f":"IF(A118=\"\",\"\",G118*'Step 3. Lease Payments'!$G$8)","v":""},{"$f":"_xlfn.IFNA(IF(A118=\"\",\"\",(VLOOKUP(A118,'Step 3. Lease Payments'!B:G,6,))),\"0\")","v":""},""]
[{"$f":"IF(A118<'Step 4. Classification'!$E$17,'Output FIN Lease Amort'!A118+1,\"\")","v":""},"","",{"$f":"IF(A119=\"\",\"\",$C$10/'Step 4. Classification'!$E$17)","v":""},"",null,"",{"$f":"IF(A119=\"\",\"\",G119*'Step 3. Lease Payments'!$G$8)","v":""},{"$f":"_xlfn.IFNA(IF(A119=\"\",\"\",(VLOOKUP(A119,'Step 3. Lease Payments'!B:G,6,))),\"0\")","v":""},""]
[{"$f":"IF(A119<'Step 4. Classification'!$E$17,'Output FIN Lease Amort'!A119+1,\"\")","v":""},"","",{"$f":"IF(A120=\"\",\"\",$C$10/'Step 4. Classification'!$E$17)","v":""},"",null,"",{"$f":"IF(A120=\"\",\"\",G120*'Step 3. Lease Payments'!$G$8)","v":""},{"$f":"_xlfn.IFNA(IF(A120=\"\",\"\",(VLOOKUP(A120,'Step 3. Lease Payments'!B:G,6,))),\"0\")","v":""},""]
[{"$f":"IF(A120<'Step 4. Classification'!$E$17,'Output FIN Lease Amort'!A120+1,\"\")","v":""},"","",{"$f":"IF(A121=\"\",\"\",$C$10/'Step 4. Classification'!$E$17)","v":""},"",null,"",{"$f":"IF(A121=\"\",\"\",G121*'Step 3. Lease Payments'!$G$8)","v":""},{"$f":"_xlfn.IFNA(IF(A121=\"\",\"\",(VLOOKUP(A121,'Step 3. Lease Payments'!B:G,6,))),\"0\")","v":""},""]
[{"$f":"IF(A121<'Step 4. Classification'!$E$17,'Output FIN Lease Amort'!A121+1,\"\")","v":""},"","",{"$f":"IF(A122=\"\",\"\",$C$10/'Step 4. Classification'!$E$17)","v":""},"",null,"",{"$f":"IF(A122=\"\",\"\",G122*'Step 3. Lease Payments'!$G$8)","v":""},{"$f":"_xlfn.IFNA(IF(A122=\"\",\"\",(VLOOKUP(A122,'Step 3. Lease Payments'!B:G,6,))),\"0\")","v":""},""]
[{"$f":"IF(A122<'Step 4. Classification'!$E$17,'Output FIN Lease Amort'!A122+1,\"\")","v":""},"","",{"$f":"IF(A123=\"\",\"\",$C$10/'Step 4. Classification'!$E$17)","v":""},"",null,"",{"$f":"IF(A123=\"\",\"\",G123*'Step 3. Lease Payments'!$G$8)","v":""},{"$f":"_xlfn.IFNA(IF(A123=\"\",\"\",(VLOOKUP(A123,'Step 3. Lease Payments'!B:G,6,))),\"0\")","v":""},""]
[{"$f":"IF(A123<'Step 4. Classification'!$E$17,'Output FIN Lease Amort'!A123+1,\"\")","v":""},"","",{"$f":"IF(A124=\"\",\"\",$C$10/'Step 4. Classification'!$E$17)","v":""},"",null,"",{"$f":"IF(A124=\"\",\"\",G124*'Step 3. Lease Payments'!$G$8)","v":""},{"$f":"_xlfn.IFNA(IF(A124=\"\",\"\",(VLOOKUP(A124,'Step 3. Lease Payments'!B:G,6,))),\"0\")","v":""},""]
[{"$f":"IF(A124<'Step 4. Classification'!$E$17,'Output FIN Lease Amort'!A124+1,\"\")","v":""},"","",{"$f":"IF(A125=\"\",\"\",$C$10/'Step 4. Classification'!$E$17)","v":""},"",null,"",{"$f":"IF(A125=\"\",\"\",G125*'Step 3. Lease Payments'!$G$8)","v":""},{"$f":"_xlfn.IFNA(IF(A125=\"\",\"\",(VLOOKUP(A125,'Step 3. Lease Payments'!B:G,6,))),\"0\")","v":""},""]
[{"$f":"IF(A125<'Step 4. Classification'!$E$17,'Output FIN Lease Amort'!A125+1,\"\")","v":""},"","",{"$f":"IF(A126=\"\",\"\",$C$10/'Step 4. Classification'!$E$17)","v":""},"",null,"",{"$f":"IF(A126=\"\",\"\",G126*'Step 3. Lease Payments'!$G$8)","v":""},{"$f":"_xlfn.IFNA(IF(A126=\"\",\"\",(VLOOKUP(A126,'Step 3. Lease Payments'!B:G,6,))),\"0\")","v":""},""]
[{"$f":"IF(A126<'Step 4. Classification'!$E$17,'Output FIN Lease Amort'!A126+1,\"\")","v":""},"","",{"$f":"IF(A127=\"\",\"\",$C$10/'Step 4. Classification'!$E$17)","v":""},"",null,"",{"$f":"IF(A127=\"\",\"\",G127*'Step 3. Lease Payments'!$G$8)","v":""},{"$f":"_xlfn.IFNA(IF(A127=\"\",\"\",(VLOOKUP(A127,'Step 3. Lease Payments'!B:G,6,))),\"0\")","v":""},""]
[{"$f":"IF(A127<'Step 4. Classification'!$E$17,'Output FIN Lease Amort'!A127+1,\"\")","v":""},"","",{"$f":"IF(A128=\"\",\"\",$C$10/'Step 4. Classification'!$E$17)","v":""},"",null,"",{"$f":"IF(A128=\"\",\"\",G128*'Step 3. Lease Payments'!$G$8)","v":""},{"$f":"_xlfn.IFNA(IF(A128=\"\",\"\",(VLOOKUP(A128,'Step 3. Lease Payments'!B:G,6,))),\"0\")","v":""},""]
[{"$f":"IF(A128<'Step 4. Classification'!$E$17,'Output FIN Lease Amort'!A128+1,\"\")","v":""},"","",{"$f":"IF(A129=\"\",\"\",$C$10/'Step 4. Classification'!$E$17)","v":""},"",null,"",{"$f":"IF(A129=\"\",\"\",G129*'Step 3. Lease Payments'!$G$8)","v":""},{"$f":"_xlfn.IFNA(IF(A129=\"\",\"\",(VLOOKUP(A129,'Step 3. Lease Payments'!B:G,6,))),\"0\")","v":""},""]
[{"$f":"IF(A129<'Step 4. Classification'!$E$17,'Output FIN Lease Amort'!A129+1,\"\")","v":""},"","",{"$f":"IF(A130=\"\",\"\",$C$10/'Step 4. Classification'!$E$17)","v":""},"",null,"",{"$f":"IF(A130=\"\",\"\",G130*'Step 3. Lease Payments'!$G$8)","v":""},{"$f":"_xlfn.IFNA(IF(A130=\"\",\"\",(VLOOKUP(A130,'Step 3. Lease Payments'!B:G,6,))),\"0\")","v":""},""]
[{"$f":"IF(A130<'Step 4. Classification'!$E$17,'Output FIN Lease Amort'!A130+1,\"\")","v":""},"","",{"$f":"IF(A131=\"\",\"\",$C$10/'Step 4. Classification'!$E$17)","v":""},"",null,"",{"$f":"IF(A131=\"\",\"\",G131*'Step 3. Lease Payments'!$G$8)","v":""},{"$f":"_xlfn.IFNA(IF(A131=\"\",\"\",(VLOOKUP(A131,'Step 3. Lease Payments'!B:G,6,))),\"0\")","v":""},""]
[{"$f":"IF(A131<'Step 4. Classification'!$E$17,'Output FIN Lease Amort'!A131+1,\"\")","v":""},"","",{"$f":"IF(A132=\"\",\"\",$C$10/'Step 4. Classification'!$E$17)","v":""},"",null,"",{"$f":"IF(A132=\"\",\"\",G132*'Step 3. Lease Payments'!$G$8)","v":""},{"$f":"_xlfn.IFNA(IF(A132=\"\",\"\",(VLOOKUP(A132,'Step 3. Lease Payments'!B:G,6,))),\"0\")","v":""},""]
[{"$f":"IF(A132<'Step 4. Classification'!$E$17,'Output FIN Lease Amort'!A132+1,\"\")","v":""},"","",{"$f":"IF(A133=\"\",\"\",$C$10/'Step 4. Classification'!$E$17)","v":""},"",null,"",{"$f":"IF(A133=\"\",\"\",G133*'Step 3. Lease Payments'!$G$8)","v":""},{"$f":"_xlfn.IFNA(IF(A133=\"\",\"\",(VLOOKUP(A133,'Step 3. Lease Payments'!B:G,6,))),\"0\")","v":""},""]
[{"$f":"IF(A133<'Step 4. Classification'!$E$17,'Output FIN Lease Amort'!A133+1,\"\")","v":""},"","",{"$f":"IF(A134=\"\",\"\",$C$10/'Step 4. Classification'!$E$17)","v":""},"",null,"",{"$f":"IF(A134=\"\",\"\",G134*'Step 3. Lease Payments'!$G$8)","v":""},{"$f":"_xlfn.IFNA(IF(A134=\"\",\"\",(VLOOKUP(A134,'Step 3. Lease Payments'!B:G,6,))),\"0\")","v":""},""]
[{"$f":"IF(A134<'Step 4. Classification'!$E$17,'Output FIN Lease Amort'!A134+1,\"\")","v":""},"","",{"$f":"IF(A135=\"\",\"\",$C$10/'Step 4. Classification'!$E$17)","v":""},"",null,"",{"$f":"IF(A135=\"\",\"\",G135*'Step 3. Lease Payments'!$G$8)","v":""},{"$f":"_xlfn.IFNA(IF(A135=\"\",\"\",(VLOOKUP(A135,'Step 3. Lease Payments'!B:G,6,))),\"0\")","v":""},""]
[{"$f":"IF(A135<'Step 4. Classification'!$E$17,'Output FIN Lease Amort'!A135+1,\"\")","v":""},"","",{"$f":"IF(A136=\"\",\"\",$C$10/'Step 4. Classification'!$E$17)","v":""},"",null,"",{"$f":"IF(A136=\"\",\"\",G136*'Step 3. Lease Payments'!$G$8)","v":""},{"$f":"_xlfn.IFNA(IF(A136=\"\",\"\",(VLOOKUP(A136,'Step 3. Lease Payments'!B:G,6,))),\"0\")","v":""},""]
[{"$f":"IF(A136<'Step 4. Classification'!$E$17,'Output FIN Lease Amort'!A136+1,\"\")","v":""},"","",{"$f":"IF(A137=\"\",\"\",$C$10/'Step 4. Classification'!$E$17)","v":""},"",null,"",{"$f":"IF(A137=\"\",\"\",G137*'Step 3. Lease Payments'!$G$8)","v":""},{"$f":"_xlfn.IFNA(IF(A137=\"\",\"\",(VLOOKUP(A137,'Step 3. Lease Payments'!B:G,6,))),\"0\")","v":""},""]
[{"$f":"IF(A137<'Step 4. Classification'!$E$17,'Output FIN Lease Amort'!A137+1,\"\")","v":""},"","",{"$f":"IF(A138=\"\",\"\",$C$10/'Step 4. Classification'!$E$17)","v":""},"",null,"",{"$f":"IF(A138=\"\",\"\",G138*'Step 3. Lease Payments'!$G$8)","v":""},{"$f":"_xlfn.IFNA(IF(A138=\"\",\"\",(VLOOKUP(A138,'Step 3. Lease Payments'!B:G,6,))),\"0\")","v":""},""]
[{"$f":"IF(A138<'Step 4. Classification'!$E$17,'Output FIN Lease Amort'!A138+1,\"\")","v":""},{"$f":"IF(A139=\"\",\"\",(DATE(YEAR(B138),MONTH(B138)+1,DAY(B138))))","v":""},{"$f":"IF(A139=\"\",\"\",E138)","v":""},{"$f":"IF(A139=\"\",\"\",$C$10/'Step 4. Classification'!$E$17)","v":""},{"$f":"IF(A139=\"\",\"\",C139-D139)","v":""},null,{"$f":"IF(A139=\"\",\"\",J138)","v":""},{"$f":"IF(A139=\"\",\"\",G139*'Step 3. Lease Payments'!$G$8)","v":""},{"$f":"_xlfn.IFNA(IF(A139=\"\",\"\",(VLOOKUP(A139,'Step 3. Lease Payments'!B:G,6,))),\"0\")","v":""},{"$f":"IF(A139=\"\",\"\",G139-I139+H139)","v":""}]
[{"$f":"IF(A139<'Step 4. Classification'!$E$17,'Output FIN Lease Amort'!A139+1,\"\")","v":""},"","",{"$f":"IF(A140=\"\",\"\",$C$10/'Step 4. Classification'!$E$17)","v":""},"",null,"",{"$f":"IF(A140=\"\",\"\",G140*'Step 3. Lease Payments'!$G$8)","v":""},{"$f":"_xlfn.IFNA(IF(A140=\"\",\"\",(VLOOKUP(A140,'Step 3. Lease Payments'!B:G,6,))),\"0\")","v":""},""]
[{"$f":"IF(A140<'Step 4. Classification'!$E$17,'Output FIN Lease Amort'!A140+1,\"\")","v":""},"","",{"$f":"IF(A141=\"\",\"\",$C$10/'Step 4. Classification'!$E$17)","v":""},"",null,"",{"$f":"IF(A141=\"\",\"\",G141*'Step 3. Lease Payments'!$G$8)","v":""},{"$f":"_xlfn.IFNA(IF(A141=\"\",\"\",(VLOOKUP(A141,'Step 3. Lease Payments'!B:G,6,))),\"0\")","v":""},""]
[{"$f":"IF(A141<'Step 4. Classification'!$E$17,'Output FIN Lease Amort'!A141+1,\"\")","v":""},"","",{"$f":"IF(A142=\"\",\"\",$C$10/'Step 4. Classification'!$E$17)","v":""},"",null,"",{"$f":"IF(A142=\"\",\"\",G142*'Step 3. Lease Payments'!$G$8)","v":""},{"$f":"_xlfn.IFNA(IF(A142=\"\",\"\",(VLOOKUP(A142,'Step 3. Lease Payments'!B:G,6,))),\"0\")","v":""},""]
[{"$f":"IF(A142<'Step 4. Classification'!$E$17,'Output FIN Lease Amort'!A142+1,\"\")","v":""},"","",{"$f":"IF(A143=\"\",\"\",$C$10/'Step 4. Classification'!$E$17)","v":""},"",null,"",{"$f":"IF(A143=\"\",\"\",G143*'Step 3. Lease Payments'!$G$8)","v":""},{"$f":"_xlfn.IFNA(IF(A143=\"\",\"\",(VLOOKUP(A143,'Step 3. Lease Payments'!B:G,6,))),\"0\")","v":""},""]
[{"$f":"IF(A143<'Step 4. Classification'!$E$17,'Output FIN Lease Amort'!A143+1,\"\")","v":""},"","",{"$f":"IF(A144=\"\",\"\",$C$10/'Step 4. Classification'!$E$17)","v":""},"",null,"",{"$f":"IF(A144=\"\",\"\",G144*'Step 3. Lease Payments'!$G$8)","v":""},{"$f":"_xlfn.IFNA(IF(A144=\"\",\"\",(VLOOKUP(A144,'Step 3. Lease Payments'!B:G,6,))),\"0\")","v":""},""]
[{"$f":"IF(A144<'Step 4. Classification'!$E$17,'Output FIN Lease Amort'!A144+1,\"\")","v":""},"","",{"$f":"IF(A145=\"\",\"\",$C$10/'Step 4. Classification'!$E$17)","v":""},"",null,"",{"$f":"IF(A145=\"\",\"\",G145*'Step 3. Lease Payments'!$G$8)","v":""},{"$f":"_xlfn.IFNA(IF(A145=\"\",\"\",(VLOOKUP(A145,'Step 3. Lease Payments'!B:G,6,))),\"0\")","v":""},""]
[{"$f":"IF(A145<'Step 4. Classification'!$E$17,'Output FIN Lease Amort'!A145+1,\"\")","v":""},"","",{"$f":"IF(A146=\"\",\"\",$C$10/'Step 4. Classification'!$E$17)","v":""},"",null,"",{"$f":"IF(A146=\"\",\"\",G146*'Step 3. Lease Payments'!$G$8)","v":""},{"$f":"_xlfn.IFNA(IF(A146=\"\",\"\",(VLOOKUP(A146,'Step 3. Lease Payments'!B:G,6,))),\"0\")","v":""},""]
[{"$f":"IF(A146<'Step 4. Classification'!$E$17,'Output FIN Lease Amort'!A146+1,\"\")","v":""},"","",{"$f":"IF(A147=\"\",\"\",$C$10/'Step 4. Classification'!$E$17)","v":""},"",null,"",{"$f":"IF(A147=\"\",\"\",G147*'Step 3. Lease Payments'!$G$8)","v":""},{"$f":"_xlfn.IFNA(IF(A147=\"\",\"\",(VLOOKUP(A147,'Step 3. Lease Payments'!B:G,6,))),\"0\")","v":""},""]
[{"$f":"IF(A147<'Step 4. Classification'!$E$17,'Output FIN Lease Amort'!A147+1,\"\")","v":""},"","",{"$f":"IF(A148=\"\",\"\",$C$10/'Step 4. Classification'!$E$17)","v":""},"",null,"",{"$f":"IF(A148=\"\",\"\",G148*'Step 3. Lease Payments'!$G$8)","v":""},{"$f":"_xlfn.IFNA(IF(A148=\"\",\"\",(VLOOKUP(A148,'Step 3. Lease Payments'!B:G,6,))),\"0\")","v":""},""]
[{"$f":"IF(A148<'Step 4. Classification'!$E$17,'Output FIN Lease Amort'!A148+1,\"\")","v":""},"","",{"$f":"IF(A149=\"\",\"\",$C$10/'Step 4. Classification'!$E$17)","v":""},"",null,"",{"$f":"IF(A149=\"\",\"\",G149*'Step 3. Lease Payments'!$G$8)","v":""},{"$f":"_xlfn.IFNA(IF(A149=\"\",\"\",(VLOOKUP(A149,'Step 3. Lease Payments'!B:G,6,))),\"0\")","v":""},""]
[{"$f":"IF(A149<'Step 4. Classification'!$E$17,'Output FIN Lease Amort'!A149+1,\"\")","v":""},"","",{"$f":"IF(A150=\"\",\"\",$C$10/'Step 4. Classification'!$E$17)","v":""},"",null,"",{"$f":"IF(A150=\"\",\"\",G150*'Step 3. Lease Payments'!$G$8)","v":""},{"$f":"_xlfn.IFNA(IF(A150=\"\",\"\",(VLOOKUP(A150,'Step 3. Lease Payments'!B:G,6,))),\"0\")","v":""},""]
[{"$f":"IF(A150<'Step 4. Classification'!$E$17,'Output FIN Lease Amort'!A150+1,\"\")","v":""},"","",{"$f":"IF(A151=\"\",\"\",$C$10/'Step 4. Classification'!$E$17)","v":""},"",null,"",{"$f":"IF(A151=\"\",\"\",G151*'Step 3. Lease Payments'!$G$8)","v":""},{"$f":"_xlfn.IFNA(IF(A151=\"\",\"\",(VLOOKUP(A151,'Step 3. Lease Payments'!B:G,6,))),\"0\")","v":""},""]
[{"$f":"IF(A151<'Step 4. Classification'!$E$17,'Output FIN Lease Amort'!A151+1,\"\")","v":""},"","",{"$f":"IF(A152=\"\",\"\",$C$10/'Step 4. Classification'!$E$17)","v":""},"",null,"",{"$f":"IF(A152=\"\",\"\",G152*'Step 3. Lease Payments'!$G$8)","v":""},{"$f":"_xlfn.IFNA(IF(A152=\"\",\"\",(VLOOKUP(A152,'Step 3. Lease Payments'!B:G,6,))),\"0\")","v":""},""]
[{"$f":"IF(A152<'Step 4. Classification'!$E$17,'Output FIN Lease Amort'!A152+1,\"\")","v":""},"","",{"$f":"IF(A153=\"\",\"\",$C$10/'Step 4. Classification'!$E$17)","v":""},"",null,"",{"$f":"IF(A153=\"\",\"\",G153*'Step 3. Lease Payments'!$G$8)","v":""},{"$f":"_xlfn.IFNA(IF(A153=\"\",\"\",(VLOOKUP(A153,'Step 3. Lease Payments'!B:G,6,))),\"0\")","v":""},""]
[{"$f":"IF(A153<'Step 4. Classification'!$E$17,'Output FIN Lease Amort'!A153+1,\"\")","v":""},"","",{"$f":"IF(A154=\"\",\"\",$C$10/'Step 4. Classification'!$E$17)","v":""},"",null,"",{"$f":"IF(A154=\"\",\"\",G154*'Step 3. Lease Payments'!$G$8)","v":""},{"$f":"_xlfn.IFNA(IF(A154=\"\",\"\",(VLOOKUP(A154,'Step 3. Lease Payments'!B:G,6,))),\"0\")","v":""},""]
[{"$f":"IF(A154<'Step 4. Classification'!$E$17,'Output FIN Lease Amort'!A154+1,\"\")","v":""},"","",{"$f":"IF(A155=\"\",\"\",$C$10/'Step 4. Classification'!$E$17)","v":""},"",null,"",{"$f":"IF(A155=\"\",\"\",G155*'Step 3. Lease Payments'!$G$8)","v":""},{"$f":"_xlfn.IFNA(IF(A155=\"\",\"\",(VLOOKUP(A155,'Step 3. Lease Payments'!B:G,6,))),\"0\")","v":""},""]
[{"$f":"IF(A155<'Step 4. Classification'!$E$17,'Output FIN Lease Amort'!A155+1,\"\")","v":""},"","",{"$f":"IF(A156=\"\",\"\",$C$10/'Step 4. Classification'!$E$17)","v":""},"",null,"",{"$f":"IF(A156=\"\",\"\",G156*'Step 3. Lease Payments'!$G$8)","v":""},{"$f":"_xlfn.IFNA(IF(A156=\"\",\"\",(VLOOKUP(A156,'Step 3. Lease Payments'!B:G,6,))),\"0\")","v":""},""]
[{"$f":"IF(A156<'Step 4. Classification'!$E$17,'Output FIN Lease Amort'!A156+1,\"\")","v":""},"","",{"$f":"IF(A157=\"\",\"\",$C$10/'Step 4. Classification'!$E$17)","v":""},"",null,"",{"$f":"IF(A157=\"\",\"\",G157*'Step 3. Lease Payments'!$G$8)","v":""},{"$f":"_xlfn.IFNA(IF(A157=\"\",\"\",(VLOOKUP(A157,'Step 3. Lease Payments'!B:G,6,))),\"0\")","v":""},""]
[{"$f":"IF(A157<'Step 4. Classification'!$E$17,'Output FIN Lease Amort'!A157+1,\"\")","v":""},"","",{"$f":"IF(A158=\"\",\"\",$C$10/'Step 4. Classification'!$E$17)","v":""},"",null,"",{"$f":"IF(A158=\"\",\"\",G158*'Step 3. Lease Payments'!$G$8)","v":""},{"$f":"_xlfn.IFNA(IF(A158=\"\",\"\",(VLOOKUP(A158,'Step 3. Lease Payments'!B:G,6,))),\"0\")","v":""},""]
[{"$f":"IF(A158<'Step 4. Classification'!$E$17,'Output FIN Lease Amort'!A158+1,\"\")","v":""},"","",{"$f":"IF(A159=\"\",\"\",$C$10/'Step 4. Classification'!$E$17)","v":""},"",null,"",{"$f":"IF(A159=\"\",\"\",G159*'Step 3. Lease Payments'!$G$8)","v":""},{"$f":"_xlfn.IFNA(IF(A159=\"\",\"\",(VLOOKUP(A159,'Step 3. Lease Payments'!B:G,6,))),\"0\")","v":""},""]
[{"$f":"IF(A159<'Step 4. Classification'!$E$17,'Output FIN Lease Amort'!A159+1,\"\")","v":""},"","",{"$f":"IF(A160=\"\",\"\",$C$10/'Step 4. Classification'!$E$17)","v":""},"",null,"",{"$f":"IF(A160=\"\",\"\",G160*'Step 3. Lease Payments'!$G$8)","v":""},{"$f":"_xlfn.IFNA(IF(A160=\"\",\"\",(VLOOKUP(A160,'Step 3. Lease Payments'!B:G,6,))),\"0\")","v":""},""]
[{"$f":"IF(A160<'Step 4. Classification'!$E$17,'Output FIN Lease Amort'!A160+1,\"\")","v":""},"","",{"$f":"IF(A161=\"\",\"\",$C$10/'Step 4. Classification'!$E$17)","v":""},"",null,"",{"$f":"IF(A161=\"\",\"\",G161*'Step 3. Lease Payments'!$G$8)","v":""},{"$f":"_xlfn.IFNA(IF(A161=\"\",\"\",(VLOOKUP(A161,'Step 3. Lease Payments'!B:G,6,))),\"0\")","v":""},""]
[{"$f":"IF(A161<'Step 4. Classification'!$E$17,'Output FIN Lease Amort'!A161+1,\"\")","v":""},"","",{"$f":"IF(A162=\"\",\"\",$C$10/'Step 4. Classification'!$E$17)","v":""},"",null,"",{"$f":"IF(A162=\"\",\"\",G162*'Step 3. Lease Payments'!$G$8)","v":""},{"$f":"_xlfn.IFNA(IF(A162=\"\",\"\",(VLOOKUP(A162,'Step 3. Lease Payments'!B:G,6,))),\"0\")","v":""},""]
[{"$f":"IF(A162<'Step 4. Classification'!$E$17,'Output FIN Lease Amort'!A162+1,\"\")","v":""},"","",{"$f":"IF(A163=\"\",\"\",$C$10/'Step 4. Classification'!$E$17)","v":""},"",null,"",{"$f":"IF(A163=\"\",\"\",G163*'Step 3. Lease Payments'!$G$8)","v":""},{"$f":"_xlfn.IFNA(IF(A163=\"\",\"\",(VLOOKUP(A163,'Step 3. Lease Payments'!B:G,6,))),\"0\")","v":""},""]
[{"$f":"IF(A163<'Step 4. Classification'!$E$17,'Output FIN Lease Amort'!A163+1,\"\")","v":""},"","",{"$f":"IF(A164=\"\",\"\",$C$10/'Step 4. Classification'!$E$17)","v":""},"",null,"",{"$f":"IF(A164=\"\",\"\",G164*'Step 3. Lease Payments'!$G$8)","v":""},{"$f":"_xlfn.IFNA(IF(A164=\"\",\"\",(VLOOKUP(A164,'Step 3. Lease Payments'!B:G,6,))),\"0\")","v":""},""]
[{"$f":"IF(A164<'Step 4. Classification'!$E$17,'Output FIN Lease Amort'!A164+1,\"\")","v":""},"","",{"$f":"IF(A165=\"\",\"\",$C$10/'Step 4. Classification'!$E$17)","v":""},"",null,"",{"$f":"IF(A165=\"\",\"\",G165*'Step 3. Lease Payments'!$G$8)","v":""},{"$f":"_xlfn.IFNA(IF(A165=\"\",\"\",(VLOOKUP(A165,'Step 3. Lease Payments'!B:G,6,))),\"0\")","v":""},""]
[{"$f":"IF(A165<'Step 4. Classification'!$E$17,'Output FIN Lease Amort'!A165+1,\"\")","v":""},"","",{"$f":"IF(A166=\"\",\"\",$C$10/'Step 4. Classification'!$E$17)","v":""},"",null,"",{"$f":"IF(A166=\"\",\"\",G166*'Step 3. Lease Payments'!$G$8)","v":""},{"$f":"_xlfn.IFNA(IF(A166=\"\",\"\",(VLOOKUP(A166,'Step 3. Lease Payments'!B:G,6,))),\"0\")","v":""},""]
[{"$f":"IF(A166<'Step 4. Classification'!$E$17,'Output FIN Lease Amort'!A166+1,\"\")","v":""},"","",{"$f":"IF(A167=\"\",\"\",$C$10/'Step 4. Classification'!$E$17)","v":""},"",null,"",{"$f":"IF(A167=\"\",\"\",G167*'Step 3. Lease Payments'!$G$8)","v":""},{"$f":"_xlfn.IFNA(IF(A167=\"\",\"\",(VLOOKUP(A167,'Step 3. Lease Payments'!B:G,6,))),\"0\")","v":""},""]
[{"$f":"IF(A167<'Step 4. Classification'!$E$17,'Output FIN Lease Amort'!A167+1,\"\")","v":""},"","",{"$f":"IF(A168=\"\",\"\",$C$10/'Step 4. Classification'!$E$17)","v":""},"",null,"",{"$f":"IF(A168=\"\",\"\",G168*'Step 3. Lease Payments'!$G$8)","v":""},{"$f":"_xlfn.IFNA(IF(A168=\"\",\"\",(VLOOKUP(A168,'Step 3. Lease Payments'!B:G,6,))),\"0\")","v":""},""]
[{"$f":"IF(A168<'Step 4. Classification'!$E$17,'Output FIN Lease Amort'!A168+1,\"\")","v":""},"","",{"$f":"IF(A169=\"\",\"\",$C$10/'Step 4. Classification'!$E$17)","v":""},"",null,"",{"$f":"IF(A169=\"\",\"\",G169*'Step 3. Lease Payments'!$G$8)","v":""},{"$f":"_xlfn.IFNA(IF(A169=\"\",\"\",(VLOOKUP(A169,'Step 3. Lease Payments'!B:G,6,))),\"0\")","v":""},""]
[{"$f":"IF(A169<'Step 4. Classification'!$E$17,'Output FIN Lease Amort'!A169+1,\"\")","v":""},"","",{"$f":"IF(A170=\"\",\"\",$C$10/'Step 4. Classification'!$E$17)","v":""},"",null,"",{"$f":"IF(A170=\"\",\"\",G170*'Step 3. Lease Payments'!$G$8)","v":""},{"$f":"_xlfn.IFNA(IF(A170=\"\",\"\",(VLOOKUP(A170,'Step 3. Lease Payments'!B:G,6,))),\"0\")","v":""},""]
[{"$f":"IF(A170<'Step 4. Classification'!$E$17,'Output FIN Lease Amort'!A170+1,\"\")","v":""},"","",{"$f":"IF(A171=\"\",\"\",$C$10/'Step 4. Classification'!$E$17)","v":""},"",null,"",{"$f":"IF(A171=\"\",\"\",G171*'Step 3. Lease Payments'!$G$8)","v":""},{"$f":"_xlfn.IFNA(IF(A171=\"\",\"\",(VLOOKUP(A171,'Step 3. Lease Payments'!B:G,6,))),\"0\")","v":""},""]
[{"$f":"IF(A171<'Step 4. Classification'!$E$17,'Output FIN Lease Amort'!A171+1,\"\")","v":""},"","",{"$f":"IF(A172=\"\",\"\",$C$10/'Step 4. Classification'!$E$17)","v":""},"",null,"",{"$f":"IF(A172=\"\",\"\",G172*'Step 3. Lease Payments'!$G$8)","v":""},{"$f":"_xlfn.IFNA(IF(A172=\"\",\"\",(VLOOKUP(A172,'Step 3. Lease Payments'!B:G,6,))),\"0\")","v":""},""]
[{"$f":"IF(A172<'Step 4. Classification'!$E$17,'Output FIN Lease Amort'!A172+1,\"\")","v":""},"","",{"$f":"IF(A173=\"\",\"\",$C$10/'Step 4. Classification'!$E$17)","v":""},"",null,"",{"$f":"IF(A173=\"\",\"\",G173*'Step 3. Lease Payments'!$G$8)","v":""},{"$f":"_xlfn.IFNA(IF(A173=\"\",\"\",(VLOOKUP(A173,'Step 3. Lease Payments'!B:G,6,))),\"0\")","v":""},""]
[{"$f":"IF(A173<'Step 4. Classification'!$E$17,'Output FIN Lease Amort'!A173+1,\"\")","v":""},"","",{"$f":"IF(A174=\"\",\"\",$C$10/'Step 4. Classification'!$E$17)","v":""},"",null,"",{"$f":"IF(A174=\"\",\"\",G174*'Step 3. Lease Payments'!$G$8)","v":""},{"$f":"_xlfn.IFNA(IF(A174=\"\",\"\",(VLOOKUP(A174,'Step 3. Lease Payments'!B:G,6,))),\"0\")","v":""},""]
[{"$f":"IF(A174<'Step 4. Classification'!$E$17,'Output FIN Lease Amort'!A174+1,\"\")","v":""},"","",{"$f":"IF(A175=\"\",\"\",$C$10/'Step 4. Classification'!$E$17)","v":""},"",null,"",{"$f":"IF(A175=\"\",\"\",G175*'Step 3. Lease Payments'!$G$8)","v":""},{"$f":"_xlfn.IFNA(IF(A175=\"\",\"\",(VLOOKUP(A175,'Step 3. Lease Payments'!B:G,6,))),\"0\")","v":""},""]
[{"$f":"IF(A175<'Step 4. Classification'!$E$17,'Output FIN Lease Amort'!A175+1,\"\")","v":""},"","",{"$f":"IF(A176=\"\",\"\",$C$10/'Step 4. Classification'!$E$17)","v":""},"",null,"",{"$f":"IF(A176=\"\",\"\",G176*'Step 3. Lease Payments'!$G$8)","v":""},{"$f":"_xlfn.IFNA(IF(A176=\"\",\"\",(VLOOKUP(A176,'Step 3. Lease Payments'!B:G,6,))),\"0\")","v":""},""]
[{"$f":"IF(A176<'Step 4. Classification'!$E$17,'Output FIN Lease Amort'!A176+1,\"\")","v":""},"","",{"$f":"IF(A177=\"\",\"\",$C$10/'Step 4. Classification'!$E$17)","v":""},"",null,"",{"$f":"IF(A177=\"\",\"\",G177*'Step 3. Lease Payments'!$G$8)","v":""},{"$f":"_xlfn.IFNA(IF(A177=\"\",\"\",(VLOOKUP(A177,'Step 3. Lease Payments'!B:G,6,))),\"0\")","v":""},""]
[{"$f":"IF(A177<'Step 4. Classification'!$E$17,'Output FIN Lease Amort'!A177+1,\"\")","v":""},"","",{"$f":"IF(A178=\"\",\"\",$C$10/'Step 4. Classification'!$E$17)","v":""},"",null,"",{"$f":"IF(A178=\"\",\"\",G178*'Step 3. Lease Payments'!$G$8)","v":""},{"$f":"_xlfn.IFNA(IF(A178=\"\",\"\",(VLOOKUP(A178,'Step 3. Lease Payments'!B:G,6,))),\"0\")","v":""},""]
[{"$f":"IF(A178<'Step 4. Classification'!$E$17,'Output FIN Lease Amort'!A178+1,\"\")","v":""},"","",{"$f":"IF(A179=\"\",\"\",$C$10/'Step 4. Classification'!$E$17)","v":""},"",null,"",{"$f":"IF(A179=\"\",\"\",G179*'Step 3. Lease Payments'!$G$8)","v":""},{"$f":"_xlfn.IFNA(IF(A179=\"\",\"\",(VLOOKUP(A179,'Step 3. Lease Payments'!B:G,6,))),\"0\")","v":""},""]
[{"$f":"IF(A179<'Step 4. Classification'!$E$17,'Output FIN Lease Amort'!A179+1,\"\")","v":""},"","",{"$f":"IF(A180=\"\",\"\",$C$10/'Step 4. Classification'!$E$17)","v":""},"",null,"",{"$f":"IF(A180=\"\",\"\",G180*'Step 3. Lease Payments'!$G$8)","v":""},{"$f":"_xlfn.IFNA(IF(A180=\"\",\"\",(VLOOKUP(A180,'Step 3. Lease Payments'!B:G,6,))),\"0\")","v":""},""]
[{"$f":"IF(A180<'Step 4. Classification'!$E$17,'Output FIN Lease Amort'!A180+1,\"\")","v":""},"","",{"$f":"IF(A181=\"\",\"\",$C$10/'Step 4. Classification'!$E$17)","v":""},"",null,"",{"$f":"IF(A181=\"\",\"\",G181*'Step 3. Lease Payments'!$G$8)","v":""},{"$f":"_xlfn.IFNA(IF(A181=\"\",\"\",(VLOOKUP(A181,'Step 3. Lease Payments'!B:G,6,))),\"0\")","v":""},""]
[{"$f":"IF(A181<'Step 4. Classification'!$E$17,'Output FIN Lease Amort'!A181+1,\"\")","v":""},"","",{"$f":"IF(A182=\"\",\"\",$C$10/'Step 4. Classification'!$E$17)","v":""},"",null,"",{"$f":"IF(A182=\"\",\"\",G182*'Step 3. Lease Payments'!$G$8)","v":""},{"$f":"_xlfn.IFNA(IF(A182=\"\",\"\",(VLOOKUP(A182,'Step 3. Lease Payments'!B:G,6,))),\"0\")","v":""},""]
[{"$f":"IF(A182<'Step 4. Classification'!$E$17,'Output FIN Lease Amort'!A182+1,\"\")","v":""},"","",{"$f":"IF(A183=\"\",\"\",$C$10/'Step 4. Classification'!$E$17)","v":""},"",null,"",{"$f":"IF(A183=\"\",\"\",G183*'Step 3. Lease Payments'!$G$8)","v":""},{"$f":"_xlfn.IFNA(IF(A183=\"\",\"\",(VLOOKUP(A183,'Step 3. Lease Payments'!B:G,6,))),\"0\")","v":""},""]
[{"$f":"IF(A183<'Step 4. Classification'!$E$17,'Output FIN Lease Amort'!A183+1,\"\")","v":""},"","",{"$f":"IF(A184=\"\",\"\",$C$10/'Step 4. Classification'!$E$17)","v":""},"",null,"",{"$f":"IF(A184=\"\",\"\",G184*'Step 3. Lease Payments'!$G$8)","v":""},{"$f":"_xlfn.IFNA(IF(A184=\"\",\"\",(VLOOKUP(A184,'Step 3. Lease Payments'!B:G,6,))),\"0\")","v":""},""]
[{"$f":"IF(A184<'Step 4. Classification'!$E$17,'Output FIN Lease Amort'!A184+1,\"\")","v":""},"","",{"$f":"IF(A185=\"\",\"\",$C$10/'Step 4. Classification'!$E$17)","v":""},"",null,"",{"$f":"IF(A185=\"\",\"\",G185*'Step 3. Lease Payments'!$G$8)","v":""},{"$f":"_xlfn.IFNA(IF(A185=\"\",\"\",(VLOOKUP(A185,'Step 3. Lease Payments'!B:G,6,))),\"0\")","v":""},""]
[{"$f":"IF(A185<'Step 4. Classification'!$E$17,'Output FIN Lease Amort'!A185+1,\"\")","v":""},"","",{"$f":"IF(A186=\"\",\"\",$C$10/'Step 4. Classification'!$E$17)","v":""},"",null,"",{"$f":"IF(A186=\"\",\"\",G186*'Step 3. Lease Payments'!$G$8)","v":""},{"$f":"_xlfn.IFNA(IF(A186=\"\",\"\",(VLOOKUP(A186,'Step 3. Lease Payments'!B:G,6,))),\"0\")","v":""},""]
[{"$f":"IF(A186<'Step 4. Classification'!$E$17,'Output FIN Lease Amort'!A186+1,\"\")","v":""},"","",{"$f":"IF(A187=\"\",\"\",$C$10/'Step 4. Classification'!$E$17)","v":""},"",null,"",{"$f":"IF(A187=\"\",\"\",G187*'Step 3. Lease Payments'!$G$8)","v":""},{"$f":"_xlfn.IFNA(IF(A187=\"\",\"\",(VLOOKUP(A187,'Step 3. Lease Payments'!B:G,6,))),\"0\")","v":""},""]
[{"$f":"IF(A187<'Step 4. Classification'!$E$17,'Output FIN Lease Amort'!A187+1,\"\")","v":""},"","",{"$f":"IF(A188=\"\",\"\",$C$10/'Step 4. Classification'!$E$17)","v":""},"",null,"",{"$f":"IF(A188=\"\",\"\",G188*'Step 3. Lease Payments'!$G$8)","v":""},{"$f":"_xlfn.IFNA(IF(A188=\"\",\"\",(VLOOKUP(A188,'Step 3. Lease Payments'!B:G,6,))),\"0\")","v":""},""]
[{"$f":"IF(A188<'Step 4. Classification'!$E$17,'Output FIN Lease Amort'!A188+1,\"\")","v":""},"","",{"$f":"IF(A189=\"\",\"\",$C$10/'Step 4. Classification'!$E$17)","v":""},"",null,"",{"$f":"IF(A189=\"\",\"\",G189*'Step 3. Lease Payments'!$G$8)","v":""},{"$f":"_xlfn.IFNA(IF(A189=\"\",\"\",(VLOOKUP(A189,'Step 3. Lease Payments'!B:G,6,))),\"0\")","v":""},""]
[{"$f":"IF(A189<'Step 4. Classification'!$E$17,'Output FIN Lease Amort'!A189+1,\"\")","v":""},"","",{"$f":"IF(A190=\"\",\"\",$C$10/'Step 4. Classification'!$E$17)","v":""},"",null,"",{"$f":"IF(A190=\"\",\"\",G190*'Step 3. Lease Payments'!$G$8)","v":""},{"$f":"_xlfn.IFNA(IF(A190=\"\",\"\",(VLOOKUP(A190,'Step 3. Lease Payments'!B:G,6,))),\"0\")","v":""},""]
[{"$f":"IF(A190<'Step 4. Classification'!$E$17,'Output FIN Lease Amort'!A190+1,\"\")","v":""},"","",{"$f":"IF(A191=\"\",\"\",$C$10/'Step 4. Classification'!$E$17)","v":""},"",null,"",{"$f":"IF(A191=\"\",\"\",G191*'Step 3. Lease Payments'!$G$8)","v":""},{"$f":"_xlfn.IFNA(IF(A191=\"\",\"\",(VLOOKUP(A191,'Step 3. Lease Payments'!B:G,6,))),\"0\")","v":""},""]
[{"$f":"IF(A191<'Step 4. Classification'!$E$17,'Output FIN Lease Amort'!A191+1,\"\")","v":""},"","",{"$f":"IF(A192=\"\",\"\",$C$10/'Step 4. Classification'!$E$17)","v":""},"",null,"",{"$f":"IF(A192=\"\",\"\",G192*'Step 3. Lease Payments'!$G$8)","v":""},{"$f":"_xlfn.IFNA(IF(A192=\"\",\"\",(VLOOKUP(A192,'Step 3. Lease Payments'!B:G,6,))),\"0\")","v":""},""]
[{"$f":"IF(A192<'Step 4. Classification'!$E$17,'Output FIN Lease Amort'!A192+1,\"\")","v":""},"","",{"$f":"IF(A193=\"\",\"\",$C$10/'Step 4. Classification'!$E$17)","v":""},"",null,"",{"$f":"IF(A193=\"\",\"\",G193*'Step 3. Lease Payments'!$G$8)","v":""},{"$f":"_xlfn.IFNA(IF(A193=\"\",\"\",(VLOOKUP(A193,'Step 3. Lease Payments'!B:G,6,))),\"0\")","v":""},""]
[{"$f":"IF(A193<'Step 4. Classification'!$E$17,'Output FIN Lease Amort'!A193+1,\"\")","v":""},"","",{"$f":"IF(A194=\"\",\"\",$C$10/'Step 4. Classification'!$E$17)","v":""},"",null,"",{"$f":"IF(A194=\"\",\"\",G194*'Step 3. Lease Payments'!$G$8)","v":""},{"$f":"_xlfn.IFNA(IF(A194=\"\",\"\",(VLOOKUP(A194,'Step 3. Lease Payments'!B:G,6,))),\"0\")","v":""},""]
[{"$f":"IF(A194<'Step 4. Classification'!$E$17,'Output FIN Lease Amort'!A194+1,\"\")","v":""},"","",{"$f":"IF(A195=\"\",\"\",$C$10/'Step 4. Classification'!$E$17)","v":""},"",null,"",{"$f":"IF(A195=\"\",\"\",G195*'Step 3. Lease Payments'!$G$8)","v":""},{"$f":"_xlfn.IFNA(IF(A195=\"\",\"\",(VLOOKUP(A195,'Step 3. Lease Payments'!B:G,6,))),\"0\")","v":""},""]
[{"$f":"IF(A195<'Step 4. Classification'!$E$17,'Output FIN Lease Amort'!A195+1,\"\")","v":""},"","",{"$f":"IF(A196=\"\",\"\",$C$10/'Step 4. Classification'!$E$17)","v":""},"",null,"",{"$f":"IF(A196=\"\",\"\",G196*'Step 3. Lease Payments'!$G$8)","v":""},{"$f":"_xlfn.IFNA(IF(A196=\"\",\"\",(VLOOKUP(A196,'Step 3. Lease Payments'!B:G,6,))),\"0\")","v":""},""]
[{"$f":"IF(A196<'Step 4. Classification'!$E$17,'Output FIN Lease Amort'!A196+1,\"\")","v":""},"","",{"$f":"IF(A197=\"\",\"\",$C$10/'Step 4. Classification'!$E$17)","v":""},"",null,"",{"$f":"IF(A197=\"\",\"\",G197*'Step 3. Lease Payments'!$G$8)","v":""},{"$f":"_xlfn.IFNA(IF(A197=\"\",\"\",(VLOOKUP(A197,'Step 3. Lease Payments'!B:G,6,))),\"0\")","v":""},""]
[{"$f":"IF(A197<'Step 4. Classification'!$E$17,'Output FIN Lease Amort'!A197+1,\"\")","v":""},"","",{"$f":"IF(A198=\"\",\"\",$C$10/'Step 4. Classification'!$E$17)","v":""},"",null,"",{"$f":"IF(A198=\"\",\"\",G198*'Step 3. Lease Payments'!$G$8)","v":""},{"$f":"_xlfn.IFNA(IF(A198=\"\",\"\",(VLOOKUP(A198,'Step 3. Lease Payments'!B:G,6,))),\"0\")","v":""},""]
[{"$f":"IF(A198<'Step 4. Classification'!$E$17,'Output FIN Lease Amort'!A198+1,\"\")","v":""},"","",{"$f":"IF(A199=\"\",\"\",$C$10/'Step 4. Classification'!$E$17)","v":""},"",null,"",{"$f":"IF(A199=\"\",\"\",G199*'Step 3. Lease Payments'!$G$8)","v":""},{"$f":"_xlfn.IFNA(IF(A199=\"\",\"\",(VLOOKUP(A199,'Step 3. Lease Payments'!B:G,6,))),\"0\")","v":""},""]
[{"$f":"IF(A199<'Step 4. Classification'!$E$17,'Output FIN Lease Amort'!A199+1,\"\")","v":""},"","",{"$f":"IF(A200=\"\",\"\",$C$10/'Step 4. Classification'!$E$17)","v":""},"",null,"",{"$f":"IF(A200=\"\",\"\",G200*'Step 3. Lease Payments'!$G$8)","v":""},{"$f":"_xlfn.IFNA(IF(A200=\"\",\"\",(VLOOKUP(A200,'Step 3. Lease Payments'!B:G,6,))),\"0\")","v":""},""]
[{"$f":"IF(A200<'Step 4. Classification'!$E$17,'Output FIN Lease Amort'!A200+1,\"\")","v":""},"","",{"$f":"IF(A201=\"\",\"\",$C$10/'Step 4. Classification'!$E$17)","v":""},"",null,"",{"$f":"IF(A201=\"\",\"\",G201*'Step 3. Lease Payments'!$G$8)","v":""},{"$f":"_xlfn.IFNA(IF(A201=\"\",\"\",(VLOOKUP(A201,'Step 3. Lease Payments'!B:G,6,))),\"0\")","v":""},""]
[{"$f":"IF(A201<'Step 4. Classification'!$E$17,'Output FIN Lease Amort'!A201+1,\"\")","v":""},"","",{"$f":"IF(A202=\"\",\"\",$C$10/'Step 4. Classification'!$E$17)","v":""},"",null,"",{"$f":"IF(A202=\"\",\"\",G202*'Step 3. Lease Payments'!$G$8)","v":""},{"$f":"_xlfn.IFNA(IF(A202=\"\",\"\",(VLOOKUP(A202,'Step 3. Lease Payments'!B:G,6,))),\"0\")","v":""},""]
[{"$f":"IF(A202<'Step 4. Classification'!$E$17,'Output FIN Lease Amort'!A202+1,\"\")","v":""},{"$f":"IF(A203=\"\",\"\",(DATE(YEAR(B202),MONTH(B202)+1,DAY(B202))))","v":""},{"$f":"IF(A203=\"\",\"\",E202)","v":""},{"$f":"IF(A203=\"\",\"\",$C$10/'Step 4. Classification'!$E$17)","v":""},{"$f":"IF(A203=\"\",\"\",C203-D203)","v":""},null,{"$f":"IF(A203=\"\",\"\",J202)","v":""},{"$f":"IF(A203=\"\",\"\",G203*'Step 3. Lease Payments'!$G$8)","v":""},{"$f":"_xlfn.IFNA(IF(A203=\"\",\"\",(VLOOKUP(A203,'Step 3. Lease Payments'!B:G,6,))),\"0\")","v":""},{"$f":"IF(A203=\"\",\"\",G203-I203+H203)","v":""}]
[{"$f":"IF(A203<'Step 4. Classification'!$E$17,'Output FIN Lease Amort'!A203+1,\"\")","v":""},"","",{"$f":"IF(A204=\"\",\"\",$C$10/'Step 4. Classification'!$E$17)","v":""},"",null,"",{"$f":"IF(A204=\"\",\"\",G204*'Step 3. Lease Payments'!$G$8)","v":""},{"$f":"_xlfn.IFNA(IF(A204=\"\",\"\",(VLOOKUP(A204,'Step 3. Lease Payments'!B:G,6,))),\"0\")","v":""},""]
[{"$f":"IF(A204<'Step 4. Classification'!$E$17,'Output FIN Lease Amort'!A204+1,\"\")","v":""},"","",{"$f":"IF(A205=\"\",\"\",$C$10/'Step 4. Classification'!$E$17)","v":""},"",null,"",{"$f":"IF(A205=\"\",\"\",G205*'Step 3. Lease Payments'!$G$8)","v":""},{"$f":"_xlfn.IFNA(IF(A205=\"\",\"\",(VLOOKUP(A205,'Step 3. Lease Payments'!B:G,6,))),\"0\")","v":""},""]
[{"$f":"IF(A205<'Step 4. Classification'!$E$17,'Output FIN Lease Amort'!A205+1,\"\")","v":""},"","",{"$f":"IF(A206=\"\",\"\",$C$10/'Step 4. Classification'!$E$17)","v":""},"",null,"",{"$f":"IF(A206=\"\",\"\",G206*'Step 3. Lease Payments'!$G$8)","v":""},{"$f":"_xlfn.IFNA(IF(A206=\"\",\"\",(VLOOKUP(A206,'Step 3. Lease Payments'!B:G,6,))),\"0\")","v":""},""]
[{"$f":"IF(A206<'Step 4. Classification'!$E$17,'Output FIN Lease Amort'!A206+1,\"\")","v":""},"","",{"$f":"IF(A207=\"\",\"\",$C$10/'Step 4. Classification'!$E$17)","v":""},"",null,"",{"$f":"IF(A207=\"\",\"\",G207*'Step 3. Lease Payments'!$G$8)","v":""},{"$f":"_xlfn.IFNA(IF(A207=\"\",\"\",(VLOOKUP(A207,'Step 3. Lease Payments'!B:G,6,))),\"0\")","v":""},""]
[{"$f":"IF(A207<'Step 4. Classification'!$E$17,'Output FIN Lease Amort'!A207+1,\"\")","v":""},"","",{"$f":"IF(A208=\"\",\"\",$C$10/'Step 4. Classification'!$E$17)","v":""},"",null,"",{"$f":"IF(A208=\"\",\"\",G208*'Step 3. Lease Payments'!$G$8)","v":""},{"$f":"_xlfn.IFNA(IF(A208=\"\",\"\",(VLOOKUP(A208,'Step 3. Lease Payments'!B:G,6,))),\"0\")","v":""},""]
[{"$f":"IF(A208<'Step 4. Classification'!$E$17,'Output FIN Lease Amort'!A208+1,\"\")","v":""},"","",{"$f":"IF(A209=\"\",\"\",$C$10/'Step 4. Classification'!$E$17)","v":""},"",null,"",{"$f":"IF(A209=\"\",\"\",G209*'Step 3. Lease Payments'!$G$8)","v":""},{"$f":"_xlfn.IFNA(IF(A209=\"\",\"\",(VLOOKUP(A209,'Step 3. Lease Payments'!B:G,6,))),\"0\")","v":""},""]
[{"$f":"IF(A209<'Step 4. Classification'!$E$17,'Output FIN Lease Amort'!A209+1,\"\")","v":""},"","",{"$f":"IF(A210=\"\",\"\",$C$10/'Step 4. Classification'!$E$17)","v":""},"",null,"",{"$f":"IF(A210=\"\",\"\",G210*'Step 3. Lease Payments'!$G$8)","v":""},{"$f":"_xlfn.IFNA(IF(A210=\"\",\"\",(VLOOKUP(A210,'Step 3. Lease Payments'!B:G,6,))),\"0\")","v":""},""]
[{"$f":"IF(A210<'Step 4. Classification'!$E$17,'Output FIN Lease Amort'!A210+1,\"\")","v":""},"","",{"$f":"IF(A211=\"\",\"\",$C$10/'Step 4. Classification'!$E$17)","v":""},"",null,"",{"$f":"IF(A211=\"\",\"\",G211*'Step 3. Lease Payments'!$G$8)","v":""},{"$f":"_xlfn.IFNA(IF(A211=\"\",\"\",(VLOOKUP(A211,'Step 3. Lease Payments'!B:G,6,))),\"0\")","v":""},""]
[{"$f":"IF(A211<'Step 4. Classification'!$E$17,'Output FIN Lease Amort'!A211+1,\"\")","v":""},"","",{"$f":"IF(A212=\"\",\"\",$C$10/'Step 4. Classification'!$E$17)","v":""},"",null,"",{"$f":"IF(A212=\"\",\"\",G212*'Step 3. Lease Payments'!$G$8)","v":""},{"$f":"_xlfn.IFNA(IF(A212=\"\",\"\",(VLOOKUP(A212,'Step 3. Lease Payments'!B:G,6,))),\"0\")","v":""},""]
[{"$f":"IF(A212<'Step 4. Classification'!$E$17,'Output FIN Lease Amort'!A212+1,\"\")","v":""},"","",{"$f":"IF(A213=\"\",\"\",$C$10/'Step 4. Classification'!$E$17)","v":""},"",null,"",{"$f":"IF(A213=\"\",\"\",G213*'Step 3. Lease Payments'!$G$8)","v":""},{"$f":"_xlfn.IFNA(IF(A213=\"\",\"\",(VLOOKUP(A213,'Step 3. Lease Payments'!B:G,6,))),\"0\")","v":""},""]
[{"$f":"IF(A213<'Step 4. Classification'!$E$17,'Output FIN Lease Amort'!A213+1,\"\")","v":""},"","",{"$f":"IF(A214=\"\",\"\",$C$10/'Step 4. Classification'!$E$17)","v":""},"",null,"",{"$f":"IF(A214=\"\",\"\",G214*'Step 3. Lease Payments'!$G$8)","v":""},{"$f":"_xlfn.IFNA(IF(A214=\"\",\"\",(VLOOKUP(A214,'Step 3. Lease Payments'!B:G,6,))),\"0\")","v":""},""]
[{"$f":"IF(A214<'Step 4. Classification'!$E$17,'Output FIN Lease Amort'!A214+1,\"\")","v":""},"","",{"$f":"IF(A215=\"\",\"\",$C$10/'Step 4. Classification'!$E$17)","v":""},"",null,"",{"$f":"IF(A215=\"\",\"\",G215*'Step 3. Lease Payments'!$G$8)","v":""},{"$f":"_xlfn.IFNA(IF(A215=\"\",\"\",(VLOOKUP(A215,'Step 3. Lease Payments'!B:G,6,))),\"0\")","v":""},""]
[{"$f":"IF(A215<'Step 4. Classification'!$E$17,'Output FIN Lease Amort'!A215+1,\"\")","v":""},"","",{"$f":"IF(A216=\"\",\"\",$C$10/'Step 4. Classification'!$E$17)","v":""},"",null,"",{"$f":"IF(A216=\"\",\"\",G216*'Step 3. Lease Payments'!$G$8)","v":""},{"$f":"_xlfn.IFNA(IF(A216=\"\",\"\",(VLOOKUP(A216,'Step 3. Lease Payments'!B:G,6,))),\"0\")","v":""},""]
[{"$f":"IF(A216<'Step 4. Classification'!$E$17,'Output FIN Lease Amort'!A216+1,\"\")","v":""},"","",{"$f":"IF(A217=\"\",\"\",$C$10/'Step 4. Classification'!$E$17)","v":""},"",null,"",{"$f":"IF(A217=\"\",\"\",G217*'Step 3. Lease Payments'!$G$8)","v":""},{"$f":"_xlfn.IFNA(IF(A217=\"\",\"\",(VLOOKUP(A217,'Step 3. Lease Payments'!B:G,6,))),\"0\")","v":""},""]
[{"$f":"IF(A217<'Step 4. Classification'!$E$17,'Output FIN Lease Amort'!A217+1,\"\")","v":""},"","",{"$f":"IF(A218=\"\",\"\",$C$10/'Step 4. Classification'!$E$17)","v":""},"",null,"",{"$f":"IF(A218=\"\",\"\",G218*'Step 3. Lease Payments'!$G$8)","v":""},{"$f":"_xlfn.IFNA(IF(A218=\"\",\"\",(VLOOKUP(A218,'Step 3. Lease Payments'!B:G,6,))),\"0\")","v":""},""]
[{"$f":"IF(A218<'Step 4. Classification'!$E$17,'Output FIN Lease Amort'!A218+1,\"\")","v":""},"","",{"$f":"IF(A219=\"\",\"\",$C$10/'Step 4. Classification'!$E$17)","v":""},"",null,"",{"$f":"IF(A219=\"\",\"\",G219*'Step 3. Lease Payments'!$G$8)","v":""},{"$f":"_xlfn.IFNA(IF(A219=\"\",\"\",(VLOOKUP(A219,'Step 3. Lease Payments'!B:G,6,))),\"0\")","v":""},""]
[{"$f":"IF(A219<'Step 4. Classification'!$E$17,'Output FIN Lease Amort'!A219+1,\"\")","v":""},"","",{"$f":"IF(A220=\"\",\"\",$C$10/'Step 4. Classification'!$E$17)","v":""},"",null,"",{"$f":"IF(A220=\"\",\"\",G220*'Step 3. Lease Payments'!$G$8)","v":""},{"$f":"_xlfn.IFNA(IF(A220=\"\",\"\",(VLOOKUP(A220,'Step 3. Lease Payments'!B:G,6,))),\"0\")","v":""},""]
[{"$f":"IF(A220<'Step 4. Classification'!$E$17,'Output FIN Lease Amort'!A220+1,\"\")","v":""},"","",{"$f":"IF(A221=\"\",\"\",$C$10/'Step 4. Classification'!$E$17)","v":""},"",null,"",{"$f":"IF(A221=\"\",\"\",G221*'Step 3. Lease Payments'!$G$8)","v":""},{"$f":"_xlfn.IFNA(IF(A221=\"\",\"\",(VLOOKUP(A221,'Step 3. Lease Payments'!B:G,6,))),\"0\")","v":""},""]
[{"$f":"IF(A221<'Step 4. Classification'!$E$17,'Output FIN Lease Amort'!A221+1,\"\")","v":""},"","",{"$f":"IF(A222=\"\",\"\",$C$10/'Step 4. Classification'!$E$17)","v":""},"",null,"",{"$f":"IF(A222=\"\",\"\",G222*'Step 3. Lease Payments'!$G$8)","v":""},{"$f":"_xlfn.IFNA(IF(A222=\"\",\"\",(VLOOKUP(A222,'Step 3. Lease Payments'!B:G,6,))),\"0\")","v":""},""]
[{"$f":"IF(A222<'Step 4. Classification'!$E$17,'Output FIN Lease Amort'!A222+1,\"\")","v":""},"","",{"$f":"IF(A223=\"\",\"\",$C$10/'Step 4. Classification'!$E$17)","v":""},"",null,"",{"$f":"IF(A223=\"\",\"\",G223*'Step 3. Lease Payments'!$G$8)","v":""},{"$f":"_xlfn.IFNA(IF(A223=\"\",\"\",(VLOOKUP(A223,'Step 3. Lease Payments'!B:G,6,))),\"0\")","v":""},""]
[{"$f":"IF(A223<'Step 4. Classification'!$E$17,'Output FIN Lease Amort'!A223+1,\"\")","v":""},"","",{"$f":"IF(A224=\"\",\"\",$C$10/'Step 4. Classification'!$E$17)","v":""},"",null,"",{"$f":"IF(A224=\"\",\"\",G224*'Step 3. Lease Payments'!$G$8)","v":""},{"$f":"_xlfn.IFNA(IF(A224=\"\",\"\",(VLOOKUP(A224,'Step 3. Lease Payments'!B:G,6,))),\"0\")","v":""},""]
[{"$f":"IF(A224<'Step 4. Classification'!$E$17,'Output FIN Lease Amort'!A224+1,\"\")","v":""},"","",{"$f":"IF(A225=\"\",\"\",$C$10/'Step 4. Classification'!$E$17)","v":""},"",null,"",{"$f":"IF(A225=\"\",\"\",G225*'Step 3. Lease Payments'!$G$8)","v":""},{"$f":"_xlfn.IFNA(IF(A225=\"\",\"\",(VLOOKUP(A225,'Step 3. Lease Payments'!B:G,6,))),\"0\")","v":""},""]
[{"$f":"IF(A225<'Step 4. Classification'!$E$17,'Output FIN Lease Amort'!A225+1,\"\")","v":""},"","",{"$f":"IF(A226=\"\",\"\",$C$10/'Step 4. Classification'!$E$17)","v":""},"",null,"",{"$f":"IF(A226=\"\",\"\",G226*'Step 3. Lease Payments'!$G$8)","v":""},{"$f":"_xlfn.IFNA(IF(A226=\"\",\"\",(VLOOKUP(A226,'Step 3. Lease Payments'!B:G,6,))),\"0\")","v":""},""]
[{"$f":"IF(A226<'Step 4. Classification'!$E$17,'Output FIN Lease Amort'!A226+1,\"\")","v":""},"","",{"$f":"IF(A227=\"\",\"\",$C$10/'Step 4. Classification'!$E$17)","v":""},"",null,"",{"$f":"IF(A227=\"\",\"\",G227*'Step 3. Lease Payments'!$G$8)","v":""},{"$f":"_xlfn.IFNA(IF(A227=\"\",\"\",(VLOOKUP(A227,'Step 3. Lease Payments'!B:G,6,))),\"0\")","v":""},""]
[{"$f":"IF(A227<'Step 4. Classification'!$E$17,'Output FIN Lease Amort'!A227+1,\"\")","v":""},"","",{"$f":"IF(A228=\"\",\"\",$C$10/'Step 4. Classification'!$E$17)","v":""},"",null,"",{"$f":"IF(A228=\"\",\"\",G228*'Step 3. Lease Payments'!$G$8)","v":""},{"$f":"_xlfn.IFNA(IF(A228=\"\",\"\",(VLOOKUP(A228,'Step 3. Lease Payments'!B:G,6,))),\"0\")","v":""},""]
[{"$f":"IF(A228<'Step 4. Classification'!$E$17,'Output FIN Lease Amort'!A228+1,\"\")","v":""},"","",{"$f":"IF(A229=\"\",\"\",$C$10/'Step 4. Classification'!$E$17)","v":""},"",null,"",{"$f":"IF(A229=\"\",\"\",G229*'Step 3. Lease Payments'!$G$8)","v":""},{"$f":"_xlfn.IFNA(IF(A229=\"\",\"\",(VLOOKUP(A229,'Step 3. Lease Payments'!B:G,6,))),\"0\")","v":""},""]
[{"$f":"IF(A229<'Step 4. Classification'!$E$17,'Output FIN Lease Amort'!A229+1,\"\")","v":""},"","",{"$f":"IF(A230=\"\",\"\",$C$10/'Step 4. Classification'!$E$17)","v":""},"",null,"",{"$f":"IF(A230=\"\",\"\",G230*'Step 3. Lease Payments'!$G$8)","v":""},{"$f":"_xlfn.IFNA(IF(A230=\"\",\"\",(VLOOKUP(A230,'Step 3. Lease Payments'!B:G,6,))),\"0\")","v":""},""]
[{"$f":"IF(A230<'Step 4. Classification'!$E$17,'Output FIN Lease Amort'!A230+1,\"\")","v":""},"","",{"$f":"IF(A231=\"\",\"\",$C$10/'Step 4. Classification'!$E$17)","v":""},"",null,"",{"$f":"IF(A231=\"\",\"\",G231*'Step 3. Lease Payments'!$G$8)","v":""},{"$f":"_xlfn.IFNA(IF(A231=\"\",\"\",(VLOOKUP(A231,'Step 3. Lease Payments'!B:G,6,))),\"0\")","v":""},""]
[{"$f":"IF(A231<'Step 4. Classification'!$E$17,'Output FIN Lease Amort'!A231+1,\"\")","v":""},"","",{"$f":"IF(A232=\"\",\"\",$C$10/'Step 4. Classification'!$E$17)","v":""},"",null,"",{"$f":"IF(A232=\"\",\"\",G232*'Step 3. Lease Payments'!$G$8)","v":""},{"$f":"_xlfn.IFNA(IF(A232=\"\",\"\",(VLOOKUP(A232,'Step 3. Lease Payments'!B:G,6,))),\"0\")","v":""},""]
[{"$f":"IF(A232<'Step 4. Classification'!$E$17,'Output FIN Lease Amort'!A232+1,\"\")","v":""},"","",{"$f":"IF(A233=\"\",\"\",$C$10/'Step 4. Classification'!$E$17)","v":""},"",null,"",{"$f":"IF(A233=\"\",\"\",G233*'Step 3. Lease Payments'!$G$8)","v":""},{"$f":"_xlfn.IFNA(IF(A233=\"\",\"\",(VLOOKUP(A233,'Step 3. Lease Payments'!B:G,6,))),\"0\")","v":""},""]
[{"$f":"IF(A233<'Step 4. Classification'!$E$17,'Output FIN Lease Amort'!A233+1,\"\")","v":""},"","",{"$f":"IF(A234=\"\",\"\",$C$10/'Step 4. Classification'!$E$17)","v":""},"",null,"",{"$f":"IF(A234=\"\",\"\",G234*'Step 3. Lease Payments'!$G$8)","v":""},{"$f":"_xlfn.IFNA(IF(A234=\"\",\"\",(VLOOKUP(A234,'Step 3. Lease Payments'!B:G,6,))),\"0\")","v":""},""]
[{"$f":"IF(A234<'Step 4. Classification'!$E$17,'Output FIN Lease Amort'!A234+1,\"\")","v":""},"","",{"$f":"IF(A235=\"\",\"\",$C$10/'Step 4. Classification'!$E$17)","v":""},"",null,"",{"$f":"IF(A235=\"\",\"\",G235*'Step 3. Lease Payments'!$G$8)","v":""},{"$f":"_xlfn.IFNA(IF(A235=\"\",\"\",(VLOOKUP(A235,'Step 3. Lease Payments'!B:G,6,))),\"0\")","v":""},""]
[{"$f":"IF(A235<'Step 4. Classification'!$E$17,'Output FIN Lease Amort'!A235+1,\"\")","v":""},"","",{"$f":"IF(A236=\"\",\"\",$C$10/'Step 4. Classification'!$E$17)","v":""},"",null,"",{"$f":"IF(A236=\"\",\"\",G236*'Step 3. Lease Payments'!$G$8)","v":""},{"$f":"_xlfn.IFNA(IF(A236=\"\",\"\",(VLOOKUP(A236,'Step 3. Lease Payments'!B:G,6,))),\"0\")","v":""},""]
[{"$f":"IF(A236<'Step 4. Classification'!$E$17,'Output FIN Lease Amort'!A236+1,\"\")","v":""},"","",{"$f":"IF(A237=\"\",\"\",$C$10/'Step 4. Classification'!$E$17)","v":""},"",null,"",{"$f":"IF(A237=\"\",\"\",G237*'Step 3. Lease Payments'!$G$8)","v":""},{"$f":"_xlfn.IFNA(IF(A237=\"\",\"\",(VLOOKUP(A237,'Step 3. Lease Payments'!B:G,6,))),\"0\")","v":""},""]
[{"$f":"IF(A237<'Step 4. Classification'!$E$17,'Output FIN Lease Amort'!A237+1,\"\")","v":""},"","",{"$f":"IF(A238=\"\",\"\",$C$10/'Step 4. Classification'!$E$17)","v":""},"",null,"",{"$f":"IF(A238=\"\",\"\",G238*'Step 3. Lease Payments'!$G$8)","v":""},{"$f":"_xlfn.IFNA(IF(A238=\"\",\"\",(VLOOKUP(A238,'Step 3. Lease Payments'!B:G,6,))),\"0\")","v":""},""]
[{"$f":"IF(A238<'Step 4. Classification'!$E$17,'Output FIN Lease Amort'!A238+1,\"\")","v":""},"","",{"$f":"IF(A239=\"\",\"\",$C$10/'Step 4. Classification'!$E$17)","v":""},"",null,"",{"$f":"IF(A239=\"\",\"\",G239*'Step 3. Lease Payments'!$G$8)","v":""},{"$f":"_xlfn.IFNA(IF(A239=\"\",\"\",(VLOOKUP(A239,'Step 3. Lease Payments'!B:G,6,))),\"0\")","v":""},""]
[{"$f":"IF(A239<'Step 4. Classification'!$E$17,'Output FIN Lease Amort'!A239+1,\"\")","v":""},"","",{"$f":"IF(A240=\"\",\"\",$C$10/'Step 4. Classification'!$E$17)","v":""},"",null,"",{"$f":"IF(A240=\"\",\"\",G240*'Step 3. Lease Payments'!$G$8)","v":""},{"$f":"_xlfn.IFNA(IF(A240=\"\",\"\",(VLOOKUP(A240,'Step 3. Lease Payments'!B:G,6,))),\"0\")","v":""},""]
[{"$f":"IF(A240<'Step 4. Classification'!$E$17,'Output FIN Lease Amort'!A240+1,\"\")","v":""},"","",{"$f":"IF(A241=\"\",\"\",$C$10/'Step 4. Classification'!$E$17)","v":""},"",null,"",{"$f":"IF(A241=\"\",\"\",G241*'Step 3. Lease Payments'!$G$8)","v":""},{"$f":"_xlfn.IFNA(IF(A241=\"\",\"\",(VLOOKUP(A241,'Step 3. Lease Payments'!B:G,6,))),\"0\")","v":""},""]
[{"$f":"IF(A241<'Step 4. Classification'!$E$17,'Output FIN Lease Amort'!A241+1,\"\")","v":""},"","",{"$f":"IF(A242=\"\",\"\",$C$10/'Step 4. Classification'!$E$17)","v":""},"",null,"",{"$f":"IF(A242=\"\",\"\",G242*'Step 3. Lease Payments'!$G$8)","v":""},{"$f":"_xlfn.IFNA(IF(A242=\"\",\"\",(VLOOKUP(A242,'Step 3. Lease Payments'!B:G,6,))),\"0\")","v":""},""]
[{"$f":"IF(A242<'Step 4. Classification'!$E$17,'Output FIN Lease Amort'!A242+1,\"\")","v":""},"","",{"$f":"IF(A243=\"\",\"\",$C$10/'Step 4. Classification'!$E$17)","v":""},"",null,"",{"$f":"IF(A243=\"\",\"\",G243*'Step 3. Lease Payments'!$G$8)","v":""},{"$f":"_xlfn.IFNA(IF(A243=\"\",\"\",(VLOOKUP(A243,'Step 3. Lease Payments'!B:G,6,))),\"0\")","v":""},""]
[{"$f":"IF(A243<'Step 4. Classification'!$E$17,'Output FIN Lease Amort'!A243+1,\"\")","v":""},"","",{"$f":"IF(A244=\"\",\"\",$C$10/'Step 4. Classification'!$E$17)","v":""},"",null,"",{"$f":"IF(A244=\"\",\"\",G244*'Step 3. Lease Payments'!$G$8)","v":""},{"$f":"_xlfn.IFNA(IF(A244=\"\",\"\",(VLOOKUP(A244,'Step 3. Lease Payments'!B:G,6,))),\"0\")","v":""},""]
[{"$f":"IF(A244<'Step 4. Classification'!$E$17,'Output FIN Lease Amort'!A244+1,\"\")","v":""},"","",{"$f":"IF(A245=\"\",\"\",$C$10/'Step 4. Classification'!$E$17)","v":""},"",null,"",{"$f":"IF(A245=\"\",\"\",G245*'Step 3. Lease Payments'!$G$8)","v":""},{"$f":"_xlfn.IFNA(IF(A245=\"\",\"\",(VLOOKUP(A245,'Step 3. Lease Payments'!B:G,6,))),\"0\")","v":""},""]
[{"$f":"IF(A245<'Step 4. Classification'!$E$17,'Output FIN Lease Amort'!A245+1,\"\")","v":""},"","",{"$f":"IF(A246=\"\",\"\",$C$10/'Step 4. Classification'!$E$17)","v":""},"",null,"",{"$f":"IF(A246=\"\",\"\",G246*'Step 3. Lease Payments'!$G$8)","v":""},{"$f":"_xlfn.IFNA(IF(A246=\"\",\"\",(VLOOKUP(A246,'Step 3. Lease Payments'!B:G,6,))),\"0\")","v":""},""]
[{"$f":"IF(A246<'Step 4. Classification'!$E$17,'Output FIN Lease Amort'!A246+1,\"\")","v":""},"","",{"$f":"IF(A247=\"\",\"\",$C$10/'Step 4. Classification'!$E$17)","v":""},"",null,"",{"$f":"IF(A247=\"\",\"\",G247*'Step 3. Lease Payments'!$G$8)","v":""},{"$f":"_xlfn.IFNA(IF(A247=\"\",\"\",(VLOOKUP(A247,'Step 3. Lease Payments'!B:G,6,))),\"0\")","v":""},""]
[{"$f":"IF(A247<'Step 4. Classification'!$E$17,'Output FIN Lease Amort'!A247+1,\"\")","v":""},"","",{"$f":"IF(A248=\"\",\"\",$C$10/'Step 4. Classification'!$E$17)","v":""},"",null,"",{"$f":"IF(A248=\"\",\"\",G248*'Step 3. Lease Payments'!$G$8)","v":""},{"$f":"_xlfn.IFNA(IF(A248=\"\",\"\",(VLOOKUP(A248,'Step 3. Lease Payments'!B:G,6,))),\"0\")","v":""},""]
[{"$f":"IF(A248<'Step 4. Classification'!$E$17,'Output FIN Lease Amort'!A248+1,\"\")","v":""},"","",{"$f":"IF(A249=\"\",\"\",$C$10/'Step 4. Classification'!$E$17)","v":""},"",null,"",{"$f":"IF(A249=\"\",\"\",G249*'Step 3. Lease Payments'!$G$8)","v":""},{"$f":"_xlfn.IFNA(IF(A249=\"\",\"\",(VLOOKUP(A249,'Step 3. Lease Payments'!B:G,6,))),\"0\")","v":""},""]
[{"$f":"IF(A249<'Step 4. Classification'!$E$17,'Output FIN Lease Amort'!A249+1,\"\")","v":""},"","",{"$f":"IF(A250=\"\",\"\",$C$10/'Step 4. Classification'!$E$17)","v":""},"",null,"",{"$f":"IF(A250=\"\",\"\",G250*'Step 3. Lease Payments'!$G$8)","v":""},{"$f":"_xlfn.IFNA(IF(A250=\"\",\"\",(VLOOKUP(A250,'Step 3. Lease Payments'!B:G,6,))),\"0\")","v":""},""]
[{"$f":"IF(A250<'Step 4. Classification'!$E$17,'Output FIN Lease Amort'!A250+1,\"\")","v":""},"","",{"$f":"IF(A251=\"\",\"\",$C$10/'Step 4. Classification'!$E$17)","v":""},"",null,"",{"$f":"IF(A251=\"\",\"\",G251*'Step 3. Lease Payments'!$G$8)","v":""},{"$f":"_xlfn.IFNA(IF(A251=\"\",\"\",(VLOOKUP(A251,'Step 3. Lease Payments'!B:G,6,))),\"0\")","v":""},""]
[{"$f":"IF(A251<'Step 4. Classification'!$E$17,'Output FIN Lease Amort'!A251+1,\"\")","v":""},"","",{"$f":"IF(A252=\"\",\"\",$C$10/'Step 4. Classification'!$E$17)","v":""},"",null,"",{"$f":"IF(A252=\"\",\"\",G252*'Step 3. Lease Payments'!$G$8)","v":""},{"$f":"_xlfn.IFNA(IF(A252=\"\",\"\",(VLOOKUP(A252,'Step 3. Lease Payments'!B:G,6,))),\"0\")","v":""},""]
[{"$f":"IF(A252<'Step 4. Classification'!$E$17,'Output FIN Lease Amort'!A252+1,\"\")","v":""},"","",{"$f":"IF(A253=\"\",\"\",$C$10/'Step 4. Classification'!$E$17)","v":""},"",null,"",{"$f":"IF(A253=\"\",\"\",G253*'Step 3. Lease Payments'!$G$8)","v":""},{"$f":"_xlfn.IFNA(IF(A253=\"\",\"\",(VLOOKUP(A253,'Step 3. Lease Payments'!B:G,6,))),\"0\")","v":""},""]
[{"$f":"IF(A253<'Step 4. Classification'!$E$17,'Output FIN Lease Amort'!A253+1,\"\")","v":""},"","",{"$f":"IF(A254=\"\",\"\",$C$10/'Step 4. Classification'!$E$17)","v":""},"",null,"",{"$f":"IF(A254=\"\",\"\",G254*'Step 3. Lease Payments'!$G$8)","v":""},{"$f":"_xlfn.IFNA(IF(A254=\"\",\"\",(VLOOKUP(A254,'Step 3. Lease Payments'!B:G,6,))),\"0\")","v":""},""]
[{"$f":"IF(A254<'Step 4. Classification'!$E$17,'Output FIN Lease Amort'!A254+1,\"\")","v":""},"","",{"$f":"IF(A255=\"\",\"\",$C$10/'Step 4. Classification'!$E$17)","v":""},"",null,"",{"$f":"IF(A255=\"\",\"\",G255*'Step 3. Lease Payments'!$G$8)","v":""},{"$f":"_xlfn.IFNA(IF(A255=\"\",\"\",(VLOOKUP(A255,'Step 3. Lease Payments'!B:G,6,))),\"0\")","v":""},""]
[{"$f":"IF(A255<'Step 4. Classification'!$E$17,'Output FIN Lease Amort'!A255+1,\"\")","v":""},"","",{"$f":"IF(A256=\"\",\"\",$C$10/'Step 4. Classification'!$E$17)","v":""},"",null,"",{"$f":"IF(A256=\"\",\"\",G256*'Step 3. Lease Payments'!$G$8)","v":""},{"$f":"_xlfn.IFNA(IF(A256=\"\",\"\",(VLOOKUP(A256,'Step 3. Lease Payments'!B:G,6,))),\"0\")","v":""},""]
[{"$f":"IF(A256<'Step 4. Classification'!$E$17,'Output FIN Lease Amort'!A256+1,\"\")","v":""},"","",{"$f":"IF(A257=\"\",\"\",$C$10/'Step 4. Classification'!$E$17)","v":""},"",null,"",{"$f":"IF(A257=\"\",\"\",G257*'Step 3. Lease Payments'!$G$8)","v":""},{"$f":"_xlfn.IFNA(IF(A257=\"\",\"\",(VLOOKUP(A257,'Step 3. Lease Payments'!B:G,6,))),\"0\")","v":""},""]
[{"$f":"IF(A257<'Step 4. Classification'!$E$17,'Output FIN Lease Amort'!A257+1,\"\")","v":""},"","",{"$f":"IF(A258=\"\",\"\",$C$10/'Step 4. Classification'!$E$17)","v":""},"",null,"",{"$f":"IF(A258=\"\",\"\",G258*'Step 3. Lease Payments'!$G$8)","v":""},{"$f":"_xlfn.IFNA(IF(A258=\"\",\"\",(VLOOKUP(A258,'Step 3. Lease Payments'!B:G,6,))),\"0\")","v":""},""]
[{"$f":"IF(A258<'Step 4. Classification'!$E$17,'Output FIN Lease Amort'!A258+1,\"\")","v":""},"","",{"$f":"IF(A259=\"\",\"\",$C$10/'Step 4. Classification'!$E$17)","v":""},"",null,"",{"$f":"IF(A259=\"\",\"\",G259*'Step 3. Lease Payments'!$G$8)","v":""},{"$f":"_xlfn.IFNA(IF(A259=\"\",\"\",(VLOOKUP(A259,'Step 3. Lease Payments'!B:G,6,))),\"0\")","v":""},""]
[{"$f":"IF(A259<'Step 4. Classification'!$E$17,'Output FIN Lease Amort'!A259+1,\"\")","v":""},"","",{"$f":"IF(A260=\"\",\"\",$C$10/'Step 4. Classification'!$E$17)","v":""},"",null,"",{"$f":"IF(A260=\"\",\"\",G260*'Step 3. Lease Payments'!$G$8)","v":""},{"$f":"_xlfn.IFNA(IF(A260=\"\",\"\",(VLOOKUP(A260,'Step 3. Lease Payments'!B:G,6,))),\"0\")","v":""},""]
[{"$f":"IF(A260<'Step 4. Classification'!$E$17,'Output FIN Lease Amort'!A260+1,\"\")","v":""},"","",{"$f":"IF(A261=\"\",\"\",$C$10/'Step 4. Classification'!$E$17)","v":""},"",null,"",{"$f":"IF(A261=\"\",\"\",G261*'Step 3. Lease Payments'!$G$8)","v":""},{"$f":"_xlfn.IFNA(IF(A261=\"\",\"\",(VLOOKUP(A261,'Step 3. Lease Payments'!B:G,6,))),\"0\")","v":""},""]
[{"$f":"IF(A261<'Step 4. Classification'!$E$17,'Output FIN Lease Amort'!A261+1,\"\")","v":""},"","",{"$f":"IF(A262=\"\",\"\",$C$10/'Step 4. Classification'!$E$17)","v":""},"",null,"",{"$f":"IF(A262=\"\",\"\",G262*'Step 3. Lease Payments'!$G$8)","v":""},{"$f":"_xlfn.IFNA(IF(A262=\"\",\"\",(VLOOKUP(A262,'Step 3. Lease Payments'!B:G,6,))),\"0\")","v":""},""]
[{"$f":"IF(A262<'Step 4. Classification'!$E$17,'Output FIN Lease Amort'!A262+1,\"\")","v":""},"","",{"$f":"IF(A263=\"\",\"\",$C$10/'Step 4. Classification'!$E$17)","v":""},"",null,"",{"$f":"IF(A263=\"\",\"\",G263*'Step 3. Lease Payments'!$G$8)","v":""},{"$f":"_xlfn.IFNA(IF(A263=\"\",\"\",(VLOOKUP(A263,'Step 3. Lease Payments'!B:G,6,))),\"0\")","v":""},""]
[{"$f":"IF(A263<'Step 4. Classification'!$E$17,'Output FIN Lease Amort'!A263+1,\"\")","v":""},"","",{"$f":"IF(A264=\"\",\"\",$C$10/'Step 4. Classification'!$E$17)","v":""},"",null,"",{"$f":"IF(A264=\"\",\"\",G264*'Step 3. Lease Payments'!$G$8)","v":""},{"$f":"_xlfn.IFNA(IF(A264=\"\",\"\",(VLOOKUP(A264,'Step 3. Lease Payments'!B:G,6,))),\"0\")","v":""},""]
[{"$f":"IF(A264<'Step 4. Classification'!$E$17,'Output FIN Lease Amort'!A264+1,\"\")","v":""},"","",{"$f":"IF(A265=\"\",\"\",$C$10/'Step 4. Classification'!$E$17)","v":""},"",null,"",{"$f":"IF(A265=\"\",\"\",G265*'Step 3. Lease Payments'!$G$8)","v":""},{"$f":"_xlfn.IFNA(IF(A265=\"\",\"\",(VLOOKUP(A265,'Step 3. Lease Payments'!B:G,6,))),\"0\")","v":""},""]
[{"$f":"IF(A265<'Step 4. Classification'!$E$17,'Output FIN Lease Amort'!A265+1,\"\")","v":""},"","",{"$f":"IF(A266=\"\",\"\",$C$10/'Step 4. Classification'!$E$17)","v":""},"",null,"",{"$f":"IF(A266=\"\",\"\",G266*'Step 3. Lease Payments'!$G$8)","v":""},{"$f":"_xlfn.IFNA(IF(A266=\"\",\"\",(VLOOKUP(A266,'Step 3. Lease Payments'!B:G,6,))),\"0\")","v":""},""]
[{"$f":"IF(A266<'Step 4. Classification'!$E$17,'Output FIN Lease Amort'!A266+1,\"\")","v":""},{"$f":"IF(A267=\"\",\"\",(DATE(YEAR(B266),MONTH(B266)+1,DAY(B266))))","v":""},{"$f":"IF(A267=\"\",\"\",E266)","v":""},{"$f":"IF(A267=\"\",\"\",$C$10/'Step 4. Classification'!$E$17)","v":""},{"$f":"IF(A267=\"\",\"\",C267-D267)","v":""},null,{"$f":"IF(A267=\"\",\"\",J266)","v":""},{"$f":"IF(A267=\"\",\"\",G267*'Step 3. Lease Payments'!$G$8)","v":""},{"$f":"_xlfn.IFNA(IF(A267=\"\",\"\",(VLOOKUP(A267,'Step 3. Lease Payments'!B:G,6,))),\"0\")","v":""},{"$f":"IF(A267=\"\",\"\",G267-I267+H267)","v":""}]
[{"$f":"IF(A267<'Step 4. Classification'!$E$17,'Output FIN Lease Amort'!A267+1,\"\")","v":""},"","",{"$f":"IF(A268=\"\",\"\",$C$10/'Step 4. Classification'!$E$17)","v":""},"",null,"",{"$f":"IF(A268=\"\",\"\",G268*'Step 3. Lease Payments'!$G$8)","v":""},{"$f":"_xlfn.IFNA(IF(A268=\"\",\"\",(VLOOKUP(A268,'Step 3. Lease Payments'!B:G,6,))),\"0\")","v":""},""]
[{"$f":"IF(A268<'Step 4. Classification'!$E$17,'Output FIN Lease Amort'!A268+1,\"\")","v":""},"","",{"$f":"IF(A269=\"\",\"\",$C$10/'Step 4. Classification'!$E$17)","v":""},"",null,"",{"$f":"IF(A269=\"\",\"\",G269*'Step 3. Lease Payments'!$G$8)","v":""},{"$f":"_xlfn.IFNA(IF(A269=\"\",\"\",(VLOOKUP(A269,'Step 3. Lease Payments'!B:G,6,))),\"0\")","v":""},""]
[{"$f":"IF(A269<'Step 4. Classification'!$E$17,'Output FIN Lease Amort'!A269+1,\"\")","v":""},"","",{"$f":"IF(A270=\"\",\"\",$C$10/'Step 4. Classification'!$E$17)","v":""},"",null,"",{"$f":"IF(A270=\"\",\"\",G270*'Step 3. Lease Payments'!$G$8)","v":""},{"$f":"_xlfn.IFNA(IF(A270=\"\",\"\",(VLOOKUP(A270,'Step 3. Lease Payments'!B:G,6,))),\"0\")","v":""},""]
[{"$f":"IF(A270<'Step 4. Classification'!$E$17,'Output FIN Lease Amort'!A270+1,\"\")","v":""},"","",{"$f":"IF(A271=\"\",\"\",$C$10/'Step 4. Classification'!$E$17)","v":""},"",null,"",{"$f":"IF(A271=\"\",\"\",G271*'Step 3. Lease Payments'!$G$8)","v":""},{"$f":"_xlfn.IFNA(IF(A271=\"\",\"\",(VLOOKUP(A271,'Step 3. Lease Payments'!B:G,6,))),\"0\")","v":""},""]
[{"$f":"IF(A271<'Step 4. Classification'!$E$17,'Output FIN Lease Amort'!A271+1,\"\")","v":""},"","",{"$f":"IF(A272=\"\",\"\",$C$10/'Step 4. Classification'!$E$17)","v":""},"",null,"",{"$f":"IF(A272=\"\",\"\",G272*'Step 3. Lease Payments'!$G$8)","v":""},{"$f":"_xlfn.IFNA(IF(A272=\"\",\"\",(VLOOKUP(A272,'Step 3. Lease Payments'!B:G,6,))),\"0\")","v":""},""]
[{"$f":"IF(A272<'Step 4. Classification'!$E$17,'Output FIN Lease Amort'!A272+1,\"\")","v":""},"","",{"$f":"IF(A273=\"\",\"\",$C$10/'Step 4. Classification'!$E$17)","v":""},"",null,"",{"$f":"IF(A273=\"\",\"\",G273*'Step 3. Lease Payments'!$G$8)","v":""},{"$f":"_xlfn.IFNA(IF(A273=\"\",\"\",(VLOOKUP(A273,'Step 3. Lease Payments'!B:G,6,))),\"0\")","v":""},""]
[{"$f":"IF(A273<'Step 4. Classification'!$E$17,'Output FIN Lease Amort'!A273+1,\"\")","v":""},"","",{"$f":"IF(A274=\"\",\"\",$C$10/'Step 4. Classification'!$E$17)","v":""},"",null,"",{"$f":"IF(A274=\"\",\"\",G274*'Step 3. Lease Payments'!$G$8)","v":""},{"$f":"_xlfn.IFNA(IF(A274=\"\",\"\",(VLOOKUP(A274,'Step 3. Lease Payments'!B:G,6,))),\"0\")","v":""},""]
[{"$f":"IF(A274<'Step 4. Classification'!$E$17,'Output FIN Lease Amort'!A274+1,\"\")","v":""},"","",{"$f":"IF(A275=\"\",\"\",$C$10/'Step 4. Classification'!$E$17)","v":""},"",null,"",{"$f":"IF(A275=\"\",\"\",G275*'Step 3. Lease Payments'!$G$8)","v":""},{"$f":"_xlfn.IFNA(IF(A275=\"\",\"\",(VLOOKUP(A275,'Step 3. Lease Payments'!B:G,6,))),\"0\")","v":""},""]
[{"$f":"IF(A275<'Step 4. Classification'!$E$17,'Output FIN Lease Amort'!A275+1,\"\")","v":""},"","",{"$f":"IF(A276=\"\",\"\",$C$10/'Step 4. Classification'!$E$17)","v":""},"",null,"",{"$f":"IF(A276=\"\",\"\",G276*'Step 3. Lease Payments'!$G$8)","v":""},{"$f":"_xlfn.IFNA(IF(A276=\"\",\"\",(VLOOKUP(A276,'Step 3. Lease Payments'!B:G,6,))),\"0\")","v":""},""]
[{"$f":"IF(A276<'Step 4. Classification'!$E$17,'Output FIN Lease Amort'!A276+1,\"\")","v":""},"","",{"$f":"IF(A277=\"\",\"\",$C$10/'Step 4. Classification'!$E$17)","v":""},"",null,"",{"$f":"IF(A277=\"\",\"\",G277*'Step 3. Lease Payments'!$G$8)","v":""},{"$f":"_xlfn.IFNA(IF(A277=\"\",\"\",(VLOOKUP(A277,'Step 3. Lease Payments'!B:G,6,))),\"0\")","v":""},""]
[{"$f":"IF(A277<'Step 4. Classification'!$E$17,'Output FIN Lease Amort'!A277+1,\"\")","v":""},"","",{"$f":"IF(A278=\"\",\"\",$C$10/'Step 4. Classification'!$E$17)","v":""},"",null,"",{"$f":"IF(A278=\"\",\"\",G278*'Step 3. Lease Payments'!$G$8)","v":""},{"$f":"_xlfn.IFNA(IF(A278=\"\",\"\",(VLOOKUP(A278,'Step 3. Lease Payments'!B:G,6,))),\"0\")","v":""},""]
[{"$f":"IF(A278<'Step 4. Classification'!$E$17,'Output FIN Lease Amort'!A278+1,\"\")","v":""},"","",{"$f":"IF(A279=\"\",\"\",$C$10/'Step 4. Classification'!$E$17)","v":""},"",null,"",{"$f":"IF(A279=\"\",\"\",G279*'Step 3. Lease Payments'!$G$8)","v":""},{"$f":"_xlfn.IFNA(IF(A279=\"\",\"\",(VLOOKUP(A279,'Step 3. Lease Payments'!B:G,6,))),\"0\")","v":""},""]
[{"$f":"IF(A279<'Step 4. Classification'!$E$17,'Output FIN Lease Amort'!A279+1,\"\")","v":""},"","",{"$f":"IF(A280=\"\",\"\",$C$10/'Step 4. Classification'!$E$17)","v":""},"",null,"",{"$f":"IF(A280=\"\",\"\",G280*'Step 3. Lease Payments'!$G$8)","v":""},{"$f":"_xlfn.IFNA(IF(A280=\"\",\"\",(VLOOKUP(A280,'Step 3. Lease Payments'!B:G,6,))),\"0\")","v":""},""]
[{"$f":"IF(A280<'Step 4. Classification'!$E$17,'Output FIN Lease Amort'!A280+1,\"\")","v":""},"","",{"$f":"IF(A281=\"\",\"\",$C$10/'Step 4. Classification'!$E$17)","v":""},"",null,"",{"$f":"IF(A281=\"\",\"\",G281*'Step 3. Lease Payments'!$G$8)","v":""},{"$f":"_xlfn.IFNA(IF(A281=\"\",\"\",(VLOOKUP(A281,'Step 3. Lease Payments'!B:G,6,))),\"0\")","v":""},""]
[{"$f":"IF(A281<'Step 4. Classification'!$E$17,'Output FIN Lease Amort'!A281+1,\"\")","v":""},"","",{"$f":"IF(A282=\"\",\"\",$C$10/'Step 4. Classification'!$E$17)","v":""},"",null,"",{"$f":"IF(A282=\"\",\"\",G282*'Step 3. Lease Payments'!$G$8)","v":""},{"$f":"_xlfn.IFNA(IF(A282=\"\",\"\",(VLOOKUP(A282,'Step 3. Lease Payments'!B:G,6,))),\"0\")","v":""},""]
[{"$f":"IF(A282<'Step 4. Classification'!$E$17,'Output FIN Lease Amort'!A282+1,\"\")","v":""},"","",{"$f":"IF(A283=\"\",\"\",$C$10/'Step 4. Classification'!$E$17)","v":""},"",null,"",{"$f":"IF(A283=\"\",\"\",G283*'Step 3. Lease Payments'!$G$8)","v":""},{"$f":"_xlfn.IFNA(IF(A283=\"\",\"\",(VLOOKUP(A283,'Step 3. Lease Payments'!B:G,6,))),\"0\")","v":""},""]
[{"$f":"IF(A283<'Step 4. Classification'!$E$17,'Output FIN Lease Amort'!A283+1,\"\")","v":""},"","",{"$f":"IF(A284=\"\",\"\",$C$10/'Step 4. Classification'!$E$17)","v":""},"",null,"",{"$f":"IF(A284=\"\",\"\",G284*'Step 3. Lease Payments'!$G$8)","v":""},{"$f":"_xlfn.IFNA(IF(A284=\"\",\"\",(VLOOKUP(A284,'Step 3. Lease Payments'!B:G,6,))),\"0\")","v":""},""]
[{"$f":"IF(A284<'Step 4. Classification'!$E$17,'Output FIN Lease Amort'!A284+1,\"\")","v":""},"","",{"$f":"IF(A285=\"\",\"\",$C$10/'Step 4. Classification'!$E$17)","v":""},"",null,"",{"$f":"IF(A285=\"\",\"\",G285*'Step 3. Lease Payments'!$G$8)","v":""},{"$f":"_xlfn.IFNA(IF(A285=\"\",\"\",(VLOOKUP(A285,'Step 3. Lease Payments'!B:G,6,))),\"0\")","v":""},""]
[{"$f":"IF(A285<'Step 4. Classification'!$E$17,'Output FIN Lease Amort'!A285+1,\"\")","v":""},"","",{"$f":"IF(A286=\"\",\"\",$C$10/'Step 4. Classification'!$E$17)","v":""},"",null,"",{"$f":"IF(A286=\"\",\"\",G286*'Step 3. Lease Payments'!$G$8)","v":""},{"$f":"_xlfn.IFNA(IF(A286=\"\",\"\",(VLOOKUP(A286,'Step 3. Lease Payments'!B:G,6,))),\"0\")","v":""},""]
[{"$f":"IF(A286<'Step 4. Classification'!$E$17,'Output FIN Lease Amort'!A286+1,\"\")","v":""},"","",{"$f":"IF(A287=\"\",\"\",$C$10/'Step 4. Classification'!$E$17)","v":""},"",null,"",{"$f":"IF(A287=\"\",\"\",G287*'Step 3. Lease Payments'!$G$8)","v":""},{"$f":"_xlfn.IFNA(IF(A287=\"\",\"\",(VLOOKUP(A287,'Step 3. Lease Payments'!B:G,6,))),\"0\")","v":""},""]
[{"$f":"IF(A287<'Step 4. Classification'!$E$17,'Output FIN Lease Amort'!A287+1,\"\")","v":""},"","",{"$f":"IF(A288=\"\",\"\",$C$10/'Step 4. Classification'!$E$17)","v":""},"",null,"",{"$f":"IF(A288=\"\",\"\",G288*'Step 3. Lease Payments'!$G$8)","v":""},{"$f":"_xlfn.IFNA(IF(A288=\"\",\"\",(VLOOKUP(A288,'Step 3. Lease Payments'!B:G,6,))),\"0\")","v":""},""]
[{"$f":"IF(A288<'Step 4. Classification'!$E$17,'Output FIN Lease Amort'!A288+1,\"\")","v":""},"","",{"$f":"IF(A289=\"\",\"\",$C$10/'Step 4. Classification'!$E$17)","v":""},"",null,"",{"$f":"IF(A289=\"\",\"\",G289*'Step 3. Lease Payments'!$G$8)","v":""},{"$f":"_xlfn.IFNA(IF(A289=\"\",\"\",(VLOOKUP(A289,'Step 3. Lease Payments'!B:G,6,))),\"0\")","v":""},""]
[{"$f":"IF(A289<'Step 4. Classification'!$E$17,'Output FIN Lease Amort'!A289+1,\"\")","v":""},"","",{"$f":"IF(A290=\"\",\"\",$C$10/'Step 4. Classification'!$E$17)","v":""},"",null,"",{"$f":"IF(A290=\"\",\"\",G290*'Step 3. Lease Payments'!$G$8)","v":""},{"$f":"_xlfn.IFNA(IF(A290=\"\",\"\",(VLOOKUP(A290,'Step 3. Lease Payments'!B:G,6,))),\"0\")","v":""},""]
[{"$f":"IF(A290<'Step 4. Classification'!$E$17,'Output FIN Lease Amort'!A290+1,\"\")","v":""},"","",{"$f":"IF(A291=\"\",\"\",$C$10/'Step 4. Classification'!$E$17)","v":""},"",null,"",{"$f":"IF(A291=\"\",\"\",G291*'Step 3. Lease Payments'!$G$8)","v":""},{"$f":"_xlfn.IFNA(IF(A291=\"\",\"\",(VLOOKUP(A291,'Step 3. Lease Payments'!B:G,6,))),\"0\")","v":""},""]
[{"$f":"IF(A291<'Step 4. Classification'!$E$17,'Output FIN Lease Amort'!A291+1,\"\")","v":""},"","",{"$f":"IF(A292=\"\",\"\",$C$10/'Step 4. Classification'!$E$17)","v":""},"",null,"",{"$f":"IF(A292=\"\",\"\",G292*'Step 3. Lease Payments'!$G$8)","v":""},{"$f":"_xlfn.IFNA(IF(A292=\"\",\"\",(VLOOKUP(A292,'Step 3. Lease Payments'!B:G,6,))),\"0\")","v":""},""]
[{"$f":"IF(A292<'Step 4. Classification'!$E$17,'Output FIN Lease Amort'!A292+1,\"\")","v":""},"","",{"$f":"IF(A293=\"\",\"\",$C$10/'Step 4. Classification'!$E$17)","v":""},"",null,"",{"$f":"IF(A293=\"\",\"\",G293*'Step 3. Lease Payments'!$G$8)","v":""},{"$f":"_xlfn.IFNA(IF(A293=\"\",\"\",(VLOOKUP(A293,'Step 3. Lease Payments'!B:G,6,))),\"0\")","v":""},""]
[{"$f":"IF(A293<'Step 4. Classification'!$E$17,'Output FIN Lease Amort'!A293+1,\"\")","v":""},"","",{"$f":"IF(A294=\"\",\"\",$C$10/'Step 4. Classification'!$E$17)","v":""},"",null,"",{"$f":"IF(A294=\"\",\"\",G294*'Step 3. Lease Payments'!$G$8)","v":""},{"$f":"_xlfn.IFNA(IF(A294=\"\",\"\",(VLOOKUP(A294,'Step 3. Lease Payments'!B:G,6,))),\"0\")","v":""},""]
[{"$f":"IF(A294<'Step 4. Classification'!$E$17,'Output FIN Lease Amort'!A294+1,\"\")","v":""},"","",{"$f":"IF(A295=\"\",\"\",$C$10/'Step 4. Classification'!$E$17)","v":""},"",null,"",{"$f":"IF(A295=\"\",\"\",G295*'Step 3. Lease Payments'!$G$8)","v":""},{"$f":"_xlfn.IFNA(IF(A295=\"\",\"\",(VLOOKUP(A295,'Step 3. Lease Payments'!B:G,6,))),\"0\")","v":""},""]
[{"$f":"IF(A295<'Step 4. Classification'!$E$17,'Output FIN Lease Amort'!A295+1,\"\")","v":""},"","",{"$f":"IF(A296=\"\",\"\",$C$10/'Step 4. Classification'!$E$17)","v":""},"",null,"",{"$f":"IF(A296=\"\",\"\",G296*'Step 3. Lease Payments'!$G$8)","v":""},{"$f":"_xlfn.IFNA(IF(A296=\"\",\"\",(VLOOKUP(A296,'Step 3. Lease Payments'!B:G,6,))),\"0\")","v":""},""]
[{"$f":"IF(A296<'Step 4. Classification'!$E$17,'Output FIN Lease Amort'!A296+1,\"\")","v":""},"","",{"$f":"IF(A297=\"\",\"\",$C$10/'Step 4. Classification'!$E$17)","v":""},"",null,"",{"$f":"IF(A297=\"\",\"\",G297*'Step 3. Lease Payments'!$G$8)","v":""},{"$f":"_xlfn.IFNA(IF(A297=\"\",\"\",(VLOOKUP(A297,'Step 3. Lease Payments'!B:G,6,))),\"0\")","v":""},""]
[{"$f":"IF(A297<'Step 4. Classification'!$E$17,'Output FIN Lease Amort'!A297+1,\"\")","v":""},"","",{"$f":"IF(A298=\"\",\"\",$C$10/'Step 4. Classification'!$E$17)","v":""},"",null,"",{"$f":"IF(A298=\"\",\"\",G298*'Step 3. Lease Payments'!$G$8)","v":""},{"$f":"_xlfn.IFNA(IF(A298=\"\",\"\",(VLOOKUP(A298,'Step 3. Lease Payments'!B:G,6,))),\"0\")","v":""},""]
[{"$f":"IF(A298<'Step 4. Classification'!$E$17,'Output FIN Lease Amort'!A298+1,\"\")","v":""},"","",{"$f":"IF(A299=\"\",\"\",$C$10/'Step 4. Classification'!$E$17)","v":""},"",null,"",{"$f":"IF(A299=\"\",\"\",G299*'Step 3. Lease Payments'!$G$8)","v":""},{"$f":"_xlfn.IFNA(IF(A299=\"\",\"\",(VLOOKUP(A299,'Step 3. Lease Payments'!B:G,6,))),\"0\")","v":""},""]
[{"$f":"IF(A299<'Step 4. Classification'!$E$17,'Output FIN Lease Amort'!A299+1,\"\")","v":""},"","",{"$f":"IF(A300=\"\",\"\",$C$10/'Step 4. Classification'!$E$17)","v":""},"",null,"",{"$f":"IF(A300=\"\",\"\",G300*'Step 3. Lease Payments'!$G$8)","v":""},{"$f":"_xlfn.IFNA(IF(A300=\"\",\"\",(VLOOKUP(A300,'Step 3. Lease Payments'!B:G,6,))),\"0\")","v":""},""]
[{"$f":"IF(A300<'Step 4. Classification'!$E$17,'Output FIN Lease Amort'!A300+1,\"\")","v":""},"","",{"$f":"IF(A301=\"\",\"\",$C$10/'Step 4. Classification'!$E$17)","v":""},"",null,"",{"$f":"IF(A301=\"\",\"\",G301*'Step 3. Lease Payments'!$G$8)","v":""},{"$f":"_xlfn.IFNA(IF(A301=\"\",\"\",(VLOOKUP(A301,'Step 3. Lease Payments'!B:G,6,))),\"0\")","v":""},""]
[{"$f":"IF(A301<'Step 4. Classification'!$E$17,'Output FIN Lease Amort'!A301+1,\"\")","v":""},"","",{"$f":"IF(A302=\"\",\"\",$C$10/'Step 4. Classification'!$E$17)","v":""},"",null,"",{"$f":"IF(A302=\"\",\"\",G302*'Step 3. Lease Payments'!$G$8)","v":""},{"$f":"_xlfn.IFNA(IF(A302=\"\",\"\",(VLOOKUP(A302,'Step 3. Lease Payments'!B:G,6,))),\"0\")","v":""},""]
[{"$f":"IF(A302<'Step 4. Classification'!$E$17,'Output FIN Lease Amort'!A302+1,\"\")","v":""},"","",{"$f":"IF(A303=\"\",\"\",$C$10/'Step 4. Classification'!$E$17)","v":""},"",null,"",{"$f":"IF(A303=\"\",\"\",G303*'Step 3. Lease Payments'!$G$8)","v":""},{"$f":"_xlfn.IFNA(IF(A303=\"\",\"\",(VLOOKUP(A303,'Step 3. Lease Payments'!B:G,6,))),\"0\")","v":""},""]
[{"$f":"IF(A303<'Step 4. Classification'!$E$17,'Output FIN Lease Amort'!A303+1,\"\")","v":""},"","",{"$f":"IF(A304=\"\",\"\",$C$10/'Step 4. Classification'!$E$17)","v":""},"",null,"",{"$f":"IF(A304=\"\",\"\",G304*'Step 3. Lease Payments'!$G$8)","v":""},{"$f":"_xlfn.IFNA(IF(A304=\"\",\"\",(VLOOKUP(A304,'Step 3. Lease Payments'!B:G,6,))),\"0\")","v":""},""]
[{"$f":"IF(A304<'Step 4. Classification'!$E$17,'Output FIN Lease Amort'!A304+1,\"\")","v":""},"","",{"$f":"IF(A305=\"\",\"\",$C$10/'Step 4. Classification'!$E$17)","v":""},"",null,"",{"$f":"IF(A305=\"\",\"\",G305*'Step 3. Lease Payments'!$G$8)","v":""},{"$f":"_xlfn.IFNA(IF(A305=\"\",\"\",(VLOOKUP(A305,'Step 3. Lease Payments'!B:G,6,))),\"0\")","v":""},""]
[{"$f":"IF(A305<'Step 4. Classification'!$E$17,'Output FIN Lease Amort'!A305+1,\"\")","v":""},"","",{"$f":"IF(A306=\"\",\"\",$C$10/'Step 4. Classification'!$E$17)","v":""},"",null,"",{"$f":"IF(A306=\"\",\"\",G306*'Step 3. Lease Payments'!$G$8)","v":""},{"$f":"_xlfn.IFNA(IF(A306=\"\",\"\",(VLOOKUP(A306,'Step 3. Lease Payments'!B:G,6,))),\"0\")","v":""},""]
[{"$f":"IF(A306<'Step 4. Classification'!$E$17,'Output FIN Lease Amort'!A306+1,\"\")","v":""},"","",{"$f":"IF(A307=\"\",\"\",$C$10/'Step 4. Classification'!$E$17)","v":""},"",null,"",{"$f":"IF(A307=\"\",\"\",G307*'Step 3. Lease Payments'!$G$8)","v":""},{"$f":"_xlfn.IFNA(IF(A307=\"\",\"\",(VLOOKUP(A307,'Step 3. Lease Payments'!B:G,6,))),\"0\")","v":""},""]
[{"$f":"IF(A307<'Step 4. Classification'!$E$17,'Output FIN Lease Amort'!A307+1,\"\")","v":""},"","",{"$f":"IF(A308=\"\",\"\",$C$10/'Step 4. Classification'!$E$17)","v":""},"",null,"",{"$f":"IF(A308=\"\",\"\",G308*'Step 3. Lease Payments'!$G$8)","v":""},{"$f":"_xlfn.IFNA(IF(A308=\"\",\"\",(VLOOKUP(A308,'Step 3. Lease Payments'!B:G,6,))),\"0\")","v":""},""]
[{"$f":"IF(A308<'Step 4. Classification'!$E$17,'Output FIN Lease Amort'!A308+1,\"\")","v":""},"","",{"$f":"IF(A309=\"\",\"\",$C$10/'Step 4. Classification'!$E$17)","v":""},"",null,"",{"$f":"IF(A309=\"\",\"\",G309*'Step 3. Lease Payments'!$G$8)","v":""},{"$f":"_xlfn.IFNA(IF(A309=\"\",\"\",(VLOOKUP(A309,'Step 3. Lease Payments'!B:G,6,))),\"0\")","v":""},""]
[{"$f":"IF(A309<'Step 4. Classification'!$E$17,'Output FIN Lease Amort'!A309+1,\"\")","v":""},"","",{"$f":"IF(A310=\"\",\"\",$C$10/'Step 4. Classification'!$E$17)","v":""},"",null,"",{"$f":"IF(A310=\"\",\"\",G310*'Step 3. Lease Payments'!$G$8)","v":""},{"$f":"_xlfn.IFNA(IF(A310=\"\",\"\",(VLOOKUP(A310,'Step 3. Lease Payments'!B:G,6,))),\"0\")","v":""},""]
[{"$f":"IF(A310<'Step 4. Classification'!$E$17,'Output FIN Lease Amort'!A310+1,\"\")","v":""},"","",{"$f":"IF(A311=\"\",\"\",$C$10/'Step 4. Classification'!$E$17)","v":""},"",null,"",{"$f":"IF(A311=\"\",\"\",G311*'Step 3. Lease Payments'!$G$8)","v":""},{"$f":"_xlfn.IFNA(IF(A311=\"\",\"\",(VLOOKUP(A311,'Step 3. Lease Payments'!B:G,6,))),\"0\")","v":""},""]
[{"$f":"IF(A311<'Step 4. Classification'!$E$17,'Output FIN Lease Amort'!A311+1,\"\")","v":""},"","",{"$f":"IF(A312=\"\",\"\",$C$10/'Step 4. Classification'!$E$17)","v":""},"",null,"",{"$f":"IF(A312=\"\",\"\",G312*'Step 3. Lease Payments'!$G$8)","v":""},{"$f":"_xlfn.IFNA(IF(A312=\"\",\"\",(VLOOKUP(A312,'Step 3. Lease Payments'!B:G,6,))),\"0\")","v":""},""]
[{"$f":"IF(A312<'Step 4. Classification'!$E$17,'Output FIN Lease Amort'!A312+1,\"\")","v":""},"","",{"$f":"IF(A313=\"\",\"\",$C$10/'Step 4. Classification'!$E$17)","v":""},"",null,"",{"$f":"IF(A313=\"\",\"\",G313*'Step 3. Lease Payments'!$G$8)","v":""},{"$f":"_xlfn.IFNA(IF(A313=\"\",\"\",(VLOOKUP(A313,'Step 3. Lease Payments'!B:G,6,))),\"0\")","v":""},""]
[{"$f":"IF(A313<'Step 4. Classification'!$E$17,'Output FIN Lease Amort'!A313+1,\"\")","v":""},"","",{"$f":"IF(A314=\"\",\"\",$C$10/'Step 4. Classification'!$E$17)","v":""},"",null,"",{"$f":"IF(A314=\"\",\"\",G314*'Step 3. Lease Payments'!$G$8)","v":""},{"$f":"_xlfn.IFNA(IF(A314=\"\",\"\",(VLOOKUP(A314,'Step 3. Lease Payments'!B:G,6,))),\"0\")","v":""},""]
[{"$f":"IF(A314<'Step 4. Classification'!$E$17,'Output FIN Lease Amort'!A314+1,\"\")","v":""},"","",{"$f":"IF(A315=\"\",\"\",$C$10/'Step 4. Classification'!$E$17)","v":""},"",null,"",{"$f":"IF(A315=\"\",\"\",G315*'Step 3. Lease Payments'!$G$8)","v":""},{"$f":"_xlfn.IFNA(IF(A315=\"\",\"\",(VLOOKUP(A315,'Step 3. Lease Payments'!B:G,6,))),\"0\")","v":""},""]
[{"$f":"IF(A315<'Step 4. Classification'!$E$17,'Output FIN Lease Amort'!A315+1,\"\")","v":""},"","",{"$f":"IF(A316=\"\",\"\",$C$10/'Step 4. Classification'!$E$17)","v":""},"",null,"",{"$f":"IF(A316=\"\",\"\",G316*'Step 3. Lease Payments'!$G$8)","v":""},{"$f":"_xlfn.IFNA(IF(A316=\"\",\"\",(VLOOKUP(A316,'Step 3. Lease Payments'!B:G,6,))),\"0\")","v":""},""]
[{"$f":"IF(A316<'Step 4. Classification'!$E$17,'Output FIN Lease Amort'!A316+1,\"\")","v":""},"","",{"$f":"IF(A317=\"\",\"\",$C$10/'Step 4. Classification'!$E$17)","v":""},"",null,"",{"$f":"IF(A317=\"\",\"\",G317*'Step 3. Lease Payments'!$G$8)","v":""},{"$f":"_xlfn.IFNA(IF(A317=\"\",\"\",(VLOOKUP(A317,'Step 3. Lease Payments'!B:G,6,))),\"0\")","v":""},""]
[{"$f":"IF(A317<'Step 4. Classification'!$E$17,'Output FIN Lease Amort'!A317+1,\"\")","v":""},"","",{"$f":"IF(A318=\"\",\"\",$C$10/'Step 4. Classification'!$E$17)","v":""},"",null,"",{"$f":"IF(A318=\"\",\"\",G318*'Step 3. Lease Payments'!$G$8)","v":""},{"$f":"_xlfn.IFNA(IF(A318=\"\",\"\",(VLOOKUP(A318,'Step 3. Lease Payments'!B:G,6,))),\"0\")","v":""},""]
[{"$f":"IF(A318<'Step 4. Classification'!$E$17,'Output FIN Lease Amort'!A318+1,\"\")","v":""},"","",{"$f":"IF(A319=\"\",\"\",$C$10/'Step 4. Classification'!$E$17)","v":""},"",null,"",{"$f":"IF(A319=\"\",\"\",G319*'Step 3. Lease Payments'!$G$8)","v":""},{"$f":"_xlfn.IFNA(IF(A319=\"\",\"\",(VLOOKUP(A319,'Step 3. Lease Payments'!B:G,6,))),\"0\")","v":""},""]
[{"$f":"IF(A319<'Step 4. Classification'!$E$17,'Output FIN Lease Amort'!A319+1,\"\")","v":""},"","",{"$f":"IF(A320=\"\",\"\",$C$10/'Step 4. Classification'!$E$17)","v":""},"",null,"",{"$f":"IF(A320=\"\",\"\",G320*'Step 3. Lease Payments'!$G$8)","v":""},{"$f":"_xlfn.IFNA(IF(A320=\"\",\"\",(VLOOKUP(A320,'Step 3. Lease Payments'!B:G,6,))),\"0\")","v":""},""]
[{"$f":"IF(A320<'Step 4. Classification'!$E$17,'Output FIN Lease Amort'!A320+1,\"\")","v":""},"","",{"$f":"IF(A321=\"\",\"\",$C$10/'Step 4. Classification'!$E$17)","v":""},"",null,"",{"$f":"IF(A321=\"\",\"\",G321*'Step 3. Lease Payments'!$G$8)","v":""},{"$f":"_xlfn.IFNA(IF(A321=\"\",\"\",(VLOOKUP(A321,'Step 3. Lease Payments'!B:G,6,))),\"0\")","v":""},""]
[{"$f":"IF(A321<'Step 4. Classification'!$E$17,'Output FIN Lease Amort'!A321+1,\"\")","v":""},"","",{"$f":"IF(A322=\"\",\"\",$C$10/'Step 4. Classification'!$E$17)","v":""},"",null,"",{"$f":"IF(A322=\"\",\"\",G322*'Step 3. Lease Payments'!$G$8)","v":""},{"$f":"_xlfn.IFNA(IF(A322=\"\",\"\",(VLOOKUP(A322,'Step 3. Lease Payments'!B:G,6,))),\"0\")","v":""},""]
[{"$f":"IF(A322<'Step 4. Classification'!$E$17,'Output FIN Lease Amort'!A322+1,\"\")","v":""},"","",{"$f":"IF(A323=\"\",\"\",$C$10/'Step 4. Classification'!$E$17)","v":""},"",null,"",{"$f":"IF(A323=\"\",\"\",G323*'Step 3. Lease Payments'!$G$8)","v":""},{"$f":"_xlfn.IFNA(IF(A323=\"\",\"\",(VLOOKUP(A323,'Step 3. Lease Payments'!B:G,6,))),\"0\")","v":""},""]
[{"$f":"IF(A323<'Step 4. Classification'!$E$17,'Output FIN Lease Amort'!A323+1,\"\")","v":""},"","",{"$f":"IF(A324=\"\",\"\",$C$10/'Step 4. Classification'!$E$17)","v":""},"",null,"",{"$f":"IF(A324=\"\",\"\",G324*'Step 3. Lease Payments'!$G$8)","v":""},{"$f":"_xlfn.IFNA(IF(A324=\"\",\"\",(VLOOKUP(A324,'Step 3. Lease Payments'!B:G,6,))),\"0\")","v":""},""]
[{"$f":"IF(A324<'Step 4. Classification'!$E$17,'Output FIN Lease Amort'!A324+1,\"\")","v":""},"","",{"$f":"IF(A325=\"\",\"\",$C$10/'Step 4. Classification'!$E$17)","v":""},"",null,"",{"$f":"IF(A325=\"\",\"\",G325*'Step 3. Lease Payments'!$G$8)","v":""},{"$f":"_xlfn.IFNA(IF(A325=\"\",\"\",(VLOOKUP(A325,'Step 3. Lease Payments'!B:G,6,))),\"0\")","v":""},""]
[{"$f":"IF(A325<'Step 4. Classification'!$E$17,'Output FIN Lease Amort'!A325+1,\"\")","v":""},"","",{"$f":"IF(A326=\"\",\"\",$C$10/'Step 4. Classification'!$E$17)","v":""},"",null,"",{"$f":"IF(A326=\"\",\"\",G326*'Step 3. Lease Payments'!$G$8)","v":""},{"$f":"_xlfn.IFNA(IF(A326=\"\",\"\",(VLOOKUP(A326,'Step 3. Lease Payments'!B:G,6,))),\"0\")","v":""},""]
[{"$f":"IF(A326<'Step 4. Classification'!$E$17,'Output FIN Lease Amort'!A326+1,\"\")","v":""},"","",{"$f":"IF(A327=\"\",\"\",$C$10/'Step 4. Classification'!$E$17)","v":""},"",null,"",{"$f":"IF(A327=\"\",\"\",G327*'Step 3. Lease Payments'!$G$8)","v":""},{"$f":"_xlfn.IFNA(IF(A327=\"\",\"\",(VLOOKUP(A327,'Step 3. Lease Payments'!B:G,6,))),\"0\")","v":""},""]
[{"$f":"IF(A327<'Step 4. Classification'!$E$17,'Output FIN Lease Amort'!A327+1,\"\")","v":""},"","",{"$f":"IF(A328=\"\",\"\",$C$10/'Step 4. Classification'!$E$17)","v":""},"",null,"",{"$f":"IF(A328=\"\",\"\",G328*'Step 3. Lease Payments'!$G$8)","v":""},{"$f":"_xlfn.IFNA(IF(A328=\"\",\"\",(VLOOKUP(A328,'Step 3. Lease Payments'!B:G,6,))),\"0\")","v":""},""]
[{"$f":"IF(A328<'Step 4. Classification'!$E$17,'Output FIN Lease Amort'!A328+1,\"\")","v":""},"","",{"$f":"IF(A329=\"\",\"\",$C$10/'Step 4. Classification'!$E$17)","v":""},"",null,"",{"$f":"IF(A329=\"\",\"\",G329*'Step 3. Lease Payments'!$G$8)","v":""},{"$f":"_xlfn.IFNA(IF(A329=\"\",\"\",(VLOOKUP(A329,'Step 3. Lease Payments'!B:G,6,))),\"0\")","v":""},""]
[{"$f":"IF(A329<'Step 4. Classification'!$E$17,'Output FIN Lease Amort'!A329+1,\"\")","v":""},"","",{"$f":"IF(A330=\"\",\"\",$C$10/'Step 4. Classification'!$E$17)","v":""},"",null,"",{"$f":"IF(A330=\"\",\"\",G330*'Step 3. Lease Payments'!$G$8)","v":""},{"$f":"_xlfn.IFNA(IF(A330=\"\",\"\",(VLOOKUP(A330,'Step 3. Lease Payments'!B:G,6,))),\"0\")","v":""},""]
[{"$f":"IF(A330<'Step 4. Classification'!$E$17,'Output FIN Lease Amort'!A330+1,\"\")","v":""},{"$f":"IF(A331=\"\",\"\",(DATE(YEAR(B330),MONTH(B330)+1,DAY(B330))))","v":""},{"$f":"IF(A331=\"\",\"\",E330)","v":""},{"$f":"IF(A331=\"\",\"\",$C$10/'Step 4. Classification'!$E$17)","v":""},{"$f":"IF(A331=\"\",\"\",C331-D331)","v":""},null,{"$f":"IF(A331=\"\",\"\",J330)","v":""},{"$f":"IF(A331=\"\",\"\",G331*'Step 3. Lease Payments'!$G$8)","v":""},{"$f":"_xlfn.IFNA(IF(A331=\"\",\"\",(VLOOKUP(A331,'Step 3. Lease Payments'!B:G,6,))),\"0\")","v":""},{"$f":"IF(A331=\"\",\"\",G331-I331+H331)","v":""}]
[{"$f":"IF(A331<'Step 4. Classification'!$E$17,'Output FIN Lease Amort'!A331+1,\"\")","v":""},"","",{"$f":"IF(A332=\"\",\"\",$C$10/'Step 4. Classification'!$E$17)","v":""},"",null,"",{"$f":"IF(A332=\"\",\"\",G332*'Step 3. Lease Payments'!$G$8)","v":""},{"$f":"_xlfn.IFNA(IF(A332=\"\",\"\",(VLOOKUP(A332,'Step 3. Lease Payments'!B:G,6,))),\"0\")","v":""},""]
[{"$f":"IF(A332<'Step 4. Classification'!$E$17,'Output FIN Lease Amort'!A332+1,\"\")","v":""},"","",{"$f":"IF(A333=\"\",\"\",$C$10/'Step 4. Classification'!$E$17)","v":""},"",null,"",{"$f":"IF(A333=\"\",\"\",G333*'Step 3. Lease Payments'!$G$8)","v":""},{"$f":"_xlfn.IFNA(IF(A333=\"\",\"\",(VLOOKUP(A333,'Step 3. Lease Payments'!B:G,6,))),\"0\")","v":""},""]
[{"$f":"IF(A333<'Step 4. Classification'!$E$17,'Output FIN Lease Amort'!A333+1,\"\")","v":""},"","",{"$f":"IF(A334=\"\",\"\",$C$10/'Step 4. Classification'!$E$17)","v":""},"",null,"",{"$f":"IF(A334=\"\",\"\",G334*'Step 3. Lease Payments'!$G$8)","v":""},{"$f":"_xlfn.IFNA(IF(A334=\"\",\"\",(VLOOKUP(A334,'Step 3. Lease Payments'!B:G,6,))),\"0\")","v":""},""]
[{"$f":"IF(A334<'Step 4. Classification'!$E$17,'Output FIN Lease Amort'!A334+1,\"\")","v":""},"","",{"$f":"IF(A335=\"\",\"\",$C$10/'Step 4. Classification'!$E$17)","v":""},"",null,"",{"$f":"IF(A335=\"\",\"\",G335*'Step 3. Lease Payments'!$G$8)","v":""},{"$f":"_xlfn.IFNA(IF(A335=\"\",\"\",(VLOOKUP(A335,'Step 3. Lease Payments'!B:G,6,))),\"0\")","v":""},""]
[{"$f":"IF(A335<'Step 4. Classification'!$E$17,'Output FIN Lease Amort'!A335+1,\"\")","v":""},"","",{"$f":"IF(A336=\"\",\"\",$C$10/'Step 4. Classification'!$E$17)","v":""},"",null,"",{"$f":"IF(A336=\"\",\"\",G336*'Step 3. Lease Payments'!$G$8)","v":""},{"$f":"_xlfn.IFNA(IF(A336=\"\",\"\",(VLOOKUP(A336,'Step 3. Lease Payments'!B:G,6,))),\"0\")","v":""},""]
[{"$f":"IF(A336<'Step 4. Classification'!$E$17,'Output FIN Lease Amort'!A336+1,\"\")","v":""},"","",{"$f":"IF(A337=\"\",\"\",$C$10/'Step 4. Classification'!$E$17)","v":""},"",null,"",{"$f":"IF(A337=\"\",\"\",G337*'Step 3. Lease Payments'!$G$8)","v":""},{"$f":"_xlfn.IFNA(IF(A337=\"\",\"\",(VLOOKUP(A337,'Step 3. Lease Payments'!B:G,6,))),\"0\")","v":""},""]
[{"$f":"IF(A337<'Step 4. Classification'!$E$17,'Output FIN Lease Amort'!A337+1,\"\")","v":""},"","",{"$f":"IF(A338=\"\",\"\",$C$10/'Step 4. Classification'!$E$17)","v":""},"",null,"",{"$f":"IF(A338=\"\",\"\",G338*'Step 3. Lease Payments'!$G$8)","v":""},{"$f":"_xlfn.IFNA(IF(A338=\"\",\"\",(VLOOKUP(A338,'Step 3. Lease Payments'!B:G,6,))),\"0\")","v":""},""]
[{"$f":"IF(A338<'Step 4. Classification'!$E$17,'Output FIN Lease Amort'!A338+1,\"\")","v":""},"","",{"$f":"IF(A339=\"\",\"\",$C$10/'Step 4. Classification'!$E$17)","v":""},"",null,"",{"$f":"IF(A339=\"\",\"\",G339*'Step 3. Lease Payments'!$G$8)","v":""},{"$f":"_xlfn.IFNA(IF(A339=\"\",\"\",(VLOOKUP(A339,'Step 3. Lease Payments'!B:G,6,))),\"0\")","v":""},""]
[{"$f":"IF(A339<'Step 4. Classification'!$E$17,'Output FIN Lease Amort'!A339+1,\"\")","v":""},"","",{"$f":"IF(A340=\"\",\"\",$C$10/'Step 4. Classification'!$E$17)","v":""},"",null,"",{"$f":"IF(A340=\"\",\"\",G340*'Step 3. Lease Payments'!$G$8)","v":""},{"$f":"_xlfn.IFNA(IF(A340=\"\",\"\",(VLOOKUP(A340,'Step 3. Lease Payments'!B:G,6,))),\"0\")","v":""},""]
[{"$f":"IF(A340<'Step 4. Classification'!$E$17,'Output FIN Lease Amort'!A340+1,\"\")","v":""},"","",{"$f":"IF(A341=\"\",\"\",$C$10/'Step 4. Classification'!$E$17)","v":""},"",null,"",{"$f":"IF(A341=\"\",\"\",G341*'Step 3. Lease Payments'!$G$8)","v":""},{"$f":"_xlfn.IFNA(IF(A341=\"\",\"\",(VLOOKUP(A341,'Step 3. Lease Payments'!B:G,6,))),\"0\")","v":""},""]
[{"$f":"IF(A341<'Step 4. Classification'!$E$17,'Output FIN Lease Amort'!A341+1,\"\")","v":""},"","",{"$f":"IF(A342=\"\",\"\",$C$10/'Step 4. Classification'!$E$17)","v":""},"",null,"",{"$f":"IF(A342=\"\",\"\",G342*'Step 3. Lease Payments'!$G$8)","v":""},{"$f":"_xlfn.IFNA(IF(A342=\"\",\"\",(VLOOKUP(A342,'Step 3. Lease Payments'!B:G,6,))),\"0\")","v":""},""]
[{"$f":"IF(A342<'Step 4. Classification'!$E$17,'Output FIN Lease Amort'!A342+1,\"\")","v":""},"","",{"$f":"IF(A343=\"\",\"\",$C$10/'Step 4. Classification'!$E$17)","v":""},"",null,"",{"$f":"IF(A343=\"\",\"\",G343*'Step 3. Lease Payments'!$G$8)","v":""},{"$f":"_xlfn.IFNA(IF(A343=\"\",\"\",(VLOOKUP(A343,'Step 3. Lease Payments'!B:G,6,))),\"0\")","v":""},""]
[{"$f":"IF(A343<'Step 4. Classification'!$E$17,'Output FIN Lease Amort'!A343+1,\"\")","v":""},"","",{"$f":"IF(A344=\"\",\"\",$C$10/'Step 4. Classification'!$E$17)","v":""},"",null,"",{"$f":"IF(A344=\"\",\"\",G344*'Step 3. Lease Payments'!$G$8)","v":""},{"$f":"_xlfn.IFNA(IF(A344=\"\",\"\",(VLOOKUP(A344,'Step 3. Lease Payments'!B:G,6,))),\"0\")","v":""},""]
[{"$f":"IF(A344<'Step 4. Classification'!$E$17,'Output FIN Lease Amort'!A344+1,\"\")","v":""},"","",{"$f":"IF(A345=\"\",\"\",$C$10/'Step 4. Classification'!$E$17)","v":""},"",null,"",{"$f":"IF(A345=\"\",\"\",G345*'Step 3. Lease Payments'!$G$8)","v":""},{"$f":"_xlfn.IFNA(IF(A345=\"\",\"\",(VLOOKUP(A345,'Step 3. Lease Payments'!B:G,6,))),\"0\")","v":""},""]
[{"$f":"IF(A345<'Step 4. Classification'!$E$17,'Output FIN Lease Amort'!A345+1,\"\")","v":""},"","",{"$f":"IF(A346=\"\",\"\",$C$10/'Step 4. Classification'!$E$17)","v":""},"",null,"",{"$f":"IF(A346=\"\",\"\",G346*'Step 3. Lease Payments'!$G$8)","v":""},{"$f":"_xlfn.IFNA(IF(A346=\"\",\"\",(VLOOKUP(A346,'Step 3. Lease Payments'!B:G,6,))),\"0\")","v":""},""]
[{"$f":"IF(A346<'Step 4. Classification'!$E$17,'Output FIN Lease Amort'!A346+1,\"\")","v":""},"","",{"$f":"IF(A347=\"\",\"\",$C$10/'Step 4. Classification'!$E$17)","v":""},"",null,"",{"$f":"IF(A347=\"\",\"\",G347*'Step 3. Lease Payments'!$G$8)","v":""},{"$f":"_xlfn.IFNA(IF(A347=\"\",\"\",(VLOOKUP(A347,'Step 3. Lease Payments'!B:G,6,))),\"0\")","v":""},""]
[{"$f":"IF(A347<'Step 4. Classification'!$E$17,'Output FIN Lease Amort'!A347+1,\"\")","v":""},"","",{"$f":"IF(A348=\"\",\"\",$C$10/'Step 4. Classification'!$E$17)","v":""},"",null,"",{"$f":"IF(A348=\"\",\"\",G348*'Step 3. Lease Payments'!$G$8)","v":""},{"$f":"_xlfn.IFNA(IF(A348=\"\",\"\",(VLOOKUP(A348,'Step 3. Lease Payments'!B:G,6,))),\"0\")","v":""},""]
[{"$f":"IF(A348<'Step 4. Classification'!$E$17,'Output FIN Lease Amort'!A348+1,\"\")","v":""},"","",{"$f":"IF(A349=\"\",\"\",$C$10/'Step 4. Classification'!$E$17)","v":""},"",null,"",{"$f":"IF(A349=\"\",\"\",G349*'Step 3. Lease Payments'!$G$8)","v":""},{"$f":"_xlfn.IFNA(IF(A349=\"\",\"\",(VLOOKUP(A349,'Step 3. Lease Payments'!B:G,6,))),\"0\")","v":""},""]
[{"$f":"IF(A349<'Step 4. Classification'!$E$17,'Output FIN Lease Amort'!A349+1,\"\")","v":""},"","",{"$f":"IF(A350=\"\",\"\",$C$10/'Step 4. Classification'!$E$17)","v":""},"",null,"",{"$f":"IF(A350=\"\",\"\",G350*'Step 3. Lease Payments'!$G$8)","v":""},{"$f":"_xlfn.IFNA(IF(A350=\"\",\"\",(VLOOKUP(A350,'Step 3. Lease Payments'!B:G,6,))),\"0\")","v":""},""]
[{"$f":"IF(A350<'Step 4. Classification'!$E$17,'Output FIN Lease Amort'!A350+1,\"\")","v":""},"","",{"$f":"IF(A351=\"\",\"\",$C$10/'Step 4. Classification'!$E$17)","v":""},"",null,"",{"$f":"IF(A351=\"\",\"\",G351*'Step 3. Lease Payments'!$G$8)","v":""},{"$f":"_xlfn.IFNA(IF(A351=\"\",\"\",(VLOOKUP(A351,'Step 3. Lease Payments'!B:G,6,))),\"0\")","v":""},""]
[{"$f":"IF(A351<'Step 4. Classification'!$E$17,'Output FIN Lease Amort'!A351+1,\"\")","v":""},"","",{"$f":"IF(A352=\"\",\"\",$C$10/'Step 4. Classification'!$E$17)","v":""},"",null,"",{"$f":"IF(A352=\"\",\"\",G352*'Step 3. Lease Payments'!$G$8)","v":""},{"$f":"_xlfn.IFNA(IF(A352=\"\",\"\",(VLOOKUP(A352,'Step 3. Lease Payments'!B:G,6,))),\"0\")","v":""},""]
[{"$f":"IF(A352<'Step 4. Classification'!$E$17,'Output FIN Lease Amort'!A352+1,\"\")","v":""},"","",{"$f":"IF(A353=\"\",\"\",$C$10/'Step 4. Classification'!$E$17)","v":""},"",null,"",{"$f":"IF(A353=\"\",\"\",G353*'Step 3. Lease Payments'!$G$8)","v":""},{"$f":"_xlfn.IFNA(IF(A353=\"\",\"\",(VLOOKUP(A353,'Step 3. Lease Payments'!B:G,6,))),\"0\")","v":""},""]
[{"$f":"IF(A353<'Step 4. Classification'!$E$17,'Output FIN Lease Amort'!A353+1,\"\")","v":""},"","",{"$f":"IF(A354=\"\",\"\",$C$10/'Step 4. Classification'!$E$17)","v":""},"",null,"",{"$f":"IF(A354=\"\",\"\",G354*'Step 3. Lease Payments'!$G$8)","v":""},{"$f":"_xlfn.IFNA(IF(A354=\"\",\"\",(VLOOKUP(A354,'Step 3. Lease Payments'!B:G,6,))),\"0\")","v":""},""]
[{"$f":"IF(A354<'Step 4. Classification'!$E$17,'Output FIN Lease Amort'!A354+1,\"\")","v":""},"","",{"$f":"IF(A355=\"\",\"\",$C$10/'Step 4. Classification'!$E$17)","v":""},"",null,"",{"$f":"IF(A355=\"\",\"\",G355*'Step 3. Lease Payments'!$G$8)","v":""},{"$f":"_xlfn.IFNA(IF(A355=\"\",\"\",(VLOOKUP(A355,'Step 3. Lease Payments'!B:G,6,))),\"0\")","v":""},""]
[{"$f":"IF(A355<'Step 4. Classification'!$E$17,'Output FIN Lease Amort'!A355+1,\"\")","v":""},"","",{"$f":"IF(A356=\"\",\"\",$C$10/'Step 4. Classification'!$E$17)","v":""},"",null,"",{"$f":"IF(A356=\"\",\"\",G356*'Step 3. Lease Payments'!$G$8)","v":""},{"$f":"_xlfn.IFNA(IF(A356=\"\",\"\",(VLOOKUP(A356,'Step 3. Lease Payments'!B:G,6,))),\"0\")","v":""},""]
[{"$f":"IF(A356<'Step 4. Classification'!$E$17,'Output FIN Lease Amort'!A356+1,\"\")","v":""},"","",{"$f":"IF(A357=\"\",\"\",$C$10/'Step 4. Classification'!$E$17)","v":""},"",null,"",{"$f":"IF(A357=\"\",\"\",G357*'Step 3. Lease Payments'!$G$8)","v":""},{"$f":"_xlfn.IFNA(IF(A357=\"\",\"\",(VLOOKUP(A357,'Step 3. Lease Payments'!B:G,6,))),\"0\")","v":""},""]
[{"$f":"IF(A357<'Step 4. Classification'!$E$17,'Output FIN Lease Amort'!A357+1,\"\")","v":""},"","",{"$f":"IF(A358=\"\",\"\",$C$10/'Step 4. Classification'!$E$17)","v":""},"",null,"",{"$f":"IF(A358=\"\",\"\",G358*'Step 3. Lease Payments'!$G$8)","v":""},{"$f":"_xlfn.IFNA(IF(A358=\"\",\"\",(VLOOKUP(A358,'Step 3. Lease Payments'!B:G,6,))),\"0\")","v":""},""]
[{"$f":"IF(A358<'Step 4. Classification'!$E$17,'Output FIN Lease Amort'!A358+1,\"\")","v":""},"","",{"$f":"IF(A359=\"\",\"\",$C$10/'Step 4. Classification'!$E$17)","v":""},"",null,"",{"$f":"IF(A359=\"\",\"\",G359*'Step 3. Lease Payments'!$G$8)","v":""},{"$f":"_xlfn.IFNA(IF(A359=\"\",\"\",(VLOOKUP(A359,'Step 3. Lease Payments'!B:G,6,))),\"0\")","v":""},""]
[{"$f":"IF(A359<'Step 4. Classification'!$E$17,'Output FIN Lease Amort'!A359+1,\"\")","v":""},"","",{"$f":"IF(A360=\"\",\"\",$C$10/'Step 4. Classification'!$E$17)","v":""},"",null,"",{"$f":"IF(A360=\"\",\"\",G360*'Step 3. Lease Payments'!$G$8)","v":""},{"$f":"_xlfn.IFNA(IF(A360=\"\",\"\",(VLOOKUP(A360,'Step 3. Lease Payments'!B:G,6,))),\"0\")","v":""},""]
[{"$f":"IF(A360<'Step 4. Classification'!$E$17,'Output FIN Lease Amort'!A360+1,\"\")","v":""},"","",{"$f":"IF(A361=\"\",\"\",$C$10/'Step 4. Classification'!$E$17)","v":""},"",null,"",{"$f":"IF(A361=\"\",\"\",G361*'Step 3. Lease Payments'!$G$8)","v":""},{"$f":"_xlfn.IFNA(IF(A361=\"\",\"\",(VLOOKUP(A361,'Step 3. Lease Payments'!B:G,6,))),\"0\")","v":""},""]
[{"$f":"IF(A361<'Step 4. Classification'!$E$17,'Output FIN Lease Amort'!A361+1,\"\")","v":""},"","",{"$f":"IF(A362=\"\",\"\",$C$10/'Step 4. Classification'!$E$17)","v":""},"",null,"",{"$f":"IF(A362=\"\",\"\",G362*'Step 3. Lease Payments'!$G$8)","v":""},{"$f":"_xlfn.IFNA(IF(A362=\"\",\"\",(VLOOKUP(A362,'Step 3. Lease Payments'!B:G,6,))),\"0\")","v":""},""]
[{"$f":"IF(A362<'Step 4. Classification'!$E$17,'Output FIN Lease Amort'!A362+1,\"\")","v":""},"","",{"$f":"IF(A363=\"\",\"\",$C$10/'Step 4. Classification'!$E$17)","v":""},"",null,"",{"$f":"IF(A363=\"\",\"\",G363*'Step 3. Lease Payments'!$G$8)","v":""},{"$f":"_xlfn.IFNA(IF(A363=\"\",\"\",(VLOOKUP(A363,'Step 3. Lease Payments'!B:G,6,))),\"0\")","v":""},""]
[{"$f":"IF(A363<'Step 4. Classification'!$E$17,'Output FIN Lease Amort'!A363+1,\"\")","v":""},"","",{"$f":"IF(A364=\"\",\"\",$C$10/'Step 4. Classification'!$E$17)","v":""},"",null,"",{"$f":"IF(A364=\"\",\"\",G364*'Step 3. Lease Payments'!$G$8)","v":""},{"$f":"_xlfn.IFNA(IF(A364=\"\",\"\",(VLOOKUP(A364,'Step 3. Lease Payments'!B:G,6,))),\"0\")","v":""},""]
[{"$f":"IF(A364<'Step 4. Classification'!$E$17,'Output FIN Lease Amort'!A364+1,\"\")","v":""},"","",{"$f":"IF(A365=\"\",\"\",$C$10/'Step 4. Classification'!$E$17)","v":""},"",null,"",{"$f":"IF(A365=\"\",\"\",G365*'Step 3. Lease Payments'!$G$8)","v":""},{"$f":"_xlfn.IFNA(IF(A365=\"\",\"\",(VLOOKUP(A365,'Step 3. Lease Payments'!B:G,6,))),\"0\")","v":""},""]
[{"$f":"IF(A365<'Step 4. Classification'!$E$17,'Output FIN Lease Amort'!A365+1,\"\")","v":""},"","",{"$f":"IF(A366=\"\",\"\",$C$10/'Step 4. Classification'!$E$17)","v":""},"",null,"",{"$f":"IF(A366=\"\",\"\",G366*'Step 3. Lease Payments'!$G$8)","v":""},{"$f":"_xlfn.IFNA(IF(A366=\"\",\"\",(VLOOKUP(A366,'Step 3. Lease Payments'!B:G,6,))),\"0\")","v":""},""]
[{"$f":"IF(A366<'Step 4. Classification'!$E$17,'Output FIN Lease Amort'!A366+1,\"\")","v":""},"","",{"$f":"IF(A367=\"\",\"\",$C$10/'Step 4. Classification'!$E$17)","v":""},"",null,"",{"$f":"IF(A367=\"\",\"\",G367*'Step 3. Lease Payments'!$G$8)","v":""},{"$f":"_xlfn.IFNA(IF(A367=\"\",\"\",(VLOOKUP(A367,'Step 3. Lease Payments'!B:G,6,))),\"0\")","v":""},""]
[{"$f":"IF(A367<'Step 4. Classification'!$E$17,'Output FIN Lease Amort'!A367+1,\"\")","v":""},"","",{"$f":"IF(A368=\"\",\"\",$C$10/'Step 4. Classification'!$E$17)","v":""},"",null,"",{"$f":"IF(A368=\"\",\"\",G368*'Step 3. Lease Payments'!$G$8)","v":""},{"$f":"_xlfn.IFNA(IF(A368=\"\",\"\",(VLOOKUP(A368,'Step 3. Lease Payments'!B:G,6,))),\"0\")","v":""},""]
[{"$f":"IF(A368<'Step 4. Classification'!$E$17,'Output FIN Lease Amort'!A368+1,\"\")","v":""},"","",{"$f":"IF(A369=\"\",\"\",$C$10/'Step 4. Classification'!$E$17)","v":""},"",null,"",{"$f":"IF(A369=\"\",\"\",G369*'Step 3. Lease Payments'!$G$8)","v":""},{"$f":"_xlfn.IFNA(IF(A369=\"\",\"\",(VLOOKUP(A369,'Step 3. Lease Payments'!B:G,6,))),\"0\")","v":""},""]
[{"$f":"IF(A369<'Step 4. Classification'!$E$17,'Output FIN Lease Amort'!A369+1,\"\")","v":""},"","",{"$f":"IF(A370=\"\",\"\",$C$10/'Step 4. Classification'!$E$17)","v":""},"",null,"",{"$f":"IF(A370=\"\",\"\",G370*'Step 3. Lease Payments'!$G$8)","v":""},{"$f":"_xlfn.IFNA(IF(A370=\"\",\"\",(VLOOKUP(A370,'Step 3. Lease Payments'!B:G,6,))),\"0\")","v":""},""]
[{"$f":"IF(A370<'Step 4. Classification'!$E$17,'Output FIN Lease Amort'!A370+1,\"\")","v":""},"","",{"$f":"IF(A371=\"\",\"\",$C$10/'Step 4. Classification'!$E$17)","v":""},"",null,"",{"$f":"IF(A371=\"\",\"\",G371*'Step 3. Lease Payments'!$G$8)","v":""},{"$f":"_xlfn.IFNA(IF(A371=\"\",\"\",(VLOOKUP(A371,'Step 3. Lease Payments'!B:G,6,))),\"0\")","v":""},""]
[{"$f":"IF(A371<'Step 4. Classification'!$E$17,'Output FIN Lease Amort'!A371+1,\"\")","v":""},"","",{"$f":"IF(A372=\"\",\"\",$C$10/'Step 4. Classification'!$E$17)","v":""},"",null,"",{"$f":"IF(A372=\"\",\"\",G372*'Step 3. Lease Payments'!$G$8)","v":""},{"$f":"_xlfn.IFNA(IF(A372=\"\",\"\",(VLOOKUP(A372,'Step 3. Lease Payments'!B:G,6,))),\"0\")","v":""},""]
[{"$f":"IF(A372<'Step 4. Classification'!$E$17,'Output FIN Lease Amort'!A372+1,\"\")","v":""},"","",{"$f":"IF(A373=\"\",\"\",$C$10/'Step 4. Classification'!$E$17)","v":""},"",null,"",{"$f":"IF(A373=\"\",\"\",G373*'Step 3. Lease Payments'!$G$8)","v":""},{"$f":"_xlfn.IFNA(IF(A373=\"\",\"\",(VLOOKUP(A373,'Step 3. Lease Payments'!B:G,6,))),\"0\")","v":""},""]
[{"$f":"IF(A373<'Step 4. Classification'!$E$17,'Output FIN Lease Amort'!A373+1,\"\")","v":""},"","",{"$f":"IF(A374=\"\",\"\",$C$10/'Step 4. Classification'!$E$17)","v":""},"",null,"",{"$f":"IF(A374=\"\",\"\",G374*'Step 3. Lease Payments'!$G$8)","v":""},{"$f":"_xlfn.IFNA(IF(A374=\"\",\"\",(VLOOKUP(A374,'Step 3. Lease Payments'!B:G,6,))),\"0\")","v":""},""]
[{"$f":"IF(A374<'Step 4. Classification'!$E$17,'Output FIN Lease Amort'!A374+1,\"\")","v":""},"","",{"$f":"IF(A375=\"\",\"\",$C$10/'Step 4. Classification'!$E$17)","v":""},"",null,"",{"$f":"IF(A375=\"\",\"\",G375*'Step 3. Lease Payments'!$G$8)","v":""},{"$f":"_xlfn.IFNA(IF(A375=\"\",\"\",(VLOOKUP(A375,'Step 3. Lease Payments'!B:G,6,))),\"0\")","v":""},""]
[{"$f":"IF(A375<'Step 4. Classification'!$E$17,'Output FIN Lease Amort'!A375+1,\"\")","v":""},"","",{"$f":"IF(A376=\"\",\"\",$C$10/'Step 4. Classification'!$E$17)","v":""},"",null,"",{"$f":"IF(A376=\"\",\"\",G376*'Step 3. Lease Payments'!$G$8)","v":""},{"$f":"_xlfn.IFNA(IF(A376=\"\",\"\",(VLOOKUP(A376,'Step 3. Lease Payments'!B:G,6,))),\"0\")","v":""},""]
[{"$f":"IF(A376<'Step 4. Classification'!$E$17,'Output FIN Lease Amort'!A376+1,\"\")","v":""},"","",{"$f":"IF(A377=\"\",\"\",$C$10/'Step 4. Classification'!$E$17)","v":""},"",null,"",{"$f":"IF(A377=\"\",\"\",G377*'Step 3. Lease Payments'!$G$8)","v":""},{"$f":"_xlfn.IFNA(IF(A377=\"\",\"\",(VLOOKUP(A377,'Step 3. Lease Payments'!B:G,6,))),\"0\")","v":""},""]
[{"$f":"IF(A377<'Step 4. Classification'!$E$17,'Output FIN Lease Amort'!A377+1,\"\")","v":""},"","",{"$f":"IF(A378=\"\",\"\",$C$10/'Step 4. Classification'!$E$17)","v":""},"",null,"",{"$f":"IF(A378=\"\",\"\",G378*'Step 3. Lease Payments'!$G$8)","v":""},{"$f":"_xlfn.IFNA(IF(A378=\"\",\"\",(VLOOKUP(A378,'Step 3. Lease Payments'!B:G,6,))),\"0\")","v":""},""]
[{"$f":"IF(A378<'Step 4. Classification'!$E$17,'Output FIN Lease Amort'!A378+1,\"\")","v":""},"","",{"$f":"IF(A379=\"\",\"\",$C$10/'Step 4. Classification'!$E$17)","v":""},"",null,"",{"$f":"IF(A379=\"\",\"\",G379*'Step 3. Lease Payments'!$G$8)","v":""},{"$f":"_xlfn.IFNA(IF(A379=\"\",\"\",(VLOOKUP(A379,'Step 3. Lease Payments'!B:G,6,))),\"0\")","v":""},""]
[{"$f":"IF(A379<'Step 4. Classification'!$E$17,'Output FIN Lease Amort'!A379+1,\"\")","v":""},"","",{"$f":"IF(A380=\"\",\"\",$C$10/'Step 4. Classification'!$E$17)","v":""},"",null,"",{"$f":"IF(A380=\"\",\"\",G380*'Step 3. Lease Payments'!$G$8)","v":""},{"$f":"_xlfn.IFNA(IF(A380=\"\",\"\",(VLOOKUP(A380,'Step 3. Lease Payments'!B:G,6,))),\"0\")","v":""},""]
[{"$f":"IF(A380<'Step 4. Classification'!$E$17,'Output FIN Lease Amort'!A380+1,\"\")","v":""},"","",{"$f":"IF(A381=\"\",\"\",$C$10/'Step 4. Classification'!$E$17)","v":""},"",null,"",{"$f":"IF(A381=\"\",\"\",G381*'Step 3. Lease Payments'!$G$8)","v":""},{"$f":"_xlfn.IFNA(IF(A381=\"\",\"\",(VLOOKUP(A381,'Step 3. Lease Payments'!B:G,6,))),\"0\")","v":""},""]
[{"$f":"IF(A381<'Step 4. Classification'!$E$17,'Output FIN Lease Amort'!A381+1,\"\")","v":""},"","",{"$f":"IF(A382=\"\",\"\",$C$10/'Step 4. Classification'!$E$17)","v":""},"",null,"",{"$f":"IF(A382=\"\",\"\",G382*'Step 3. Lease Payments'!$G$8)","v":""},{"$f":"_xlfn.IFNA(IF(A382=\"\",\"\",(VLOOKUP(A382,'Step 3. Lease Payments'!B:G,6,))),\"0\")","v":""},""]
[{"$f":"IF(A382<'Step 4. Classification'!$E$17,'Output FIN Lease Amort'!A382+1,\"\")","v":""},"","",{"$f":"IF(A383=\"\",\"\",$C$10/'Step 4. Classification'!$E$17)","v":""},"",null,"",{"$f":"IF(A383=\"\",\"\",G383*'Step 3. Lease Payments'!$G$8)","v":""},{"$f":"_xlfn.IFNA(IF(A383=\"\",\"\",(VLOOKUP(A383,'Step 3. Lease Payments'!B:G,6,))),\"0\")","v":""},""]
[{"$f":"IF(A383<'Step 4. Classification'!$E$17,'Output FIN Lease Amort'!A383+1,\"\")","v":""},"","",{"$f":"IF(A384=\"\",\"\",$C$10/'Step 4. Classification'!$E$17)","v":""},"",null,"",{"$f":"IF(A384=\"\",\"\",G384*'Step 3. Lease Payments'!$G$8)","v":""},{"$f":"_xlfn.IFNA(IF(A384=\"\",\"\",(VLOOKUP(A384,'Step 3. Lease Payments'!B:G,6,))),\"0\")","v":""},""]
[{"$f":"IF(A384<'Step 4. Classification'!$E$17,'Output FIN Lease Amort'!A384+1,\"\")","v":""},"","",{"$f":"IF(A385=\"\",\"\",$C$10/'Step 4. Classification'!$E$17)","v":""},"",null,"",{"$f":"IF(A385=\"\",\"\",G385*'Step 3. Lease Payments'!$G$8)","v":""},{"$f":"_xlfn.IFNA(IF(A385=\"\",\"\",(VLOOKUP(A385,'Step 3. Lease Payments'!B:G,6,))),\"0\")","v":""},""]
[{"$f":"IF(A385<'Step 4. Classification'!$E$17,'Output FIN Lease Amort'!A385+1,\"\")","v":""},"","",{"$f":"IF(A386=\"\",\"\",$C$10/'Step 4. Classification'!$E$17)","v":""},"",null,"",{"$f":"IF(A386=\"\",\"\",G386*'Step 3. Lease Payments'!$G$8)","v":""},{"$f":"_xlfn.IFNA(IF(A386=\"\",\"\",(VLOOKUP(A386,'Step 3. Lease Payments'!B:G,6,))),\"0\")","v":""},""]
[{"$f":"IF(A386<'Step 4. Classification'!$E$17,'Output FIN Lease Amort'!A386+1,\"\")","v":""},"","",{"$f":"IF(A387=\"\",\"\",$C$10/'Step 4. Classification'!$E$17)","v":""},"",null,"",{"$f":"IF(A387=\"\",\"\",G387*'Step 3. Lease Payments'!$G$8)","v":""},{"$f":"_xlfn.IFNA(IF(A387=\"\",\"\",(VLOOKUP(A387,'Step 3. Lease Payments'!B:G,6,))),\"0\")","v":""},""]
[{"$f":"IF(A387<'Step 4. Classification'!$E$17,'Output FIN Lease Amort'!A387+1,\"\")","v":""},"","",{"$f":"IF(A388=\"\",\"\",$C$10/'Step 4. Classification'!$E$17)","v":""},"",null,"",{"$f":"IF(A388=\"\",\"\",G388*'Step 3. Lease Payments'!$G$8)","v":""},{"$f":"_xlfn.IFNA(IF(A388=\"\",\"\",(VLOOKUP(A388,'Step 3. Lease Payments'!B:G,6,))),\"0\")","v":""},""]
[{"$f":"IF(A388<'Step 4. Classification'!$E$17,'Output FIN Lease Amort'!A388+1,\"\")","v":""},"","",{"$f":"IF(A389=\"\",\"\",$C$10/'Step 4. Classification'!$E$17)","v":""},"",null,"",{"$f":"IF(A389=\"\",\"\",G389*'Step 3. Lease Payments'!$G$8)","v":""},{"$f":"_xlfn.IFNA(IF(A389=\"\",\"\",(VLOOKUP(A389,'Step 3. Lease Payments'!B:G,6,))),\"0\")","v":""},""]
[{"$f":"IF(A389<'Step 4. Classification'!$E$17,'Output FIN Lease Amort'!A389+1,\"\")","v":""},"","",{"$f":"IF(A390=\"\",\"\",$C$10/'Step 4. Classification'!$E$17)","v":""},"",null,"",{"$f":"IF(A390=\"\",\"\",G390*'Step 3. Lease Payments'!$G$8)","v":""},{"$f":"_xlfn.IFNA(IF(A390=\"\",\"\",(VLOOKUP(A390,'Step 3. Lease Payments'!B:G,6,))),\"0\")","v":""},""]
[{"$f":"IF(A390<'Step 4. Classification'!$E$17,'Output FIN Lease Amort'!A390+1,\"\")","v":""},"","",{"$f":"IF(A391=\"\",\"\",$C$10/'Step 4. Classification'!$E$17)","v":""},"",null,"",{"$f":"IF(A391=\"\",\"\",G391*'Step 3. Lease Payments'!$G$8)","v":""},{"$f":"_xlfn.IFNA(IF(A391=\"\",\"\",(VLOOKUP(A391,'Step 3. Lease Payments'!B:G,6,))),\"0\")","v":""},""]
[{"$f":"IF(A391<'Step 4. Classification'!$E$17,'Output FIN Lease Amort'!A391+1,\"\")","v":""},"","",{"$f":"IF(A392=\"\",\"\",$C$10/'Step 4. Classification'!$E$17)","v":""},"",null,"",{"$f":"IF(A392=\"\",\"\",G392*'Step 3. Lease Payments'!$G$8)","v":""},{"$f":"_xlfn.IFNA(IF(A392=\"\",\"\",(VLOOKUP(A392,'Step 3. Lease Payments'!B:G,6,))),\"0\")","v":""},""]
[{"$f":"IF(A392<'Step 4. Classification'!$E$17,'Output FIN Lease Amort'!A392+1,\"\")","v":""},"","",{"$f":"IF(A393=\"\",\"\",$C$10/'Step 4. Classification'!$E$17)","v":""},"",null,"",{"$f":"IF(A393=\"\",\"\",G393*'Step 3. Lease Payments'!$G$8)","v":""},{"$f":"_xlfn.IFNA(IF(A393=\"\",\"\",(VLOOKUP(A393,'Step 3. Lease Payments'!B:G,6,))),\"0\")","v":""},""]
[{"$f":"IF(A393<'Step 4. Classification'!$E$17,'Output FIN Lease Amort'!A393+1,\"\")","v":""},"","",{"$f":"IF(A394=\"\",\"\",$C$10/'Step 4. Classification'!$E$17)","v":""},"",null,"",{"$f":"IF(A394=\"\",\"\",G394*'Step 3. Lease Payments'!$G$8)","v":""},{"$f":"_xlfn.IFNA(IF(A394=\"\",\"\",(VLOOKUP(A394,'Step 3. Lease Payments'!B:G,6,))),\"0\")","v":""},""]
[{"$f":"IF(A394<'Step 4. Classification'!$E$17,'Output FIN Lease Amort'!A394+1,\"\")","v":""},{"$f":"IF(A395=\"\",\"\",(DATE(YEAR(B394),MONTH(B394)+1,DAY(B394))))","v":""},{"$f":"IF(A395=\"\",\"\",E394)","v":""},{"$f":"IF(A395=\"\",\"\",$C$10/'Step 4. Classification'!$E$17)","v":""},{"$f":"IF(A395=\"\",\"\",C395-D395)","v":""},null,{"$f":"IF(A395=\"\",\"\",J394)","v":""},{"$f":"IF(A395=\"\",\"\",G395*'Step 3. Lease Payments'!$G$8)","v":""},{"$f":"_xlfn.IFNA(IF(A395=\"\",\"\",(VLOOKUP(A395,'Step 3. Lease Payments'!B:G,6,))),\"0\")","v":""},{"$f":"IF(A395=\"\",\"\",G395-I395+H395)","v":""}]
[{"$f":"IF(A395<'Step 4. Classification'!$E$17,'Output FIN Lease Amort'!A395+1,\"\")","v":""},"","",{"$f":"IF(A396=\"\",\"\",$C$10/'Step 4. Classification'!$E$17)","v":""},"",null,"",{"$f":"IF(A396=\"\",\"\",G396*'Step 3. Lease Payments'!$G$8)","v":""},{"$f":"_xlfn.IFNA(IF(A396=\"\",\"\",(VLOOKUP(A396,'Step 3. Lease Payments'!B:G,6,))),\"0\")","v":""},""]
[{"$f":"IF(A396<'Step 4. Classification'!$E$17,'Output FIN Lease Amort'!A396+1,\"\")","v":""},"","",{"$f":"IF(A397=\"\",\"\",$C$10/'Step 4. Classification'!$E$17)","v":""},"",null,"",{"$f":"IF(A397=\"\",\"\",G397*'Step 3. Lease Payments'!$G$8)","v":""},{"$f":"_xlfn.IFNA(IF(A397=\"\",\"\",(VLOOKUP(A397,'Step 3. Lease Payments'!B:G,6,))),\"0\")","v":""},""]
[{"$f":"IF(A397<'Step 4. Classification'!$E$17,'Output FIN Lease Amort'!A397+1,\"\")","v":""},"","",{"$f":"IF(A398=\"\",\"\",$C$10/'Step 4. Classification'!$E$17)","v":""},"",null,"",{"$f":"IF(A398=\"\",\"\",G398*'Step 3. Lease Payments'!$G$8)","v":""},{"$f":"_xlfn.IFNA(IF(A398=\"\",\"\",(VLOOKUP(A398,'Step 3. Lease Payments'!B:G,6,))),\"0\")","v":""},""]
[{"$f":"IF(A398<'Step 4. Classification'!$E$17,'Output FIN Lease Amort'!A398+1,\"\")","v":""},"","",{"$f":"IF(A399=\"\",\"\",$C$10/'Step 4. Classification'!$E$17)","v":""},"",null,"",{"$f":"IF(A399=\"\",\"\",G399*'Step 3. Lease Payments'!$G$8)","v":""},{"$f":"_xlfn.IFNA(IF(A399=\"\",\"\",(VLOOKUP(A399,'Step 3. Lease Payments'!B:G,6,))),\"0\")","v":""},""]
[{"$f":"IF(A399<'Step 4. Classification'!$E$17,'Output FIN Lease Amort'!A399+1,\"\")","v":""},"","",{"$f":"IF(A400=\"\",\"\",$C$10/'Step 4. Classification'!$E$17)","v":""},"",null,"",{"$f":"IF(A400=\"\",\"\",G400*'Step 3. Lease Payments'!$G$8)","v":""},{"$f":"_xlfn.IFNA(IF(A400=\"\",\"\",(VLOOKUP(A400,'Step 3. Lease Payments'!B:G,6,))),\"0\")","v":""},""]
[{"$f":"IF(A400<'Step 4. Classification'!$E$17,'Output FIN Lease Amort'!A400+1,\"\")","v":""},"","",{"$f":"IF(A401=\"\",\"\",$C$10/'Step 4. Classification'!$E$17)","v":""},"",null,"",{"$f":"IF(A401=\"\",\"\",G401*'Step 3. Lease Payments'!$G$8)","v":""},{"$f":"_xlfn.IFNA(IF(A401=\"\",\"\",(VLOOKUP(A401,'Step 3. Lease Payments'!B:G,6,))),\"0\")","v":""},""]
[{"$f":"IF(A401<'Step 4. Classification'!$E$17,'Output FIN Lease Amort'!A401+1,\"\")","v":""},"","",{"$f":"IF(A402=\"\",\"\",$C$10/'Step 4. Classification'!$E$17)","v":""},"",null,"",{"$f":"IF(A402=\"\",\"\",G402*'Step 3. Lease Payments'!$G$8)","v":""},{"$f":"_xlfn.IFNA(IF(A402=\"\",\"\",(VLOOKUP(A402,'Step 3. Lease Payments'!B:G,6,))),\"0\")","v":""},""]
[{"$f":"IF(A402<'Step 4. Classification'!$E$17,'Output FIN Lease Amort'!A402+1,\"\")","v":""},"","",{"$f":"IF(A403=\"\",\"\",$C$10/'Step 4. Classification'!$E$17)","v":""},"",null,"",{"$f":"IF(A403=\"\",\"\",G403*'Step 3. Lease Payments'!$G$8)","v":""},{"$f":"_xlfn.IFNA(IF(A403=\"\",\"\",(VLOOKUP(A403,'Step 3. Lease Payments'!B:G,6,))),\"0\")","v":""},""]
[{"$f":"IF(A403<'Step 4. Classification'!$E$17,'Output FIN Lease Amort'!A403+1,\"\")","v":""},"","",{"$f":"IF(A404=\"\",\"\",$C$10/'Step 4. Classification'!$E$17)","v":""},"",null,"",{"$f":"IF(A404=\"\",\"\",G404*'Step 3. Lease Payments'!$G$8)","v":""},{"$f":"_xlfn.IFNA(IF(A404=\"\",\"\",(VLOOKUP(A404,'Step 3. Lease Payments'!B:G,6,))),\"0\")","v":""},""]
[{"$f":"IF(A404<'Step 4. Classification'!$E$17,'Output FIN Lease Amort'!A404+1,\"\")","v":""},"","",{"$f":"IF(A405=\"\",\"\",$C$10/'Step 4. Classification'!$E$17)","v":""},"",null,"",{"$f":"IF(A405=\"\",\"\",G405*'Step 3. Lease Payments'!$G$8)","v":""},{"$f":"_xlfn.IFNA(IF(A405=\"\",\"\",(VLOOKUP(A405,'Step 3. Lease Payments'!B:G,6,))),\"0\")","v":""},""]
[{"$f":"IF(A405<'Step 4. Classification'!$E$17,'Output FIN Lease Amort'!A405+1,\"\")","v":""},"","",{"$f":"IF(A406=\"\",\"\",$C$10/'Step 4. Classification'!$E$17)","v":""},"",null,"",{"$f":"IF(A406=\"\",\"\",G406*'Step 3. Lease Payments'!$G$8)","v":""},{"$f":"_xlfn.IFNA(IF(A406=\"\",\"\",(VLOOKUP(A406,'Step 3. Lease Payments'!B:G,6,))),\"0\")","v":""},""]
[{"$f":"IF(A406<'Step 4. Classification'!$E$17,'Output FIN Lease Amort'!A406+1,\"\")","v":""},"","",{"$f":"IF(A407=\"\",\"\",$C$10/'Step 4. Classification'!$E$17)","v":""},"",null,"",{"$f":"IF(A407=\"\",\"\",G407*'Step 3. Lease Payments'!$G$8)","v":""},{"$f":"_xlfn.IFNA(IF(A407=\"\",\"\",(VLOOKUP(A407,'Step 3. Lease Payments'!B:G,6,))),\"0\")","v":""},""]
[{"$f":"IF(A407<'Step 4. Classification'!$E$17,'Output FIN Lease Amort'!A407+1,\"\")","v":""},"","",{"$f":"IF(A408=\"\",\"\",$C$10/'Step 4. Classification'!$E$17)","v":""},"",null,"",{"$f":"IF(A408=\"\",\"\",G408*'Step 3. Lease Payments'!$G$8)","v":""},{"$f":"_xlfn.IFNA(IF(A408=\"\",\"\",(VLOOKUP(A408,'Step 3. Lease Payments'!B:G,6,))),\"0\")","v":""},""]
[{"$f":"IF(A408<'Step 4. Classification'!$E$17,'Output FIN Lease Amort'!A408+1,\"\")","v":""},"","",{"$f":"IF(A409=\"\",\"\",$C$10/'Step 4. Classification'!$E$17)","v":""},"",null,"",{"$f":"IF(A409=\"\",\"\",G409*'Step 3. Lease Payments'!$G$8)","v":""},{"$f":"_xlfn.IFNA(IF(A409=\"\",\"\",(VLOOKUP(A409,'Step 3. Lease Payments'!B:G,6,))),\"0\")","v":""},""]
[{"$f":"IF(A409<'Step 4. Classification'!$E$17,'Output FIN Lease Amort'!A409+1,\"\")","v":""},"","",{"$f":"IF(A410=\"\",\"\",$C$10/'Step 4. Classification'!$E$17)","v":""},"",null,"",{"$f":"IF(A410=\"\",\"\",G410*'Step 3. Lease Payments'!$G$8)","v":""},{"$f":"_xlfn.IFNA(IF(A410=\"\",\"\",(VLOOKUP(A410,'Step 3. Lease Payments'!B:G,6,))),\"0\")","v":""},""]
[{"$f":"IF(A410<'Step 4. Classification'!$E$17,'Output FIN Lease Amort'!A410+1,\"\")","v":""},"","",{"$f":"IF(A411=\"\",\"\",$C$10/'Step 4. Classification'!$E$17)","v":""},"",null,"",{"$f":"IF(A411=\"\",\"\",G411*'Step 3. Lease Payments'!$G$8)","v":""},{"$f":"_xlfn.IFNA(IF(A411=\"\",\"\",(VLOOKUP(A411,'Step 3. Lease Payments'!B:G,6,))),\"0\")","v":""},""]
[{"$f":"IF(A411<'Step 4. Classification'!$E$17,'Output FIN Lease Amort'!A411+1,\"\")","v":""},"","",{"$f":"IF(A412=\"\",\"\",$C$10/'Step 4. Classification'!$E$17)","v":""},"",null,"",{"$f":"IF(A412=\"\",\"\",G412*'Step 3. Lease Payments'!$G$8)","v":""},{"$f":"_xlfn.IFNA(IF(A412=\"\",\"\",(VLOOKUP(A412,'Step 3. Lease Payments'!B:G,6,))),\"0\")","v":""},""]
[{"$f":"IF(A412<'Step 4. Classification'!$E$17,'Output FIN Lease Amort'!A412+1,\"\")","v":""},"","",{"$f":"IF(A413=\"\",\"\",$C$10/'Step 4. Classification'!$E$17)","v":""},"",null,"",{"$f":"IF(A413=\"\",\"\",G413*'Step 3. Lease Payments'!$G$8)","v":""},{"$f":"_xlfn.IFNA(IF(A413=\"\",\"\",(VLOOKUP(A413,'Step 3. Lease Payments'!B:G,6,))),\"0\")","v":""},""]
[{"$f":"IF(A413<'Step 4. Classification'!$E$17,'Output FIN Lease Amort'!A413+1,\"\")","v":""},"","",{"$f":"IF(A414=\"\",\"\",$C$10/'Step 4. Classification'!$E$17)","v":""},"",null,"",{"$f":"IF(A414=\"\",\"\",G414*'Step 3. Lease Payments'!$G$8)","v":""},{"$f":"_xlfn.IFNA(IF(A414=\"\",\"\",(VLOOKUP(A414,'Step 3. Lease Payments'!B:G,6,))),\"0\")","v":""},""]
[{"$f":"IF(A414<'Step 4. Classification'!$E$17,'Output FIN Lease Amort'!A414+1,\"\")","v":""},"","",{"$f":"IF(A415=\"\",\"\",$C$10/'Step 4. Classification'!$E$17)","v":""},"",null,"",{"$f":"IF(A415=\"\",\"\",G415*'Step 3. Lease Payments'!$G$8)","v":""},{"$f":"_xlfn.IFNA(IF(A415=\"\",\"\",(VLOOKUP(A415,'Step 3. Lease Payments'!B:G,6,))),\"0\")","v":""},""]
[{"$f":"IF(A415<'Step 4. Classification'!$E$17,'Output FIN Lease Amort'!A415+1,\"\")","v":""},"","",{"$f":"IF(A416=\"\",\"\",$C$10/'Step 4. Classification'!$E$17)","v":""},"",null,"",{"$f":"IF(A416=\"\",\"\",G416*'Step 3. Lease Payments'!$G$8)","v":""},{"$f":"_xlfn.IFNA(IF(A416=\"\",\"\",(VLOOKUP(A416,'Step 3. Lease Payments'!B:G,6,))),\"0\")","v":""},""]
[{"$f":"IF(A416<'Step 4. Classification'!$E$17,'Output FIN Lease Amort'!A416+1,\"\")","v":""},"","",{"$f":"IF(A417=\"\",\"\",$C$10/'Step 4. Classification'!$E$17)","v":""},"",null,"",{"$f":"IF(A417=\"\",\"\",G417*'Step 3. Lease Payments'!$G$8)","v":""},{"$f":"_xlfn.IFNA(IF(A417=\"\",\"\",(VLOOKUP(A417,'Step 3. Lease Payments'!B:G,6,))),\"0\")","v":""},""]
[{"$f":"IF(A417<'Step 4. Classification'!$E$17,'Output FIN Lease Amort'!A417+1,\"\")","v":""},"","",{"$f":"IF(A418=\"\",\"\",$C$10/'Step 4. Classification'!$E$17)","v":""},"",null,"",{"$f":"IF(A418=\"\",\"\",G418*'Step 3. Lease Payments'!$G$8)","v":""},{"$f":"_xlfn.IFNA(IF(A418=\"\",\"\",(VLOOKUP(A418,'Step 3. Lease Payments'!B:G,6,))),\"0\")","v":""},""]
[{"$f":"IF(A418<'Step 4. Classification'!$E$17,'Output FIN Lease Amort'!A418+1,\"\")","v":""},"","",{"$f":"IF(A419=\"\",\"\",$C$10/'Step 4. Classification'!$E$17)","v":""},"",null,"",{"$f":"IF(A419=\"\",\"\",G419*'Step 3. Lease Payments'!$G$8)","v":""},{"$f":"_xlfn.IFNA(IF(A419=\"\",\"\",(VLOOKUP(A419,'Step 3. Lease Payments'!B:G,6,))),\"0\")","v":""},""]
[{"$f":"IF(A419<'Step 4. Classification'!$E$17,'Output FIN Lease Amort'!A419+1,\"\")","v":""},"","",{"$f":"IF(A420=\"\",\"\",$C$10/'Step 4. Classification'!$E$17)","v":""},"",null,"",{"$f":"IF(A420=\"\",\"\",G420*'Step 3. Lease Payments'!$G$8)","v":""},{"$f":"_xlfn.IFNA(IF(A420=\"\",\"\",(VLOOKUP(A420,'Step 3. Lease Payments'!B:G,6,))),\"0\")","v":""},""]
[{"$f":"IF(A420<'Step 4. Classification'!$E$17,'Output FIN Lease Amort'!A420+1,\"\")","v":""},"","",{"$f":"IF(A421=\"\",\"\",$C$10/'Step 4. Classification'!$E$17)","v":""},"",null,"",{"$f":"IF(A421=\"\",\"\",G421*'Step 3. Lease Payments'!$G$8)","v":""},{"$f":"_xlfn.IFNA(IF(A421=\"\",\"\",(VLOOKUP(A421,'Step 3. Lease Payments'!B:G,6,))),\"0\")","v":""},""]
[{"$f":"IF(A421<'Step 4. Classification'!$E$17,'Output FIN Lease Amort'!A421+1,\"\")","v":""},"","",{"$f":"IF(A422=\"\",\"\",$C$10/'Step 4. Classification'!$E$17)","v":""},"",null,"",{"$f":"IF(A422=\"\",\"\",G422*'Step 3. Lease Payments'!$G$8)","v":""},{"$f":"_xlfn.IFNA(IF(A422=\"\",\"\",(VLOOKUP(A422,'Step 3. Lease Payments'!B:G,6,))),\"0\")","v":""},""]
[{"$f":"IF(A422<'Step 4. Classification'!$E$17,'Output FIN Lease Amort'!A422+1,\"\")","v":""},"","",{"$f":"IF(A423=\"\",\"\",$C$10/'Step 4. Classification'!$E$17)","v":""},"",null,"",{"$f":"IF(A423=\"\",\"\",G423*'Step 3. Lease Payments'!$G$8)","v":""},{"$f":"_xlfn.IFNA(IF(A423=\"\",\"\",(VLOOKUP(A423,'Step 3. Lease Payments'!B:G,6,))),\"0\")","v":""},""]
[{"$f":"IF(A423<'Step 4. Classification'!$E$17,'Output FIN Lease Amort'!A423+1,\"\")","v":""},"","",{"$f":"IF(A424=\"\",\"\",$C$10/'Step 4. Classification'!$E$17)","v":""},"",null,"",{"$f":"IF(A424=\"\",\"\",G424*'Step 3. Lease Payments'!$G$8)","v":""},{"$f":"_xlfn.IFNA(IF(A424=\"\",\"\",(VLOOKUP(A424,'Step 3. Lease Payments'!B:G,6,))),\"0\")","v":""},""]
[{"$f":"IF(A424<'Step 4. Classification'!$E$17,'Output FIN Lease Amort'!A424+1,\"\")","v":""},"","",{"$f":"IF(A425=\"\",\"\",$C$10/'Step 4. Classification'!$E$17)","v":""},"",null,"",{"$f":"IF(A425=\"\",\"\",G425*'Step 3. Lease Payments'!$G$8)","v":""},{"$f":"_xlfn.IFNA(IF(A425=\"\",\"\",(VLOOKUP(A425,'Step 3. Lease Payments'!B:G,6,))),\"0\")","v":""},""]
[{"$f":"IF(A425<'Step 4. Classification'!$E$17,'Output FIN Lease Amort'!A425+1,\"\")","v":""},"","",{"$f":"IF(A426=\"\",\"\",$C$10/'Step 4. Classification'!$E$17)","v":""},"",null,"",{"$f":"IF(A426=\"\",\"\",G426*'Step 3. Lease Payments'!$G$8)","v":""},{"$f":"_xlfn.IFNA(IF(A426=\"\",\"\",(VLOOKUP(A426,'Step 3. Lease Payments'!B:G,6,))),\"0\")","v":""},""]
[{"$f":"IF(A426<'Step 4. Classification'!$E$17,'Output FIN Lease Amort'!A426+1,\"\")","v":""},"","",{"$f":"IF(A427=\"\",\"\",$C$10/'Step 4. Classification'!$E$17)","v":""},"",null,"",{"$f":"IF(A427=\"\",\"\",G427*'Step 3. Lease Payments'!$G$8)","v":""},{"$f":"_xlfn.IFNA(IF(A427=\"\",\"\",(VLOOKUP(A427,'Step 3. Lease Payments'!B:G,6,))),\"0\")","v":""},""]
[{"$f":"IF(A427<'Step 4. Classification'!$E$17,'Output FIN Lease Amort'!A427+1,\"\")","v":""},"","",{"$f":"IF(A428=\"\",\"\",$C$10/'Step 4. Classification'!$E$17)","v":""},"",null,"",{"$f":"IF(A428=\"\",\"\",G428*'Step 3. Lease Payments'!$G$8)","v":""},{"$f":"_xlfn.IFNA(IF(A428=\"\",\"\",(VLOOKUP(A428,'Step 3. Lease Payments'!B:G,6,))),\"0\")","v":""},""]
[{"$f":"IF(A428<'Step 4. Classification'!$E$17,'Output FIN Lease Amort'!A428+1,\"\")","v":""},"","",{"$f":"IF(A429=\"\",\"\",$C$10/'Step 4. Classification'!$E$17)","v":""},"",null,"",{"$f":"IF(A429=\"\",\"\",G429*'Step 3. Lease Payments'!$G$8)","v":""},{"$f":"_xlfn.IFNA(IF(A429=\"\",\"\",(VLOOKUP(A429,'Step 3. Lease Payments'!B:G,6,))),\"0\")","v":""},""]
[{"$f":"IF(A429<'Step 4. Classification'!$E$17,'Output FIN Lease Amort'!A429+1,\"\")","v":""},"","",{"$f":"IF(A430=\"\",\"\",$C$10/'Step 4. Classification'!$E$17)","v":""},"",null,"",{"$f":"IF(A430=\"\",\"\",G430*'Step 3. Lease Payments'!$G$8)","v":""},{"$f":"_xlfn.IFNA(IF(A430=\"\",\"\",(VLOOKUP(A430,'Step 3. Lease Payments'!B:G,6,))),\"0\")","v":""},""]
[{"$f":"IF(A430<'Step 4. Classification'!$E$17,'Output FIN Lease Amort'!A430+1,\"\")","v":""},"","",{"$f":"IF(A431=\"\",\"\",$C$10/'Step 4. Classification'!$E$17)","v":""},"",null,"",{"$f":"IF(A431=\"\",\"\",G431*'Step 3. Lease Payments'!$G$8)","v":""},{"$f":"_xlfn.IFNA(IF(A431=\"\",\"\",(VLOOKUP(A431,'Step 3. Lease Payments'!B:G,6,))),\"0\")","v":""},""]
[{"$f":"IF(A431<'Step 4. Classification'!$E$17,'Output FIN Lease Amort'!A431+1,\"\")","v":""},"","",{"$f":"IF(A432=\"\",\"\",$C$10/'Step 4. Classification'!$E$17)","v":""},"",null,"",{"$f":"IF(A432=\"\",\"\",G432*'Step 3. Lease Payments'!$G$8)","v":""},{"$f":"_xlfn.IFNA(IF(A432=\"\",\"\",(VLOOKUP(A432,'Step 3. Lease Payments'!B:G,6,))),\"0\")","v":""},""]
[{"$f":"IF(A432<'Step 4. Classification'!$E$17,'Output FIN Lease Amort'!A432+1,\"\")","v":""},"","",{"$f":"IF(A433=\"\",\"\",$C$10/'Step 4. Classification'!$E$17)","v":""},"",null,"",{"$f":"IF(A433=\"\",\"\",G433*'Step 3. Lease Payments'!$G$8)","v":""},{"$f":"_xlfn.IFNA(IF(A433=\"\",\"\",(VLOOKUP(A433,'Step 3. Lease Payments'!B:G,6,))),\"0\")","v":""},""]
[{"$f":"IF(A433<'Step 4. Classification'!$E$17,'Output FIN Lease Amort'!A433+1,\"\")","v":""},"","",{"$f":"IF(A434=\"\",\"\",$C$10/'Step 4. Classification'!$E$17)","v":""},"",null,"",{"$f":"IF(A434=\"\",\"\",G434*'Step 3. Lease Payments'!$G$8)","v":""},{"$f":"_xlfn.IFNA(IF(A434=\"\",\"\",(VLOOKUP(A434,'Step 3. Lease Payments'!B:G,6,))),\"0\")","v":""},""]
[{"$f":"IF(A434<'Step 4. Classification'!$E$17,'Output FIN Lease Amort'!A434+1,\"\")","v":""},"","",{"$f":"IF(A435=\"\",\"\",$C$10/'Step 4. Classification'!$E$17)","v":""},"",null,"",{"$f":"IF(A435=\"\",\"\",G435*'Step 3. Lease Payments'!$G$8)","v":""},{"$f":"_xlfn.IFNA(IF(A435=\"\",\"\",(VLOOKUP(A435,'Step 3. Lease Payments'!B:G,6,))),\"0\")","v":""},""]
[{"$f":"IF(A435<'Step 4. Classification'!$E$17,'Output FIN Lease Amort'!A435+1,\"\")","v":""},"","",{"$f":"IF(A436=\"\",\"\",$C$10/'Step 4. Classification'!$E$17)","v":""},"",null,"",{"$f":"IF(A436=\"\",\"\",G436*'Step 3. Lease Payments'!$G$8)","v":""},{"$f":"_xlfn.IFNA(IF(A436=\"\",\"\",(VLOOKUP(A436,'Step 3. Lease Payments'!B:G,6,))),\"0\")","v":""},""]
[{"$f":"IF(A436<'Step 4. Classification'!$E$17,'Output FIN Lease Amort'!A436+1,\"\")","v":""},"","",{"$f":"IF(A437=\"\",\"\",$C$10/'Step 4. Classification'!$E$17)","v":""},"",null,"",{"$f":"IF(A437=\"\",\"\",G437*'Step 3. Lease Payments'!$G$8)","v":""},{"$f":"_xlfn.IFNA(IF(A437=\"\",\"\",(VLOOKUP(A437,'Step 3. Lease Payments'!B:G,6,))),\"0\")","v":""},""]
[{"$f":"IF(A437<'Step 4. Classification'!$E$17,'Output FIN Lease Amort'!A437+1,\"\")","v":""},"","",{"$f":"IF(A438=\"\",\"\",$C$10/'Step 4. Classification'!$E$17)","v":""},"",null,"",{"$f":"IF(A438=\"\",\"\",G438*'Step 3. Lease Payments'!$G$8)","v":""},{"$f":"_xlfn.IFNA(IF(A438=\"\",\"\",(VLOOKUP(A438,'Step 3. Lease Payments'!B:G,6,))),\"0\")","v":""},""]
[{"$f":"IF(A438<'Step 4. Classification'!$E$17,'Output FIN Lease Amort'!A438+1,\"\")","v":""},"","",{"$f":"IF(A439=\"\",\"\",$C$10/'Step 4. Classification'!$E$17)","v":""},"",null,"",{"$f":"IF(A439=\"\",\"\",G439*'Step 3. Lease Payments'!$G$8)","v":""},{"$f":"_xlfn.IFNA(IF(A439=\"\",\"\",(VLOOKUP(A439,'Step 3. Lease Payments'!B:G,6,))),\"0\")","v":""},""]
[{"$f":"IF(A439<'Step 4. Classification'!$E$17,'Output FIN Lease Amort'!A439+1,\"\")","v":""},"","",{"$f":"IF(A440=\"\",\"\",$C$10/'Step 4. Classification'!$E$17)","v":""},"",null,"",{"$f":"IF(A440=\"\",\"\",G440*'Step 3. Lease Payments'!$G$8)","v":""},{"$f":"_xlfn.IFNA(IF(A440=\"\",\"\",(VLOOKUP(A440,'Step 3. Lease Payments'!B:G,6,))),\"0\")","v":""},""]
[{"$f":"IF(A440<'Step 4. Classification'!$E$17,'Output FIN Lease Amort'!A440+1,\"\")","v":""},"","",{"$f":"IF(A441=\"\",\"\",$C$10/'Step 4. Classification'!$E$17)","v":""},"",null,"",{"$f":"IF(A441=\"\",\"\",G441*'Step 3. Lease Payments'!$G$8)","v":""},{"$f":"_xlfn.IFNA(IF(A441=\"\",\"\",(VLOOKUP(A441,'Step 3. Lease Payments'!B:G,6,))),\"0\")","v":""},""]
[{"$f":"IF(A441<'Step 4. Classification'!$E$17,'Output FIN Lease Amort'!A441+1,\"\")","v":""},"","",{"$f":"IF(A442=\"\",\"\",$C$10/'Step 4. Classification'!$E$17)","v":""},"",null,"",{"$f":"IF(A442=\"\",\"\",G442*'Step 3. Lease Payments'!$G$8)","v":""},{"$f":"_xlfn.IFNA(IF(A442=\"\",\"\",(VLOOKUP(A442,'Step 3. Lease Payments'!B:G,6,))),\"0\")","v":""},""]
[{"$f":"IF(A442<'Step 4. Classification'!$E$17,'Output FIN Lease Amort'!A442+1,\"\")","v":""},"","",{"$f":"IF(A443=\"\",\"\",$C$10/'Step 4. Classification'!$E$17)","v":""},"",null,"",{"$f":"IF(A443=\"\",\"\",G443*'Step 3. Lease Payments'!$G$8)","v":""},{"$f":"_xlfn.IFNA(IF(A443=\"\",\"\",(VLOOKUP(A443,'Step 3. Lease Payments'!B:G,6,))),\"0\")","v":""},""]
[{"$f":"IF(A443<'Step 4. Classification'!$E$17,'Output FIN Lease Amort'!A443+1,\"\")","v":""},"","",{"$f":"IF(A444=\"\",\"\",$C$10/'Step 4. Classification'!$E$17)","v":""},"",null,"",{"$f":"IF(A444=\"\",\"\",G444*'Step 3. Lease Payments'!$G$8)","v":""},{"$f":"_xlfn.IFNA(IF(A444=\"\",\"\",(VLOOKUP(A444,'Step 3. Lease Payments'!B:G,6,))),\"0\")","v":""},""]
[{"$f":"IF(A444<'Step 4. Classification'!$E$17,'Output FIN Lease Amort'!A444+1,\"\")","v":""},"","",{"$f":"IF(A445=\"\",\"\",$C$10/'Step 4. Classification'!$E$17)","v":""},"",null,"",{"$f":"IF(A445=\"\",\"\",G445*'Step 3. Lease Payments'!$G$8)","v":""},{"$f":"_xlfn.IFNA(IF(A445=\"\",\"\",(VLOOKUP(A445,'Step 3. Lease Payments'!B:G,6,))),\"0\")","v":""},""]
[{"$f":"IF(A445<'Step 4. Classification'!$E$17,'Output FIN Lease Amort'!A445+1,\"\")","v":""},"","",{"$f":"IF(A446=\"\",\"\",$C$10/'Step 4. Classification'!$E$17)","v":""},"",null,"",{"$f":"IF(A446=\"\",\"\",G446*'Step 3. Lease Payments'!$G$8)","v":""},{"$f":"_xlfn.IFNA(IF(A446=\"\",\"\",(VLOOKUP(A446,'Step 3. Lease Payments'!B:G,6,))),\"0\")","v":""},""]
[{"$f":"IF(A446<'Step 4. Classification'!$E$17,'Output FIN Lease Amort'!A446+1,\"\")","v":""},"","",{"$f":"IF(A447=\"\",\"\",$C$10/'Step 4. Classification'!$E$17)","v":""},"",null,"",{"$f":"IF(A447=\"\",\"\",G447*'Step 3. Lease Payments'!$G$8)","v":""},{"$f":"_xlfn.IFNA(IF(A447=\"\",\"\",(VLOOKUP(A447,'Step 3. Lease Payments'!B:G,6,))),\"0\")","v":""},""]
[{"$f":"IF(A447<'Step 4. Classification'!$E$17,'Output FIN Lease Amort'!A447+1,\"\")","v":""},"","",{"$f":"IF(A448=\"\",\"\",$C$10/'Step 4. Classification'!$E$17)","v":""},"",null,"",{"$f":"IF(A448=\"\",\"\",G448*'Step 3. Lease Payments'!$G$8)","v":""},{"$f":"_xlfn.IFNA(IF(A448=\"\",\"\",(VLOOKUP(A448,'Step 3. Lease Payments'!B:G,6,))),\"0\")","v":""},""]
[{"$f":"IF(A448<'Step 4. Classification'!$E$17,'Output FIN Lease Amort'!A448+1,\"\")","v":""},"","",{"$f":"IF(A449=\"\",\"\",$C$10/'Step 4. Classification'!$E$17)","v":""},"",null,"",{"$f":"IF(A449=\"\",\"\",G449*'Step 3. Lease Payments'!$G$8)","v":""},{"$f":"_xlfn.IFNA(IF(A449=\"\",\"\",(VLOOKUP(A449,'Step 3. Lease Payments'!B:G,6,))),\"0\")","v":""},""]
[{"$f":"IF(A449<'Step 4. Classification'!$E$17,'Output FIN Lease Amort'!A449+1,\"\")","v":""},"","",{"$f":"IF(A450=\"\",\"\",$C$10/'Step 4. Classification'!$E$17)","v":""},"",null,"",{"$f":"IF(A450=\"\",\"\",G450*'Step 3. Lease Payments'!$G$8)","v":""},{"$f":"_xlfn.IFNA(IF(A450=\"\",\"\",(VLOOKUP(A450,'Step 3. Lease Payments'!B:G,6,))),\"0\")","v":""},""]
[{"$f":"IF(A450<'Step 4. Classification'!$E$17,'Output FIN Lease Amort'!A450+1,\"\")","v":""},"","",{"$f":"IF(A451=\"\",\"\",$C$10/'Step 4. Classification'!$E$17)","v":""},"",null,"",{"$f":"IF(A451=\"\",\"\",G451*'Step 3. Lease Payments'!$G$8)","v":""},{"$f":"_xlfn.IFNA(IF(A451=\"\",\"\",(VLOOKUP(A451,'Step 3. Lease Payments'!B:G,6,))),\"0\")","v":""},""]
[{"$f":"IF(A451<'Step 4. Classification'!$E$17,'Output FIN Lease Amort'!A451+1,\"\")","v":""},"","",{"$f":"IF(A452=\"\",\"\",$C$10/'Step 4. Classification'!$E$17)","v":""},"",null,"",{"$f":"IF(A452=\"\",\"\",G452*'Step 3. Lease Payments'!$G$8)","v":""},{"$f":"_xlfn.IFNA(IF(A452=\"\",\"\",(VLOOKUP(A452,'Step 3. Lease Payments'!B:G,6,))),\"0\")","v":""},""]
[{"$f":"IF(A452<'Step 4. Classification'!$E$17,'Output FIN Lease Amort'!A452+1,\"\")","v":""},"","",{"$f":"IF(A453=\"\",\"\",$C$10/'Step 4. Classification'!$E$17)","v":""},"",null,"",{"$f":"IF(A453=\"\",\"\",G453*'Step 3. Lease Payments'!$G$8)","v":""},{"$f":"_xlfn.IFNA(IF(A453=\"\",\"\",(VLOOKUP(A453,'Step 3. Lease Payments'!B:G,6,))),\"0\")","v":""},""]
[{"$f":"IF(A453<'Step 4. Classification'!$E$17,'Output FIN Lease Amort'!A453+1,\"\")","v":""},"","",{"$f":"IF(A454=\"\",\"\",$C$10/'Step 4. Classification'!$E$17)","v":""},"",null,"",{"$f":"IF(A454=\"\",\"\",G454*'Step 3. Lease Payments'!$G$8)","v":""},{"$f":"_xlfn.IFNA(IF(A454=\"\",\"\",(VLOOKUP(A454,'Step 3. Lease Payments'!B:G,6,))),\"0\")","v":""},""]
[{"$f":"IF(A454<'Step 4. Classification'!$E$17,'Output FIN Lease Amort'!A454+1,\"\")","v":""},"","",{"$f":"IF(A455=\"\",\"\",$C$10/'Step 4. Classification'!$E$17)","v":""},"",null,"",{"$f":"IF(A455=\"\",\"\",G455*'Step 3. Lease Payments'!$G$8)","v":""},{"$f":"_xlfn.IFNA(IF(A455=\"\",\"\",(VLOOKUP(A455,'Step 3. Lease Payments'!B:G,6,))),\"0\")","v":""},""]
[{"$f":"IF(A455<'Step 4. Classification'!$E$17,'Output FIN Lease Amort'!A455+1,\"\")","v":""},"","",{"$f":"IF(A456=\"\",\"\",$C$10/'Step 4. Classification'!$E$17)","v":""},"",null,"",{"$f":"IF(A456=\"\",\"\",G456*'Step 3. Lease Payments'!$G$8)","v":""},{"$f":"_xlfn.IFNA(IF(A456=\"\",\"\",(VLOOKUP(A456,'Step 3. Lease Payments'!B:G,6,))),\"0\")","v":""},""]
[{"$f":"IF(A456<'Step 4. Classification'!$E$17,'Output FIN Lease Amort'!A456+1,\"\")","v":""},"","",{"$f":"IF(A457=\"\",\"\",$C$10/'Step 4. Classification'!$E$17)","v":""},"",null,"",{"$f":"IF(A457=\"\",\"\",G457*'Step 3. Lease Payments'!$G$8)","v":""},{"$f":"_xlfn.IFNA(IF(A457=\"\",\"\",(VLOOKUP(A457,'Step 3. Lease Payments'!B:G,6,))),\"0\")","v":""},""]
[{"$f":"IF(A457<'Step 4. Classification'!$E$17,'Output FIN Lease Amort'!A457+1,\"\")","v":""},"","",{"$f":"IF(A458=\"\",\"\",$C$10/'Step 4. Classification'!$E$17)","v":""},"",null,"",{"$f":"IF(A458=\"\",\"\",G458*'Step 3. Lease Payments'!$G$8)","v":""},{"$f":"_xlfn.IFNA(IF(A458=\"\",\"\",(VLOOKUP(A458,'Step 3. Lease Payments'!B:G,6,))),\"0\")","v":""},""]
[{"$f":"IF(A458<'Step 4. Classification'!$E$17,'Output FIN Lease Amort'!A458+1,\"\")","v":""},{"$f":"IF(A459=\"\",\"\",(DATE(YEAR(B458),MONTH(B458)+1,DAY(B458))))","v":""},{"$f":"IF(A459=\"\",\"\",E458)","v":""},{"$f":"IF(A459=\"\",\"\",$C$10/'Step 4. Classification'!$E$17)","v":""},{"$f":"IF(A459=\"\",\"\",C459-D459)","v":""},null,{"$f":"IF(A459=\"\",\"\",J458)","v":""},{"$f":"IF(A459=\"\",\"\",G459*'Step 3. Lease Payments'!$G$8)","v":""},{"$f":"_xlfn.IFNA(IF(A459=\"\",\"\",(VLOOKUP(A459,'Step 3. Lease Payments'!B:G,6,))),\"0\")","v":""},{"$f":"IF(A459=\"\",\"\",G459-I459+H459)","v":""}]
[{"$f":"IF(A459<'Step 4. Classification'!$E$17,'Output FIN Lease Amort'!A459+1,\"\")","v":""},"","",{"$f":"IF(A460=\"\",\"\",$C$10/'Step 4. Classification'!$E$17)","v":""},"",null,"",{"$f":"IF(A460=\"\",\"\",G460*'Step 3. Lease Payments'!$G$8)","v":""},{"$f":"_xlfn.IFNA(IF(A460=\"\",\"\",(VLOOKUP(A460,'Step 3. Lease Payments'!B:G,6,))),\"0\")","v":""},""]
[{"$f":"IF(A460<'Step 4. Classification'!$E$17,'Output FIN Lease Amort'!A460+1,\"\")","v":""},"","",{"$f":"IF(A461=\"\",\"\",$C$10/'Step 4. Classification'!$E$17)","v":""},"",null,"",{"$f":"IF(A461=\"\",\"\",G461*'Step 3. Lease Payments'!$G$8)","v":""},{"$f":"_xlfn.IFNA(IF(A461=\"\",\"\",(VLOOKUP(A461,'Step 3. Lease Payments'!B:G,6,))),\"0\")","v":""},""]
[{"$f":"IF(A461<'Step 4. Classification'!$E$17,'Output FIN Lease Amort'!A461+1,\"\")","v":""},"","",{"$f":"IF(A462=\"\",\"\",$C$10/'Step 4. Classification'!$E$17)","v":""},"",null,"",{"$f":"IF(A462=\"\",\"\",G462*'Step 3. Lease Payments'!$G$8)","v":""},{"$f":"_xlfn.IFNA(IF(A462=\"\",\"\",(VLOOKUP(A462,'Step 3. Lease Payments'!B:G,6,))),\"0\")","v":""},""]
[{"$f":"IF(A462<'Step 4. Classification'!$E$17,'Output FIN Lease Amort'!A462+1,\"\")","v":""},"","",{"$f":"IF(A463=\"\",\"\",$C$10/'Step 4. Classification'!$E$17)","v":""},"",null,"",{"$f":"IF(A463=\"\",\"\",G463*'Step 3. Lease Payments'!$G$8)","v":""},{"$f":"_xlfn.IFNA(IF(A463=\"\",\"\",(VLOOKUP(A463,'Step 3. Lease Payments'!B:G,6,))),\"0\")","v":""},""]
[{"$f":"IF(A463<'Step 4. Classification'!$E$17,'Output FIN Lease Amort'!A463+1,\"\")","v":""},"","",{"$f":"IF(A464=\"\",\"\",$C$10/'Step 4. Classification'!$E$17)","v":""},"",null,"",{"$f":"IF(A464=\"\",\"\",G464*'Step 3. Lease Payments'!$G$8)","v":""},{"$f":"_xlfn.IFNA(IF(A464=\"\",\"\",(VLOOKUP(A464,'Step 3. Lease Payments'!B:G,6,))),\"0\")","v":""},""]
[{"$f":"IF(A464<'Step 4. Classification'!$E$17,'Output FIN Lease Amort'!A464+1,\"\")","v":""},"","",{"$f":"IF(A465=\"\",\"\",$C$10/'Step 4. Classification'!$E$17)","v":""},"",null,"",{"$f":"IF(A465=\"\",\"\",G465*'Step 3. Lease Payments'!$G$8)","v":""},{"$f":"_xlfn.IFNA(IF(A465=\"\",\"\",(VLOOKUP(A465,'Step 3. Lease Payments'!B:G,6,))),\"0\")","v":""},""]
[{"$f":"IF(A465<'Step 4. Classification'!$E$17,'Output FIN Lease Amort'!A465+1,\"\")","v":""},"","",{"$f":"IF(A466=\"\",\"\",$C$10/'Step 4. Classification'!$E$17)","v":""},"",null,"",{"$f":"IF(A466=\"\",\"\",G466*'Step 3. Lease Payments'!$G$8)","v":""},{"$f":"_xlfn.IFNA(IF(A466=\"\",\"\",(VLOOKUP(A466,'Step 3. Lease Payments'!B:G,6,))),\"0\")","v":""},""]
[{"$f":"IF(A466<'Step 4. Classification'!$E$17,'Output FIN Lease Amort'!A466+1,\"\")","v":""},"","",{"$f":"IF(A467=\"\",\"\",$C$10/'Step 4. Classification'!$E$17)","v":""},"",null,"",{"$f":"IF(A467=\"\",\"\",G467*'Step 3. Lease Payments'!$G$8)","v":""},{"$f":"_xlfn.IFNA(IF(A467=\"\",\"\",(VLOOKUP(A467,'Step 3. Lease Payments'!B:G,6,))),\"0\")","v":""},""]
[{"$f":"IF(A467<'Step 4. Classification'!$E$17,'Output FIN Lease Amort'!A467+1,\"\")","v":""},"","",{"$f":"IF(A468=\"\",\"\",$C$10/'Step 4. Classification'!$E$17)","v":""},"",null,"",{"$f":"IF(A468=\"\",\"\",G468*'Step 3. Lease Payments'!$G$8)","v":""},{"$f":"_xlfn.IFNA(IF(A468=\"\",\"\",(VLOOKUP(A468,'Step 3. Lease Payments'!B:G,6,))),\"0\")","v":""},""]
[{"$f":"IF(A468<'Step 4. Classification'!$E$17,'Output FIN Lease Amort'!A468+1,\"\")","v":""},"","",{"$f":"IF(A469=\"\",\"\",$C$10/'Step 4. Classification'!$E$17)","v":""},"",null,"",{"$f":"IF(A469=\"\",\"\",G469*'Step 3. Lease Payments'!$G$8)","v":""},{"$f":"_xlfn.IFNA(IF(A469=\"\",\"\",(VLOOKUP(A469,'Step 3. Lease Payments'!B:G,6,))),\"0\")","v":""},""]
[{"$f":"IF(A469<'Step 4. Classification'!$E$17,'Output FIN Lease Amort'!A469+1,\"\")","v":""},"","",{"$f":"IF(A470=\"\",\"\",$C$10/'Step 4. Classification'!$E$17)","v":""},"",null,"",{"$f":"IF(A470=\"\",\"\",G470*'Step 3. Lease Payments'!$G$8)","v":""},{"$f":"_xlfn.IFNA(IF(A470=\"\",\"\",(VLOOKUP(A470,'Step 3. Lease Payments'!B:G,6,))),\"0\")","v":""},""]
[{"$f":"IF(A470<'Step 4. Classification'!$E$17,'Output FIN Lease Amort'!A470+1,\"\")","v":""},"","",{"$f":"IF(A471=\"\",\"\",$C$10/'Step 4. Classification'!$E$17)","v":""},"",null,"",{"$f":"IF(A471=\"\",\"\",G471*'Step 3. Lease Payments'!$G$8)","v":""},{"$f":"_xlfn.IFNA(IF(A471=\"\",\"\",(VLOOKUP(A471,'Step 3. Lease Payments'!B:G,6,))),\"0\")","v":""},""]
[{"$f":"IF(A471<'Step 4. Classification'!$E$17,'Output FIN Lease Amort'!A471+1,\"\")","v":""},"","",{"$f":"IF(A472=\"\",\"\",$C$10/'Step 4. Classification'!$E$17)","v":""},"",null,"",{"$f":"IF(A472=\"\",\"\",G472*'Step 3. Lease Payments'!$G$8)","v":""},{"$f":"_xlfn.IFNA(IF(A472=\"\",\"\",(VLOOKUP(A472,'Step 3. Lease Payments'!B:G,6,))),\"0\")","v":""},""]
[{"$f":"IF(A472<'Step 4. Classification'!$E$17,'Output FIN Lease Amort'!A472+1,\"\")","v":""},"","",{"$f":"IF(A473=\"\",\"\",$C$10/'Step 4. Classification'!$E$17)","v":""},"",null,"",{"$f":"IF(A473=\"\",\"\",G473*'Step 3. Lease Payments'!$G$8)","v":""},{"$f":"_xlfn.IFNA(IF(A473=\"\",\"\",(VLOOKUP(A473,'Step 3. Lease Payments'!B:G,6,))),\"0\")","v":""},""]
[{"$f":"IF(A473<'Step 4. Classification'!$E$17,'Output FIN Lease Amort'!A473+1,\"\")","v":""},"","",{"$f":"IF(A474=\"\",\"\",$C$10/'Step 4. Classification'!$E$17)","v":""},"",null,"",{"$f":"IF(A474=\"\",\"\",G474*'Step 3. Lease Payments'!$G$8)","v":""},{"$f":"_xlfn.IFNA(IF(A474=\"\",\"\",(VLOOKUP(A474,'Step 3. Lease Payments'!B:G,6,))),\"0\")","v":""},""]
[{"$f":"IF(A474<'Step 4. Classification'!$E$17,'Output FIN Lease Amort'!A474+1,\"\")","v":""},"","",{"$f":"IF(A475=\"\",\"\",$C$10/'Step 4. Classification'!$E$17)","v":""},"",null,"",{"$f":"IF(A475=\"\",\"\",G475*'Step 3. Lease Payments'!$G$8)","v":""},{"$f":"_xlfn.IFNA(IF(A475=\"\",\"\",(VLOOKUP(A475,'Step 3. Lease Payments'!B:G,6,))),\"0\")","v":""},""]
[{"$f":"IF(A475<'Step 4. Classification'!$E$17,'Output FIN Lease Amort'!A475+1,\"\")","v":""},"","",{"$f":"IF(A476=\"\",\"\",$C$10/'Step 4. Classification'!$E$17)","v":""},"",null,"",{"$f":"IF(A476=\"\",\"\",G476*'Step 3. Lease Payments'!$G$8)","v":""},{"$f":"_xlfn.IFNA(IF(A476=\"\",\"\",(VLOOKUP(A476,'Step 3. Lease Payments'!B:G,6,))),\"0\")","v":""},""]
[{"$f":"IF(A476<'Step 4. Classification'!$E$17,'Output FIN Lease Amort'!A476+1,\"\")","v":""},"","",{"$f":"IF(A477=\"\",\"\",$C$10/'Step 4. Classification'!$E$17)","v":""},"",null,"",{"$f":"IF(A477=\"\",\"\",G477*'Step 3. Lease Payments'!$G$8)","v":""},{"$f":"_xlfn.IFNA(IF(A477=\"\",\"\",(VLOOKUP(A477,'Step 3. Lease Payments'!B:G,6,))),\"0\")","v":""},""]
[{"$f":"IF(A477<'Step 4. Classification'!$E$17,'Output FIN Lease Amort'!A477+1,\"\")","v":""},"","",{"$f":"IF(A478=\"\",\"\",$C$10/'Step 4. Classification'!$E$17)","v":""},"",null,"",{"$f":"IF(A478=\"\",\"\",G478*'Step 3. Lease Payments'!$G$8)","v":""},{"$f":"_xlfn.IFNA(IF(A478=\"\",\"\",(VLOOKUP(A478,'Step 3. Lease Payments'!B:G,6,))),\"0\")","v":""},""]
[{"$f":"IF(A478<'Step 4. Classification'!$E$17,'Output FIN Lease Amort'!A478+1,\"\")","v":""},"","",{"$f":"IF(A479=\"\",\"\",$C$10/'Step 4. Classification'!$E$17)","v":""},"",null,"",{"$f":"IF(A479=\"\",\"\",G479*'Step 3. Lease Payments'!$G$8)","v":""},{"$f":"_xlfn.IFNA(IF(A479=\"\",\"\",(VLOOKUP(A479,'Step 3. Lease Payments'!B:G,6,))),\"0\")","v":""},""]
[{"$f":"IF(A479<'Step 4. Classification'!$E$17,'Output FIN Lease Amort'!A479+1,\"\")","v":""},"","",{"$f":"IF(A480=\"\",\"\",$C$10/'Step 4. Classification'!$E$17)","v":""},"",null,"",{"$f":"IF(A480=\"\",\"\",G480*'Step 3. Lease Payments'!$G$8)","v":""},{"$f":"_xlfn.IFNA(IF(A480=\"\",\"\",(VLOOKUP(A480,'Step 3. Lease Payments'!B:G,6,))),\"0\")","v":""},""]
[{"$f":"IF(A480<'Step 4. Classification'!$E$17,'Output FIN Lease Amort'!A480+1,\"\")","v":""},"","",{"$f":"IF(A481=\"\",\"\",$C$10/'Step 4. Classification'!$E$17)","v":""},"",null,"",{"$f":"IF(A481=\"\",\"\",G481*'Step 3. Lease Payments'!$G$8)","v":""},{"$f":"_xlfn.IFNA(IF(A481=\"\",\"\",(VLOOKUP(A481,'Step 3. Lease Payments'!B:G,6,))),\"0\")","v":""},""]
[{"$f":"IF(A481<'Step 4. Classification'!$E$17,'Output FIN Lease Amort'!A481+1,\"\")","v":""},"","",{"$f":"IF(A482=\"\",\"\",$C$10/'Step 4. Classification'!$E$17)","v":""},"",null,"",{"$f":"IF(A482=\"\",\"\",G482*'Step 3. Lease Payments'!$G$8)","v":""},{"$f":"_xlfn.IFNA(IF(A482=\"\",\"\",(VLOOKUP(A482,'Step 3. Lease Payments'!B:G,6,))),\"0\")","v":""},""]
[{"$f":"IF(A482<'Step 4. Classification'!$E$17,'Output FIN Lease Amort'!A482+1,\"\")","v":""},"","",{"$f":"IF(A483=\"\",\"\",$C$10/'Step 4. Classification'!$E$17)","v":""},"",null,"",{"$f":"IF(A483=\"\",\"\",G483*'Step 3. Lease Payments'!$G$8)","v":""},{"$f":"_xlfn.IFNA(IF(A483=\"\",\"\",(VLOOKUP(A483,'Step 3. Lease Payments'!B:G,6,))),\"0\")","v":""},""]
[{"$f":"IF(A483<'Step 4. Classification'!$E$17,'Output FIN Lease Amort'!A483+1,\"\")","v":""},"","",{"$f":"IF(A484=\"\",\"\",$C$10/'Step 4. Classification'!$E$17)","v":""},"",null,"",{"$f":"IF(A484=\"\",\"\",G484*'Step 3. Lease Payments'!$G$8)","v":""},{"$f":"_xlfn.IFNA(IF(A484=\"\",\"\",(VLOOKUP(A484,'Step 3. Lease Payments'!B:G,6,))),\"0\")","v":""},""]
[{"$f":"IF(A484<'Step 4. Classification'!$E$17,'Output FIN Lease Amort'!A484+1,\"\")","v":""},"","",{"$f":"IF(A485=\"\",\"\",$C$10/'Step 4. Classification'!$E$17)","v":""},"",null,"",{"$f":"IF(A485=\"\",\"\",G485*'Step 3. Lease Payments'!$G$8)","v":""},{"$f":"_xlfn.IFNA(IF(A485=\"\",\"\",(VLOOKUP(A485,'Step 3. Lease Payments'!B:G,6,))),\"0\")","v":""},""]
[{"$f":"IF(A485<'Step 4. Classification'!$E$17,'Output FIN Lease Amort'!A485+1,\"\")","v":""},"","",{"$f":"IF(A486=\"\",\"\",$C$10/'Step 4. Classification'!$E$17)","v":""},"",null,"",{"$f":"IF(A486=\"\",\"\",G486*'Step 3. Lease Payments'!$G$8)","v":""},{"$f":"_xlfn.IFNA(IF(A486=\"\",\"\",(VLOOKUP(A486,'Step 3. Lease Payments'!B:G,6,))),\"0\")","v":""},""]
[{"$f":"IF(A486<'Step 4. Classification'!$E$17,'Output FIN Lease Amort'!A486+1,\"\")","v":""},"","",{"$f":"IF(A487=\"\",\"\",$C$10/'Step 4. Classification'!$E$17)","v":""},"",null,"",{"$f":"IF(A487=\"\",\"\",G487*'Step 3. Lease Payments'!$G$8)","v":""},{"$f":"_xlfn.IFNA(IF(A487=\"\",\"\",(VLOOKUP(A487,'Step 3. Lease Payments'!B:G,6,))),\"0\")","v":""},""]
[{"$f":"IF(A487<'Step 4. Classification'!$E$17,'Output FIN Lease Amort'!A487+1,\"\")","v":""},"","",{"$f":"IF(A488=\"\",\"\",$C$10/'Step 4. Classification'!$E$17)","v":""},"",null,"",{"$f":"IF(A488=\"\",\"\",G488*'Step 3. Lease Payments'!$G$8)","v":""},{"$f":"_xlfn.IFNA(IF(A488=\"\",\"\",(VLOOKUP(A488,'Step 3. Lease Payments'!B:G,6,))),\"0\")","v":""},""]
[{"$f":"IF(A488<'Step 4. Classification'!$E$17,'Output FIN Lease Amort'!A488+1,\"\")","v":""},"","",{"$f":"IF(A489=\"\",\"\",$C$10/'Step 4. Classification'!$E$17)","v":""},"",null,"",{"$f":"IF(A489=\"\",\"\",G489*'Step 3. Lease Payments'!$G$8)","v":""},{"$f":"_xlfn.IFNA(IF(A489=\"\",\"\",(VLOOKUP(A489,'Step 3. Lease Payments'!B:G,6,))),\"0\")","v":""},""]
[{"$f":"IF(A489<'Step 4. Classification'!$E$17,'Output FIN Lease Amort'!A489+1,\"\")","v":""},"","",{"$f":"IF(A490=\"\",\"\",$C$10/'Step 4. Classification'!$E$17)","v":""},"",null,"",{"$f":"IF(A490=\"\",\"\",G490*'Step 3. Lease Payments'!$G$8)","v":""},{"$f":"_xlfn.IFNA(IF(A490=\"\",\"\",(VLOOKUP(A490,'Step 3. Lease Payments'!B:G,6,))),\"0\")","v":""},""]
[{"$f":"IF(A490<'Step 4. Classification'!$E$17,'Output FIN Lease Amort'!A490+1,\"\")","v":""},"","",{"$f":"IF(A491=\"\",\"\",$C$10/'Step 4. Classification'!$E$17)","v":""},"",null,"",{"$f":"IF(A491=\"\",\"\",G491*'Step 3. Lease Payments'!$G$8)","v":""},{"$f":"_xlfn.IFNA(IF(A491=\"\",\"\",(VLOOKUP(A491,'Step 3. Lease Payments'!B:G,6,))),\"0\")","v":""},""]
[{"$f":"IF(A491<'Step 4. Classification'!$E$17,'Output FIN Lease Amort'!A491+1,\"\")","v":""},"","",{"$f":"IF(A492=\"\",\"\",$C$10/'Step 4. Classification'!$E$17)","v":""},"",null,"",{"$f":"IF(A492=\"\",\"\",G492*'Step 3. Lease Payments'!$G$8)","v":""},{"$f":"_xlfn.IFNA(IF(A492=\"\",\"\",(VLOOKUP(A492,'Step 3. Lease Payments'!B:G,6,))),\"0\")","v":""},""]
[{"$f":"IF(A492<'Step 4. Classification'!$E$17,'Output FIN Lease Amort'!A492+1,\"\")","v":""},"","",{"$f":"IF(A493=\"\",\"\",$C$10/'Step 4. Classification'!$E$17)","v":""},"",null,"",{"$f":"IF(A493=\"\",\"\",G493*'Step 3. Lease Payments'!$G$8)","v":""},{"$f":"_xlfn.IFNA(IF(A493=\"\",\"\",(VLOOKUP(A493,'Step 3. Lease Payments'!B:G,6,))),\"0\")","v":""},""]
[{"$f":"IF(A493<'Step 4. Classification'!$E$17,'Output FIN Lease Amort'!A493+1,\"\")","v":""},"","",{"$f":"IF(A494=\"\",\"\",$C$10/'Step 4. Classification'!$E$17)","v":""},"",null,"",{"$f":"IF(A494=\"\",\"\",G494*'Step 3. Lease Payments'!$G$8)","v":""},{"$f":"_xlfn.IFNA(IF(A494=\"\",\"\",(VLOOKUP(A494,'Step 3. Lease Payments'!B:G,6,))),\"0\")","v":""},""]
[{"$f":"IF(A494<'Step 4. Classification'!$E$17,'Output FIN Lease Amort'!A494+1,\"\")","v":""},"","",{"$f":"IF(A495=\"\",\"\",$C$10/'Step 4. Classification'!$E$17)","v":""},"",null,"",{"$f":"IF(A495=\"\",\"\",G495*'Step 3. Lease Payments'!$G$8)","v":""},{"$f":"_xlfn.IFNA(IF(A495=\"\",\"\",(VLOOKUP(A495,'Step 3. Lease Payments'!B:G,6,))),\"0\")","v":""},""]
[{"$f":"IF(A495<'Step 4. Classification'!$E$17,'Output FIN Lease Amort'!A495+1,\"\")","v":""},"","",{"$f":"IF(A496=\"\",\"\",$C$10/'Step 4. Classification'!$E$17)","v":""},"",null,"",{"$f":"IF(A496=\"\",\"\",G496*'Step 3. Lease Payments'!$G$8)","v":""},{"$f":"_xlfn.IFNA(IF(A496=\"\",\"\",(VLOOKUP(A496,'Step 3. Lease Payments'!B:G,6,))),\"0\")","v":""},""]
[{"$f":"IF(A496<'Step 4. Classification'!$E$17,'Output FIN Lease Amort'!A496+1,\"\")","v":""},"","",{"$f":"IF(A497=\"\",\"\",$C$10/'Step 4. Classification'!$E$17)","v":""},"",null,"",{"$f":"IF(A497=\"\",\"\",G497*'Step 3. Lease Payments'!$G$8)","v":""},{"$f":"_xlfn.IFNA(IF(A497=\"\",\"\",(VLOOKUP(A497,'Step 3. Lease Payments'!B:G,6,))),\"0\")","v":""},""]
[{"$f":"IF(A497<'Step 4. Classification'!$E$17,'Output FIN Lease Amort'!A497+1,\"\")","v":""},"","",{"$f":"IF(A498=\"\",\"\",$C$10/'Step 4. Classification'!$E$17)","v":""},"",null,"",{"$f":"IF(A498=\"\",\"\",G498*'Step 3. Lease Payments'!$G$8)","v":""},{"$f":"_xlfn.IFNA(IF(A498=\"\",\"\",(VLOOKUP(A498,'Step 3. Lease Payments'!B:G,6,))),\"0\")","v":""},""]
[{"$f":"IF(A498<'Step 4. Classification'!$E$17,'Output FIN Lease Amort'!A498+1,\"\")","v":""},"","",{"$f":"IF(A499=\"\",\"\",$C$10/'Step 4. Classification'!$E$17)","v":""},"",null,"",{"$f":"IF(A499=\"\",\"\",G499*'Step 3. Lease Payments'!$G$8)","v":""},{"$f":"_xlfn.IFNA(IF(A499=\"\",\"\",(VLOOKUP(A499,'Step 3. Lease Payments'!B:G,6,))),\"0\")","v":""},""]
[{"$f":"IF(A499<'Step 4. Classification'!$E$17,'Output FIN Lease Amort'!A499+1,\"\")","v":""},"","",{"$f":"IF(A500=\"\",\"\",$C$10/'Step 4. Classification'!$E$17)","v":""},"",null,"",{"$f":"IF(A500=\"\",\"\",G500*'Step 3. Lease Payments'!$G$8)","v":""},{"$f":"_xlfn.IFNA(IF(A500=\"\",\"\",(VLOOKUP(A500,'Step 3. Lease Payments'!B:G,6,))),\"0\")","v":""},""]
[{"$f":"IF(A500<'Step 4. Classification'!$E$17,'Output FIN Lease Amort'!A500+1,\"\")","v":""},"","",{"$f":"IF(A501=\"\",\"\",$C$10/'Step 4. Classification'!$E$17)","v":""},"",null,"",{"$f":"IF(A501=\"\",\"\",G501*'Step 3. Lease Payments'!$G$8)","v":""},{"$f":"_xlfn.IFNA(IF(A501=\"\",\"\",(VLOOKUP(A501,'Step 3. Lease Payments'!B:G,6,))),\"0\")","v":""},""]
[{"$f":"IF(A501<'Step 4. Classification'!$E$17,'Output FIN Lease Amort'!A501+1,\"\")","v":""},"","",{"$f":"IF(A502=\"\",\"\",$C$10/'Step 4. Classification'!$E$17)","v":""},"",null,"",{"$f":"IF(A502=\"\",\"\",G502*'Step 3. Lease Payments'!$G$8)","v":""},{"$f":"_xlfn.IFNA(IF(A502=\"\",\"\",(VLOOKUP(A502,'Step 3. Lease Payments'!B:G,6,))),\"0\")","v":""},""]
[{"$f":"IF(A502<'Step 4. Classification'!$E$17,'Output FIN Lease Amort'!A502+1,\"\")","v":""},"","",{"$f":"IF(A503=\"\",\"\",$C$10/'Step 4. Classification'!$E$17)","v":""},"",null,"",{"$f":"IF(A503=\"\",\"\",G503*'Step 3. Lease Payments'!$G$8)","v":""},{"$f":"_xlfn.IFNA(IF(A503=\"\",\"\",(VLOOKUP(A503,'Step 3. Lease Payments'!B:G,6,))),\"0\")","v":""},""]
[{"$f":"IF(A503<'Step 4. Classification'!$E$17,'Output FIN Lease Amort'!A503+1,\"\")","v":""},"","",{"$f":"IF(A504=\"\",\"\",$C$10/'Step 4. Classification'!$E$17)","v":""},"",null,"",{"$f":"IF(A504=\"\",\"\",G504*'Step 3. Lease Payments'!$G$8)","v":""},{"$f":"_xlfn.IFNA(IF(A504=\"\",\"\",(VLOOKUP(A504,'Step 3. Lease Payments'!B:G,6,))),\"0\")","v":""},""]
[{"$f":"IF(A504<'Step 4. Classification'!$E$17,'Output FIN Lease Amort'!A504+1,\"\")","v":""},"","",{"$f":"IF(A505=\"\",\"\",$C$10/'Step 4. Classification'!$E$17)","v":""},"",null,"",{"$f":"IF(A505=\"\",\"\",G505*'Step 3. Lease Payments'!$G$8)","v":""},{"$f":"_xlfn.IFNA(IF(A505=\"\",\"\",(VLOOKUP(A505,'Step 3. Lease Payments'!B:G,6,))),\"0\")","v":""},""]
[{"$f":"IF(A505<'Step 4. Classification'!$E$17,'Output FIN Lease Amort'!A505+1,\"\")","v":""},"","",{"$f":"IF(A506=\"\",\"\",$C$10/'Step 4. Classification'!$E$17)","v":""},"",null,"",{"$f":"IF(A506=\"\",\"\",G506*'Step 3. Lease Payments'!$G$8)","v":""},{"$f":"_xlfn.IFNA(IF(A506=\"\",\"\",(VLOOKUP(A506,'Step 3. Lease Payments'!B:G,6,))),\"0\")","v":""},""]
[{"$f":"IF(A506<'Step 4. Classification'!$E$17,'Output FIN Lease Amort'!A506+1,\"\")","v":""},"","",{"$f":"IF(A507=\"\",\"\",$C$10/'Step 4. Classification'!$E$17)","v":""},"",null,"",{"$f":"IF(A507=\"\",\"\",G507*'Step 3. Lease Payments'!$G$8)","v":""},{"$f":"_xlfn.IFNA(IF(A507=\"\",\"\",(VLOOKUP(A507,'Step 3. Lease Payments'!B:G,6,))),\"0\")","v":""},""]
[{"$f":"IF(A507<'Step 4. Classification'!$E$17,'Output FIN Lease Amort'!A507+1,\"\")","v":""},"","",{"$f":"IF(A508=\"\",\"\",$C$10/'Step 4. Classification'!$E$17)","v":""},"",null,"",{"$f":"IF(A508=\"\",\"\",G508*'Step 3. Lease Payments'!$G$8)","v":""},{"$f":"_xlfn.IFNA(IF(A508=\"\",\"\",(VLOOKUP(A508,'Step 3. Lease Payments'!B:G,6,))),\"0\")","v":""},""]
[{"$f":"IF(A508<'Step 4. Classification'!$E$17,'Output FIN Lease Amort'!A508+1,\"\")","v":""},"","",{"$f":"IF(A509=\"\",\"\",$C$10/'Step 4. Classification'!$E$17)","v":""},"",null,"",{"$f":"IF(A509=\"\",\"\",G509*'Step 3. Lease Payments'!$G$8)","v":""},{"$f":"_xlfn.IFNA(IF(A509=\"\",\"\",(VLOOKUP(A509,'Step 3. Lease Payments'!B:G,6,))),\"0\")","v":""},""]
[{"$f":"IF(A509<'Step 4. Classification'!$E$17,'Output FIN Lease Amort'!A509+1,\"\")","v":""},"","",{"$f":"IF(A510=\"\",\"\",$C$10/'Step 4. Classification'!$E$17)","v":""},"",null,"",{"$f":"IF(A510=\"\",\"\",G510*'Step 3. Lease Payments'!$G$8)","v":""},{"$f":"_xlfn.IFNA(IF(A510=\"\",\"\",(VLOOKUP(A510,'Step 3. Lease Payments'!B:G,6,))),\"0\")","v":""},""]
[{"$f":"IF(A510<'Step 4. Classification'!$E$17,'Output FIN Lease Amort'!A510+1,\"\")","v":""},"","",{"$f":"IF(A511=\"\",\"\",$C$10/'Step 4. Classification'!$E$17)","v":""},"",null,"",{"$f":"IF(A511=\"\",\"\",G511*'Step 3. Lease Payments'!$G$8)","v":""},{"$f":"_xlfn.IFNA(IF(A511=\"\",\"\",(VLOOKUP(A511,'Step 3. Lease Payments'!B:G,6,))),\"0\")","v":""},""]
[{"$f":"IF(A511<'Step 4. Classification'!$E$17,'Output FIN Lease Amort'!A511+1,\"\")","v":""},"","",{"$f":"IF(A512=\"\",\"\",$C$10/'Step 4. Classification'!$E$17)","v":""},"",null,"",{"$f":"IF(A512=\"\",\"\",G512*'Step 3. Lease Payments'!$G$8)","v":""},{"$f":"_xlfn.IFNA(IF(A512=\"\",\"\",(VLOOKUP(A512,'Step 3. Lease Payments'!B:G,6,))),\"0\")","v":""},""]
[{"$f":"IF(A512<'Step 4. Classification'!$E$17,'Output FIN Lease Amort'!A512+1,\"\")","v":""},"","",{"$f":"IF(A513=\"\",\"\",$C$10/'Step 4. Classification'!$E$17)","v":""},"",null,"",{"$f":"IF(A513=\"\",\"\",G513*'Step 3. Lease Payments'!$G$8)","v":""},{"$f":"_xlfn.IFNA(IF(A513=\"\",\"\",(VLOOKUP(A513,'Step 3. Lease Payments'!B:G,6,))),\"0\")","v":""},""]
[{"$f":"IF(A513<'Step 4. Classification'!$E$17,'Output FIN Lease Amort'!A513+1,\"\")","v":""},"","",{"$f":"IF(A514=\"\",\"\",$C$10/'Step 4. Classification'!$E$17)","v":""},"",null,"",{"$f":"IF(A514=\"\",\"\",G514*'Step 3. Lease Payments'!$G$8)","v":""},{"$f":"_xlfn.IFNA(IF(A514=\"\",\"\",(VLOOKUP(A514,'Step 3. Lease Payments'!B:G,6,))),\"0\")","v":""},""]
[{"$f":"IF(A514<'Step 4. Classification'!$E$17,'Output FIN Lease Amort'!A514+1,\"\")","v":""},"","",{"$f":"IF(A515=\"\",\"\",$C$10/'Step 4. Classification'!$E$17)","v":""},"",null,"",{"$f":"IF(A515=\"\",\"\",G515*'Step 3. Lease Payments'!$G$8)","v":""},{"$f":"_xlfn.IFNA(IF(A515=\"\",\"\",(VLOOKUP(A515,'Step 3. Lease Payments'!B:G,6,))),\"0\")","v":""},""]
[{"$f":"IF(A515<'Step 4. Classification'!$E$17,'Output FIN Lease Amort'!A515+1,\"\")","v":""},"","",{"$f":"IF(A516=\"\",\"\",$C$10/'Step 4. Classification'!$E$17)","v":""},"",null,"",{"$f":"IF(A516=\"\",\"\",G516*'Step 3. Lease Payments'!$G$8)","v":""},{"$f":"_xlfn.IFNA(IF(A516=\"\",\"\",(VLOOKUP(A516,'Step 3. Lease Payments'!B:G,6,))),\"0\")","v":""},""]
[{"$f":"IF(A516<'Step 4. Classification'!$E$17,'Output FIN Lease Amort'!A516+1,\"\")","v":""},"","",{"$f":"IF(A517=\"\",\"\",$C$10/'Step 4. Classification'!$E$17)","v":""},"",null,"",{"$f":"IF(A517=\"\",\"\",G517*'Step 3. Lease Payments'!$G$8)","v":""},{"$f":"_xlfn.IFNA(IF(A517=\"\",\"\",(VLOOKUP(A517,'Step 3. Lease Payments'!B:G,6,))),\"0\")","v":""},""]
[{"$f":"IF(A517<'Step 4. Classification'!$E$17,'Output FIN Lease Amort'!A517+1,\"\")","v":""},"","",{"$f":"IF(A518=\"\",\"\",$C$10/'Step 4. Classification'!$E$17)","v":""},"",null,"",{"$f":"IF(A518=\"\",\"\",G518*'Step 3. Lease Payments'!$G$8)","v":""},{"$f":"_xlfn.IFNA(IF(A518=\"\",\"\",(VLOOKUP(A518,'Step 3. Lease Payments'!B:G,6,))),\"0\")","v":""},""]
[{"$f":"IF(A518<'Step 4. Classification'!$E$17,'Output FIN Lease Amort'!A518+1,\"\")","v":""},"","",{"$f":"IF(A519=\"\",\"\",$C$10/'Step 4. Classification'!$E$17)","v":""},"",null,"",{"$f":"IF(A519=\"\",\"\",G519*'Step 3. Lease Payments'!$G$8)","v":""},{"$f":"_xlfn.IFNA(IF(A519=\"\",\"\",(VLOOKUP(A519,'Step 3. Lease Payments'!B:G,6,))),\"0\")","v":""},""]
[{"$f":"IF(A519<'Step 4. Classification'!$E$17,'Output FIN Lease Amort'!A519+1,\"\")","v":""},"","",{"$f":"IF(A520=\"\",\"\",$C$10/'Step 4. Classification'!$E$17)","v":""},"",null,"",{"$f":"IF(A520=\"\",\"\",G520*'Step 3. Lease Payments'!$G$8)","v":""},{"$f":"_xlfn.IFNA(IF(A520=\"\",\"\",(VLOOKUP(A520,'Step 3. Lease Payments'!B:G,6,))),\"0\")","v":""},""]
[{"$f":"IF(A520<'Step 4. Classification'!$E$17,'Output FIN Lease Amort'!A520+1,\"\")","v":""},"","",{"$f":"IF(A521=\"\",\"\",$C$10/'Step 4. Classification'!$E$17)","v":""},"",null,"",{"$f":"IF(A521=\"\",\"\",G521*'Step 3. Lease Payments'!$G$8)","v":""},{"$f":"_xlfn.IFNA(IF(A521=\"\",\"\",(VLOOKUP(A521,'Step 3. Lease Payments'!B:G,6,))),\"0\")","v":""},""]
[{"$f":"IF(A521<'Step 4. Classification'!$E$17,'Output FIN Lease Amort'!A521+1,\"\")","v":""},"","",{"$f":"IF(A522=\"\",\"\",$C$10/'Step 4. Classification'!$E$17)","v":""},"",null,"",{"$f":"IF(A522=\"\",\"\",G522*'Step 3. Lease Payments'!$G$8)","v":""},{"$f":"_xlfn.IFNA(IF(A522=\"\",\"\",(VLOOKUP(A522,'Step 3. Lease Payments'!B:G,6,))),\"0\")","v":""},""]
[{"$f":"IF(A522<'Step 4. Classification'!$E$17,'Output FIN Lease Amort'!A522+1,\"\")","v":""},{"$f":"IF(A523=\"\",\"\",(DATE(YEAR(B522),MONTH(B522)+1,DAY(B522))))","v":""},{"$f":"IF(A523=\"\",\"\",E522)","v":""},{"$f":"IF(A523=\"\",\"\",$C$10/'Step 4. Classification'!$E$17)","v":""},{"$f":"IF(A523=\"\",\"\",C523-D523)","v":""},null,{"$f":"IF(A523=\"\",\"\",J522)","v":""},{"$f":"IF(A523=\"\",\"\",G523*'Step 3. Lease Payments'!$G$8)","v":""},{"$f":"_xlfn.IFNA(IF(A523=\"\",\"\",(VLOOKUP(A523,'Step 3. Lease Payments'!B:G,6,))),\"0\")","v":""},{"$f":"IF(A523=\"\",\"\",G523-I523+H523)","v":""}]
[{"$f":"IF(A523<'Step 4. Classification'!$E$17,'Output FIN Lease Amort'!A523+1,\"\")","v":""},"","",{"$f":"IF(A524=\"\",\"\",$C$10/'Step 4. Classification'!$E$17)","v":""},"",null,"",{"$f":"IF(A524=\"\",\"\",G524*'Step 3. Lease Payments'!$G$8)","v":""},{"$f":"_xlfn.IFNA(IF(A524=\"\",\"\",(VLOOKUP(A524,'Step 3. Lease Payments'!B:G,6,))),\"0\")","v":""},""]
[{"$f":"IF(A524<'Step 4. Classification'!$E$17,'Output FIN Lease Amort'!A524+1,\"\")","v":""},"","",{"$f":"IF(A525=\"\",\"\",$C$10/'Step 4. Classification'!$E$17)","v":""},"",null,"",{"$f":"IF(A525=\"\",\"\",G525*'Step 3. Lease Payments'!$G$8)","v":""},{"$f":"_xlfn.IFNA(IF(A525=\"\",\"\",(VLOOKUP(A525,'Step 3. Lease Payments'!B:G,6,))),\"0\")","v":""},""]
[{"$f":"IF(A525<'Step 4. Classification'!$E$17,'Output FIN Lease Amort'!A525+1,\"\")","v":""},"","",{"$f":"IF(A526=\"\",\"\",$C$10/'Step 4. Classification'!$E$17)","v":""},"",null,"",{"$f":"IF(A526=\"\",\"\",G526*'Step 3. Lease Payments'!$G$8)","v":""},{"$f":"_xlfn.IFNA(IF(A526=\"\",\"\",(VLOOKUP(A526,'Step 3. Lease Payments'!B:G,6,))),\"0\")","v":""},""]
[{"$f":"IF(A526<'Step 4. Classification'!$E$17,'Output FIN Lease Amort'!A526+1,\"\")","v":""},"","",{"$f":"IF(A527=\"\",\"\",$C$10/'Step 4. Classification'!$E$17)","v":""},"",null,"",{"$f":"IF(A527=\"\",\"\",G527*'Step 3. Lease Payments'!$G$8)","v":""},{"$f":"_xlfn.IFNA(IF(A527=\"\",\"\",(VLOOKUP(A527,'Step 3. Lease Payments'!B:G,6,))),\"0\")","v":""},""]
[{"$f":"IF(A527<'Step 4. Classification'!$E$17,'Output FIN Lease Amort'!A527+1,\"\")","v":""},"","",{"$f":"IF(A528=\"\",\"\",$C$10/'Step 4. Classification'!$E$17)","v":""},"",null,"",{"$f":"IF(A528=\"\",\"\",G528*'Step 3. Lease Payments'!$G$8)","v":""},{"$f":"_xlfn.IFNA(IF(A528=\"\",\"\",(VLOOKUP(A528,'Step 3. Lease Payments'!B:G,6,))),\"0\")","v":""},""]
[{"$f":"IF(A528<'Step 4. Classification'!$E$17,'Output FIN Lease Amort'!A528+1,\"\")","v":""},"","",{"$f":"IF(A529=\"\",\"\",$C$10/'Step 4. Classification'!$E$17)","v":""},"",null,"",{"$f":"IF(A529=\"\",\"\",G529*'Step 3. Lease Payments'!$G$8)","v":""},{"$f":"_xlfn.IFNA(IF(A529=\"\",\"\",(VLOOKUP(A529,'Step 3. Lease Payments'!B:G,6,))),\"0\")","v":""},""]
[{"$f":"IF(A529<'Step 4. Classification'!$E$17,'Output FIN Lease Amort'!A529+1,\"\")","v":""},"","",{"$f":"IF(A530=\"\",\"\",$C$10/'Step 4. Classification'!$E$17)","v":""},"",null,"",{"$f":"IF(A530=\"\",\"\",G530*'Step 3. Lease Payments'!$G$8)","v":""},{"$f":"_xlfn.IFNA(IF(A530=\"\",\"\",(VLOOKUP(A530,'Step 3. Lease Payments'!B:G,6,))),\"0\")","v":""},""]
[{"$f":"IF(A530<'Step 4. Classification'!$E$17,'Output FIN Lease Amort'!A530+1,\"\")","v":""},"","",{"$f":"IF(A531=\"\",\"\",$C$10/'Step 4. Classification'!$E$17)","v":""},"",null,"",{"$f":"IF(A531=\"\",\"\",G531*'Step 3. Lease Payments'!$G$8)","v":""},{"$f":"_xlfn.IFNA(IF(A531=\"\",\"\",(VLOOKUP(A531,'Step 3. Lease Payments'!B:G,6,))),\"0\")","v":""},""]
[{"$f":"IF(A531<'Step 4. Classification'!$E$17,'Output FIN Lease Amort'!A531+1,\"\")","v":""},"","",{"$f":"IF(A532=\"\",\"\",$C$10/'Step 4. Classification'!$E$17)","v":""},"",null,"",{"$f":"IF(A532=\"\",\"\",G532*'Step 3. Lease Payments'!$G$8)","v":""},{"$f":"_xlfn.IFNA(IF(A532=\"\",\"\",(VLOOKUP(A532,'Step 3. Lease Payments'!B:G,6,))),\"0\")","v":""},""]
[{"$f":"IF(A532<'Step 4. Classification'!$E$17,'Output FIN Lease Amort'!A532+1,\"\")","v":""},"","",{"$f":"IF(A533=\"\",\"\",$C$10/'Step 4. Classification'!$E$17)","v":""},"",null,"",{"$f":"IF(A533=\"\",\"\",G533*'Step 3. Lease Payments'!$G$8)","v":""},{"$f":"_xlfn.IFNA(IF(A533=\"\",\"\",(VLOOKUP(A533,'Step 3. Lease Payments'!B:G,6,))),\"0\")","v":""},""]
[{"$f":"IF(A533<'Step 4. Classification'!$E$17,'Output FIN Lease Amort'!A533+1,\"\")","v":""},"","",{"$f":"IF(A534=\"\",\"\",$C$10/'Step 4. Classification'!$E$17)","v":""},"",null,"",{"$f":"IF(A534=\"\",\"\",G534*'Step 3. Lease Payments'!$G$8)","v":""},{"$f":"_xlfn.IFNA(IF(A534=\"\",\"\",(VLOOKUP(A534,'Step 3. Lease Payments'!B:G,6,))),\"0\")","v":""},""]
[{"$f":"IF(A534<'Step 4. Classification'!$E$17,'Output FIN Lease Amort'!A534+1,\"\")","v":""},"","",{"$f":"IF(A535=\"\",\"\",$C$10/'Step 4. Classification'!$E$17)","v":""},"",null,"",{"$f":"IF(A535=\"\",\"\",G535*'Step 3. Lease Payments'!$G$8)","v":""},{"$f":"_xlfn.IFNA(IF(A535=\"\",\"\",(VLOOKUP(A535,'Step 3. Lease Payments'!B:G,6,))),\"0\")","v":""},""]
[{"$f":"IF(A535<'Step 4. Classification'!$E$17,'Output FIN Lease Amort'!A535+1,\"\")","v":""},"","",{"$f":"IF(A536=\"\",\"\",$C$10/'Step 4. Classification'!$E$17)","v":""},"",null,"",{"$f":"IF(A536=\"\",\"\",G536*'Step 3. Lease Payments'!$G$8)","v":""},{"$f":"_xlfn.IFNA(IF(A536=\"\",\"\",(VLOOKUP(A536,'Step 3. Lease Payments'!B:G,6,))),\"0\")","v":""},""]
[{"$f":"IF(A536<'Step 4. Classification'!$E$17,'Output FIN Lease Amort'!A536+1,\"\")","v":""},"","",{"$f":"IF(A537=\"\",\"\",$C$10/'Step 4. Classification'!$E$17)","v":""},"",null,"",{"$f":"IF(A537=\"\",\"\",G537*'Step 3. Lease Payments'!$G$8)","v":""},{"$f":"_xlfn.IFNA(IF(A537=\"\",\"\",(VLOOKUP(A537,'Step 3. Lease Payments'!B:G,6,))),\"0\")","v":""},""]
[{"$f":"IF(A537<'Step 4. Classification'!$E$17,'Output FIN Lease Amort'!A537+1,\"\")","v":""},"","",{"$f":"IF(A538=\"\",\"\",$C$10/'Step 4. Classification'!$E$17)","v":""},"",null,"",{"$f":"IF(A538=\"\",\"\",G538*'Step 3. Lease Payments'!$G$8)","v":""},{"$f":"_xlfn.IFNA(IF(A538=\"\",\"\",(VLOOKUP(A538,'Step 3. Lease Payments'!B:G,6,))),\"0\")","v":""},""]
[{"$f":"IF(A538<'Step 4. Classification'!$E$17,'Output FIN Lease Amort'!A538+1,\"\")","v":""},"","",{"$f":"IF(A539=\"\",\"\",$C$10/'Step 4. Classification'!$E$17)","v":""},"",null,"",{"$f":"IF(A539=\"\",\"\",G539*'Step 3. Lease Payments'!$G$8)","v":""},{"$f":"_xlfn.IFNA(IF(A539=\"\",\"\",(VLOOKUP(A539,'Step 3. Lease Payments'!B:G,6,))),\"0\")","v":""},""]
[{"$f":"IF(A539<'Step 4. Classification'!$E$17,'Output FIN Lease Amort'!A539+1,\"\")","v":""},"","",{"$f":"IF(A540=\"\",\"\",$C$10/'Step 4. Classification'!$E$17)","v":""},"",null,"",{"$f":"IF(A540=\"\",\"\",G540*'Step 3. Lease Payments'!$G$8)","v":""},{"$f":"_xlfn.IFNA(IF(A540=\"\",\"\",(VLOOKUP(A540,'Step 3. Lease Payments'!B:G,6,))),\"0\")","v":""},""]
[{"$f":"IF(A540<'Step 4. Classification'!$E$17,'Output FIN Lease Amort'!A540+1,\"\")","v":""},"","",{"$f":"IF(A541=\"\",\"\",$C$10/'Step 4. Classification'!$E$17)","v":""},"",null,"",{"$f":"IF(A541=\"\",\"\",G541*'Step 3. Lease Payments'!$G$8)","v":""},{"$f":"_xlfn.IFNA(IF(A541=\"\",\"\",(VLOOKUP(A541,'Step 3. Lease Payments'!B:G,6,))),\"0\")","v":""},""]
[{"$f":"IF(A541<'Step 4. Classification'!$E$17,'Output FIN Lease Amort'!A541+1,\"\")","v":""},"","",{"$f":"IF(A542=\"\",\"\",$C$10/'Step 4. Classification'!$E$17)","v":""},"",null,"",{"$f":"IF(A542=\"\",\"\",G542*'Step 3. Lease Payments'!$G$8)","v":""},{"$f":"_xlfn.IFNA(IF(A542=\"\",\"\",(VLOOKUP(A542,'Step 3. Lease Payments'!B:G,6,))),\"0\")","v":""},""]
[{"$f":"IF(A542<'Step 4. Classification'!$E$17,'Output FIN Lease Amort'!A542+1,\"\")","v":""},"","",{"$f":"IF(A543=\"\",\"\",$C$10/'Step 4. Classification'!$E$17)","v":""},"",null,"",{"$f":"IF(A543=\"\",\"\",G543*'Step 3. Lease Payments'!$G$8)","v":""},{"$f":"_xlfn.IFNA(IF(A543=\"\",\"\",(VLOOKUP(A543,'Step 3. Lease Payments'!B:G,6,))),\"0\")","v":""},""]
[{"$f":"IF(A543<'Step 4. Classification'!$E$17,'Output FIN Lease Amort'!A543+1,\"\")","v":""},"","",{"$f":"IF(A544=\"\",\"\",$C$10/'Step 4. Classification'!$E$17)","v":""},"",null,"",{"$f":"IF(A544=\"\",\"\",G544*'Step 3. Lease Payments'!$G$8)","v":""},{"$f":"_xlfn.IFNA(IF(A544=\"\",\"\",(VLOOKUP(A544,'Step 3. Lease Payments'!B:G,6,))),\"0\")","v":""},""]
[{"$f":"IF(A544<'Step 4. Classification'!$E$17,'Output FIN Lease Amort'!A544+1,\"\")","v":""},"","",{"$f":"IF(A545=\"\",\"\",$C$10/'Step 4. Classification'!$E$17)","v":""},"",null,"",{"$f":"IF(A545=\"\",\"\",G545*'Step 3. Lease Payments'!$G$8)","v":""},{"$f":"_xlfn.IFNA(IF(A545=\"\",\"\",(VLOOKUP(A545,'Step 3. Lease Payments'!B:G,6,))),\"0\")","v":""},""]
[{"$f":"IF(A545<'Step 4. Classification'!$E$17,'Output FIN Lease Amort'!A545+1,\"\")","v":""},"","",{"$f":"IF(A546=\"\",\"\",$C$10/'Step 4. Classification'!$E$17)","v":""},"",null,"",{"$f":"IF(A546=\"\",\"\",G546*'Step 3. Lease Payments'!$G$8)","v":""},{"$f":"_xlfn.IFNA(IF(A546=\"\",\"\",(VLOOKUP(A546,'Step 3. Lease Payments'!B:G,6,))),\"0\")","v":""},""]
[{"$f":"IF(A546<'Step 4. Classification'!$E$17,'Output FIN Lease Amort'!A546+1,\"\")","v":""},"","",{"$f":"IF(A547=\"\",\"\",$C$10/'Step 4. Classification'!$E$17)","v":""},"",null,"",{"$f":"IF(A547=\"\",\"\",G547*'Step 3. Lease Payments'!$G$8)","v":""},{"$f":"_xlfn.IFNA(IF(A547=\"\",\"\",(VLOOKUP(A547,'Step 3. Lease Payments'!B:G,6,))),\"0\")","v":""},""]
[{"$f":"IF(A547<'Step 4. Classification'!$E$17,'Output FIN Lease Amort'!A547+1,\"\")","v":""},"","",{"$f":"IF(A548=\"\",\"\",$C$10/'Step 4. Classification'!$E$17)","v":""},"",null,"",{"$f":"IF(A548=\"\",\"\",G548*'Step 3. Lease Payments'!$G$8)","v":""},{"$f":"_xlfn.IFNA(IF(A548=\"\",\"\",(VLOOKUP(A548,'Step 3. Lease Payments'!B:G,6,))),\"0\")","v":""},""]
[{"$f":"IF(A548<'Step 4. Classification'!$E$17,'Output FIN Lease Amort'!A548+1,\"\")","v":""},"","",{"$f":"IF(A549=\"\",\"\",$C$10/'Step 4. Classification'!$E$17)","v":""},"",null,"",{"$f":"IF(A549=\"\",\"\",G549*'Step 3. Lease Payments'!$G$8)","v":""},{"$f":"_xlfn.IFNA(IF(A549=\"\",\"\",(VLOOKUP(A549,'Step 3. Lease Payments'!B:G,6,))),\"0\")","v":""},""]
[{"$f":"IF(A549<'Step 4. Classification'!$E$17,'Output FIN Lease Amort'!A549+1,\"\")","v":""},"","",{"$f":"IF(A550=\"\",\"\",$C$10/'Step 4. Classification'!$E$17)","v":""},"",null,"",{"$f":"IF(A550=\"\",\"\",G550*'Step 3. Lease Payments'!$G$8)","v":""},{"$f":"_xlfn.IFNA(IF(A550=\"\",\"\",(VLOOKUP(A550,'Step 3. Lease Payments'!B:G,6,))),\"0\")","v":""},""]
[{"$f":"IF(A550<'Step 4. Classification'!$E$17,'Output FIN Lease Amort'!A550+1,\"\")","v":""},"","",{"$f":"IF(A551=\"\",\"\",$C$10/'Step 4. Classification'!$E$17)","v":""},"",null,"",{"$f":"IF(A551=\"\",\"\",G551*'Step 3. Lease Payments'!$G$8)","v":""},{"$f":"_xlfn.IFNA(IF(A551=\"\",\"\",(VLOOKUP(A551,'Step 3. Lease Payments'!B:G,6,))),\"0\")","v":""},""]
[{"$f":"IF(A551<'Step 4. Classification'!$E$17,'Output FIN Lease Amort'!A551+1,\"\")","v":""},"","",{"$f":"IF(A552=\"\",\"\",$C$10/'Step 4. Classification'!$E$17)","v":""},"",null,"",{"$f":"IF(A552=\"\",\"\",G552*'Step 3. Lease Payments'!$G$8)","v":""},{"$f":"_xlfn.IFNA(IF(A552=\"\",\"\",(VLOOKUP(A552,'Step 3. Lease Payments'!B:G,6,))),\"0\")","v":""},""]
[{"$f":"IF(A552<'Step 4. Classification'!$E$17,'Output FIN Lease Amort'!A552+1,\"\")","v":""},"","",{"$f":"IF(A553=\"\",\"\",$C$10/'Step 4. Classification'!$E$17)","v":""},"",null,"",{"$f":"IF(A553=\"\",\"\",G553*'Step 3. Lease Payments'!$G$8)","v":""},{"$f":"_xlfn.IFNA(IF(A553=\"\",\"\",(VLOOKUP(A553,'Step 3. Lease Payments'!B:G,6,))),\"0\")","v":""},""]
[{"$f":"IF(A553<'Step 4. Classification'!$E$17,'Output FIN Lease Amort'!A553+1,\"\")","v":""},"","",{"$f":"IF(A554=\"\",\"\",$C$10/'Step 4. Classification'!$E$17)","v":""},"",null,"",{"$f":"IF(A554=\"\",\"\",G554*'Step 3. Lease Payments'!$G$8)","v":""},{"$f":"_xlfn.IFNA(IF(A554=\"\",\"\",(VLOOKUP(A554,'Step 3. Lease Payments'!B:G,6,))),\"0\")","v":""},""]
[{"$f":"IF(A554<'Step 4. Classification'!$E$17,'Output FIN Lease Amort'!A554+1,\"\")","v":""},"","",{"$f":"IF(A555=\"\",\"\",$C$10/'Step 4. Classification'!$E$17)","v":""},"",null,"",{"$f":"IF(A555=\"\",\"\",G555*'Step 3. Lease Payments'!$G$8)","v":""},{"$f":"_xlfn.IFNA(IF(A555=\"\",\"\",(VLOOKUP(A555,'Step 3. Lease Payments'!B:G,6,))),\"0\")","v":""},""]
[{"$f":"IF(A555<'Step 4. Classification'!$E$17,'Output FIN Lease Amort'!A555+1,\"\")","v":""},"","",{"$f":"IF(A556=\"\",\"\",$C$10/'Step 4. Classification'!$E$17)","v":""},"",null,"",{"$f":"IF(A556=\"\",\"\",G556*'Step 3. Lease Payments'!$G$8)","v":""},{"$f":"_xlfn.IFNA(IF(A556=\"\",\"\",(VLOOKUP(A556,'Step 3. Lease Payments'!B:G,6,))),\"0\")","v":""},""]
[{"$f":"IF(A556<'Step 4. Classification'!$E$17,'Output FIN Lease Amort'!A556+1,\"\")","v":""},"","",{"$f":"IF(A557=\"\",\"\",$C$10/'Step 4. Classification'!$E$17)","v":""},"",null,"",{"$f":"IF(A557=\"\",\"\",G557*'Step 3. Lease Payments'!$G$8)","v":""},{"$f":"_xlfn.IFNA(IF(A557=\"\",\"\",(VLOOKUP(A557,'Step 3. Lease Payments'!B:G,6,))),\"0\")","v":""},""]
[{"$f":"IF(A557<'Step 4. Classification'!$E$17,'Output FIN Lease Amort'!A557+1,\"\")","v":""},"","",{"$f":"IF(A558=\"\",\"\",$C$10/'Step 4. Classification'!$E$17)","v":""},"",null,"",{"$f":"IF(A558=\"\",\"\",G558*'Step 3. Lease Payments'!$G$8)","v":""},{"$f":"_xlfn.IFNA(IF(A558=\"\",\"\",(VLOOKUP(A558,'Step 3. Lease Payments'!B:G,6,))),\"0\")","v":""},""]
[{"$f":"IF(A558<'Step 4. Classification'!$E$17,'Output FIN Lease Amort'!A558+1,\"\")","v":""},"","",{"$f":"IF(A559=\"\",\"\",$C$10/'Step 4. Classification'!$E$17)","v":""},"",null,"",{"$f":"IF(A559=\"\",\"\",G559*'Step 3. Lease Payments'!$G$8)","v":""},{"$f":"_xlfn.IFNA(IF(A559=\"\",\"\",(VLOOKUP(A559,'Step 3. Lease Payments'!B:G,6,))),\"0\")","v":""},""]
[{"$f":"IF(A559<'Step 4. Classification'!$E$17,'Output FIN Lease Amort'!A559+1,\"\")","v":""},"","",{"$f":"IF(A560=\"\",\"\",$C$10/'Step 4. Classification'!$E$17)","v":""},"",null,"",{"$f":"IF(A560=\"\",\"\",G560*'Step 3. Lease Payments'!$G$8)","v":""},{"$f":"_xlfn.IFNA(IF(A560=\"\",\"\",(VLOOKUP(A560,'Step 3. Lease Payments'!B:G,6,))),\"0\")","v":""},""]
[{"$f":"IF(A560<'Step 4. Classification'!$E$17,'Output FIN Lease Amort'!A560+1,\"\")","v":""},"","",{"$f":"IF(A561=\"\",\"\",$C$10/'Step 4. Classification'!$E$17)","v":""},"",null,"",{"$f":"IF(A561=\"\",\"\",G561*'Step 3. Lease Payments'!$G$8)","v":""},{"$f":"_xlfn.IFNA(IF(A561=\"\",\"\",(VLOOKUP(A561,'Step 3. Lease Payments'!B:G,6,))),\"0\")","v":""},""]
[{"$f":"IF(A561<'Step 4. Classification'!$E$17,'Output FIN Lease Amort'!A561+1,\"\")","v":""},"","",{"$f":"IF(A562=\"\",\"\",$C$10/'Step 4. Classification'!$E$17)","v":""},"",null,"",{"$f":"IF(A562=\"\",\"\",G562*'Step 3. Lease Payments'!$G$8)","v":""},{"$f":"_xlfn.IFNA(IF(A562=\"\",\"\",(VLOOKUP(A562,'Step 3. Lease Payments'!B:G,6,))),\"0\")","v":""},""]
[{"$f":"IF(A562<'Step 4. Classification'!$E$17,'Output FIN Lease Amort'!A562+1,\"\")","v":""},"","",{"$f":"IF(A563=\"\",\"\",$C$10/'Step 4. Classification'!$E$17)","v":""},"",null,"",{"$f":"IF(A563=\"\",\"\",G563*'Step 3. Lease Payments'!$G$8)","v":""},{"$f":"_xlfn.IFNA(IF(A563=\"\",\"\",(VLOOKUP(A563,'Step 3. Lease Payments'!B:G,6,))),\"0\")","v":""},""]
[{"$f":"IF(A563<'Step 4. Classification'!$E$17,'Output FIN Lease Amort'!A563+1,\"\")","v":""},"","",{"$f":"IF(A564=\"\",\"\",$C$10/'Step 4. Classification'!$E$17)","v":""},"",null,"",{"$f":"IF(A564=\"\",\"\",G564*'Step 3. Lease Payments'!$G$8)","v":""},{"$f":"_xlfn.IFNA(IF(A564=\"\",\"\",(VLOOKUP(A564,'Step 3. Lease Payments'!B:G,6,))),\"0\")","v":""},""]
[{"$f":"IF(A564<'Step 4. Classification'!$E$17,'Output FIN Lease Amort'!A564+1,\"\")","v":""},"","",{"$f":"IF(A565=\"\",\"\",$C$10/'Step 4. Classification'!$E$17)","v":""},"",null,"",{"$f":"IF(A565=\"\",\"\",G565*'Step 3. Lease Payments'!$G$8)","v":""},{"$f":"_xlfn.IFNA(IF(A565=\"\",\"\",(VLOOKUP(A565,'Step 3. Lease Payments'!B:G,6,))),\"0\")","v":""},""]
[{"$f":"IF(A565<'Step 4. Classification'!$E$17,'Output FIN Lease Amort'!A565+1,\"\")","v":""},"","",{"$f":"IF(A566=\"\",\"\",$C$10/'Step 4. Classification'!$E$17)","v":""},"",null,"",{"$f":"IF(A566=\"\",\"\",G566*'Step 3. Lease Payments'!$G$8)","v":""},{"$f":"_xlfn.IFNA(IF(A566=\"\",\"\",(VLOOKUP(A566,'Step 3. Lease Payments'!B:G,6,))),\"0\")","v":""},""]
[{"$f":"IF(A566<'Step 4. Classification'!$E$17,'Output FIN Lease Amort'!A566+1,\"\")","v":""},"","",{"$f":"IF(A567=\"\",\"\",$C$10/'Step 4. Classification'!$E$17)","v":""},"",null,"",{"$f":"IF(A567=\"\",\"\",G567*'Step 3. Lease Payments'!$G$8)","v":""},{"$f":"_xlfn.IFNA(IF(A567=\"\",\"\",(VLOOKUP(A567,'Step 3. Lease Payments'!B:G,6,))),\"0\")","v":""},""]
[{"$f":"IF(A567<'Step 4. Classification'!$E$17,'Output FIN Lease Amort'!A567+1,\"\")","v":""},"","",{"$f":"IF(A568=\"\",\"\",$C$10/'Step 4. Classification'!$E$17)","v":""},"",null,"",{"$f":"IF(A568=\"\",\"\",G568*'Step 3. Lease Payments'!$G$8)","v":""},{"$f":"_xlfn.IFNA(IF(A568=\"\",\"\",(VLOOKUP(A568,'Step 3. Lease Payments'!B:G,6,))),\"0\")","v":""},""]
[{"$f":"IF(A568<'Step 4. Classification'!$E$17,'Output FIN Lease Amort'!A568+1,\"\")","v":""},"","",{"$f":"IF(A569=\"\",\"\",$C$10/'Step 4. Classification'!$E$17)","v":""},"",null,"",{"$f":"IF(A569=\"\",\"\",G569*'Step 3. Lease Payments'!$G$8)","v":""},{"$f":"_xlfn.IFNA(IF(A569=\"\",\"\",(VLOOKUP(A569,'Step 3. Lease Payments'!B:G,6,))),\"0\")","v":""},""]
[{"$f":"IF(A569<'Step 4. Classification'!$E$17,'Output FIN Lease Amort'!A569+1,\"\")","v":""},"","",{"$f":"IF(A570=\"\",\"\",$C$10/'Step 4. Classification'!$E$17)","v":""},"",null,"",{"$f":"IF(A570=\"\",\"\",G570*'Step 3. Lease Payments'!$G$8)","v":""},{"$f":"_xlfn.IFNA(IF(A570=\"\",\"\",(VLOOKUP(A570,'Step 3. Lease Payments'!B:G,6,))),\"0\")","v":""},""]
[{"$f":"IF(A570<'Step 4. Classification'!$E$17,'Output FIN Lease Amort'!A570+1,\"\")","v":""},"","",{"$f":"IF(A571=\"\",\"\",$C$10/'Step 4. Classification'!$E$17)","v":""},"",null,"",{"$f":"IF(A571=\"\",\"\",G571*'Step 3. Lease Payments'!$G$8)","v":""},{"$f":"_xlfn.IFNA(IF(A571=\"\",\"\",(VLOOKUP(A571,'Step 3. Lease Payments'!B:G,6,))),\"0\")","v":""},""]
[{"$f":"IF(A571<'Step 4. Classification'!$E$17,'Output FIN Lease Amort'!A571+1,\"\")","v":""},"","",{"$f":"IF(A572=\"\",\"\",$C$10/'Step 4. Classification'!$E$17)","v":""},"",null,"",{"$f":"IF(A572=\"\",\"\",G572*'Step 3. Lease Payments'!$G$8)","v":""},{"$f":"_xlfn.IFNA(IF(A572=\"\",\"\",(VLOOKUP(A572,'Step 3. Lease Payments'!B:G,6,))),\"0\")","v":""},""]
[{"$f":"IF(A572<'Step 4. Classification'!$E$17,'Output FIN Lease Amort'!A572+1,\"\")","v":""},"","",{"$f":"IF(A573=\"\",\"\",$C$10/'Step 4. Classification'!$E$17)","v":""},"",null,"",{"$f":"IF(A573=\"\",\"\",G573*'Step 3. Lease Payments'!$G$8)","v":""},{"$f":"_xlfn.IFNA(IF(A573=\"\",\"\",(VLOOKUP(A573,'Step 3. Lease Payments'!B:G,6,))),\"0\")","v":""},""]
[{"$f":"IF(A573<'Step 4. Classification'!$E$17,'Output FIN Lease Amort'!A573+1,\"\")","v":""},"","",{"$f":"IF(A574=\"\",\"\",$C$10/'Step 4. Classification'!$E$17)","v":""},"",null,"",{"$f":"IF(A574=\"\",\"\",G574*'Step 3. Lease Payments'!$G$8)","v":""},{"$f":"_xlfn.IFNA(IF(A574=\"\",\"\",(VLOOKUP(A574,'Step 3. Lease Payments'!B:G,6,))),\"0\")","v":""},""]
[{"$f":"IF(A574<'Step 4. Classification'!$E$17,'Output FIN Lease Amort'!A574+1,\"\")","v":""},"","",{"$f":"IF(A575=\"\",\"\",$C$10/'Step 4. Classification'!$E$17)","v":""},"",null,"",{"$f":"IF(A575=\"\",\"\",G575*'Step 3. Lease Payments'!$G$8)","v":""},{"$f":"_xlfn.IFNA(IF(A575=\"\",\"\",(VLOOKUP(A575,'Step 3. Lease Payments'!B:G,6,))),\"0\")","v":""},""]
[{"$f":"IF(A575<'Step 4. Classification'!$E$17,'Output FIN Lease Amort'!A575+1,\"\")","v":""},"","",{"$f":"IF(A576=\"\",\"\",$C$10/'Step 4. Classification'!$E$17)","v":""},"",null,"",{"$f":"IF(A576=\"\",\"\",G576*'Step 3. Lease Payments'!$G$8)","v":""},{"$f":"_xlfn.IFNA(IF(A576=\"\",\"\",(VLOOKUP(A576,'Step 3. Lease Payments'!B:G,6,))),\"0\")","v":""},""]
[{"$f":"IF(A576<'Step 4. Classification'!$E$17,'Output FIN Lease Amort'!A576+1,\"\")","v":""},"","",{"$f":"IF(A577=\"\",\"\",$C$10/'Step 4. Classification'!$E$17)","v":""},"",null,"",{"$f":"IF(A577=\"\",\"\",G577*'Step 3. Lease Payments'!$G$8)","v":""},{"$f":"_xlfn.IFNA(IF(A577=\"\",\"\",(VLOOKUP(A577,'Step 3. Lease Payments'!B:G,6,))),\"0\")","v":""},""]
[{"$f":"IF(A577<'Step 4. Classification'!$E$17,'Output FIN Lease Amort'!A577+1,\"\")","v":""},"","",{"$f":"IF(A578=\"\",\"\",$C$10/'Step 4. Classification'!$E$17)","v":""},"",null,"",{"$f":"IF(A578=\"\",\"\",G578*'Step 3. Lease Payments'!$G$8)","v":""},{"$f":"_xlfn.IFNA(IF(A578=\"\",\"\",(VLOOKUP(A578,'Step 3. Lease Payments'!B:G,6,))),\"0\")","v":""},""]
[{"$f":"IF(A578<'Step 4. Classification'!$E$17,'Output FIN Lease Amort'!A578+1,\"\")","v":""},"","",{"$f":"IF(A579=\"\",\"\",$C$10/'Step 4. Classification'!$E$17)","v":""},"",null,"",{"$f":"IF(A579=\"\",\"\",G579*'Step 3. Lease Payments'!$G$8)","v":""},{"$f":"_xlfn.IFNA(IF(A579=\"\",\"\",(VLOOKUP(A579,'Step 3. Lease Payments'!B:G,6,))),\"0\")","v":""},""]
[{"$f":"IF(A579<'Step 4. Classification'!$E$17,'Output FIN Lease Amort'!A579+1,\"\")","v":""},"","",{"$f":"IF(A580=\"\",\"\",$C$10/'Step 4. Classification'!$E$17)","v":""},"",null,"",{"$f":"IF(A580=\"\",\"\",G580*'Step 3. Lease Payments'!$G$8)","v":""},{"$f":"_xlfn.IFNA(IF(A580=\"\",\"\",(VLOOKUP(A580,'Step 3. Lease Payments'!B:G,6,))),\"0\")","v":""},""]
[{"$f":"IF(A580<'Step 4. Classification'!$E$17,'Output FIN Lease Amort'!A580+1,\"\")","v":""},"","",{"$f":"IF(A581=\"\",\"\",$C$10/'Step 4. Classification'!$E$17)","v":""},"",null,"",{"$f":"IF(A581=\"\",\"\",G581*'Step 3. Lease Payments'!$G$8)","v":""},{"$f":"_xlfn.IFNA(IF(A581=\"\",\"\",(VLOOKUP(A581,'Step 3. Lease Payments'!B:G,6,))),\"0\")","v":""},""]
[{"$f":"IF(A581<'Step 4. Classification'!$E$17,'Output FIN Lease Amort'!A581+1,\"\")","v":""},"","",{"$f":"IF(A582=\"\",\"\",$C$10/'Step 4. Classification'!$E$17)","v":""},"",null,"",{"$f":"IF(A582=\"\",\"\",G582*'Step 3. Lease Payments'!$G$8)","v":""},{"$f":"_xlfn.IFNA(IF(A582=\"\",\"\",(VLOOKUP(A582,'Step 3. Lease Payments'!B:G,6,))),\"0\")","v":""},""]
[{"$f":"IF(A582<'Step 4. Classification'!$E$17,'Output FIN Lease Amort'!A582+1,\"\")","v":""},"","",{"$f":"IF(A583=\"\",\"\",$C$10/'Step 4. Classification'!$E$17)","v":""},"",null,"",{"$f":"IF(A583=\"\",\"\",G583*'Step 3. Lease Payments'!$G$8)","v":""},{"$f":"_xlfn.IFNA(IF(A583=\"\",\"\",(VLOOKUP(A583,'Step 3. Lease Payments'!B:G,6,))),\"0\")","v":""},""]
[{"$f":"IF(A583<'Step 4. Classification'!$E$17,'Output FIN Lease Amort'!A583+1,\"\")","v":""},"","",{"$f":"IF(A584=\"\",\"\",$C$10/'Step 4. Classification'!$E$17)","v":""},"",null,"",{"$f":"IF(A584=\"\",\"\",G584*'Step 3. Lease Payments'!$G$8)","v":""},{"$f":"_xlfn.IFNA(IF(A584=\"\",\"\",(VLOOKUP(A584,'Step 3. Lease Payments'!B:G,6,))),\"0\")","v":""},""]
[{"$f":"IF(A584<'Step 4. Classification'!$E$17,'Output FIN Lease Amort'!A584+1,\"\")","v":""},"","",{"$f":"IF(A585=\"\",\"\",$C$10/'Step 4. Classification'!$E$17)","v":""},"",null,"",{"$f":"IF(A585=\"\",\"\",G585*'Step 3. Lease Payments'!$G$8)","v":""},{"$f":"_xlfn.IFNA(IF(A585=\"\",\"\",(VLOOKUP(A585,'Step 3. Lease Payments'!B:G,6,))),\"0\")","v":""},""]
[{"$f":"IF(A585<'Step 4. Classification'!$E$17,'Output FIN Lease Amort'!A585+1,\"\")","v":""},"","",{"$f":"IF(A586=\"\",\"\",$C$10/'Step 4. Classification'!$E$17)","v":""},"",null,"",{"$f":"IF(A586=\"\",\"\",G586*'Step 3. Lease Payments'!$G$8)","v":""},{"$f":"_xlfn.IFNA(IF(A586=\"\",\"\",(VLOOKUP(A586,'Step 3. Lease Payments'!B:G,6,))),\"0\")","v":""},""]
[{"$f":"IF(A586<'Step 4. Classification'!$E$17,'Output FIN Lease Amort'!A586+1,\"\")","v":""},{"$f":"IF(A587=\"\",\"\",(DATE(YEAR(B586),MONTH(B586)+1,DAY(B586))))","v":""},{"$f":"IF(A587=\"\",\"\",E586)","v":""},{"$f":"IF(A587=\"\",\"\",$C$10/'Step 4. Classification'!$E$17)","v":""},{"$f":"IF(A587=\"\",\"\",C587-D587)","v":""},null,{"$f":"IF(A587=\"\",\"\",J586)","v":""},{"$f":"IF(A587=\"\",\"\",G587*'Step 3. Lease Payments'!$G$8)","v":""},{"$f":"_xlfn.IFNA(IF(A587=\"\",\"\",(VLOOKUP(A587,'Step 3. Lease Payments'!B:G,6,))),\"0\")","v":""},{"$f":"IF(A587=\"\",\"\",G587-I587+H587)","v":""}]
[{"$f":"IF(A587<'Step 4. Classification'!$E$17,'Output FIN Lease Amort'!A587+1,\"\")","v":""},"","",{"$f":"IF(A588=\"\",\"\",$C$10/'Step 4. Classification'!$E$17)","v":""},"",null,"",{"$f":"IF(A588=\"\",\"\",G588*'Step 3. Lease Payments'!$G$8)","v":""},{"$f":"_xlfn.IFNA(IF(A588=\"\",\"\",(VLOOKUP(A588,'Step 3. Lease Payments'!B:G,6,))),\"0\")","v":""},""]
[{"$f":"IF(A588<'Step 4. Classification'!$E$17,'Output FIN Lease Amort'!A588+1,\"\")","v":""},"","",{"$f":"IF(A589=\"\",\"\",$C$10/'Step 4. Classification'!$E$17)","v":""},"",null,"",{"$f":"IF(A589=\"\",\"\",G589*'Step 3. Lease Payments'!$G$8)","v":""},{"$f":"_xlfn.IFNA(IF(A589=\"\",\"\",(VLOOKUP(A589,'Step 3. Lease Payments'!B:G,6,))),\"0\")","v":""},""]
[{"$f":"IF(A589<'Step 4. Classification'!$E$17,'Output FIN Lease Amort'!A589+1,\"\")","v":""},"","",{"$f":"IF(A590=\"\",\"\",$C$10/'Step 4. Classification'!$E$17)","v":""},"",null,"",{"$f":"IF(A590=\"\",\"\",G590*'Step 3. Lease Payments'!$G$8)","v":""},{"$f":"_xlfn.IFNA(IF(A590=\"\",\"\",(VLOOKUP(A590,'Step 3. Lease Payments'!B:G,6,))),\"0\")","v":""},""]
[{"$f":"IF(A590<'Step 4. Classification'!$E$17,'Output FIN Lease Amort'!A590+1,\"\")","v":""},"","",{"$f":"IF(A591=\"\",\"\",$C$10/'Step 4. Classification'!$E$17)","v":""},"",null,"",{"$f":"IF(A591=\"\",\"\",G591*'Step 3. Lease Payments'!$G$8)","v":""},{"$f":"_xlfn.IFNA(IF(A591=\"\",\"\",(VLOOKUP(A591,'Step 3. Lease Payments'!B:G,6,))),\"0\")","v":""},""]
[{"$f":"IF(A591<'Step 4. Classification'!$E$17,'Output FIN Lease Amort'!A591+1,\"\")","v":""},"","",{"$f":"IF(A592=\"\",\"\",$C$10/'Step 4. Classification'!$E$17)","v":""},"",null,"",{"$f":"IF(A592=\"\",\"\",G592*'Step 3. Lease Payments'!$G$8)","v":""},{"$f":"_xlfn.IFNA(IF(A592=\"\",\"\",(VLOOKUP(A592,'Step 3. Lease Payments'!B:G,6,))),\"0\")","v":""},""]
[{"$f":"IF(A592<'Step 4. Classification'!$E$17,'Output FIN Lease Amort'!A592+1,\"\")","v":""},"","",{"$f":"IF(A593=\"\",\"\",$C$10/'Step 4. Classification'!$E$17)","v":""},"",null,"",{"$f":"IF(A593=\"\",\"\",G593*'Step 3. Lease Payments'!$G$8)","v":""},{"$f":"_xlfn.IFNA(IF(A593=\"\",\"\",(VLOOKUP(A593,'Step 3. Lease Payments'!B:G,6,))),\"0\")","v":""},""]
[{"$f":"IF(A593<'Step 4. Classification'!$E$17,'Output FIN Lease Amort'!A593+1,\"\")","v":""},"","",{"$f":"IF(A594=\"\",\"\",$C$10/'Step 4. Classification'!$E$17)","v":""},"",null,"",{"$f":"IF(A594=\"\",\"\",G594*'Step 3. Lease Payments'!$G$8)","v":""},{"$f":"_xlfn.IFNA(IF(A594=\"\",\"\",(VLOOKUP(A594,'Step 3. Lease Payments'!B:G,6,))),\"0\")","v":""},""]
[{"$f":"IF(A594<'Step 4. Classification'!$E$17,'Output FIN Lease Amort'!A594+1,\"\")","v":""},"","",{"$f":"IF(A595=\"\",\"\",$C$10/'Step 4. Classification'!$E$17)","v":""},"",null,"",{"$f":"IF(A595=\"\",\"\",G595*'Step 3. Lease Payments'!$G$8)","v":""},{"$f":"_xlfn.IFNA(IF(A595=\"\",\"\",(VLOOKUP(A595,'Step 3. Lease Payments'!B:G,6,))),\"0\")","v":""},""]
[{"$f":"IF(A595<'Step 4. Classification'!$E$17,'Output FIN Lease Amort'!A595+1,\"\")","v":""},"","",{"$f":"IF(A596=\"\",\"\",$C$10/'Step 4. Classification'!$E$17)","v":""},"",null,"",{"$f":"IF(A596=\"\",\"\",G596*'Step 3. Lease Payments'!$G$8)","v":""},{"$f":"_xlfn.IFNA(IF(A596=\"\",\"\",(VLOOKUP(A596,'Step 3. Lease Payments'!B:G,6,))),\"0\")","v":""},""]
[{"$f":"IF(A596<'Step 4. Classification'!$E$17,'Output FIN Lease Amort'!A596+1,\"\")","v":""},"","",{"$f":"IF(A597=\"\",\"\",$C$10/'Step 4. Classification'!$E$17)","v":""},"",null,"",{"$f":"IF(A597=\"\",\"\",G597*'Step 3. Lease Payments'!$G$8)","v":""},{"$f":"_xlfn.IFNA(IF(A597=\"\",\"\",(VLOOKUP(A597,'Step 3. Lease Payments'!B:G,6,))),\"0\")","v":""},""]
[{"$f":"IF(A597<'Step 4. Classification'!$E$17,'Output FIN Lease Amort'!A597+1,\"\")","v":""},"","",{"$f":"IF(A598=\"\",\"\",$C$10/'Step 4. Classification'!$E$17)","v":""},"",null,"",{"$f":"IF(A598=\"\",\"\",G598*'Step 3. Lease Payments'!$G$8)","v":""},{"$f":"_xlfn.IFNA(IF(A598=\"\",\"\",(VLOOKUP(A598,'Step 3. Lease Payments'!B:G,6,))),\"0\")","v":""},""]
[{"$f":"IF(A598<'Step 4. Classification'!$E$17,'Output FIN Lease Amort'!A598+1,\"\")","v":""},"","",{"$f":"IF(A599=\"\",\"\",$C$10/'Step 4. Classification'!$E$17)","v":""},"",null,"",{"$f":"IF(A599=\"\",\"\",G599*'Step 3. Lease Payments'!$G$8)","v":""},{"$f":"_xlfn.IFNA(IF(A599=\"\",\"\",(VLOOKUP(A599,'Step 3. Lease Payments'!B:G,6,))),\"0\")","v":""},""]
[{"$f":"IF(A599<'Step 4. Classification'!$E$17,'Output FIN Lease Amort'!A599+1,\"\")","v":""},"","",{"$f":"IF(A600=\"\",\"\",$C$10/'Step 4. Classification'!$E$17)","v":""},"",null,"",{"$f":"IF(A600=\"\",\"\",G600*'Step 3. Lease Payments'!$G$8)","v":""},{"$f":"_xlfn.IFNA(IF(A600=\"\",\"\",(VLOOKUP(A600,'Step 3. Lease Payments'!B:G,6,))),\"0\")","v":""},""]
[{"$f":"IF(A600<'Step 4. Classification'!$E$17,'Output FIN Lease Amort'!A600+1,\"\")","v":""},"","",{"$f":"IF(A601=\"\",\"\",$C$10/'Step 4. Classification'!$E$17)","v":""},"",null,"",{"$f":"IF(A601=\"\",\"\",G601*'Step 3. Lease Payments'!$G$8)","v":""},{"$f":"_xlfn.IFNA(IF(A601=\"\",\"\",(VLOOKUP(A601,'Step 3. Lease Payments'!B:G,6,))),\"0\")","v":""},""]
[{"$f":"IF(A601<'Step 4. Classification'!$E$17,'Output FIN Lease Amort'!A601+1,\"\")","v":""},"","",{"$f":"IF(A602=\"\",\"\",$C$10/'Step 4. Classification'!$E$17)","v":""},"",null,"",{"$f":"IF(A602=\"\",\"\",G602*'Step 3. Lease Payments'!$G$8)","v":""},{"$f":"_xlfn.IFNA(IF(A602=\"\",\"\",(VLOOKUP(A602,'Step 3. Lease Payments'!B:G,6,))),\"0\")","v":""},""]
[{"$f":"IF(A602<'Step 4. Classification'!$E$17,'Output FIN Lease Amort'!A602+1,\"\")","v":""},"","",{"$f":"IF(A603=\"\",\"\",$C$10/'Step 4. Classification'!$E$17)","v":""},"",null,"",{"$f":"IF(A603=\"\",\"\",G603*'Step 3. Lease Payments'!$G$8)","v":""},{"$f":"_xlfn.IFNA(IF(A603=\"\",\"\",(VLOOKUP(A603,'Step 3. Lease Payments'!B:G,6,))),\"0\")","v":""},""]
[{"$f":"IF(A603<'Step 4. Classification'!$E$17,'Output FIN Lease Amort'!A603+1,\"\")","v":""},"","",{"$f":"IF(A604=\"\",\"\",$C$10/'Step 4. Classification'!$E$17)","v":""},"",null,"",{"$f":"IF(A604=\"\",\"\",G604*'Step 3. Lease Payments'!$G$8)","v":""},{"$f":"_xlfn.IFNA(IF(A604=\"\",\"\",(VLOOKUP(A604,'Step 3. Lease Payments'!B:G,6,))),\"0\")","v":""},""]
[{"$f":"IF(A604<'Step 4. Classification'!$E$17,'Output FIN Lease Amort'!A604+1,\"\")","v":""},"","",{"$f":"IF(A605=\"\",\"\",$C$10/'Step 4. Classification'!$E$17)","v":""},"",null,"",{"$f":"IF(A605=\"\",\"\",G605*'Step 3. Lease Payments'!$G$8)","v":""},{"$f":"_xlfn.IFNA(IF(A605=\"\",\"\",(VLOOKUP(A605,'Step 3. Lease Payments'!B:G,6,))),\"0\")","v":""},""]
[{"$f":"IF(A605<'Step 4. Classification'!$E$17,'Output FIN Lease Amort'!A605+1,\"\")","v":""},"","",{"$f":"IF(A606=\"\",\"\",$C$10/'Step 4. Classification'!$E$17)","v":""},"",null,"",{"$f":"IF(A606=\"\",\"\",G606*'Step 3. Lease Payments'!$G$8)","v":""},{"$f":"_xlfn.IFNA(IF(A606=\"\",\"\",(VLOOKUP(A606,'Step 3. Lease Payments'!B:G,6,))),\"0\")","v":""},""]
[{"$f":"IF(A606<'Step 4. Classification'!$E$17,'Output FIN Lease Amort'!A606+1,\"\")","v":""},"","",{"$f":"IF(A607=\"\",\"\",$C$10/'Step 4. Classification'!$E$17)","v":""},"",null,"",{"$f":"IF(A607=\"\",\"\",G607*'Step 3. Lease Payments'!$G$8)","v":""},{"$f":"_xlfn.IFNA(IF(A607=\"\",\"\",(VLOOKUP(A607,'Step 3. Lease Payments'!B:G,6,))),\"0\")","v":""},""]
[{"$f":"IF(A607<'Step 4. Classification'!$E$17,'Output FIN Lease Amort'!A607+1,\"\")","v":""},"","",{"$f":"IF(A608=\"\",\"\",$C$10/'Step 4. Classification'!$E$17)","v":""},"",null,"",{"$f":"IF(A608=\"\",\"\",G608*'Step 3. Lease Payments'!$G$8)","v":""},{"$f":"_xlfn.IFNA(IF(A608=\"\",\"\",(VLOOKUP(A608,'Step 3. Lease Payments'!B:G,6,))),\"0\")","v":""},""]
[{"$f":"IF(A608<'Step 4. Classification'!$E$17,'Output FIN Lease Amort'!A608+1,\"\")","v":""},"","",{"$f":"IF(A609=\"\",\"\",$C$10/'Step 4. Classification'!$E$17)","v":""},"",null,"",{"$f":"IF(A609=\"\",\"\",G609*'Step 3. Lease Payments'!$G$8)","v":""},{"$f":"_xlfn.IFNA(IF(A609=\"\",\"\",(VLOOKUP(A609,'Step 3. Lease Payments'!B:G,6,))),\"0\")","v":""},""]
[{"$f":"IF(A609<'Step 4. Classification'!$E$17,'Output FIN Lease Amort'!A609+1,\"\")","v":""},"","",{"$f":"IF(A610=\"\",\"\",$C$10/'Step 4. Classification'!$E$17)","v":""},"",null,"",{"$f":"IF(A610=\"\",\"\",G610*'Step 3. Lease Payments'!$G$8)","v":""},{"$f":"_xlfn.IFNA(IF(A610=\"\",\"\",(VLOOKUP(A610,'Step 3. Lease Payments'!B:G,6,))),\"0\")","v":""},""]
[{"$f":"IF(A610<'Step 4. Classification'!$E$17,'Output FIN Lease Amort'!A610+1,\"\")","v":""},"","",{"$f":"IF(A611=\"\",\"\",$C$10/'Step 4. Classification'!$E$17)","v":""},"",null,"",{"$f":"IF(A611=\"\",\"\",G611*'Step 3. Lease Payments'!$G$8)","v":""},{"$f":"_xlfn.IFNA(IF(A611=\"\",\"\",(VLOOKUP(A611,'Step 3. Lease Payments'!B:G,6,))),\"0\")","v":""},""]
[{"$f":"IF(A611<'Step 4. Classification'!$E$17,'Output FIN Lease Amort'!A611+1,\"\")","v":""},"","",{"$f":"IF(A612=\"\",\"\",$C$10/'Step 4. Classification'!$E$17)","v":""},"",null,"",{"$f":"IF(A612=\"\",\"\",G612*'Step 3. Lease Payments'!$G$8)","v":""},{"$f":"_xlfn.IFNA(IF(A612=\"\",\"\",(VLOOKUP(A612,'Step 3. Lease Payments'!B:G,6,))),\"0\")","v":""},""]
[{"$f":"IF(A612<'Step 4. Classification'!$E$17,'Output FIN Lease Amort'!A612+1,\"\")","v":""},"","",{"$f":"IF(A613=\"\",\"\",$C$10/'Step 4. Classification'!$E$17)","v":""},"",null,"",{"$f":"IF(A613=\"\",\"\",G613*'Step 3. Lease Payments'!$G$8)","v":""},{"$f":"_xlfn.IFNA(IF(A613=\"\",\"\",(VLOOKUP(A613,'Step 3. Lease Payments'!B:G,6,))),\"0\")","v":""},""]
[{"$f":"IF(A613<'Step 4. Classification'!$E$17,'Output FIN Lease Amort'!A613+1,\"\")","v":""},"","",{"$f":"IF(A614=\"\",\"\",$C$10/'Step 4. Classification'!$E$17)","v":""},"",null,"",{"$f":"IF(A614=\"\",\"\",G614*'Step 3. Lease Payments'!$G$8)","v":""},{"$f":"_xlfn.IFNA(IF(A614=\"\",\"\",(VLOOKUP(A614,'Step 3. Lease Payments'!B:G,6,))),\"0\")","v":""},""]
[{"$f":"IF(A614<'Step 4. Classification'!$E$17,'Output FIN Lease Amort'!A614+1,\"\")","v":""},"","",{"$f":"IF(A615=\"\",\"\",$C$10/'Step 4. Classification'!$E$17)","v":""},"",null,"",{"$f":"IF(A615=\"\",\"\",G615*'Step 3. Lease Payments'!$G$8)","v":""},{"$f":"_xlfn.IFNA(IF(A615=\"\",\"\",(VLOOKUP(A615,'Step 3. Lease Payments'!B:G,6,))),\"0\")","v":""},""]
[{"$f":"IF(A615<'Step 4. Classification'!$E$17,'Output FIN Lease Amort'!A615+1,\"\")","v":""},"","",{"$f":"IF(A616=\"\",\"\",$C$10/'Step 4. Classification'!$E$17)","v":""},"",null,"",{"$f":"IF(A616=\"\",\"\",G616*'Step 3. Lease Payments'!$G$8)","v":""},{"$f":"_xlfn.IFNA(IF(A616=\"\",\"\",(VLOOKUP(A616,'Step 3. Lease Payments'!B:G,6,))),\"0\")","v":""},""]
[{"$f":"IF(A616<'Step 4. Classification'!$E$17,'Output FIN Lease Amort'!A616+1,\"\")","v":""},"","",{"$f":"IF(A617=\"\",\"\",$C$10/'Step 4. Classification'!$E$17)","v":""},"",null,"",{"$f":"IF(A617=\"\",\"\",G617*'Step 3. Lease Payments'!$G$8)","v":""},{"$f":"_xlfn.IFNA(IF(A617=\"\",\"\",(VLOOKUP(A617,'Step 3. Lease Payments'!B:G,6,))),\"0\")","v":""},""]
[{"$f":"IF(A617<'Step 4. Classification'!$E$17,'Output FIN Lease Amort'!A617+1,\"\")","v":""},"","",{"$f":"IF(A618=\"\",\"\",$C$10/'Step 4. Classification'!$E$17)","v":""},"",null,"",{"$f":"IF(A618=\"\",\"\",G618*'Step 3. Lease Payments'!$G$8)","v":""},{"$f":"_xlfn.IFNA(IF(A618=\"\",\"\",(VLOOKUP(A618,'Step 3. Lease Payments'!B:G,6,))),\"0\")","v":""},""]
[{"$f":"IF(A618<'Step 4. Classification'!$E$17,'Output FIN Lease Amort'!A618+1,\"\")","v":""},"","",{"$f":"IF(A619=\"\",\"\",$C$10/'Step 4. Classification'!$E$17)","v":""},"",null,"",{"$f":"IF(A619=\"\",\"\",G619*'Step 3. Lease Payments'!$G$8)","v":""},{"$f":"_xlfn.IFNA(IF(A619=\"\",\"\",(VLOOKUP(A619,'Step 3. Lease Payments'!B:G,6,))),\"0\")","v":""},""]
[{"$f":"IF(A619<'Step 4. Classification'!$E$17,'Output FIN Lease Amort'!A619+1,\"\")","v":""},"","",{"$f":"IF(A620=\"\",\"\",$C$10/'Step 4. Classification'!$E$17)","v":""},"",null,"",{"$f":"IF(A620=\"\",\"\",G620*'Step 3. Lease Payments'!$G$8)","v":""},{"$f":"_xlfn.IFNA(IF(A620=\"\",\"\",(VLOOKUP(A620,'Step 3. Lease Payments'!B:G,6,))),\"0\")","v":""},""]
[{"$f":"IF(A620<'Step 4. Classification'!$E$17,'Output FIN Lease Amort'!A620+1,\"\")","v":""},"","",{"$f":"IF(A621=\"\",\"\",$C$10/'Step 4. Classification'!$E$17)","v":""},"",null,"",{"$f":"IF(A621=\"\",\"\",G621*'Step 3. Lease Payments'!$G$8)","v":""},{"$f":"_xlfn.IFNA(IF(A621=\"\",\"\",(VLOOKUP(A621,'Step 3. Lease Payments'!B:G,6,))),\"0\")","v":""},""]
[{"$f":"IF(A621<'Step 4. Classification'!$E$17,'Output FIN Lease Amort'!A621+1,\"\")","v":""},"","",{"$f":"IF(A622=\"\",\"\",$C$10/'Step 4. Classification'!$E$17)","v":""},"",null,"",{"$f":"IF(A622=\"\",\"\",G622*'Step 3. Lease Payments'!$G$8)","v":""},{"$f":"_xlfn.IFNA(IF(A622=\"\",\"\",(VLOOKUP(A622,'Step 3. Lease Payments'!B:G,6,))),\"0\")","v":""},""]
[{"$f":"IF(A622<'Step 4. Classification'!$E$17,'Output FIN Lease Amort'!A622+1,\"\")","v":""},"","",{"$f":"IF(A623=\"\",\"\",$C$10/'Step 4. Classification'!$E$17)","v":""},"",null,"",{"$f":"IF(A623=\"\",\"\",G623*'Step 3. Lease Payments'!$G$8)","v":""},{"$f":"_xlfn.IFNA(IF(A623=\"\",\"\",(VLOOKUP(A623,'Step 3. Lease Payments'!B:G,6,))),\"0\")","v":""},""]
[{"$f":"IF(A623<'Step 4. Classification'!$E$17,'Output FIN Lease Amort'!A623+1,\"\")","v":""},"","",{"$f":"IF(A624=\"\",\"\",$C$10/'Step 4. Classification'!$E$17)","v":""},"",null,"",{"$f":"IF(A624=\"\",\"\",G624*'Step 3. Lease Payments'!$G$8)","v":""},{"$f":"_xlfn.IFNA(IF(A624=\"\",\"\",(VLOOKUP(A624,'Step 3. Lease Payments'!B:G,6,))),\"0\")","v":""},""]
[{"$f":"IF(A624<'Step 4. Classification'!$E$17,'Output FIN Lease Amort'!A624+1,\"\")","v":""},"","",{"$f":"IF(A625=\"\",\"\",$C$10/'Step 4. Classification'!$E$17)","v":""},"",null,"",{"$f":"IF(A625=\"\",\"\",G625*'Step 3. Lease Payments'!$G$8)","v":""},{"$f":"_xlfn.IFNA(IF(A625=\"\",\"\",(VLOOKUP(A625,'Step 3. Lease Payments'!B:G,6,))),\"0\")","v":""},""]
[{"$f":"IF(A625<'Step 4. Classification'!$E$17,'Output FIN Lease Amort'!A625+1,\"\")","v":""},"","",{"$f":"IF(A626=\"\",\"\",$C$10/'Step 4. Classification'!$E$17)","v":""},"",null,"",{"$f":"IF(A626=\"\",\"\",G626*'Step 3. Lease Payments'!$G$8)","v":""},{"$f":"_xlfn.IFNA(IF(A626=\"\",\"\",(VLOOKUP(A626,'Step 3. Lease Payments'!B:G,6,))),\"0\")","v":""},""]
[{"$f":"IF(A626<'Step 4. Classification'!$E$17,'Output FIN Lease Amort'!A626+1,\"\")","v":""},"","",{"$f":"IF(A627=\"\",\"\",$C$10/'Step 4. Classification'!$E$17)","v":""},"",null,"",{"$f":"IF(A627=\"\",\"\",G627*'Step 3. Lease Payments'!$G$8)","v":""},{"$f":"_xlfn.IFNA(IF(A627=\"\",\"\",(VLOOKUP(A627,'Step 3. Lease Payments'!B:G,6,))),\"0\")","v":""},""]
[{"$f":"IF(A627<'Step 4. Classification'!$E$17,'Output FIN Lease Amort'!A627+1,\"\")","v":""},"","",{"$f":"IF(A628=\"\",\"\",$C$10/'Step 4. Classification'!$E$17)","v":""},"",null,"",{"$f":"IF(A628=\"\",\"\",G628*'Step 3. Lease Payments'!$G$8)","v":""},{"$f":"_xlfn.IFNA(IF(A628=\"\",\"\",(VLOOKUP(A628,'Step 3. Lease Payments'!B:G,6,))),\"0\")","v":""},""]
[{"$f":"IF(A628<'Step 4. Classification'!$E$17,'Output FIN Lease Amort'!A628+1,\"\")","v":""},"","",{"$f":"IF(A629=\"\",\"\",$C$10/'Step 4. Classification'!$E$17)","v":""},"",null,"",{"$f":"IF(A629=\"\",\"\",G629*'Step 3. Lease Payments'!$G$8)","v":""},{"$f":"_xlfn.IFNA(IF(A629=\"\",\"\",(VLOOKUP(A629,'Step 3. Lease Payments'!B:G,6,))),\"0\")","v":""},""]
[{"$f":"IF(A629<'Step 4. Classification'!$E$17,'Output FIN Lease Amort'!A629+1,\"\")","v":""},"","",{"$f":"IF(A630=\"\",\"\",$C$10/'Step 4. Classification'!$E$17)","v":""},"",null,"",{"$f":"IF(A630=\"\",\"\",G630*'Step 3. Lease Payments'!$G$8)","v":""},{"$f":"_xlfn.IFNA(IF(A630=\"\",\"\",(VLOOKUP(A630,'Step 3. Lease Payments'!B:G,6,))),\"0\")","v":""},""]
[{"$f":"IF(A630<'Step 4. Classification'!$E$17,'Output FIN Lease Amort'!A630+1,\"\")","v":""},"","",{"$f":"IF(A631=\"\",\"\",$C$10/'Step 4. Classification'!$E$17)","v":""},"",null,"",{"$f":"IF(A631=\"\",\"\",G631*'Step 3. Lease Payments'!$G$8)","v":""},{"$f":"_xlfn.IFNA(IF(A631=\"\",\"\",(VLOOKUP(A631,'Step 3. Lease Payments'!B:G,6,))),\"0\")","v":""},""]
[{"$f":"IF(A631<'Step 4. Classification'!$E$17,'Output FIN Lease Amort'!A631+1,\"\")","v":""},"","",{"$f":"IF(A632=\"\",\"\",$C$10/'Step 4. Classification'!$E$17)","v":""},"",null,"",{"$f":"IF(A632=\"\",\"\",G632*'Step 3. Lease Payments'!$G$8)","v":""},{"$f":"_xlfn.IFNA(IF(A632=\"\",\"\",(VLOOKUP(A632,'Step 3. Lease Payments'!B:G,6,))),\"0\")","v":""},""]
[{"$f":"IF(A632<'Step 4. Classification'!$E$17,'Output FIN Lease Amort'!A632+1,\"\")","v":""},"","",{"$f":"IF(A633=\"\",\"\",$C$10/'Step 4. Classification'!$E$17)","v":""},"",null,"",{"$f":"IF(A633=\"\",\"\",G633*'Step 3. Lease Payments'!$G$8)","v":""},{"$f":"_xlfn.IFNA(IF(A633=\"\",\"\",(VLOOKUP(A633,'Step 3. Lease Payments'!B:G,6,))),\"0\")","v":""},""]
[{"$f":"IF(A633<'Step 4. Classification'!$E$17,'Output FIN Lease Amort'!A633+1,\"\")","v":""},"","",{"$f":"IF(A634=\"\",\"\",$C$10/'Step 4. Classification'!$E$17)","v":""},"",null,"",{"$f":"IF(A634=\"\",\"\",G634*'Step 3. Lease Payments'!$G$8)","v":""},{"$f":"_xlfn.IFNA(IF(A634=\"\",\"\",(VLOOKUP(A634,'Step 3. Lease Payments'!B:G,6,))),\"0\")","v":""},""]
[{"$f":"IF(A634<'Step 4. Classification'!$E$17,'Output FIN Lease Amort'!A634+1,\"\")","v":""},"","",{"$f":"IF(A635=\"\",\"\",$C$10/'Step 4. Classification'!$E$17)","v":""},"",null,"",{"$f":"IF(A635=\"\",\"\",G635*'Step 3. Lease Payments'!$G$8)","v":""},{"$f":"_xlfn.IFNA(IF(A635=\"\",\"\",(VLOOKUP(A635,'Step 3. Lease Payments'!B:G,6,))),\"0\")","v":""},""]
[{"$f":"IF(A635<'Step 4. Classification'!$E$17,'Output FIN Lease Amort'!A635+1,\"\")","v":""},"","",{"$f":"IF(A636=\"\",\"\",$C$10/'Step 4. Classification'!$E$17)","v":""},"",null,"",{"$f":"IF(A636=\"\",\"\",G636*'Step 3. Lease Payments'!$G$8)","v":""},{"$f":"_xlfn.IFNA(IF(A636=\"\",\"\",(VLOOKUP(A636,'Step 3. Lease Payments'!B:G,6,))),\"0\")","v":""},""]
[{"$f":"IF(A636<'Step 4. Classification'!$E$17,'Output FIN Lease Amort'!A636+1,\"\")","v":""},"","",{"$f":"IF(A637=\"\",\"\",$C$10/'Step 4. Classification'!$E$17)","v":""},"",null,"",{"$f":"IF(A637=\"\",\"\",G637*'Step 3. Lease Payments'!$G$8)","v":""},{"$f":"_xlfn.IFNA(IF(A637=\"\",\"\",(VLOOKUP(A637,'Step 3. Lease Payments'!B:G,6,))),\"0\")","v":""},""]
[{"$f":"IF(A637<'Step 4. Classification'!$E$17,'Output FIN Lease Amort'!A637+1,\"\")","v":""},"","",{"$f":"IF(A638=\"\",\"\",$C$10/'Step 4. Classification'!$E$17)","v":""},"",null,"",{"$f":"IF(A638=\"\",\"\",G638*'Step 3. Lease Payments'!$G$8)","v":""},{"$f":"_xlfn.IFNA(IF(A638=\"\",\"\",(VLOOKUP(A638,'Step 3. Lease Payments'!B:G,6,))),\"0\")","v":""},""]
[{"$f":"IF(A638<'Step 4. Classification'!$E$17,'Output FIN Lease Amort'!A638+1,\"\")","v":""},"","",{"$f":"IF(A639=\"\",\"\",$C$10/'Step 4. Classification'!$E$17)","v":""},"",null,"",{"$f":"IF(A639=\"\",\"\",G639*'Step 3. Lease Payments'!$G$8)","v":""},{"$f":"_xlfn.IFNA(IF(A639=\"\",\"\",(VLOOKUP(A639,'Step 3. Lease Payments'!B:G,6,))),\"0\")","v":""},""]
[{"$f":"IF(A639<'Step 4. Classification'!$E$17,'Output FIN Lease Amort'!A639+1,\"\")","v":""},"","",{"$f":"IF(A640=\"\",\"\",$C$10/'Step 4. Classification'!$E$17)","v":""},"",null,"",{"$f":"IF(A640=\"\",\"\",G640*'Step 3. Lease Payments'!$G$8)","v":""},{"$f":"_xlfn.IFNA(IF(A640=\"\",\"\",(VLOOKUP(A640,'Step 3. Lease Payments'!B:G,6,))),\"0\")","v":""},""]
[{"$f":"IF(A640<'Step 4. Classification'!$E$17,'Output FIN Lease Amort'!A640+1,\"\")","v":""},"","",{"$f":"IF(A641=\"\",\"\",$C$10/'Step 4. Classification'!$E$17)","v":""},"",null,"",{"$f":"IF(A641=\"\",\"\",G641*'Step 3. Lease Payments'!$G$8)","v":""},{"$f":"_xlfn.IFNA(IF(A641=\"\",\"\",(VLOOKUP(A641,'Step 3. Lease Payments'!B:G,6,))),\"0\")","v":""},""]
[{"$f":"IF(A641<'Step 4. Classification'!$E$17,'Output FIN Lease Amort'!A641+1,\"\")","v":""},"","",{"$f":"IF(A642=\"\",\"\",$C$10/'Step 4. Classification'!$E$17)","v":""},"",null,"",{"$f":"IF(A642=\"\",\"\",G642*'Step 3. Lease Payments'!$G$8)","v":""},{"$f":"_xlfn.IFNA(IF(A642=\"\",\"\",(VLOOKUP(A642,'Step 3. Lease Payments'!B:G,6,))),\"0\")","v":""},""]
[{"$f":"IF(A642<'Step 4. Classification'!$E$17,'Output FIN Lease Amort'!A642+1,\"\")","v":""},"","",{"$f":"IF(A643=\"\",\"\",$C$10/'Step 4. Classification'!$E$17)","v":""},"",null,"",{"$f":"IF(A643=\"\",\"\",G643*'Step 3. Lease Payments'!$G$8)","v":""},{"$f":"_xlfn.IFNA(IF(A643=\"\",\"\",(VLOOKUP(A643,'Step 3. Lease Payments'!B:G,6,))),\"0\")","v":""},""]
[{"$f":"IF(A643<'Step 4. Classification'!$E$17,'Output FIN Lease Amort'!A643+1,\"\")","v":""},"","",{"$f":"IF(A644=\"\",\"\",$C$10/'Step 4. Classification'!$E$17)","v":""},"",null,"",{"$f":"IF(A644=\"\",\"\",G644*'Step 3. Lease Payments'!$G$8)","v":""},{"$f":"_xlfn.IFNA(IF(A644=\"\",\"\",(VLOOKUP(A644,'Step 3. Lease Payments'!B:G,6,))),\"0\")","v":""},""]
[{"$f":"IF(A644<'Step 4. Classification'!$E$17,'Output FIN Lease Amort'!A644+1,\"\")","v":""},"","",{"$f":"IF(A645=\"\",\"\",$C$10/'Step 4. Classification'!$E$17)","v":""},"",null,"",{"$f":"IF(A645=\"\",\"\",G645*'Step 3. Lease Payments'!$G$8)","v":""},{"$f":"_xlfn.IFNA(IF(A645=\"\",\"\",(VLOOKUP(A645,'Step 3. Lease Payments'!B:G,6,))),\"0\")","v":""},""]
[{"$f":"IF(A645<'Step 4. Classification'!$E$17,'Output FIN Lease Amort'!A645+1,\"\")","v":""},"","",{"$f":"IF(A646=\"\",\"\",$C$10/'Step 4. Classification'!$E$17)","v":""},"",null,"",{"$f":"IF(A646=\"\",\"\",G646*'Step 3. Lease Payments'!$G$8)","v":""},{"$f":"_xlfn.IFNA(IF(A646=\"\",\"\",(VLOOKUP(A646,'Step 3. Lease Payments'!B:G,6,))),\"0\")","v":""},""]
[{"$f":"IF(A646<'Step 4. Classification'!$E$17,'Output FIN Lease Amort'!A646+1,\"\")","v":""},"","",{"$f":"IF(A647=\"\",\"\",$C$10/'Step 4. Classification'!$E$17)","v":""},"",null,"",{"$f":"IF(A647=\"\",\"\",G647*'Step 3. Lease Payments'!$G$8)","v":""},{"$f":"_xlfn.IFNA(IF(A647=\"\",\"\",(VLOOKUP(A647,'Step 3. Lease Payments'!B:G,6,))),\"0\")","v":""},""]
[{"$f":"IF(A647<'Step 4. Classification'!$E$17,'Output FIN Lease Amort'!A647+1,\"\")","v":""},"","",{"$f":"IF(A648=\"\",\"\",$C$10/'Step 4. Classification'!$E$17)","v":""},"",null,"",{"$f":"IF(A648=\"\",\"\",G648*'Step 3. Lease Payments'!$G$8)","v":""},{"$f":"_xlfn.IFNA(IF(A648=\"\",\"\",(VLOOKUP(A648,'Step 3. Lease Payments'!B:G,6,))),\"0\")","v":""},""]
[{"$f":"IF(A648<'Step 4. Classification'!$E$17,'Output FIN Lease Amort'!A648+1,\"\")","v":""},"","",{"$f":"IF(A649=\"\",\"\",$C$10/'Step 4. Classification'!$E$17)","v":""},"",null,"",{"$f":"IF(A649=\"\",\"\",G649*'Step 3. Lease Payments'!$G$8)","v":""},{"$f":"_xlfn.IFNA(IF(A649=\"\",\"\",(VLOOKUP(A649,'Step 3. Lease Payments'!B:G,6,))),\"0\")","v":""},""]
[{"$f":"IF(A649<'Step 4. Classification'!$E$17,'Output FIN Lease Amort'!A649+1,\"\")","v":""},"","",{"$f":"IF(A650=\"\",\"\",$C$10/'Step 4. Classification'!$E$17)","v":""},"",null,"",{"$f":"IF(A650=\"\",\"\",G650*'Step 3. Lease Payments'!$G$8)","v":""},{"$f":"_xlfn.IFNA(IF(A650=\"\",\"\",(VLOOKUP(A650,'Step 3. Lease Payments'!B:G,6,))),\"0\")","v":""},""]
[{"$f":"IF(A650<'Step 4. Classification'!$E$17,'Output FIN Lease Amort'!A650+1,\"\")","v":""},{"$f":"IF(A651=\"\",\"\",(DATE(YEAR(B650),MONTH(B650)+1,DAY(B650))))","v":""},{"$f":"IF(A651=\"\",\"\",E650)","v":""},{"$f":"IF(A651=\"\",\"\",$C$10/'Step 4. Classification'!$E$17)","v":""},{"$f":"IF(A651=\"\",\"\",C651-D651)","v":""},null,{"$f":"IF(A651=\"\",\"\",J650)","v":""},{"$f":"IF(A651=\"\",\"\",G651*'Step 3. Lease Payments'!$G$8)","v":""},{"$f":"_xlfn.IFNA(IF(A651=\"\",\"\",(VLOOKUP(A651,'Step 3. Lease Payments'!B:G,6,))),\"0\")","v":""},{"$f":"IF(A651=\"\",\"\",G651-I651+H651)","v":""}]
[{"$f":"IF(A651<'Step 4. Classification'!$E$17,'Output FIN Lease Amort'!A651+1,\"\")","v":""},"","",{"$f":"IF(A652=\"\",\"\",$C$10/'Step 4. Classification'!$E$17)","v":""},"",null,"",{"$f":"IF(A652=\"\",\"\",G652*'Step 3. Lease Payments'!$G$8)","v":""},{"$f":"_xlfn.IFNA(IF(A652=\"\",\"\",(VLOOKUP(A652,'Step 3. Lease Payments'!B:G,6,))),\"0\")","v":""},""]
[{"$f":"IF(A652<'Step 4. Classification'!$E$17,'Output FIN Lease Amort'!A652+1,\"\")","v":""},"","",{"$f":"IF(A653=\"\",\"\",$C$10/'Step 4. Classification'!$E$17)","v":""},"",null,"",{"$f":"IF(A653=\"\",\"\",G653*'Step 3. Lease Payments'!$G$8)","v":""},{"$f":"_xlfn.IFNA(IF(A653=\"\",\"\",(VLOOKUP(A653,'Step 3. Lease Payments'!B:G,6,))),\"0\")","v":""},""]
[{"$f":"IF(A653<'Step 4. Classification'!$E$17,'Output FIN Lease Amort'!A653+1,\"\")","v":""},"","",{"$f":"IF(A654=\"\",\"\",$C$10/'Step 4. Classification'!$E$17)","v":""},"",null,"",{"$f":"IF(A654=\"\",\"\",G654*'Step 3. Lease Payments'!$G$8)","v":""},{"$f":"_xlfn.IFNA(IF(A654=\"\",\"\",(VLOOKUP(A654,'Step 3. Lease Payments'!B:G,6,))),\"0\")","v":""},""]
[{"$f":"IF(A654<'Step 4. Classification'!$E$17,'Output FIN Lease Amort'!A654+1,\"\")","v":""},"","",{"$f":"IF(A655=\"\",\"\",$C$10/'Step 4. Classification'!$E$17)","v":""},"",null,"",{"$f":"IF(A655=\"\",\"\",G655*'Step 3. Lease Payments'!$G$8)","v":""},{"$f":"_xlfn.IFNA(IF(A655=\"\",\"\",(VLOOKUP(A655,'Step 3. Lease Payments'!B:G,6,))),\"0\")","v":""},""]
[{"$f":"IF(A655<'Step 4. Classification'!$E$17,'Output FIN Lease Amort'!A655+1,\"\")","v":""},"","",{"$f":"IF(A656=\"\",\"\",$C$10/'Step 4. Classification'!$E$17)","v":""},"",null,"",{"$f":"IF(A656=\"\",\"\",G656*'Step 3. Lease Payments'!$G$8)","v":""},{"$f":"_xlfn.IFNA(IF(A656=\"\",\"\",(VLOOKUP(A656,'Step 3. Lease Payments'!B:G,6,))),\"0\")","v":""},""]
[{"$f":"IF(A656<'Step 4. Classification'!$E$17,'Output FIN Lease Amort'!A656+1,\"\")","v":""},"","",{"$f":"IF(A657=\"\",\"\",$C$10/'Step 4. Classification'!$E$17)","v":""},"",null,"",{"$f":"IF(A657=\"\",\"\",G657*'Step 3. Lease Payments'!$G$8)","v":""},{"$f":"_xlfn.IFNA(IF(A657=\"\",\"\",(VLOOKUP(A657,'Step 3. Lease Payments'!B:G,6,))),\"0\")","v":""},""]
[{"$f":"IF(A657<'Step 4. Classification'!$E$17,'Output FIN Lease Amort'!A657+1,\"\")","v":""},"","",{"$f":"IF(A658=\"\",\"\",$C$10/'Step 4. Classification'!$E$17)","v":""},"",null,"",{"$f":"IF(A658=\"\",\"\",G658*'Step 3. Lease Payments'!$G$8)","v":""},{"$f":"_xlfn.IFNA(IF(A658=\"\",\"\",(VLOOKUP(A658,'Step 3. Lease Payments'!B:G,6,))),\"0\")","v":""},""]
[{"$f":"IF(A658<'Step 4. Classification'!$E$17,'Output FIN Lease Amort'!A658+1,\"\")","v":""},"","",{"$f":"IF(A659=\"\",\"\",$C$10/'Step 4. Classification'!$E$17)","v":""},"",null,"",{"$f":"IF(A659=\"\",\"\",G659*'Step 3. Lease Payments'!$G$8)","v":""},{"$f":"_xlfn.IFNA(IF(A659=\"\",\"\",(VLOOKUP(A659,'Step 3. Lease Payments'!B:G,6,))),\"0\")","v":""},""]
[{"$f":"IF(A659<'Step 4. Classification'!$E$17,'Output FIN Lease Amort'!A659+1,\"\")","v":""},"","",{"$f":"IF(A660=\"\",\"\",$C$10/'Step 4. Classification'!$E$17)","v":""},"",null,"",{"$f":"IF(A660=\"\",\"\",G660*'Step 3. Lease Payments'!$G$8)","v":""},{"$f":"_xlfn.IFNA(IF(A660=\"\",\"\",(VLOOKUP(A660,'Step 3. Lease Payments'!B:G,6,))),\"0\")","v":""},""]
[{"$f":"IF(A660<'Step 4. Classification'!$E$17,'Output FIN Lease Amort'!A660+1,\"\")","v":""},"","",{"$f":"IF(A661=\"\",\"\",$C$10/'Step 4. Classification'!$E$17)","v":""},"",null,"",{"$f":"IF(A661=\"\",\"\",G661*'Step 3. Lease Payments'!$G$8)","v":""},{"$f":"_xlfn.IFNA(IF(A661=\"\",\"\",(VLOOKUP(A661,'Step 3. Lease Payments'!B:G,6,))),\"0\")","v":""},""]
[{"$f":"IF(A661<'Step 4. Classification'!$E$17,'Output FIN Lease Amort'!A661+1,\"\")","v":""},"","",{"$f":"IF(A662=\"\",\"\",$C$10/'Step 4. Classification'!$E$17)","v":""},"",null,"",{"$f":"IF(A662=\"\",\"\",G662*'Step 3. Lease Payments'!$G$8)","v":""},{"$f":"_xlfn.IFNA(IF(A662=\"\",\"\",(VLOOKUP(A662,'Step 3. Lease Payments'!B:G,6,))),\"0\")","v":""},""]
[{"$f":"IF(A662<'Step 4. Classification'!$E$17,'Output FIN Lease Amort'!A662+1,\"\")","v":""},"","",{"$f":"IF(A663=\"\",\"\",$C$10/'Step 4. Classification'!$E$17)","v":""},"",null,"",{"$f":"IF(A663=\"\",\"\",G663*'Step 3. Lease Payments'!$G$8)","v":""},{"$f":"_xlfn.IFNA(IF(A663=\"\",\"\",(VLOOKUP(A663,'Step 3. Lease Payments'!B:G,6,))),\"0\")","v":""},""]
[{"$f":"IF(A663<'Step 4. Classification'!$E$17,'Output FIN Lease Amort'!A663+1,\"\")","v":""},"","",{"$f":"IF(A664=\"\",\"\",$C$10/'Step 4. Classification'!$E$17)","v":""},"",null,"",{"$f":"IF(A664=\"\",\"\",G664*'Step 3. Lease Payments'!$G$8)","v":""},{"$f":"_xlfn.IFNA(IF(A664=\"\",\"\",(VLOOKUP(A664,'Step 3. Lease Payments'!B:G,6,))),\"0\")","v":""},""]
[{"$f":"IF(A664<'Step 4. Classification'!$E$17,'Output FIN Lease Amort'!A664+1,\"\")","v":""},"","",{"$f":"IF(A665=\"\",\"\",$C$10/'Step 4. Classification'!$E$17)","v":""},"",null,"",{"$f":"IF(A665=\"\",\"\",G665*'Step 3. Lease Payments'!$G$8)","v":""},{"$f":"_xlfn.IFNA(IF(A665=\"\",\"\",(VLOOKUP(A665,'Step 3. Lease Payments'!B:G,6,))),\"0\")","v":""},""]
[{"$f":"IF(A665<'Step 4. Classification'!$E$17,'Output FIN Lease Amort'!A665+1,\"\")","v":""},"","",{"$f":"IF(A666=\"\",\"\",$C$10/'Step 4. Classification'!$E$17)","v":""},"",null,"",{"$f":"IF(A666=\"\",\"\",G666*'Step 3. Lease Payments'!$G$8)","v":""},{"$f":"_xlfn.IFNA(IF(A666=\"\",\"\",(VLOOKUP(A666,'Step 3. Lease Payments'!B:G,6,))),\"0\")","v":""},""]
[{"$f":"IF(A666<'Step 4. Classification'!$E$17,'Output FIN Lease Amort'!A666+1,\"\")","v":""},"","",{"$f":"IF(A667=\"\",\"\",$C$10/'Step 4. Classification'!$E$17)","v":""},"",null,"",{"$f":"IF(A667=\"\",\"\",G667*'Step 3. Lease Payments'!$G$8)","v":""},{"$f":"_xlfn.IFNA(IF(A667=\"\",\"\",(VLOOKUP(A667,'Step 3. Lease Payments'!B:G,6,))),\"0\")","v":""},""]
[{"$f":"IF(A667<'Step 4. Classification'!$E$17,'Output FIN Lease Amort'!A667+1,\"\")","v":""},"","",{"$f":"IF(A668=\"\",\"\",$C$10/'Step 4. Classification'!$E$17)","v":""},"",null,"",{"$f":"IF(A668=\"\",\"\",G668*'Step 3. Lease Payments'!$G$8)","v":""},{"$f":"_xlfn.IFNA(IF(A668=\"\",\"\",(VLOOKUP(A668,'Step 3. Lease Payments'!B:G,6,))),\"0\")","v":""},""]
[{"$f":"IF(A668<'Step 4. Classification'!$E$17,'Output FIN Lease Amort'!A668+1,\"\")","v":""},"","",{"$f":"IF(A669=\"\",\"\",$C$10/'Step 4. Classification'!$E$17)","v":""},"",null,"",{"$f":"IF(A669=\"\",\"\",G669*'Step 3. Lease Payments'!$G$8)","v":""},{"$f":"_xlfn.IFNA(IF(A669=\"\",\"\",(VLOOKUP(A669,'Step 3. Lease Payments'!B:G,6,))),\"0\")","v":""},""]
[{"$f":"IF(A669<'Step 4. Classification'!$E$17,'Output FIN Lease Amort'!A669+1,\"\")","v":""},"","",{"$f":"IF(A670=\"\",\"\",$C$10/'Step 4. Classification'!$E$17)","v":""},"",null,"",{"$f":"IF(A670=\"\",\"\",G670*'Step 3. Lease Payments'!$G$8)","v":""},{"$f":"_xlfn.IFNA(IF(A670=\"\",\"\",(VLOOKUP(A670,'Step 3. Lease Payments'!B:G,6,))),\"0\")","v":""},""]
[{"$f":"IF(A670<'Step 4. Classification'!$E$17,'Output FIN Lease Amort'!A670+1,\"\")","v":""},"","",{"$f":"IF(A671=\"\",\"\",$C$10/'Step 4. Classification'!$E$17)","v":""},"",null,"",{"$f":"IF(A671=\"\",\"\",G671*'Step 3. Lease Payments'!$G$8)","v":""},{"$f":"_xlfn.IFNA(IF(A671=\"\",\"\",(VLOOKUP(A671,'Step 3. Lease Payments'!B:G,6,))),\"0\")","v":""},""]
[{"$f":"IF(A671<'Step 4. Classification'!$E$17,'Output FIN Lease Amort'!A671+1,\"\")","v":""},"","",{"$f":"IF(A672=\"\",\"\",$C$10/'Step 4. Classification'!$E$17)","v":""},"",null,"",{"$f":"IF(A672=\"\",\"\",G672*'Step 3. Lease Payments'!$G$8)","v":""},{"$f":"_xlfn.IFNA(IF(A672=\"\",\"\",(VLOOKUP(A672,'Step 3. Lease Payments'!B:G,6,))),\"0\")","v":""},""]
[{"$f":"IF(A672<'Step 4. Classification'!$E$17,'Output FIN Lease Amort'!A672+1,\"\")","v":""},"","",{"$f":"IF(A673=\"\",\"\",$C$10/'Step 4. Classification'!$E$17)","v":""},"",null,"",{"$f":"IF(A673=\"\",\"\",G673*'Step 3. Lease Payments'!$G$8)","v":""},{"$f":"_xlfn.IFNA(IF(A673=\"\",\"\",(VLOOKUP(A673,'Step 3. Lease Payments'!B:G,6,))),\"0\")","v":""},""]
[{"$f":"IF(A673<'Step 4. Classification'!$E$17,'Output FIN Lease Amort'!A673+1,\"\")","v":""},"","",{"$f":"IF(A674=\"\",\"\",$C$10/'Step 4. Classification'!$E$17)","v":""},"",null,"",{"$f":"IF(A674=\"\",\"\",G674*'Step 3. Lease Payments'!$G$8)","v":""},{"$f":"_xlfn.IFNA(IF(A674=\"\",\"\",(VLOOKUP(A674,'Step 3. Lease Payments'!B:G,6,))),\"0\")","v":""},""]
[{"$f":"IF(A674<'Step 4. Classification'!$E$17,'Output FIN Lease Amort'!A674+1,\"\")","v":""},"","",{"$f":"IF(A675=\"\",\"\",$C$10/'Step 4. Classification'!$E$17)","v":""},"",null,"",{"$f":"IF(A675=\"\",\"\",G675*'Step 3. Lease Payments'!$G$8)","v":""},{"$f":"_xlfn.IFNA(IF(A675=\"\",\"\",(VLOOKUP(A675,'Step 3. Lease Payments'!B:G,6,))),\"0\")","v":""},""]
[{"$f":"IF(A675<'Step 4. Classification'!$E$17,'Output FIN Lease Amort'!A675+1,\"\")","v":""},"","",{"$f":"IF(A676=\"\",\"\",$C$10/'Step 4. Classification'!$E$17)","v":""},"",null,"",{"$f":"IF(A676=\"\",\"\",G676*'Step 3. Lease Payments'!$G$8)","v":""},{"$f":"_xlfn.IFNA(IF(A676=\"\",\"\",(VLOOKUP(A676,'Step 3. Lease Payments'!B:G,6,))),\"0\")","v":""},""]
[{"$f":"IF(A676<'Step 4. Classification'!$E$17,'Output FIN Lease Amort'!A676+1,\"\")","v":""},"","",{"$f":"IF(A677=\"\",\"\",$C$10/'Step 4. Classification'!$E$17)","v":""},"",null,"",{"$f":"IF(A677=\"\",\"\",G677*'Step 3. Lease Payments'!$G$8)","v":""},{"$f":"_xlfn.IFNA(IF(A677=\"\",\"\",(VLOOKUP(A677,'Step 3. Lease Payments'!B:G,6,))),\"0\")","v":""},""]
[{"$f":"IF(A677<'Step 4. Classification'!$E$17,'Output FIN Lease Amort'!A677+1,\"\")","v":""},"","",{"$f":"IF(A678=\"\",\"\",$C$10/'Step 4. Classification'!$E$17)","v":""},"",null,"",{"$f":"IF(A678=\"\",\"\",G678*'Step 3. Lease Payments'!$G$8)","v":""},{"$f":"_xlfn.IFNA(IF(A678=\"\",\"\",(VLOOKUP(A678,'Step 3. Lease Payments'!B:G,6,))),\"0\")","v":""},""]
[{"$f":"IF(A678<'Step 4. Classification'!$E$17,'Output FIN Lease Amort'!A678+1,\"\")","v":""},"","",{"$f":"IF(A679=\"\",\"\",$C$10/'Step 4. Classification'!$E$17)","v":""},"",null,"",{"$f":"IF(A679=\"\",\"\",G679*'Step 3. Lease Payments'!$G$8)","v":""},{"$f":"_xlfn.IFNA(IF(A679=\"\",\"\",(VLOOKUP(A679,'Step 3. Lease Payments'!B:G,6,))),\"0\")","v":""},""]
[{"$f":"IF(A679<'Step 4. Classification'!$E$17,'Output FIN Lease Amort'!A679+1,\"\")","v":""},"","",{"$f":"IF(A680=\"\",\"\",$C$10/'Step 4. Classification'!$E$17)","v":""},"",null,"",{"$f":"IF(A680=\"\",\"\",G680*'Step 3. Lease Payments'!$G$8)","v":""},{"$f":"_xlfn.IFNA(IF(A680=\"\",\"\",(VLOOKUP(A680,'Step 3. Lease Payments'!B:G,6,))),\"0\")","v":""},""]
[{"$f":"IF(A680<'Step 4. Classification'!$E$17,'Output FIN Lease Amort'!A680+1,\"\")","v":""},"","",{"$f":"IF(A681=\"\",\"\",$C$10/'Step 4. Classification'!$E$17)","v":""},"",null,"",{"$f":"IF(A681=\"\",\"\",G681*'Step 3. Lease Payments'!$G$8)","v":""},{"$f":"_xlfn.IFNA(IF(A681=\"\",\"\",(VLOOKUP(A681,'Step 3. Lease Payments'!B:G,6,))),\"0\")","v":""},""]
[{"$f":"IF(A681<'Step 4. Classification'!$E$17,'Output FIN Lease Amort'!A681+1,\"\")","v":""},"","",{"$f":"IF(A682=\"\",\"\",$C$10/'Step 4. Classification'!$E$17)","v":""},"",null,"",{"$f":"IF(A682=\"\",\"\",G682*'Step 3. Lease Payments'!$G$8)","v":""},{"$f":"_xlfn.IFNA(IF(A682=\"\",\"\",(VLOOKUP(A682,'Step 3. Lease Payments'!B:G,6,))),\"0\")","v":""},""]
[{"$f":"IF(A682<'Step 4. Classification'!$E$17,'Output FIN Lease Amort'!A682+1,\"\")","v":""},"","",{"$f":"IF(A683=\"\",\"\",$C$10/'Step 4. Classification'!$E$17)","v":""},"",null,"",{"$f":"IF(A683=\"\",\"\",G683*'Step 3. Lease Payments'!$G$8)","v":""},{"$f":"_xlfn.IFNA(IF(A683=\"\",\"\",(VLOOKUP(A683,'Step 3. Lease Payments'!B:G,6,))),\"0\")","v":""},""]
[{"$f":"IF(A683<'Step 4. Classification'!$E$17,'Output FIN Lease Amort'!A683+1,\"\")","v":""},"","",{"$f":"IF(A684=\"\",\"\",$C$10/'Step 4. Classification'!$E$17)","v":""},"",null,"",{"$f":"IF(A684=\"\",\"\",G684*'Step 3. Lease Payments'!$G$8)","v":""},{"$f":"_xlfn.IFNA(IF(A684=\"\",\"\",(VLOOKUP(A684,'Step 3. Lease Payments'!B:G,6,))),\"0\")","v":""},""]
[{"$f":"IF(A684<'Step 4. Classification'!$E$17,'Output FIN Lease Amort'!A684+1,\"\")","v":""},"","",{"$f":"IF(A685=\"\",\"\",$C$10/'Step 4. Classification'!$E$17)","v":""},"",null,"",{"$f":"IF(A685=\"\",\"\",G685*'Step 3. Lease Payments'!$G$8)","v":""},{"$f":"_xlfn.IFNA(IF(A685=\"\",\"\",(VLOOKUP(A685,'Step 3. Lease Payments'!B:G,6,))),\"0\")","v":""},""]
[{"$f":"IF(A685<'Step 4. Classification'!$E$17,'Output FIN Lease Amort'!A685+1,\"\")","v":""},"","",{"$f":"IF(A686=\"\",\"\",$C$10/'Step 4. Classification'!$E$17)","v":""},"",null,"",{"$f":"IF(A686=\"\",\"\",G686*'Step 3. Lease Payments'!$G$8)","v":""},{"$f":"_xlfn.IFNA(IF(A686=\"\",\"\",(VLOOKUP(A686,'Step 3. Lease Payments'!B:G,6,))),\"0\")","v":""},""]
[{"$f":"IF(A686<'Step 4. Classification'!$E$17,'Output FIN Lease Amort'!A686+1,\"\")","v":""},"","",{"$f":"IF(A687=\"\",\"\",$C$10/'Step 4. Classification'!$E$17)","v":""},"",null,"",{"$f":"IF(A687=\"\",\"\",G687*'Step 3. Lease Payments'!$G$8)","v":""},{"$f":"_xlfn.IFNA(IF(A687=\"\",\"\",(VLOOKUP(A687,'Step 3. Lease Payments'!B:G,6,))),\"0\")","v":""},""]
[{"$f":"IF(A687<'Step 4. Classification'!$E$17,'Output FIN Lease Amort'!A687+1,\"\")","v":""},"","",{"$f":"IF(A688=\"\",\"\",$C$10/'Step 4. Classification'!$E$17)","v":""},"",null,"",{"$f":"IF(A688=\"\",\"\",G688*'Step 3. Lease Payments'!$G$8)","v":""},{"$f":"_xlfn.IFNA(IF(A688=\"\",\"\",(VLOOKUP(A688,'Step 3. Lease Payments'!B:G,6,))),\"0\")","v":""},""]
[{"$f":"IF(A688<'Step 4. Classification'!$E$17,'Output FIN Lease Amort'!A688+1,\"\")","v":""},"","",{"$f":"IF(A689=\"\",\"\",$C$10/'Step 4. Classification'!$E$17)","v":""},"",null,"",{"$f":"IF(A689=\"\",\"\",G689*'Step 3. Lease Payments'!$G$8)","v":""},{"$f":"_xlfn.IFNA(IF(A689=\"\",\"\",(VLOOKUP(A689,'Step 3. Lease Payments'!B:G,6,))),\"0\")","v":""},""]
[{"$f":"IF(A689<'Step 4. Classification'!$E$17,'Output FIN Lease Amort'!A689+1,\"\")","v":""},"","",{"$f":"IF(A690=\"\",\"\",$C$10/'Step 4. Classification'!$E$17)","v":""},"",null,"",{"$f":"IF(A690=\"\",\"\",G690*'Step 3. Lease Payments'!$G$8)","v":""},{"$f":"_xlfn.IFNA(IF(A690=\"\",\"\",(VLOOKUP(A690,'Step 3. Lease Payments'!B:G,6,))),\"0\")","v":""},""]
[{"$f":"IF(A690<'Step 4. Classification'!$E$17,'Output FIN Lease Amort'!A690+1,\"\")","v":""},"","",{"$f":"IF(A691=\"\",\"\",$C$10/'Step 4. Classification'!$E$17)","v":""},"",null,"",{"$f":"IF(A691=\"\",\"\",G691*'Step 3. Lease Payments'!$G$8)","v":""},{"$f":"_xlfn.IFNA(IF(A691=\"\",\"\",(VLOOKUP(A691,'Step 3. Lease Payments'!B:G,6,))),\"0\")","v":""},""]
[{"$f":"IF(A691<'Step 4. Classification'!$E$17,'Output FIN Lease Amort'!A691+1,\"\")","v":""},"","",{"$f":"IF(A692=\"\",\"\",$C$10/'Step 4. Classification'!$E$17)","v":""},"",null,"",{"$f":"IF(A692=\"\",\"\",G692*'Step 3. Lease Payments'!$G$8)","v":""},{"$f":"_xlfn.IFNA(IF(A692=\"\",\"\",(VLOOKUP(A692,'Step 3. Lease Payments'!B:G,6,))),\"0\")","v":""},""]
[{"$f":"IF(A692<'Step 4. Classification'!$E$17,'Output FIN Lease Amort'!A692+1,\"\")","v":""},"","",{"$f":"IF(A693=\"\",\"\",$C$10/'Step 4. Classification'!$E$17)","v":""},"",null,"",{"$f":"IF(A693=\"\",\"\",G693*'Step 3. Lease Payments'!$G$8)","v":""},{"$f":"_xlfn.IFNA(IF(A693=\"\",\"\",(VLOOKUP(A693,'Step 3. Lease Payments'!B:G,6,))),\"0\")","v":""},""]
[{"$f":"IF(A693<'Step 4. Classification'!$E$17,'Output FIN Lease Amort'!A693+1,\"\")","v":""},"","",{"$f":"IF(A694=\"\",\"\",$C$10/'Step 4. Classification'!$E$17)","v":""},"",null,"",{"$f":"IF(A694=\"\",\"\",G694*'Step 3. Lease Payments'!$G$8)","v":""},{"$f":"_xlfn.IFNA(IF(A694=\"\",\"\",(VLOOKUP(A694,'Step 3. Lease Payments'!B:G,6,))),\"0\")","v":""},""]
[{"$f":"IF(A694<'Step 4. Classification'!$E$17,'Output FIN Lease Amort'!A694+1,\"\")","v":""},"","",{"$f":"IF(A695=\"\",\"\",$C$10/'Step 4. Classification'!$E$17)","v":""},"",null,"",{"$f":"IF(A695=\"\",\"\",G695*'Step 3. Lease Payments'!$G$8)","v":""},{"$f":"_xlfn.IFNA(IF(A695=\"\",\"\",(VLOOKUP(A695,'Step 3. Lease Payments'!B:G,6,))),\"0\")","v":""},""]
[{"$f":"IF(A695<'Step 4. Classification'!$E$17,'Output FIN Lease Amort'!A695+1,\"\")","v":""},"","",{"$f":"IF(A696=\"\",\"\",$C$10/'Step 4. Classification'!$E$17)","v":""},"",null,"",{"$f":"IF(A696=\"\",\"\",G696*'Step 3. Lease Payments'!$G$8)","v":""},{"$f":"_xlfn.IFNA(IF(A696=\"\",\"\",(VLOOKUP(A696,'Step 3. Lease Payments'!B:G,6,))),\"0\")","v":""},""]
[{"$f":"IF(A696<'Step 4. Classification'!$E$17,'Output FIN Lease Amort'!A696+1,\"\")","v":""},"","",{"$f":"IF(A697=\"\",\"\",$C$10/'Step 4. Classification'!$E$17)","v":""},"",null,"",{"$f":"IF(A697=\"\",\"\",G697*'Step 3. Lease Payments'!$G$8)","v":""},{"$f":"_xlfn.IFNA(IF(A697=\"\",\"\",(VLOOKUP(A697,'Step 3. Lease Payments'!B:G,6,))),\"0\")","v":""},""]
[{"$f":"IF(A697<'Step 4. Classification'!$E$17,'Output FIN Lease Amort'!A697+1,\"\")","v":""},"","",{"$f":"IF(A698=\"\",\"\",$C$10/'Step 4. Classification'!$E$17)","v":""},"",null,"",{"$f":"IF(A698=\"\",\"\",G698*'Step 3. Lease Payments'!$G$8)","v":""},{"$f":"_xlfn.IFNA(IF(A698=\"\",\"\",(VLOOKUP(A698,'Step 3. Lease Payments'!B:G,6,))),\"0\")","v":""},""]
[{"$f":"IF(A698<'Step 4. Classification'!$E$17,'Output FIN Lease Amort'!A698+1,\"\")","v":""},"","",{"$f":"IF(A699=\"\",\"\",$C$10/'Step 4. Classification'!$E$17)","v":""},"",null,"",{"$f":"IF(A699=\"\",\"\",G699*'Step 3. Lease Payments'!$G$8)","v":""},{"$f":"_xlfn.IFNA(IF(A699=\"\",\"\",(VLOOKUP(A699,'Step 3. Lease Payments'!B:G,6,))),\"0\")","v":""},""]
[{"$f":"IF(A699<'Step 4. Classification'!$E$17,'Output FIN Lease Amort'!A699+1,\"\")","v":""},"","",{"$f":"IF(A700=\"\",\"\",$C$10/'Step 4. Classification'!$E$17)","v":""},"",null,"",{"$f":"IF(A700=\"\",\"\",G700*'Step 3. Lease Payments'!$G$8)","v":""},{"$f":"_xlfn.IFNA(IF(A700=\"\",\"\",(VLOOKUP(A700,'Step 3. Lease Payments'!B:G,6,))),\"0\")","v":""},""]
[{"$f":"IF(A700<'Step 4. Classification'!$E$17,'Output FIN Lease Amort'!A700+1,\"\")","v":""},"","",{"$f":"IF(A701=\"\",\"\",$C$10/'Step 4. Classification'!$E$17)","v":""},"",null,"",{"$f":"IF(A701=\"\",\"\",G701*'Step 3. Lease Payments'!$G$8)","v":""},{"$f":"_xlfn.IFNA(IF(A701=\"\",\"\",(VLOOKUP(A701,'Step 3. Lease Payments'!B:G,6,))),\"0\")","v":""},""]
[{"$f":"IF(A701<'Step 4. Classification'!$E$17,'Output FIN Lease Amort'!A701+1,\"\")","v":""},"","",{"$f":"IF(A702=\"\",\"\",$C$10/'Step 4. Classification'!$E$17)","v":""},"",null,"",{"$f":"IF(A702=\"\",\"\",G702*'Step 3. Lease Payments'!$G$8)","v":""},{"$f":"_xlfn.IFNA(IF(A702=\"\",\"\",(VLOOKUP(A702,'Step 3. Lease Payments'!B:G,6,))),\"0\")","v":""},""]
[{"$f":"IF(A702<'Step 4. Classification'!$E$17,'Output FIN Lease Amort'!A702+1,\"\")","v":""},"","",{"$f":"IF(A703=\"\",\"\",$C$10/'Step 4. Classification'!$E$17)","v":""},"",null,"",{"$f":"IF(A703=\"\",\"\",G703*'Step 3. Lease Payments'!$G$8)","v":""},{"$f":"_xlfn.IFNA(IF(A703=\"\",\"\",(VLOOKUP(A703,'Step 3. Lease Payments'!B:G,6,))),\"0\")","v":""},""]
[{"$f":"IF(A703<'Step 4. Classification'!$E$17,'Output FIN Lease Amort'!A703+1,\"\")","v":""},"","",{"$f":"IF(A704=\"\",\"\",$C$10/'Step 4. Classification'!$E$17)","v":""},"",null,"",{"$f":"IF(A704=\"\",\"\",G704*'Step 3. Lease Payments'!$G$8)","v":""},{"$f":"_xlfn.IFNA(IF(A704=\"\",\"\",(VLOOKUP(A704,'Step 3. Lease Payments'!B:G,6,))),\"0\")","v":""},""]
[{"$f":"IF(A704<'Step 4. Classification'!$E$17,'Output FIN Lease Amort'!A704+1,\"\")","v":""},"","",{"$f":"IF(A705=\"\",\"\",$C$10/'Step 4. Classification'!$E$17)","v":""},"",null,"",{"$f":"IF(A705=\"\",\"\",G705*'Step 3. Lease Payments'!$G$8)","v":""},{"$f":"_xlfn.IFNA(IF(A705=\"\",\"\",(VLOOKUP(A705,'Step 3. Lease Payments'!B:G,6,))),\"0\")","v":""},""]
[{"$f":"IF(A705<'Step 4. Classification'!$E$17,'Output FIN Lease Amort'!A705+1,\"\")","v":""},"","",{"$f":"IF(A706=\"\",\"\",$C$10/'Step 4. Classification'!$E$17)","v":""},"",null,"",{"$f":"IF(A706=\"\",\"\",G706*'Step 3. Lease Payments'!$G$8)","v":""},{"$f":"_xlfn.IFNA(IF(A706=\"\",\"\",(VLOOKUP(A706,'Step 3. Lease Payments'!B:G,6,))),\"0\")","v":""},""]
[{"$f":"IF(A706<'Step 4. Classification'!$E$17,'Output FIN Lease Amort'!A706+1,\"\")","v":""},"","",{"$f":"IF(A707=\"\",\"\",$C$10/'Step 4. Classification'!$E$17)","v":""},"",null,"",{"$f":"IF(A707=\"\",\"\",G707*'Step 3. Lease Payments'!$G$8)","v":""},{"$f":"_xlfn.IFNA(IF(A707=\"\",\"\",(VLOOKUP(A707,'Step 3. Lease Payments'!B:G,6,))),\"0\")","v":""},""]
[{"$f":"IF(A707<'Step 4. Classification'!$E$17,'Output FIN Lease Amort'!A707+1,\"\")","v":""},"","",{"$f":"IF(A708=\"\",\"\",$C$10/'Step 4. Classification'!$E$17)","v":""},"",null,"",{"$f":"IF(A708=\"\",\"\",G708*'Step 3. Lease Payments'!$G$8)","v":""},{"$f":"_xlfn.IFNA(IF(A708=\"\",\"\",(VLOOKUP(A708,'Step 3. Lease Payments'!B:G,6,))),\"0\")","v":""},""]
[{"$f":"IF(A708<'Step 4. Classification'!$E$17,'Output FIN Lease Amort'!A708+1,\"\")","v":""},"","",{"$f":"IF(A709=\"\",\"\",$C$10/'Step 4. Classification'!$E$17)","v":""},"",null,"",{"$f":"IF(A709=\"\",\"\",G709*'Step 3. Lease Payments'!$G$8)","v":""},{"$f":"_xlfn.IFNA(IF(A709=\"\",\"\",(VLOOKUP(A709,'Step 3. Lease Payments'!B:G,6,))),\"0\")","v":""},""]
[{"$f":"IF(A709<'Step 4. Classification'!$E$17,'Output FIN Lease Amort'!A709+1,\"\")","v":""},"","",{"$f":"IF(A710=\"\",\"\",$C$10/'Step 4. Classification'!$E$17)","v":""},"",null,"",{"$f":"IF(A710=\"\",\"\",G710*'Step 3. Lease Payments'!$G$8)","v":""},{"$f":"_xlfn.IFNA(IF(A710=\"\",\"\",(VLOOKUP(A710,'Step 3. Lease Payments'!B:G,6,))),\"0\")","v":""},""]
[{"$f":"IF(A710<'Step 4. Classification'!$E$17,'Output FIN Lease Amort'!A710+1,\"\")","v":""},"","",{"$f":"IF(A711=\"\",\"\",$C$10/'Step 4. Classification'!$E$17)","v":""},"",null,"",{"$f":"IF(A711=\"\",\"\",G711*'Step 3. Lease Payments'!$G$8)","v":""},{"$f":"_xlfn.IFNA(IF(A711=\"\",\"\",(VLOOKUP(A711,'Step 3. Lease Payments'!B:G,6,))),\"0\")","v":""},""]
[{"$f":"IF(A711<'Step 4. Classification'!$E$17,'Output FIN Lease Amort'!A711+1,\"\")","v":""},"","",{"$f":"IF(A712=\"\",\"\",$C$10/'Step 4. Classification'!$E$17)","v":""},"",null,"",{"$f":"IF(A712=\"\",\"\",G712*'Step 3. Lease Payments'!$G$8)","v":""},{"$f":"_xlfn.IFNA(IF(A712=\"\",\"\",(VLOOKUP(A712,'Step 3. Lease Payments'!B:G,6,))),\"0\")","v":""},""]
[{"$f":"IF(A712<'Step 4. Classification'!$E$17,'Output FIN Lease Amort'!A712+1,\"\")","v":""},"","",{"$f":"IF(A713=\"\",\"\",$C$10/'Step 4. Classification'!$E$17)","v":""},"",null,"",{"$f":"IF(A713=\"\",\"\",G713*'Step 3. Lease Payments'!$G$8)","v":""},{"$f":"_xlfn.IFNA(IF(A713=\"\",\"\",(VLOOKUP(A713,'Step 3. Lease Payments'!B:G,6,))),\"0\")","v":""},""]
[{"$f":"IF(A713<'Step 4. Classification'!$E$17,'Output FIN Lease Amort'!A713+1,\"\")","v":""},"","",{"$f":"IF(A714=\"\",\"\",$C$10/'Step 4. Classification'!$E$17)","v":""},"",null,"",{"$f":"IF(A714=\"\",\"\",G714*'Step 3. Lease Payments'!$G$8)","v":""},{"$f":"_xlfn.IFNA(IF(A714=\"\",\"\",(VLOOKUP(A714,'Step 3. Lease Payments'!B:G,6,))),\"0\")","v":""},""]
[{"$f":"IF(A714<'Step 4. Classification'!$E$17,'Output FIN Lease Amort'!A714+1,\"\")","v":""},{"$f":"IF(A715=\"\",\"\",(DATE(YEAR(B714),MONTH(B714)+1,DAY(B714))))","v":""},{"$f":"IF(A715=\"\",\"\",E714)","v":""},{"$f":"IF(A715=\"\",\"\",$C$10/'Step 4. Classification'!$E$17)","v":""},{"$f":"IF(A715=\"\",\"\",C715-D715)","v":""},null,{"$f":"IF(A715=\"\",\"\",J714)","v":""},{"$f":"IF(A715=\"\",\"\",G715*'Step 3. Lease Payments'!$G$8)","v":""},{"$f":"_xlfn.IFNA(IF(A715=\"\",\"\",(VLOOKUP(A715,'Step 3. Lease Payments'!B:G,6,))),\"0\")","v":""},{"$f":"IF(A715=\"\",\"\",G715-I715+H715)","v":""}]
[{"$f":"IF(A715<'Step 4. Classification'!$E$17,'Output FIN Lease Amort'!A715+1,\"\")","v":""},"","",{"$f":"IF(A716=\"\",\"\",$C$10/'Step 4. Classification'!$E$17)","v":""},"",null,"",{"$f":"IF(A716=\"\",\"\",G716*'Step 3. Lease Payments'!$G$8)","v":""},{"$f":"_xlfn.IFNA(IF(A716=\"\",\"\",(VLOOKUP(A716,'Step 3. Lease Payments'!B:G,6,))),\"0\")","v":""},""]
[{"$f":"IF(A716<'Step 4. Classification'!$E$17,'Output FIN Lease Amort'!A716+1,\"\")","v":""},"","",{"$f":"IF(A717=\"\",\"\",$C$10/'Step 4. Classification'!$E$17)","v":""},"",null,"",{"$f":"IF(A717=\"\",\"\",G717*'Step 3. Lease Payments'!$G$8)","v":""},{"$f":"_xlfn.IFNA(IF(A717=\"\",\"\",(VLOOKUP(A717,'Step 3. Lease Payments'!B:G,6,))),\"0\")","v":""},""]
[{"$f":"IF(A717<'Step 4. Classification'!$E$17,'Output FIN Lease Amort'!A717+1,\"\")","v":""},"","",{"$f":"IF(A718=\"\",\"\",$C$10/'Step 4. Classification'!$E$17)","v":""},"",null,"",{"$f":"IF(A718=\"\",\"\",G718*'Step 3. Lease Payments'!$G$8)","v":""},{"$f":"_xlfn.IFNA(IF(A718=\"\",\"\",(VLOOKUP(A718,'Step 3. Lease Payments'!B:G,6,))),\"0\")","v":""},""]
[{"$f":"IF(A718<'Step 4. Classification'!$E$17,'Output FIN Lease Amort'!A718+1,\"\")","v":""},"","",{"$f":"IF(A719=\"\",\"\",$C$10/'Step 4. Classification'!$E$17)","v":""},"",null,"",{"$f":"IF(A719=\"\",\"\",G719*'Step 3. Lease Payments'!$G$8)","v":""},{"$f":"_xlfn.IFNA(IF(A719=\"\",\"\",(VLOOKUP(A719,'Step 3. Lease Payments'!B:G,6,))),\"0\")","v":""},""]
[{"$f":"IF(A719<'Step 4. Classification'!$E$17,'Output FIN Lease Amort'!A719+1,\"\")","v":""},"","",{"$f":"IF(A720=\"\",\"\",$C$10/'Step 4. Classification'!$E$17)","v":""},"",null,"",{"$f":"IF(A720=\"\",\"\",G720*'Step 3. Lease Payments'!$G$8)","v":""},{"$f":"_xlfn.IFNA(IF(A720=\"\",\"\",(VLOOKUP(A720,'Step 3. Lease Payments'!B:G,6,))),\"0\")","v":""},""]
[{"$f":"IF(A720<'Step 4. Classification'!$E$17,'Output FIN Lease Amort'!A720+1,\"\")","v":""},"","",{"$f":"IF(A721=\"\",\"\",$C$10/'Step 4. Classification'!$E$17)","v":""},"",null,"",{"$f":"IF(A721=\"\",\"\",G721*'Step 3. Lease Payments'!$G$8)","v":""},{"$f":"_xlfn.IFNA(IF(A721=\"\",\"\",(VLOOKUP(A721,'Step 3. Lease Payments'!B:G,6,))),\"0\")","v":""},""]
[{"$f":"IF(A721<'Step 4. Classification'!$E$17,'Output FIN Lease Amort'!A721+1,\"\")","v":""},"","",{"$f":"IF(A722=\"\",\"\",$C$10/'Step 4. Classification'!$E$17)","v":""},"",null,"",{"$f":"IF(A722=\"\",\"\",G722*'Step 3. Lease Payments'!$G$8)","v":""},{"$f":"_xlfn.IFNA(IF(A722=\"\",\"\",(VLOOKUP(A722,'Step 3. Lease Payments'!B:G,6,))),\"0\")","v":""},""]
[{"$f":"IF(A722<'Step 4. Classification'!$E$17,'Output FIN Lease Amort'!A722+1,\"\")","v":""},"","",{"$f":"IF(A723=\"\",\"\",$C$10/'Step 4. Classification'!$E$17)","v":""},"",null,"",{"$f":"IF(A723=\"\",\"\",G723*'Step 3. Lease Payments'!$G$8)","v":""},{"$f":"_xlfn.IFNA(IF(A723=\"\",\"\",(VLOOKUP(A723,'Step 3. Lease Payments'!B:G,6,))),\"0\")","v":""},""]
[{"$f":"IF(A723<'Step 4. Classification'!$E$17,'Output FIN Lease Amort'!A723+1,\"\")","v":""},"","",{"$f":"IF(A724=\"\",\"\",$C$10/'Step 4. Classification'!$E$17)","v":""},"",null,"",{"$f":"IF(A724=\"\",\"\",G724*'Step 3. Lease Payments'!$G$8)","v":""},{"$f":"_xlfn.IFNA(IF(A724=\"\",\"\",(VLOOKUP(A724,'Step 3. Lease Payments'!B:G,6,))),\"0\")","v":""},""]
[{"$f":"IF(A724<'Step 4. Classification'!$E$17,'Output FIN Lease Amort'!A724+1,\"\")","v":""},"","",{"$f":"IF(A725=\"\",\"\",$C$10/'Step 4. Classification'!$E$17)","v":""},"",null,"",{"$f":"IF(A725=\"\",\"\",G725*'Step 3. Lease Payments'!$G$8)","v":""},{"$f":"_xlfn.IFNA(IF(A725=\"\",\"\",(VLOOKUP(A725,'Step 3. Lease Payments'!B:G,6,))),\"0\")","v":""},""]
[{"$f":"IF(A725<'Step 4. Classification'!$E$17,'Output FIN Lease Amort'!A725+1,\"\")","v":""},"","",{"$f":"IF(A726=\"\",\"\",$C$10/'Step 4. Classification'!$E$17)","v":""},"",null,"",{"$f":"IF(A726=\"\",\"\",G726*'Step 3. Lease Payments'!$G$8)","v":""},{"$f":"_xlfn.IFNA(IF(A726=\"\",\"\",(VLOOKUP(A726,'Step 3. Lease Payments'!B:G,6,))),\"0\")","v":""},""]
[{"$f":"IF(A726<'Step 4. Classification'!$E$17,'Output FIN Lease Amort'!A726+1,\"\")","v":""},"","",{"$f":"IF(A727=\"\",\"\",$C$10/'Step 4. Classification'!$E$17)","v":""},"",null,"",{"$f":"IF(A727=\"\",\"\",G727*'Step 3. Lease Payments'!$G$8)","v":""},{"$f":"_xlfn.IFNA(IF(A727=\"\",\"\",(VLOOKUP(A727,'Step 3. Lease Payments'!B:G,6,))),\"0\")","v":""},""]
[{"$f":"IF(A727<'Step 4. Classification'!$E$17,'Output FIN Lease Amort'!A727+1,\"\")","v":""},"","",{"$f":"IF(A728=\"\",\"\",$C$10/'Step 4. Classification'!$E$17)","v":""},"",null,"",{"$f":"IF(A728=\"\",\"\",G728*'Step 3. Lease Payments'!$G$8)","v":""},{"$f":"_xlfn.IFNA(IF(A728=\"\",\"\",(VLOOKUP(A728,'Step 3. Lease Payments'!B:G,6,))),\"0\")","v":""},""]
[{"$f":"IF(A728<'Step 4. Classification'!$E$17,'Output FIN Lease Amort'!A728+1,\"\")","v":""},"","",{"$f":"IF(A729=\"\",\"\",$C$10/'Step 4. Classification'!$E$17)","v":""},"",null,"",{"$f":"IF(A729=\"\",\"\",G729*'Step 3. Lease Payments'!$G$8)","v":""},{"$f":"_xlfn.IFNA(IF(A729=\"\",\"\",(VLOOKUP(A729,'Step 3. Lease Payments'!B:G,6,))),\"0\")","v":""},""]
[{"$f":"IF(A729<'Step 4. Classification'!$E$17,'Output FIN Lease Amort'!A729+1,\"\")","v":""},"","",{"$f":"IF(A730=\"\",\"\",$C$10/'Step 4. Classification'!$E$17)","v":""},"",null,"",{"$f":"IF(A730=\"\",\"\",G730*'Step 3. Lease Payments'!$G$8)","v":""},{"$f":"_xlfn.IFNA(IF(A730=\"\",\"\",(VLOOKUP(A730,'Step 3. Lease Payments'!B:G,6,))),\"0\")","v":""},""]
[{"$f":"IF(A730<'Step 4. Classification'!$E$17,'Output FIN Lease Amort'!A730+1,\"\")","v":""},"","",{"$f":"IF(A731=\"\",\"\",$C$10/'Step 4. Classification'!$E$17)","v":""},"",null,"",{"$f":"IF(A731=\"\",\"\",G731*'Step 3. Lease Payments'!$G$8)","v":""},{"$f":"_xlfn.IFNA(IF(A731=\"\",\"\",(VLOOKUP(A731,'Step 3. Lease Payments'!B:G,6,))),\"0\")","v":""},""]
[{"$f":"IF(A731<'Step 4. Classification'!$E$17,'Output FIN Lease Amort'!A731+1,\"\")","v":""},"","",{"$f":"IF(A732=\"\",\"\",$C$10/'Step 4. Classification'!$E$17)","v":""},"",null,"",{"$f":"IF(A732=\"\",\"\",G732*'Step 3. Lease Payments'!$G$8)","v":""},{"$f":"_xlfn.IFNA(IF(A732=\"\",\"\",(VLOOKUP(A732,'Step 3. Lease Payments'!B:G,6,))),\"0\")","v":""},""]
[{"$f":"IF(A732<'Step 4. Classification'!$E$17,'Output FIN Lease Amort'!A732+1,\"\")","v":""},"","",{"$f":"IF(A733=\"\",\"\",$C$10/'Step 4. Classification'!$E$17)","v":""},"",null,"",{"$f":"IF(A733=\"\",\"\",G733*'Step 3. Lease Payments'!$G$8)","v":""},{"$f":"_xlfn.IFNA(IF(A733=\"\",\"\",(VLOOKUP(A733,'Step 3. Lease Payments'!B:G,6,))),\"0\")","v":""},""]
[{"$f":"IF(A733<'Step 4. Classification'!$E$17,'Output FIN Lease Amort'!A733+1,\"\")","v":""},"","",{"$f":"IF(A734=\"\",\"\",$C$10/'Step 4. Classification'!$E$17)","v":""},"",null,"",{"$f":"IF(A734=\"\",\"\",G734*'Step 3. Lease Payments'!$G$8)","v":""},{"$f":"_xlfn.IFNA(IF(A734=\"\",\"\",(VLOOKUP(A734,'Step 3. Lease Payments'!B:G,6,))),\"0\")","v":""},""]
[{"$f":"IF(A734<'Step 4. Classification'!$E$17,'Output FIN Lease Amort'!A734+1,\"\")","v":""},"","",{"$f":"IF(A735=\"\",\"\",$C$10/'Step 4. Classification'!$E$17)","v":""},"",null,"",{"$f":"IF(A735=\"\",\"\",G735*'Step 3. Lease Payments'!$G$8)","v":""},{"$f":"_xlfn.IFNA(IF(A735=\"\",\"\",(VLOOKUP(A735,'Step 3. Lease Payments'!B:G,6,))),\"0\")","v":""},""]
[{"$f":"IF(A735<'Step 4. Classification'!$E$17,'Output FIN Lease Amort'!A735+1,\"\")","v":""},"","",{"$f":"IF(A736=\"\",\"\",$C$10/'Step 4. Classification'!$E$17)","v":""},"",null,"",{"$f":"IF(A736=\"\",\"\",G736*'Step 3. Lease Payments'!$G$8)","v":""},{"$f":"_xlfn.IFNA(IF(A736=\"\",\"\",(VLOOKUP(A736,'Step 3. Lease Payments'!B:G,6,))),\"0\")","v":""},""]
[{"$f":"IF(A736<'Step 4. Classification'!$E$17,'Output FIN Lease Amort'!A736+1,\"\")","v":""},"","",{"$f":"IF(A737=\"\",\"\",$C$10/'Step 4. Classification'!$E$17)","v":""},"",null,"",{"$f":"IF(A737=\"\",\"\",G737*'Step 3. Lease Payments'!$G$8)","v":""},{"$f":"_xlfn.IFNA(IF(A737=\"\",\"\",(VLOOKUP(A737,'Step 3. Lease Payments'!B:G,6,))),\"0\")","v":""},""]
[{"$f":"IF(A737<'Step 4. Classification'!$E$17,'Output FIN Lease Amort'!A737+1,\"\")","v":""},"","",{"$f":"IF(A738=\"\",\"\",$C$10/'Step 4. Classification'!$E$17)","v":""},"",null,"",{"$f":"IF(A738=\"\",\"\",G738*'Step 3. Lease Payments'!$G$8)","v":""},{"$f":"_xlfn.IFNA(IF(A738=\"\",\"\",(VLOOKUP(A738,'Step 3. Lease Payments'!B:G,6,))),\"0\")","v":""},""]
[{"$f":"IF(A738<'Step 4. Classification'!$E$17,'Output FIN Lease Amort'!A738+1,\"\")","v":""},"","",{"$f":"IF(A739=\"\",\"\",$C$10/'Step 4. Classification'!$E$17)","v":""},"",null,"",{"$f":"IF(A739=\"\",\"\",G739*'Step 3. Lease Payments'!$G$8)","v":""},{"$f":"_xlfn.IFNA(IF(A739=\"\",\"\",(VLOOKUP(A739,'Step 3. Lease Payments'!B:G,6,))),\"0\")","v":""},""]
[{"$f":"IF(A739<'Step 4. Classification'!$E$17,'Output FIN Lease Amort'!A739+1,\"\")","v":""},"","",{"$f":"IF(A740=\"\",\"\",$C$10/'Step 4. Classification'!$E$17)","v":""},"",null,"",{"$f":"IF(A740=\"\",\"\",G740*'Step 3. Lease Payments'!$G$8)","v":""},{"$f":"_xlfn.IFNA(IF(A740=\"\",\"\",(VLOOKUP(A740,'Step 3. Lease Payments'!B:G,6,))),\"0\")","v":""},""]
[{"$f":"IF(A740<'Step 4. Classification'!$E$17,'Output FIN Lease Amort'!A740+1,\"\")","v":""},"","",{"$f":"IF(A741=\"\",\"\",$C$10/'Step 4. Classification'!$E$17)","v":""},"",null,"",{"$f":"IF(A741=\"\",\"\",G741*'Step 3. Lease Payments'!$G$8)","v":""},{"$f":"_xlfn.IFNA(IF(A741=\"\",\"\",(VLOOKUP(A741,'Step 3. Lease Payments'!B:G,6,))),\"0\")","v":""},""]
[{"$f":"IF(A741<'Step 4. Classification'!$E$17,'Output FIN Lease Amort'!A741+1,\"\")","v":""},"","",{"$f":"IF(A742=\"\",\"\",$C$10/'Step 4. Classification'!$E$17)","v":""},"",null,"",{"$f":"IF(A742=\"\",\"\",G742*'Step 3. Lease Payments'!$G$8)","v":""},{"$f":"_xlfn.IFNA(IF(A742=\"\",\"\",(VLOOKUP(A742,'Step 3. Lease Payments'!B:G,6,))),\"0\")","v":""},""]
[{"$f":"IF(A742<'Step 4. Classification'!$E$17,'Output FIN Lease Amort'!A742+1,\"\")","v":""},"","",{"$f":"IF(A743=\"\",\"\",$C$10/'Step 4. Classification'!$E$17)","v":""},"",null,"",{"$f":"IF(A743=\"\",\"\",G743*'Step 3. Lease Payments'!$G$8)","v":""},{"$f":"_xlfn.IFNA(IF(A743=\"\",\"\",(VLOOKUP(A743,'Step 3. Lease Payments'!B:G,6,))),\"0\")","v":""},""]
[{"$f":"IF(A743<'Step 4. Classification'!$E$17,'Output FIN Lease Amort'!A743+1,\"\")","v":""},"","",{"$f":"IF(A744=\"\",\"\",$C$10/'Step 4. Classification'!$E$17)","v":""},"",null,"",{"$f":"IF(A744=\"\",\"\",G744*'Step 3. Lease Payments'!$G$8)","v":""},{"$f":"_xlfn.IFNA(IF(A744=\"\",\"\",(VLOOKUP(A744,'Step 3. Lease Payments'!B:G,6,))),\"0\")","v":""},""]
[{"$f":"IF(A744<'Step 4. Classification'!$E$17,'Output FIN Lease Amort'!A744+1,\"\")","v":""},"","",{"$f":"IF(A745=\"\",\"\",$C$10/'Step 4. Classification'!$E$17)","v":""},"",null,"",{"$f":"IF(A745=\"\",\"\",G745*'Step 3. Lease Payments'!$G$8)","v":""},{"$f":"_xlfn.IFNA(IF(A745=\"\",\"\",(VLOOKUP(A745,'Step 3. Lease Payments'!B:G,6,))),\"0\")","v":""},""]
[{"$f":"IF(A745<'Step 4. Classification'!$E$17,'Output FIN Lease Amort'!A745+1,\"\")","v":""},"","",{"$f":"IF(A746=\"\",\"\",$C$10/'Step 4. Classification'!$E$17)","v":""},"",null,"",{"$f":"IF(A746=\"\",\"\",G746*'Step 3. Lease Payments'!$G$8)","v":""},{"$f":"_xlfn.IFNA(IF(A746=\"\",\"\",(VLOOKUP(A746,'Step 3. Lease Payments'!B:G,6,))),\"0\")","v":""},""]
[{"$f":"IF(A746<'Step 4. Classification'!$E$17,'Output FIN Lease Amort'!A746+1,\"\")","v":""},"","",{"$f":"IF(A747=\"\",\"\",$C$10/'Step 4. Classification'!$E$17)","v":""},"",null,"",{"$f":"IF(A747=\"\",\"\",G747*'Step 3. Lease Payments'!$G$8)","v":""},{"$f":"_xlfn.IFNA(IF(A747=\"\",\"\",(VLOOKUP(A747,'Step 3. Lease Payments'!B:G,6,))),\"0\")","v":""},""]
[{"$f":"IF(A747<'Step 4. Classification'!$E$17,'Output FIN Lease Amort'!A747+1,\"\")","v":""},"","",{"$f":"IF(A748=\"\",\"\",$C$10/'Step 4. Classification'!$E$17)","v":""},"",null,"",{"$f":"IF(A748=\"\",\"\",G748*'Step 3. Lease Payments'!$G$8)","v":""},{"$f":"_xlfn.IFNA(IF(A748=\"\",\"\",(VLOOKUP(A748,'Step 3. Lease Payments'!B:G,6,))),\"0\")","v":""},""]
[{"$f":"IF(A748<'Step 4. Classification'!$E$17,'Output FIN Lease Amort'!A748+1,\"\")","v":""},"","",{"$f":"IF(A749=\"\",\"\",$C$10/'Step 4. Classification'!$E$17)","v":""},"",null,"",{"$f":"IF(A749=\"\",\"\",G749*'Step 3. Lease Payments'!$G$8)","v":""},{"$f":"_xlfn.IFNA(IF(A749=\"\",\"\",(VLOOKUP(A749,'Step 3. Lease Payments'!B:G,6,))),\"0\")","v":""},""]
[{"$f":"IF(A749<'Step 4. Classification'!$E$17,'Output FIN Lease Amort'!A749+1,\"\")","v":""},"","",{"$f":"IF(A750=\"\",\"\",$C$10/'Step 4. Classification'!$E$17)","v":""},"",null,"",{"$f":"IF(A750=\"\",\"\",G750*'Step 3. Lease Payments'!$G$8)","v":""},{"$f":"_xlfn.IFNA(IF(A750=\"\",\"\",(VLOOKUP(A750,'Step 3. Lease Payments'!B:G,6,))),\"0\")","v":""},""]
[{"$f":"IF(A750<'Step 4. Classification'!$E$17,'Output FIN Lease Amort'!A750+1,\"\")","v":""},"","",{"$f":"IF(A751=\"\",\"\",$C$10/'Step 4. Classification'!$E$17)","v":""},"",null,"",{"$f":"IF(A751=\"\",\"\",G751*'Step 3. Lease Payments'!$G$8)","v":""},{"$f":"_xlfn.IFNA(IF(A751=\"\",\"\",(VLOOKUP(A751,'Step 3. Lease Payments'!B:G,6,))),\"0\")","v":""},""]
[{"$f":"IF(A751<'Step 4. Classification'!$E$17,'Output FIN Lease Amort'!A751+1,\"\")","v":""},"","",{"$f":"IF(A752=\"\",\"\",$C$10/'Step 4. Classification'!$E$17)","v":""},"",null,"",{"$f":"IF(A752=\"\",\"\",G752*'Step 3. Lease Payments'!$G$8)","v":""},{"$f":"_xlfn.IFNA(IF(A752=\"\",\"\",(VLOOKUP(A752,'Step 3. Lease Payments'!B:G,6,))),\"0\")","v":""},""]
[{"$f":"IF(A752<'Step 4. Classification'!$E$17,'Output FIN Lease Amort'!A752+1,\"\")","v":""},"","",{"$f":"IF(A753=\"\",\"\",$C$10/'Step 4. Classification'!$E$17)","v":""},"",null,"",{"$f":"IF(A753=\"\",\"\",G753*'Step 3. Lease Payments'!$G$8)","v":""},{"$f":"_xlfn.IFNA(IF(A753=\"\",\"\",(VLOOKUP(A753,'Step 3. Lease Payments'!B:G,6,))),\"0\")","v":""},""]
[{"$f":"IF(A753<'Step 4. Classification'!$E$17,'Output FIN Lease Amort'!A753+1,\"\")","v":""},"","",{"$f":"IF(A754=\"\",\"\",$C$10/'Step 4. Classification'!$E$17)","v":""},"",null,"",{"$f":"IF(A754=\"\",\"\",G754*'Step 3. Lease Payments'!$G$8)","v":""},{"$f":"_xlfn.IFNA(IF(A754=\"\",\"\",(VLOOKUP(A754,'Step 3. Lease Payments'!B:G,6,))),\"0\")","v":""},""]
[{"$f":"IF(A754<'Step 4. Classification'!$E$17,'Output FIN Lease Amort'!A754+1,\"\")","v":""},"","",{"$f":"IF(A755=\"\",\"\",$C$10/'Step 4. Classification'!$E$17)","v":""},"",null,"",{"$f":"IF(A755=\"\",\"\",G755*'Step 3. Lease Payments'!$G$8)","v":""},{"$f":"_xlfn.IFNA(IF(A755=\"\",\"\",(VLOOKUP(A755,'Step 3. Lease Payments'!B:G,6,))),\"0\")","v":""},""]
[{"$f":"IF(A755<'Step 4. Classification'!$E$17,'Output FIN Lease Amort'!A755+1,\"\")","v":""},"","",{"$f":"IF(A756=\"\",\"\",$C$10/'Step 4. Classification'!$E$17)","v":""},"",null,"",{"$f":"IF(A756=\"\",\"\",G756*'Step 3. Lease Payments'!$G$8)","v":""},{"$f":"_xlfn.IFNA(IF(A756=\"\",\"\",(VLOOKUP(A756,'Step 3. Lease Payments'!B:G,6,))),\"0\")","v":""},""]
[{"$f":"IF(A756<'Step 4. Classification'!$E$17,'Output FIN Lease Amort'!A756+1,\"\")","v":""},"","",{"$f":"IF(A757=\"\",\"\",$C$10/'Step 4. Classification'!$E$17)","v":""},"",null,"",{"$f":"IF(A757=\"\",\"\",G757*'Step 3. Lease Payments'!$G$8)","v":""},{"$f":"_xlfn.IFNA(IF(A757=\"\",\"\",(VLOOKUP(A757,'Step 3. Lease Payments'!B:G,6,))),\"0\")","v":""},""]
[{"$f":"IF(A757<'Step 4. Classification'!$E$17,'Output FIN Lease Amort'!A757+1,\"\")","v":""},"","",{"$f":"IF(A758=\"\",\"\",$C$10/'Step 4. Classification'!$E$17)","v":""},"",null,"",{"$f":"IF(A758=\"\",\"\",G758*'Step 3. Lease Payments'!$G$8)","v":""},{"$f":"_xlfn.IFNA(IF(A758=\"\",\"\",(VLOOKUP(A758,'Step 3. Lease Payments'!B:G,6,))),\"0\")","v":""},""]
[{"$f":"IF(A758<'Step 4. Classification'!$E$17,'Output FIN Lease Amort'!A758+1,\"\")","v":""},"","",{"$f":"IF(A759=\"\",\"\",$C$10/'Step 4. Classification'!$E$17)","v":""},"",null,"",{"$f":"IF(A759=\"\",\"\",G759*'Step 3. Lease Payments'!$G$8)","v":""},{"$f":"_xlfn.IFNA(IF(A759=\"\",\"\",(VLOOKUP(A759,'Step 3. Lease Payments'!B:G,6,))),\"0\")","v":""},""]
[{"$f":"IF(A759<'Step 4. Classification'!$E$17,'Output FIN Lease Amort'!A759+1,\"\")","v":""},"","",{"$f":"IF(A760=\"\",\"\",$C$10/'Step 4. Classification'!$E$17)","v":""},"",null,"",{"$f":"IF(A760=\"\",\"\",G760*'Step 3. Lease Payments'!$G$8)","v":""},{"$f":"_xlfn.IFNA(IF(A760=\"\",\"\",(VLOOKUP(A760,'Step 3. Lease Payments'!B:G,6,))),\"0\")","v":""},""]
[{"$f":"IF(A760<'Step 4. Classification'!$E$17,'Output FIN Lease Amort'!A760+1,\"\")","v":""},"","",{"$f":"IF(A761=\"\",\"\",$C$10/'Step 4. Classification'!$E$17)","v":""},"",null,"",{"$f":"IF(A761=\"\",\"\",G761*'Step 3. Lease Payments'!$G$8)","v":""},{"$f":"_xlfn.IFNA(IF(A761=\"\",\"\",(VLOOKUP(A761,'Step 3. Lease Payments'!B:G,6,))),\"0\")","v":""},""]
[{"$f":"IF(A761<'Step 4. Classification'!$E$17,'Output FIN Lease Amort'!A761+1,\"\")","v":""},"","",{"$f":"IF(A762=\"\",\"\",$C$10/'Step 4. Classification'!$E$17)","v":""},"",null,"",{"$f":"IF(A762=\"\",\"\",G762*'Step 3. Lease Payments'!$G$8)","v":""},{"$f":"_xlfn.IFNA(IF(A762=\"\",\"\",(VLOOKUP(A762,'Step 3. Lease Payments'!B:G,6,))),\"0\")","v":""},""]
[{"$f":"IF(A762<'Step 4. Classification'!$E$17,'Output FIN Lease Amort'!A762+1,\"\")","v":""},"","",{"$f":"IF(A763=\"\",\"\",$C$10/'Step 4. Classification'!$E$17)","v":""},"",null,"",{"$f":"IF(A763=\"\",\"\",G763*'Step 3. Lease Payments'!$G$8)","v":""},{"$f":"_xlfn.IFNA(IF(A763=\"\",\"\",(VLOOKUP(A763,'Step 3. Lease Payments'!B:G,6,))),\"0\")","v":""},""]
[{"$f":"IF(A763<'Step 4. Classification'!$E$17,'Output FIN Lease Amort'!A763+1,\"\")","v":""},"","",{"$f":"IF(A764=\"\",\"\",$C$10/'Step 4. Classification'!$E$17)","v":""},"",null,"",{"$f":"IF(A764=\"\",\"\",G764*'Step 3. Lease Payments'!$G$8)","v":""},{"$f":"_xlfn.IFNA(IF(A764=\"\",\"\",(VLOOKUP(A764,'Step 3. Lease Payments'!B:G,6,))),\"0\")","v":""},""]
[{"$f":"IF(A764<'Step 4. Classification'!$E$17,'Output FIN Lease Amort'!A764+1,\"\")","v":""},"","",{"$f":"IF(A765=\"\",\"\",$C$10/'Step 4. Classification'!$E$17)","v":""},"",null,"",{"$f":"IF(A765=\"\",\"\",G765*'Step 3. Lease Payments'!$G$8)","v":""},{"$f":"_xlfn.IFNA(IF(A765=\"\",\"\",(VLOOKUP(A765,'Step 3. Lease Payments'!B:G,6,))),\"0\")","v":""},""]
[{"$f":"IF(A765<'Step 4. Classification'!$E$17,'Output FIN Lease Amort'!A765+1,\"\")","v":""},"","",{"$f":"IF(A766=\"\",\"\",$C$10/'Step 4. Classification'!$E$17)","v":""},"",null,"",{"$f":"IF(A766=\"\",\"\",G766*'Step 3. Lease Payments'!$G$8)","v":""},{"$f":"_xlfn.IFNA(IF(A766=\"\",\"\",(VLOOKUP(A766,'Step 3. Lease Payments'!B:G,6,))),\"0\")","v":""},""]
[{"$f":"IF(A766<'Step 4. Classification'!$E$17,'Output FIN Lease Amort'!A766+1,\"\")","v":""},"","",{"$f":"IF(A767=\"\",\"\",$C$10/'Step 4. Classification'!$E$17)","v":""},"",null,"",{"$f":"IF(A767=\"\",\"\",G767*'Step 3. Lease Payments'!$G$8)","v":""},{"$f":"_xlfn.IFNA(IF(A767=\"\",\"\",(VLOOKUP(A767,'Step 3. Lease Payments'!B:G,6,))),\"0\")","v":""},""]
[{"$f":"IF(A767<'Step 4. Classification'!$E$17,'Output FIN Lease Amort'!A767+1,\"\")","v":""},"","",{"$f":"IF(A768=\"\",\"\",$C$10/'Step 4. Classification'!$E$17)","v":""},"",null,"",{"$f":"IF(A768=\"\",\"\",G768*'Step 3. Lease Payments'!$G$8)","v":""},{"$f":"_xlfn.IFNA(IF(A768=\"\",\"\",(VLOOKUP(A768,'Step 3. Lease Payments'!B:G,6,))),\"0\")","v":""},""]
[{"$f":"IF(A768<'Step 4. Classification'!$E$17,'Output FIN Lease Amort'!A768+1,\"\")","v":""},"","",{"$f":"IF(A769=\"\",\"\",$C$10/'Step 4. Classification'!$E$17)","v":""},"",null,"",{"$f":"IF(A769=\"\",\"\",G769*'Step 3. Lease Payments'!$G$8)","v":""},{"$f":"_xlfn.IFNA(IF(A769=\"\",\"\",(VLOOKUP(A769,'Step 3. Lease Payments'!B:G,6,))),\"0\")","v":""},""]
[{"$f":"IF(A769<'Step 4. Classification'!$E$17,'Output FIN Lease Amort'!A769+1,\"\")","v":""},"","",{"$f":"IF(A770=\"\",\"\",$C$10/'Step 4. Classification'!$E$17)","v":""},"",null,"",{"$f":"IF(A770=\"\",\"\",G770*'Step 3. Lease Payments'!$G$8)","v":""},{"$f":"_xlfn.IFNA(IF(A770=\"\",\"\",(VLOOKUP(A770,'Step 3. Lease Payments'!B:G,6,))),\"0\")","v":""},""]
[{"$f":"IF(A770<'Step 4. Classification'!$E$17,'Output FIN Lease Amort'!A770+1,\"\")","v":""},"","",{"$f":"IF(A771=\"\",\"\",$C$10/'Step 4. Classification'!$E$17)","v":""},"",null,"",{"$f":"IF(A771=\"\",\"\",G771*'Step 3. Lease Payments'!$G$8)","v":""},{"$f":"_xlfn.IFNA(IF(A771=\"\",\"\",(VLOOKUP(A771,'Step 3. Lease Payments'!B:G,6,))),\"0\")","v":""},""]
[{"$f":"IF(A771<'Step 4. Classification'!$E$17,'Output FIN Lease Amort'!A771+1,\"\")","v":""},"","",{"$f":"IF(A772=\"\",\"\",$C$10/'Step 4. Classification'!$E$17)","v":""},"",null,"",{"$f":"IF(A772=\"\",\"\",G772*'Step 3. Lease Payments'!$G$8)","v":""},{"$f":"_xlfn.IFNA(IF(A772=\"\",\"\",(VLOOKUP(A772,'Step 3. Lease Payments'!B:G,6,))),\"0\")","v":""},""]
[{"$f":"IF(A772<'Step 4. Classification'!$E$17,'Output FIN Lease Amort'!A772+1,\"\")","v":""},"","",{"$f":"IF(A773=\"\",\"\",$C$10/'Step 4. Classification'!$E$17)","v":""},"",null,"",{"$f":"IF(A773=\"\",\"\",G773*'Step 3. Lease Payments'!$G$8)","v":""},{"$f":"_xlfn.IFNA(IF(A773=\"\",\"\",(VLOOKUP(A773,'Step 3. Lease Payments'!B:G,6,))),\"0\")","v":""},""]
[{"$f":"IF(A773<'Step 4. Classification'!$E$17,'Output FIN Lease Amort'!A773+1,\"\")","v":""},"","",{"$f":"IF(A774=\"\",\"\",$C$10/'Step 4. Classification'!$E$17)","v":""},"",null,"",{"$f":"IF(A774=\"\",\"\",G774*'Step 3. Lease Payments'!$G$8)","v":""},{"$f":"_xlfn.IFNA(IF(A774=\"\",\"\",(VLOOKUP(A774,'Step 3. Lease Payments'!B:G,6,))),\"0\")","v":""},""]
[{"$f":"IF(A774<'Step 4. Classification'!$E$17,'Output FIN Lease Amort'!A774+1,\"\")","v":""},"","",{"$f":"IF(A775=\"\",\"\",$C$10/'Step 4. Classification'!$E$17)","v":""},"",null,"",{"$f":"IF(A775=\"\",\"\",G775*'Step 3. Lease Payments'!$G$8)","v":""},{"$f":"_xlfn.IFNA(IF(A775=\"\",\"\",(VLOOKUP(A775,'Step 3. Lease Payments'!B:G,6,))),\"0\")","v":""},""]
[{"$f":"IF(A775<'Step 4. Classification'!$E$17,'Output FIN Lease Amort'!A775+1,\"\")","v":""},"","",{"$f":"IF(A776=\"\",\"\",$C$10/'Step 4. Classification'!$E$17)","v":""},"",null,"",{"$f":"IF(A776=\"\",\"\",G776*'Step 3. Lease Payments'!$G$8)","v":""},{"$f":"_xlfn.IFNA(IF(A776=\"\",\"\",(VLOOKUP(A776,'Step 3. Lease Payments'!B:G,6,))),\"0\")","v":""},""]
[{"$f":"IF(A776<'Step 4. Classification'!$E$17,'Output FIN Lease Amort'!A776+1,\"\")","v":""},"","",{"$f":"IF(A777=\"\",\"\",$C$10/'Step 4. Classification'!$E$17)","v":""},"",null,"",{"$f":"IF(A777=\"\",\"\",G777*'Step 3. Lease Payments'!$G$8)","v":""},{"$f":"_xlfn.IFNA(IF(A777=\"\",\"\",(VLOOKUP(A777,'Step 3. Lease Payments'!B:G,6,))),\"0\")","v":""},""]
[{"$f":"IF(A777<'Step 4. Classification'!$E$17,'Output FIN Lease Amort'!A777+1,\"\")","v":""},"","",{"$f":"IF(A778=\"\",\"\",$C$10/'Step 4. Classification'!$E$17)","v":""},"",null,"",{"$f":"IF(A778=\"\",\"\",G778*'Step 3. Lease Payments'!$G$8)","v":""},{"$f":"_xlfn.IFNA(IF(A778=\"\",\"\",(VLOOKUP(A778,'Step 3. Lease Payments'!B:G,6,))),\"0\")","v":""},""]
[{"$f":"IF(A778<'Step 4. Classification'!$E$17,'Output FIN Lease Amort'!A778+1,\"\")","v":""},{"$f":"IF(A779=\"\",\"\",(DATE(YEAR(B778),MONTH(B778)+1,DAY(B778))))","v":""},{"$f":"IF(A779=\"\",\"\",E778)","v":""},{"$f":"IF(A779=\"\",\"\",$C$10/'Step 4. Classification'!$E$17)","v":""},{"$f":"IF(A779=\"\",\"\",C779-D779)","v":""},null,{"$f":"IF(A779=\"\",\"\",J778)","v":""},{"$f":"IF(A779=\"\",\"\",G779*'Step 3. Lease Payments'!$G$8)","v":""},{"$f":"_xlfn.IFNA(IF(A779=\"\",\"\",(VLOOKUP(A779,'Step 3. Lease Payments'!B:G,6,))),\"0\")","v":""},{"$f":"IF(A779=\"\",\"\",G779-I779+H779)","v":""}]
[{"$f":"IF(A779<'Step 4. Classification'!$E$17,'Output FIN Lease Amort'!A779+1,\"\")","v":""},"","",{"$f":"IF(A780=\"\",\"\",$C$10/'Step 4. Classification'!$E$17)","v":""},"",null,"",{"$f":"IF(A780=\"\",\"\",G780*'Step 3. Lease Payments'!$G$8)","v":""},{"$f":"_xlfn.IFNA(IF(A780=\"\",\"\",(VLOOKUP(A780,'Step 3. Lease Payments'!B:G,6,))),\"0\")","v":""},""]
[{"$f":"IF(A780<'Step 4. Classification'!$E$17,'Output FIN Lease Amort'!A780+1,\"\")","v":""},"","",{"$f":"IF(A781=\"\",\"\",$C$10/'Step 4. Classification'!$E$17)","v":""},"",null,"",{"$f":"IF(A781=\"\",\"\",G781*'Step 3. Lease Payments'!$G$8)","v":""},{"$f":"_xlfn.IFNA(IF(A781=\"\",\"\",(VLOOKUP(A781,'Step 3. Lease Payments'!B:G,6,))),\"0\")","v":""},""]
[{"$f":"IF(A781<'Step 4. Classification'!$E$17,'Output FIN Lease Amort'!A781+1,\"\")","v":""},"","",{"$f":"IF(A782=\"\",\"\",$C$10/'Step 4. Classification'!$E$17)","v":""},"",null,"",{"$f":"IF(A782=\"\",\"\",G782*'Step 3. Lease Payments'!$G$8)","v":""},{"$f":"_xlfn.IFNA(IF(A782=\"\",\"\",(VLOOKUP(A782,'Step 3. Lease Payments'!B:G,6,))),\"0\")","v":""},""]
[{"$f":"IF(A782<'Step 4. Classification'!$E$17,'Output FIN Lease Amort'!A782+1,\"\")","v":""},"","",{"$f":"IF(A783=\"\",\"\",$C$10/'Step 4. Classification'!$E$17)","v":""},"",null,"",{"$f":"IF(A783=\"\",\"\",G783*'Step 3. Lease Payments'!$G$8)","v":""},{"$f":"_xlfn.IFNA(IF(A783=\"\",\"\",(VLOOKUP(A783,'Step 3. Lease Payments'!B:G,6,))),\"0\")","v":""},""]
[{"$f":"IF(A783<'Step 4. Classification'!$E$17,'Output FIN Lease Amort'!A783+1,\"\")","v":""},"","",{"$f":"IF(A784=\"\",\"\",$C$10/'Step 4. Classification'!$E$17)","v":""},"",null,"",{"$f":"IF(A784=\"\",\"\",G784*'Step 3. Lease Payments'!$G$8)","v":""},{"$f":"_xlfn.IFNA(IF(A784=\"\",\"\",(VLOOKUP(A784,'Step 3. Lease Payments'!B:G,6,))),\"0\")","v":""},""]
[{"$f":"IF(A784<'Step 4. Classification'!$E$17,'Output FIN Lease Amort'!A784+1,\"\")","v":""},"","",{"$f":"IF(A785=\"\",\"\",$C$10/'Step 4. Classification'!$E$17)","v":""},"",null,"",{"$f":"IF(A785=\"\",\"\",G785*'Step 3. Lease Payments'!$G$8)","v":""},{"$f":"_xlfn.IFNA(IF(A785=\"\",\"\",(VLOOKUP(A785,'Step 3. Lease Payments'!B:G,6,))),\"0\")","v":""},""]
[{"$f":"IF(A785<'Step 4. Classification'!$E$17,'Output FIN Lease Amort'!A785+1,\"\")","v":""},"","",{"$f":"IF(A786=\"\",\"\",$C$10/'Step 4. Classification'!$E$17)","v":""},"",null,"",{"$f":"IF(A786=\"\",\"\",G786*'Step 3. Lease Payments'!$G$8)","v":""},{"$f":"_xlfn.IFNA(IF(A786=\"\",\"\",(VLOOKUP(A786,'Step 3. Lease Payments'!B:G,6,))),\"0\")","v":""},""]
[{"$f":"IF(A786<'Step 4. Classification'!$E$17,'Output FIN Lease Amort'!A786+1,\"\")","v":""},"","",{"$f":"IF(A787=\"\",\"\",$C$10/'Step 4. Classification'!$E$17)","v":""},"",null,"",{"$f":"IF(A787=\"\",\"\",G787*'Step 3. Lease Payments'!$G$8)","v":""},{"$f":"_xlfn.IFNA(IF(A787=\"\",\"\",(VLOOKUP(A787,'Step 3. Lease Payments'!B:G,6,))),\"0\")","v":""},""]
[{"$f":"IF(A787<'Step 4. Classification'!$E$17,'Output FIN Lease Amort'!A787+1,\"\")","v":""},"","",{"$f":"IF(A788=\"\",\"\",$C$10/'Step 4. Classification'!$E$17)","v":""},"",null,"",{"$f":"IF(A788=\"\",\"\",G788*'Step 3. Lease Payments'!$G$8)","v":""},{"$f":"_xlfn.IFNA(IF(A788=\"\",\"\",(VLOOKUP(A788,'Step 3. Lease Payments'!B:G,6,))),\"0\")","v":""},""]
[{"$f":"IF(A788<'Step 4. Classification'!$E$17,'Output FIN Lease Amort'!A788+1,\"\")","v":""},"","",{"$f":"IF(A789=\"\",\"\",$C$10/'Step 4. Classification'!$E$17)","v":""},"",null,"",{"$f":"IF(A789=\"\",\"\",G789*'Step 3. Lease Payments'!$G$8)","v":""},{"$f":"_xlfn.IFNA(IF(A789=\"\",\"\",(VLOOKUP(A789,'Step 3. Lease Payments'!B:G,6,))),\"0\")","v":""},""]
[{"$f":"IF(A789<'Step 4. Classification'!$E$17,'Output FIN Lease Amort'!A789+1,\"\")","v":""},"","",{"$f":"IF(A790=\"\",\"\",$C$10/'Step 4. Classification'!$E$17)","v":""},"",null,"",{"$f":"IF(A790=\"\",\"\",G790*'Step 3. Lease Payments'!$G$8)","v":""},{"$f":"_xlfn.IFNA(IF(A790=\"\",\"\",(VLOOKUP(A790,'Step 3. Lease Payments'!B:G,6,))),\"0\")","v":""},""]
[{"$f":"IF(A790<'Step 4. Classification'!$E$17,'Output FIN Lease Amort'!A790+1,\"\")","v":""},"","",{"$f":"IF(A791=\"\",\"\",$C$10/'Step 4. Classification'!$E$17)","v":""},"",null,"",{"$f":"IF(A791=\"\",\"\",G791*'Step 3. Lease Payments'!$G$8)","v":""},{"$f":"_xlfn.IFNA(IF(A791=\"\",\"\",(VLOOKUP(A791,'Step 3. Lease Payments'!B:G,6,))),\"0\")","v":""},""]
[{"$f":"IF(A791<'Step 4. Classification'!$E$17,'Output FIN Lease Amort'!A791+1,\"\")","v":""},"","",{"$f":"IF(A792=\"\",\"\",$C$10/'Step 4. Classification'!$E$17)","v":""},"",null,"",{"$f":"IF(A792=\"\",\"\",G792*'Step 3. Lease Payments'!$G$8)","v":""},{"$f":"_xlfn.IFNA(IF(A792=\"\",\"\",(VLOOKUP(A792,'Step 3. Lease Payments'!B:G,6,))),\"0\")","v":""},""]
[{"$f":"IF(A792<'Step 4. Classification'!$E$17,'Output FIN Lease Amort'!A792+1,\"\")","v":""},"","",{"$f":"IF(A793=\"\",\"\",$C$10/'Step 4. Classification'!$E$17)","v":""},"",null,"",{"$f":"IF(A793=\"\",\"\",G793*'Step 3. Lease Payments'!$G$8)","v":""},{"$f":"_xlfn.IFNA(IF(A793=\"\",\"\",(VLOOKUP(A793,'Step 3. Lease Payments'!B:G,6,))),\"0\")","v":""},""]
[{"$f":"IF(A793<'Step 4. Classification'!$E$17,'Output FIN Lease Amort'!A793+1,\"\")","v":""},"","",{"$f":"IF(A794=\"\",\"\",$C$10/'Step 4. Classification'!$E$17)","v":""},"",null,"",{"$f":"IF(A794=\"\",\"\",G794*'Step 3. Lease Payments'!$G$8)","v":""},{"$f":"_xlfn.IFNA(IF(A794=\"\",\"\",(VLOOKUP(A794,'Step 3. Lease Payments'!B:G,6,))),\"0\")","v":""},""]
[{"$f":"IF(A794<'Step 4. Classification'!$E$17,'Output FIN Lease Amort'!A794+1,\"\")","v":""},"","",{"$f":"IF(A795=\"\",\"\",$C$10/'Step 4. Classification'!$E$17)","v":""},"",null,"",{"$f":"IF(A795=\"\",\"\",G795*'Step 3. Lease Payments'!$G$8)","v":""},{"$f":"_xlfn.IFNA(IF(A795=\"\",\"\",(VLOOKUP(A795,'Step 3. Lease Payments'!B:G,6,))),\"0\")","v":""},""]
[{"$f":"IF(A795<'Step 4. Classification'!$E$17,'Output FIN Lease Amort'!A795+1,\"\")","v":""},"","",{"$f":"IF(A796=\"\",\"\",$C$10/'Step 4. Classification'!$E$17)","v":""},"",null,"",{"$f":"IF(A796=\"\",\"\",G796*'Step 3. Lease Payments'!$G$8)","v":""},{"$f":"_xlfn.IFNA(IF(A796=\"\",\"\",(VLOOKUP(A796,'Step 3. Lease Payments'!B:G,6,))),\"0\")","v":""},""]
[{"$f":"IF(A796<'Step 4. Classification'!$E$17,'Output FIN Lease Amort'!A796+1,\"\")","v":""},"","",{"$f":"IF(A797=\"\",\"\",$C$10/'Step 4. Classification'!$E$17)","v":""},"",null,"",{"$f":"IF(A797=\"\",\"\",G797*'Step 3. Lease Payments'!$G$8)","v":""},{"$f":"_xlfn.IFNA(IF(A797=\"\",\"\",(VLOOKUP(A797,'Step 3. Lease Payments'!B:G,6,))),\"0\")","v":""},""]
[{"$f":"IF(A797<'Step 4. Classification'!$E$17,'Output FIN Lease Amort'!A797+1,\"\")","v":""},"","",{"$f":"IF(A798=\"\",\"\",$C$10/'Step 4. Classification'!$E$17)","v":""},"",null,"",{"$f":"IF(A798=\"\",\"\",G798*'Step 3. Lease Payments'!$G$8)","v":""},{"$f":"_xlfn.IFNA(IF(A798=\"\",\"\",(VLOOKUP(A798,'Step 3. Lease Payments'!B:G,6,))),\"0\")","v":""},""]
[{"$f":"IF(A798<'Step 4. Classification'!$E$17,'Output FIN Lease Amort'!A798+1,\"\")","v":""},"","",{"$f":"IF(A799=\"\",\"\",$C$10/'Step 4. Classification'!$E$17)","v":""},"",null,"",{"$f":"IF(A799=\"\",\"\",G799*'Step 3. Lease Payments'!$G$8)","v":""},{"$f":"_xlfn.IFNA(IF(A799=\"\",\"\",(VLOOKUP(A799,'Step 3. Lease Payments'!B:G,6,))),\"0\")","v":""},""]
[{"$f":"IF(A799<'Step 4. Classification'!$E$17,'Output FIN Lease Amort'!A799+1,\"\")","v":""},"","",{"$f":"IF(A800=\"\",\"\",$C$10/'Step 4. Classification'!$E$17)","v":""},"",null,"",{"$f":"IF(A800=\"\",\"\",G800*'Step 3. Lease Payments'!$G$8)","v":""},{"$f":"_xlfn.IFNA(IF(A800=\"\",\"\",(VLOOKUP(A800,'Step 3. Lease Payments'!B:G,6,))),\"0\")","v":""},""]
[{"$f":"IF(A800<'Step 4. Classification'!$E$17,'Output FIN Lease Amort'!A800+1,\"\")","v":""},"","",{"$f":"IF(A801=\"\",\"\",$C$10/'Step 4. Classification'!$E$17)","v":""},"",null,"",{"$f":"IF(A801=\"\",\"\",G801*'Step 3. Lease Payments'!$G$8)","v":""},{"$f":"_xlfn.IFNA(IF(A801=\"\",\"\",(VLOOKUP(A801,'Step 3. Lease Payments'!B:G,6,))),\"0\")","v":""},""]
[{"$f":"IF(A801<'Step 4. Classification'!$E$17,'Output FIN Lease Amort'!A801+1,\"\")","v":""},"","",{"$f":"IF(A802=\"\",\"\",$C$10/'Step 4. Classification'!$E$17)","v":""},"",null,"",{"$f":"IF(A802=\"\",\"\",G802*'Step 3. Lease Payments'!$G$8)","v":""},{"$f":"_xlfn.IFNA(IF(A802=\"\",\"\",(VLOOKUP(A802,'Step 3. Lease Payments'!B:G,6,))),\"0\")","v":""},""]
[{"$f":"IF(A802<'Step 4. Classification'!$E$17,'Output FIN Lease Amort'!A802+1,\"\")","v":""},"","",{"$f":"IF(A803=\"\",\"\",$C$10/'Step 4. Classification'!$E$17)","v":""},"",null,"",{"$f":"IF(A803=\"\",\"\",G803*'Step 3. Lease Payments'!$G$8)","v":""},{"$f":"_xlfn.IFNA(IF(A803=\"\",\"\",(VLOOKUP(A803,'Step 3. Lease Payments'!B:G,6,))),\"0\")","v":""},""]
[{"$f":"IF(A803<'Step 4. Classification'!$E$17,'Output FIN Lease Amort'!A803+1,\"\")","v":""},"","",{"$f":"IF(A804=\"\",\"\",$C$10/'Step 4. Classification'!$E$17)","v":""},"",null,"",{"$f":"IF(A804=\"\",\"\",G804*'Step 3. Lease Payments'!$G$8)","v":""},{"$f":"_xlfn.IFNA(IF(A804=\"\",\"\",(VLOOKUP(A804,'Step 3. Lease Payments'!B:G,6,))),\"0\")","v":""},""]
[{"$f":"IF(A804<'Step 4. Classification'!$E$17,'Output FIN Lease Amort'!A804+1,\"\")","v":""},"","",{"$f":"IF(A805=\"\",\"\",$C$10/'Step 4. Classification'!$E$17)","v":""},"",null,"",{"$f":"IF(A805=\"\",\"\",G805*'Step 3. Lease Payments'!$G$8)","v":""},{"$f":"_xlfn.IFNA(IF(A805=\"\",\"\",(VLOOKUP(A805,'Step 3. Lease Payments'!B:G,6,))),\"0\")","v":""},""]
[{"$f":"IF(A805<'Step 4. Classification'!$E$17,'Output FIN Lease Amort'!A805+1,\"\")","v":""},"","",{"$f":"IF(A806=\"\",\"\",$C$10/'Step 4. Classification'!$E$17)","v":""},"",null,"",{"$f":"IF(A806=\"\",\"\",G806*'Step 3. Lease Payments'!$G$8)","v":""},{"$f":"_xlfn.IFNA(IF(A806=\"\",\"\",(VLOOKUP(A806,'Step 3. Lease Payments'!B:G,6,))),\"0\")","v":""},""]
[{"$f":"IF(A806<'Step 4. Classification'!$E$17,'Output FIN Lease Amort'!A806+1,\"\")","v":""},"","",{"$f":"IF(A807=\"\",\"\",$C$10/'Step 4. Classification'!$E$17)","v":""},"",null,"",{"$f":"IF(A807=\"\",\"\",G807*'Step 3. Lease Payments'!$G$8)","v":""},{"$f":"_xlfn.IFNA(IF(A807=\"\",\"\",(VLOOKUP(A807,'Step 3. Lease Payments'!B:G,6,))),\"0\")","v":""},""]
[{"$f":"IF(A807<'Step 4. Classification'!$E$17,'Output FIN Lease Amort'!A807+1,\"\")","v":""},"","",{"$f":"IF(A808=\"\",\"\",$C$10/'Step 4. Classification'!$E$17)","v":""},"",null,"",{"$f":"IF(A808=\"\",\"\",G808*'Step 3. Lease Payments'!$G$8)","v":""},{"$f":"_xlfn.IFNA(IF(A808=\"\",\"\",(VLOOKUP(A808,'Step 3. Lease Payments'!B:G,6,))),\"0\")","v":""},""]
[{"$f":"IF(A808<'Step 4. Classification'!$E$17,'Output FIN Lease Amort'!A808+1,\"\")","v":""},"","",{"$f":"IF(A809=\"\",\"\",$C$10/'Step 4. Classification'!$E$17)","v":""},"",null,"",{"$f":"IF(A809=\"\",\"\",G809*'Step 3. Lease Payments'!$G$8)","v":""},{"$f":"_xlfn.IFNA(IF(A809=\"\",\"\",(VLOOKUP(A809,'Step 3. Lease Payments'!B:G,6,))),\"0\")","v":""},""]
[{"$f":"IF(A809<'Step 4. Classification'!$E$17,'Output FIN Lease Amort'!A809+1,\"\")","v":""},"","",{"$f":"IF(A810=\"\",\"\",$C$10/'Step 4. Classification'!$E$17)","v":""},"",null,"",{"$f":"IF(A810=\"\",\"\",G810*'Step 3. Lease Payments'!$G$8)","v":""},{"$f":"_xlfn.IFNA(IF(A810=\"\",\"\",(VLOOKUP(A810,'Step 3. Lease Payments'!B:G,6,))),\"0\")","v":""},""]
[{"$f":"IF(A810<'Step 4. Classification'!$E$17,'Output FIN Lease Amort'!A810+1,\"\")","v":""},"","",{"$f":"IF(A811=\"\",\"\",$C$10/'Step 4. Classification'!$E$17)","v":""},"",null,"",{"$f":"IF(A811=\"\",\"\",G811*'Step 3. Lease Payments'!$G$8)","v":""},{"$f":"_xlfn.IFNA(IF(A811=\"\",\"\",(VLOOKUP(A811,'Step 3. Lease Payments'!B:G,6,))),\"0\")","v":""},""]
[{"$f":"IF(A811<'Step 4. Classification'!$E$17,'Output FIN Lease Amort'!A811+1,\"\")","v":""},"","",{"$f":"IF(A812=\"\",\"\",$C$10/'Step 4. Classification'!$E$17)","v":""},"",null,"",{"$f":"IF(A812=\"\",\"\",G812*'Step 3. Lease Payments'!$G$8)","v":""},{"$f":"_xlfn.IFNA(IF(A812=\"\",\"\",(VLOOKUP(A812,'Step 3. Lease Payments'!B:G,6,))),\"0\")","v":""},""]
[{"$f":"IF(A812<'Step 4. Classification'!$E$17,'Output FIN Lease Amort'!A812+1,\"\")","v":""},"","",{"$f":"IF(A813=\"\",\"\",$C$10/'Step 4. Classification'!$E$17)","v":""},"",null,"",{"$f":"IF(A813=\"\",\"\",G813*'Step 3. Lease Payments'!$G$8)","v":""},{"$f":"_xlfn.IFNA(IF(A813=\"\",\"\",(VLOOKUP(A813,'Step 3. Lease Payments'!B:G,6,))),\"0\")","v":""},""]
[{"$f":"IF(A813<'Step 4. Classification'!$E$17,'Output FIN Lease Amort'!A813+1,\"\")","v":""},"","",{"$f":"IF(A814=\"\",\"\",$C$10/'Step 4. Classification'!$E$17)","v":""},"",null,"",{"$f":"IF(A814=\"\",\"\",G814*'Step 3. Lease Payments'!$G$8)","v":""},{"$f":"_xlfn.IFNA(IF(A814=\"\",\"\",(VLOOKUP(A814,'Step 3. Lease Payments'!B:G,6,))),\"0\")","v":""},""]
[{"$f":"IF(A814<'Step 4. Classification'!$E$17,'Output FIN Lease Amort'!A814+1,\"\")","v":""},"","",{"$f":"IF(A815=\"\",\"\",$C$10/'Step 4. Classification'!$E$17)","v":""},"",null,"",{"$f":"IF(A815=\"\",\"\",G815*'Step 3. Lease Payments'!$G$8)","v":""},{"$f":"_xlfn.IFNA(IF(A815=\"\",\"\",(VLOOKUP(A815,'Step 3. Lease Payments'!B:G,6,))),\"0\")","v":""},""]
[{"$f":"IF(A815<'Step 4. Classification'!$E$17,'Output FIN Lease Amort'!A815+1,\"\")","v":""},"","",{"$f":"IF(A816=\"\",\"\",$C$10/'Step 4. Classification'!$E$17)","v":""},"",null,"",{"$f":"IF(A816=\"\",\"\",G816*'Step 3. Lease Payments'!$G$8)","v":""},{"$f":"_xlfn.IFNA(IF(A816=\"\",\"\",(VLOOKUP(A816,'Step 3. Lease Payments'!B:G,6,))),\"0\")","v":""},""]
[{"$f":"IF(A816<'Step 4. Classification'!$E$17,'Output FIN Lease Amort'!A816+1,\"\")","v":""},"","",{"$f":"IF(A817=\"\",\"\",$C$10/'Step 4. Classification'!$E$17)","v":""},"",null,"",{"$f":"IF(A817=\"\",\"\",G817*'Step 3. Lease Payments'!$G$8)","v":""},{"$f":"_xlfn.IFNA(IF(A817=\"\",\"\",(VLOOKUP(A817,'Step 3. Lease Payments'!B:G,6,))),\"0\")","v":""},""]
[{"$f":"IF(A817<'Step 4. Classification'!$E$17,'Output FIN Lease Amort'!A817+1,\"\")","v":""},"","",{"$f":"IF(A818=\"\",\"\",$C$10/'Step 4. Classification'!$E$17)","v":""},"",null,"",{"$f":"IF(A818=\"\",\"\",G818*'Step 3. Lease Payments'!$G$8)","v":""},{"$f":"_xlfn.IFNA(IF(A818=\"\",\"\",(VLOOKUP(A818,'Step 3. Lease Payments'!B:G,6,))),\"0\")","v":""},""]
[{"$f":"IF(A818<'Step 4. Classification'!$E$17,'Output FIN Lease Amort'!A818+1,\"\")","v":""},"","",{"$f":"IF(A819=\"\",\"\",$C$10/'Step 4. Classification'!$E$17)","v":""},"",null,"",{"$f":"IF(A819=\"\",\"\",G819*'Step 3. Lease Payments'!$G$8)","v":""},{"$f":"_xlfn.IFNA(IF(A819=\"\",\"\",(VLOOKUP(A819,'Step 3. Lease Payments'!B:G,6,))),\"0\")","v":""},""]
[{"$f":"IF(A819<'Step 4. Classification'!$E$17,'Output FIN Lease Amort'!A819+1,\"\")","v":""},"","",{"$f":"IF(A820=\"\",\"\",$C$10/'Step 4. Classification'!$E$17)","v":""},"",null,"",{"$f":"IF(A820=\"\",\"\",G820*'Step 3. Lease Payments'!$G$8)","v":""},{"$f":"_xlfn.IFNA(IF(A820=\"\",\"\",(VLOOKUP(A820,'Step 3. Lease Payments'!B:G,6,))),\"0\")","v":""},""]
[{"$f":"IF(A820<'Step 4. Classification'!$E$17,'Output FIN Lease Amort'!A820+1,\"\")","v":""},"","",{"$f":"IF(A821=\"\",\"\",$C$10/'Step 4. Classification'!$E$17)","v":""},"",null,"",{"$f":"IF(A821=\"\",\"\",G821*'Step 3. Lease Payments'!$G$8)","v":""},{"$f":"_xlfn.IFNA(IF(A821=\"\",\"\",(VLOOKUP(A821,'Step 3. Lease Payments'!B:G,6,))),\"0\")","v":""},""]
[{"$f":"IF(A821<'Step 4. Classification'!$E$17,'Output FIN Lease Amort'!A821+1,\"\")","v":""},"","",{"$f":"IF(A822=\"\",\"\",$C$10/'Step 4. Classification'!$E$17)","v":""},"",null,"",{"$f":"IF(A822=\"\",\"\",G822*'Step 3. Lease Payments'!$G$8)","v":""},{"$f":"_xlfn.IFNA(IF(A822=\"\",\"\",(VLOOKUP(A822,'Step 3. Lease Payments'!B:G,6,))),\"0\")","v":""},""]
[{"$f":"IF(A822<'Step 4. Classification'!$E$17,'Output FIN Lease Amort'!A822+1,\"\")","v":""},"","",{"$f":"IF(A823=\"\",\"\",$C$10/'Step 4. Classification'!$E$17)","v":""},"",null,"",{"$f":"IF(A823=\"\",\"\",G823*'Step 3. Lease Payments'!$G$8)","v":""},{"$f":"_xlfn.IFNA(IF(A823=\"\",\"\",(VLOOKUP(A823,'Step 3. Lease Payments'!B:G,6,))),\"0\")","v":""},""]
[{"$f":"IF(A823<'Step 4. Classification'!$E$17,'Output FIN Lease Amort'!A823+1,\"\")","v":""},"","",{"$f":"IF(A824=\"\",\"\",$C$10/'Step 4. Classification'!$E$17)","v":""},"",null,"",{"$f":"IF(A824=\"\",\"\",G824*'Step 3. Lease Payments'!$G$8)","v":""},{"$f":"_xlfn.IFNA(IF(A824=\"\",\"\",(VLOOKUP(A824,'Step 3. Lease Payments'!B:G,6,))),\"0\")","v":""},""]
[{"$f":"IF(A824<'Step 4. Classification'!$E$17,'Output FIN Lease Amort'!A824+1,\"\")","v":""},"","",{"$f":"IF(A825=\"\",\"\",$C$10/'Step 4. Classification'!$E$17)","v":""},"",null,"",{"$f":"IF(A825=\"\",\"\",G825*'Step 3. Lease Payments'!$G$8)","v":""},{"$f":"_xlfn.IFNA(IF(A825=\"\",\"\",(VLOOKUP(A825,'Step 3. Lease Payments'!B:G,6,))),\"0\")","v":""},""]
[{"$f":"IF(A825<'Step 4. Classification'!$E$17,'Output FIN Lease Amort'!A825+1,\"\")","v":""},"","",{"$f":"IF(A826=\"\",\"\",$C$10/'Step 4. Classification'!$E$17)","v":""},"",null,"",{"$f":"IF(A826=\"\",\"\",G826*'Step 3. Lease Payments'!$G$8)","v":""},{"$f":"_xlfn.IFNA(IF(A826=\"\",\"\",(VLOOKUP(A826,'Step 3. Lease Payments'!B:G,6,))),\"0\")","v":""},""]
[{"$f":"IF(A826<'Step 4. Classification'!$E$17,'Output FIN Lease Amort'!A826+1,\"\")","v":""},"","",{"$f":"IF(A827=\"\",\"\",$C$10/'Step 4. Classification'!$E$17)","v":""},"",null,"",{"$f":"IF(A827=\"\",\"\",G827*'Step 3. Lease Payments'!$G$8)","v":""},{"$f":"_xlfn.IFNA(IF(A827=\"\",\"\",(VLOOKUP(A827,'Step 3. Lease Payments'!B:G,6,))),\"0\")","v":""},""]
[{"$f":"IF(A827<'Step 4. Classification'!$E$17,'Output FIN Lease Amort'!A827+1,\"\")","v":""},"","",{"$f":"IF(A828=\"\",\"\",$C$10/'Step 4. Classification'!$E$17)","v":""},"",null,"",{"$f":"IF(A828=\"\",\"\",G828*'Step 3. Lease Payments'!$G$8)","v":""},{"$f":"_xlfn.IFNA(IF(A828=\"\",\"\",(VLOOKUP(A828,'Step 3. Lease Payments'!B:G,6,))),\"0\")","v":""},""]
[{"$f":"IF(A828<'Step 4. Classification'!$E$17,'Output FIN Lease Amort'!A828+1,\"\")","v":""},"","",{"$f":"IF(A829=\"\",\"\",$C$10/'Step 4. Classification'!$E$17)","v":""},"",null,"",{"$f":"IF(A829=\"\",\"\",G829*'Step 3. Lease Payments'!$G$8)","v":""},{"$f":"_xlfn.IFNA(IF(A829=\"\",\"\",(VLOOKUP(A829,'Step 3. Lease Payments'!B:G,6,))),\"0\")","v":""},""]
[{"$f":"IF(A829<'Step 4. Classification'!$E$17,'Output FIN Lease Amort'!A829+1,\"\")","v":""},"","",{"$f":"IF(A830=\"\",\"\",$C$10/'Step 4. Classification'!$E$17)","v":""},"",null,"",{"$f":"IF(A830=\"\",\"\",G830*'Step 3. Lease Payments'!$G$8)","v":""},{"$f":"_xlfn.IFNA(IF(A830=\"\",\"\",(VLOOKUP(A830,'Step 3. Lease Payments'!B:G,6,))),\"0\")","v":""},""]
[{"$f":"IF(A830<'Step 4. Classification'!$E$17,'Output FIN Lease Amort'!A830+1,\"\")","v":""},"","",{"$f":"IF(A831=\"\",\"\",$C$10/'Step 4. Classification'!$E$17)","v":""},"",null,"",{"$f":"IF(A831=\"\",\"\",G831*'Step 3. Lease Payments'!$G$8)","v":""},{"$f":"_xlfn.IFNA(IF(A831=\"\",\"\",(VLOOKUP(A831,'Step 3. Lease Payments'!B:G,6,))),\"0\")","v":""},""]
[{"$f":"IF(A831<'Step 4. Classification'!$E$17,'Output FIN Lease Amort'!A831+1,\"\")","v":""},"","",{"$f":"IF(A832=\"\",\"\",$C$10/'Step 4. Classification'!$E$17)","v":""},"",null,"",{"$f":"IF(A832=\"\",\"\",G832*'Step 3. Lease Payments'!$G$8)","v":""},{"$f":"_xlfn.IFNA(IF(A832=\"\",\"\",(VLOOKUP(A832,'Step 3. Lease Payments'!B:G,6,))),\"0\")","v":""},""]
[{"$f":"IF(A832<'Step 4. Classification'!$E$17,'Output FIN Lease Amort'!A832+1,\"\")","v":""},"","",{"$f":"IF(A833=\"\",\"\",$C$10/'Step 4. Classification'!$E$17)","v":""},"",null,"",{"$f":"IF(A833=\"\",\"\",G833*'Step 3. Lease Payments'!$G$8)","v":""},{"$f":"_xlfn.IFNA(IF(A833=\"\",\"\",(VLOOKUP(A833,'Step 3. Lease Payments'!B:G,6,))),\"0\")","v":""},""]
[{"$f":"IF(A833<'Step 4. Classification'!$E$17,'Output FIN Lease Amort'!A833+1,\"\")","v":""},"","",{"$f":"IF(A834=\"\",\"\",$C$10/'Step 4. Classification'!$E$17)","v":""},"",null,"",{"$f":"IF(A834=\"\",\"\",G834*'Step 3. Lease Payments'!$G$8)","v":""},{"$f":"_xlfn.IFNA(IF(A834=\"\",\"\",(VLOOKUP(A834,'Step 3. Lease Payments'!B:G,6,))),\"0\")","v":""},""]
[{"$f":"IF(A834<'Step 4. Classification'!$E$17,'Output FIN Lease Amort'!A834+1,\"\")","v":""},"","",{"$f":"IF(A835=\"\",\"\",$C$10/'Step 4. Classification'!$E$17)","v":""},"",null,"",{"$f":"IF(A835=\"\",\"\",G835*'Step 3. Lease Payments'!$G$8)","v":""},{"$f":"_xlfn.IFNA(IF(A835=\"\",\"\",(VLOOKUP(A835,'Step 3. Lease Payments'!B:G,6,))),\"0\")","v":""},""]
[{"$f":"IF(A835<'Step 4. Classification'!$E$17,'Output FIN Lease Amort'!A835+1,\"\")","v":""},"","",{"$f":"IF(A836=\"\",\"\",$C$10/'Step 4. Classification'!$E$17)","v":""},"",null,"",{"$f":"IF(A836=\"\",\"\",G836*'Step 3. Lease Payments'!$G$8)","v":""},{"$f":"_xlfn.IFNA(IF(A836=\"\",\"\",(VLOOKUP(A836,'Step 3. Lease Payments'!B:G,6,))),\"0\")","v":""},""]
[{"$f":"IF(A836<'Step 4. Classification'!$E$17,'Output FIN Lease Amort'!A836+1,\"\")","v":""},"","",{"$f":"IF(A837=\"\",\"\",$C$10/'Step 4. Classification'!$E$17)","v":""},"",null,"",{"$f":"IF(A837=\"\",\"\",G837*'Step 3. Lease Payments'!$G$8)","v":""},{"$f":"_xlfn.IFNA(IF(A837=\"\",\"\",(VLOOKUP(A837,'Step 3. Lease Payments'!B:G,6,))),\"0\")","v":""},""]
[{"$f":"IF(A837<'Step 4. Classification'!$E$17,'Output FIN Lease Amort'!A837+1,\"\")","v":""},"","",{"$f":"IF(A838=\"\",\"\",$C$10/'Step 4. Classification'!$E$17)","v":""},"",null,"",{"$f":"IF(A838=\"\",\"\",G838*'Step 3. Lease Payments'!$G$8)","v":""},{"$f":"_xlfn.IFNA(IF(A838=\"\",\"\",(VLOOKUP(A838,'Step 3. Lease Payments'!B:G,6,))),\"0\")","v":""},""]
[{"$f":"IF(A838<'Step 4. Classification'!$E$17,'Output FIN Lease Amort'!A838+1,\"\")","v":""},"","",{"$f":"IF(A839=\"\",\"\",$C$10/'Step 4. Classification'!$E$17)","v":""},"",null,"",{"$f":"IF(A839=\"\",\"\",G839*'Step 3. Lease Payments'!$G$8)","v":""},{"$f":"_xlfn.IFNA(IF(A839=\"\",\"\",(VLOOKUP(A839,'Step 3. Lease Payments'!B:G,6,))),\"0\")","v":""},""]
[{"$f":"IF(A839<'Step 4. Classification'!$E$17,'Output FIN Lease Amort'!A839+1,\"\")","v":""},"","",{"$f":"IF(A840=\"\",\"\",$C$10/'Step 4. Classification'!$E$17)","v":""},"",null,"",{"$f":"IF(A840=\"\",\"\",G840*'Step 3. Lease Payments'!$G$8)","v":""},{"$f":"_xlfn.IFNA(IF(A840=\"\",\"\",(VLOOKUP(A840,'Step 3. Lease Payments'!B:G,6,))),\"0\")","v":""},""]
[{"$f":"IF(A840<'Step 4. Classification'!$E$17,'Output FIN Lease Amort'!A840+1,\"\")","v":""},"","",{"$f":"IF(A841=\"\",\"\",$C$10/'Step 4. Classification'!$E$17)","v":""},"",null,"",{"$f":"IF(A841=\"\",\"\",G841*'Step 3. Lease Payments'!$G$8)","v":""},{"$f":"_xlfn.IFNA(IF(A841=\"\",\"\",(VLOOKUP(A841,'Step 3. Lease Payments'!B:G,6,))),\"0\")","v":""},""]
[{"$f":"IF(A841<'Step 4. Classification'!$E$17,'Output FIN Lease Amort'!A841+1,\"\")","v":""},"","",{"$f":"IF(A842=\"\",\"\",$C$10/'Step 4. Classification'!$E$17)","v":""},"",null,"",{"$f":"IF(A842=\"\",\"\",G842*'Step 3. Lease Payments'!$G$8)","v":""},{"$f":"_xlfn.IFNA(IF(A842=\"\",\"\",(VLOOKUP(A842,'Step 3. Lease Payments'!B:G,6,))),\"0\")","v":""},""]
[{"$f":"IF(A842<'Step 4. Classification'!$E$17,'Output FIN Lease Amort'!A842+1,\"\")","v":""},{"$f":"IF(A843=\"\",\"\",(DATE(YEAR(B842),MONTH(B842)+1,DAY(B842))))","v":""},{"$f":"IF(A843=\"\",\"\",E842)","v":""},{"$f":"IF(A843=\"\",\"\",$C$10/'Step 4. Classification'!$E$17)","v":""},{"$f":"IF(A843=\"\",\"\",C843-D843)","v":""},null,{"$f":"IF(A843=\"\",\"\",J842)","v":""},{"$f":"IF(A843=\"\",\"\",G843*'Step 3. Lease Payments'!$G$8)","v":""},{"$f":"_xlfn.IFNA(IF(A843=\"\",\"\",(VLOOKUP(A843,'Step 3. Lease Payments'!B:G,6,))),\"0\")","v":""},{"$f":"IF(A843=\"\",\"\",G843-I843+H843)","v":""}]
[{"$f":"IF(A843<'Step 4. Classification'!$E$17,'Output FIN Lease Amort'!A843+1,\"\")","v":""},"","",{"$f":"IF(A844=\"\",\"\",$C$10/'Step 4. Classification'!$E$17)","v":""},"",null,"",{"$f":"IF(A844=\"\",\"\",G844*'Step 3. Lease Payments'!$G$8)","v":""},{"$f":"_xlfn.IFNA(IF(A844=\"\",\"\",(VLOOKUP(A844,'Step 3. Lease Payments'!B:G,6,))),\"0\")","v":""},""]
[{"$f":"IF(A844<'Step 4. Classification'!$E$17,'Output FIN Lease Amort'!A844+1,\"\")","v":""},"","",{"$f":"IF(A845=\"\",\"\",$C$10/'Step 4. Classification'!$E$17)","v":""},"",null,"",{"$f":"IF(A845=\"\",\"\",G845*'Step 3. Lease Payments'!$G$8)","v":""},{"$f":"_xlfn.IFNA(IF(A845=\"\",\"\",(VLOOKUP(A845,'Step 3. Lease Payments'!B:G,6,))),\"0\")","v":""},""]
[{"$f":"IF(A845<'Step 4. Classification'!$E$17,'Output FIN Lease Amort'!A845+1,\"\")","v":""},"","",{"$f":"IF(A846=\"\",\"\",$C$10/'Step 4. Classification'!$E$17)","v":""},"",null,"",{"$f":"IF(A846=\"\",\"\",G846*'Step 3. Lease Payments'!$G$8)","v":""},{"$f":"_xlfn.IFNA(IF(A846=\"\",\"\",(VLOOKUP(A846,'Step 3. Lease Payments'!B:G,6,))),\"0\")","v":""},""]
[{"$f":"IF(A846<'Step 4. Classification'!$E$17,'Output FIN Lease Amort'!A846+1,\"\")","v":""},"","",{"$f":"IF(A847=\"\",\"\",$C$10/'Step 4. Classification'!$E$17)","v":""},"",null,"",{"$f":"IF(A847=\"\",\"\",G847*'Step 3. Lease Payments'!$G$8)","v":""},{"$f":"_xlfn.IFNA(IF(A847=\"\",\"\",(VLOOKUP(A847,'Step 3. Lease Payments'!B:G,6,))),\"0\")","v":""},""]
[{"$f":"IF(A847<'Step 4. Classification'!$E$17,'Output FIN Lease Amort'!A847+1,\"\")","v":""},"","",{"$f":"IF(A848=\"\",\"\",$C$10/'Step 4. Classification'!$E$17)","v":""},"",null,"",{"$f":"IF(A848=\"\",\"\",G848*'Step 3. Lease Payments'!$G$8)","v":""},{"$f":"_xlfn.IFNA(IF(A848=\"\",\"\",(VLOOKUP(A848,'Step 3. Lease Payments'!B:G,6,))),\"0\")","v":""},""]
[{"$f":"IF(A848<'Step 4. Classification'!$E$17,'Output FIN Lease Amort'!A848+1,\"\")","v":""},"","",{"$f":"IF(A849=\"\",\"\",$C$10/'Step 4. Classification'!$E$17)","v":""},"",null,"",{"$f":"IF(A849=\"\",\"\",G849*'Step 3. Lease Payments'!$G$8)","v":""},{"$f":"_xlfn.IFNA(IF(A849=\"\",\"\",(VLOOKUP(A849,'Step 3. Lease Payments'!B:G,6,))),\"0\")","v":""},""]
[{"$f":"IF(A849<'Step 4. Classification'!$E$17,'Output FIN Lease Amort'!A849+1,\"\")","v":""},"","",{"$f":"IF(A850=\"\",\"\",$C$10/'Step 4. Classification'!$E$17)","v":""},"",null,"",{"$f":"IF(A850=\"\",\"\",G850*'Step 3. Lease Payments'!$G$8)","v":""},{"$f":"_xlfn.IFNA(IF(A850=\"\",\"\",(VLOOKUP(A850,'Step 3. Lease Payments'!B:G,6,))),\"0\")","v":""},""]
[{"$f":"IF(A850<'Step 4. Classification'!$E$17,'Output FIN Lease Amort'!A850+1,\"\")","v":""},"","",{"$f":"IF(A851=\"\",\"\",$C$10/'Step 4. Classification'!$E$17)","v":""},"",null,"",{"$f":"IF(A851=\"\",\"\",G851*'Step 3. Lease Payments'!$G$8)","v":""},{"$f":"_xlfn.IFNA(IF(A851=\"\",\"\",(VLOOKUP(A851,'Step 3. Lease Payments'!B:G,6,))),\"0\")","v":""},""]
[{"$f":"IF(A851<'Step 4. Classification'!$E$17,'Output FIN Lease Amort'!A851+1,\"\")","v":""},"","",{"$f":"IF(A852=\"\",\"\",$C$10/'Step 4. Classification'!$E$17)","v":""},"",null,"",{"$f":"IF(A852=\"\",\"\",G852*'Step 3. Lease Payments'!$G$8)","v":""},{"$f":"_xlfn.IFNA(IF(A852=\"\",\"\",(VLOOKUP(A852,'Step 3. Lease Payments'!B:G,6,))),\"0\")","v":""},""]
[{"$f":"IF(A852<'Step 4. Classification'!$E$17,'Output FIN Lease Amort'!A852+1,\"\")","v":""},"","",{"$f":"IF(A853=\"\",\"\",$C$10/'Step 4. Classification'!$E$17)","v":""},"",null,"",{"$f":"IF(A853=\"\",\"\",G853*'Step 3. Lease Payments'!$G$8)","v":""},{"$f":"_xlfn.IFNA(IF(A853=\"\",\"\",(VLOOKUP(A853,'Step 3. Lease Payments'!B:G,6,))),\"0\")","v":""},""]
[{"$f":"IF(A853<'Step 4. Classification'!$E$17,'Output FIN Lease Amort'!A853+1,\"\")","v":""},"","",{"$f":"IF(A854=\"\",\"\",$C$10/'Step 4. Classification'!$E$17)","v":""},"",null,"",{"$f":"IF(A854=\"\",\"\",G854*'Step 3. Lease Payments'!$G$8)","v":""},{"$f":"_xlfn.IFNA(IF(A854=\"\",\"\",(VLOOKUP(A854,'Step 3. Lease Payments'!B:G,6,))),\"0\")","v":""},""]
[{"$f":"IF(A854<'Step 4. Classification'!$E$17,'Output FIN Lease Amort'!A854+1,\"\")","v":""},"","",{"$f":"IF(A855=\"\",\"\",$C$10/'Step 4. Classification'!$E$17)","v":""},"",null,"",{"$f":"IF(A855=\"\",\"\",G855*'Step 3. Lease Payments'!$G$8)","v":""},{"$f":"_xlfn.IFNA(IF(A855=\"\",\"\",(VLOOKUP(A855,'Step 3. Lease Payments'!B:G,6,))),\"0\")","v":""},""]
[{"$f":"IF(A855<'Step 4. Classification'!$E$17,'Output FIN Lease Amort'!A855+1,\"\")","v":""},"","",{"$f":"IF(A856=\"\",\"\",$C$10/'Step 4. Classification'!$E$17)","v":""},"",null,"",{"$f":"IF(A856=\"\",\"\",G856*'Step 3. Lease Payments'!$G$8)","v":""},{"$f":"_xlfn.IFNA(IF(A856=\"\",\"\",(VLOOKUP(A856,'Step 3. Lease Payments'!B:G,6,))),\"0\")","v":""},""]
[{"$f":"IF(A856<'Step 4. Classification'!$E$17,'Output FIN Lease Amort'!A856+1,\"\")","v":""},"","",{"$f":"IF(A857=\"\",\"\",$C$10/'Step 4. Classification'!$E$17)","v":""},"",null,"",{"$f":"IF(A857=\"\",\"\",G857*'Step 3. Lease Payments'!$G$8)","v":""},{"$f":"_xlfn.IFNA(IF(A857=\"\",\"\",(VLOOKUP(A857,'Step 3. Lease Payments'!B:G,6,))),\"0\")","v":""},""]
[{"$f":"IF(A857<'Step 4. Classification'!$E$17,'Output FIN Lease Amort'!A857+1,\"\")","v":""},"","",{"$f":"IF(A858=\"\",\"\",$C$10/'Step 4. Classification'!$E$17)","v":""},"",null,"",{"$f":"IF(A858=\"\",\"\",G858*'Step 3. Lease Payments'!$G$8)","v":""},{"$f":"_xlfn.IFNA(IF(A858=\"\",\"\",(VLOOKUP(A858,'Step 3. Lease Payments'!B:G,6,))),\"0\")","v":""},""]
[{"$f":"IF(A858<'Step 4. Classification'!$E$17,'Output FIN Lease Amort'!A858+1,\"\")","v":""},"","",{"$f":"IF(A859=\"\",\"\",$C$10/'Step 4. Classification'!$E$17)","v":""},"",null,"",{"$f":"IF(A859=\"\",\"\",G859*'Step 3. Lease Payments'!$G$8)","v":""},{"$f":"_xlfn.IFNA(IF(A859=\"\",\"\",(VLOOKUP(A859,'Step 3. Lease Payments'!B:G,6,))),\"0\")","v":""},""]
[{"$f":"IF(A859<'Step 4. Classification'!$E$17,'Output FIN Lease Amort'!A859+1,\"\")","v":""},"","",{"$f":"IF(A860=\"\",\"\",$C$10/'Step 4. Classification'!$E$17)","v":""},"",null,"",{"$f":"IF(A860=\"\",\"\",G860*'Step 3. Lease Payments'!$G$8)","v":""},{"$f":"_xlfn.IFNA(IF(A860=\"\",\"\",(VLOOKUP(A860,'Step 3. Lease Payments'!B:G,6,))),\"0\")","v":""},""]
[{"$f":"IF(A860<'Step 4. Classification'!$E$17,'Output FIN Lease Amort'!A860+1,\"\")","v":""},"","",{"$f":"IF(A861=\"\",\"\",$C$10/'Step 4. Classification'!$E$17)","v":""},"",null,"",{"$f":"IF(A861=\"\",\"\",G861*'Step 3. Lease Payments'!$G$8)","v":""},{"$f":"_xlfn.IFNA(IF(A861=\"\",\"\",(VLOOKUP(A861,'Step 3. Lease Payments'!B:G,6,))),\"0\")","v":""},""]
[{"$f":"IF(A861<'Step 4. Classification'!$E$17,'Output FIN Lease Amort'!A861+1,\"\")","v":""},"","",{"$f":"IF(A862=\"\",\"\",$C$10/'Step 4. Classification'!$E$17)","v":""},"",null,"",{"$f":"IF(A862=\"\",\"\",G862*'Step 3. Lease Payments'!$G$8)","v":""},{"$f":"_xlfn.IFNA(IF(A862=\"\",\"\",(VLOOKUP(A862,'Step 3. Lease Payments'!B:G,6,))),\"0\")","v":""},""]
[{"$f":"IF(A862<'Step 4. Classification'!$E$17,'Output FIN Lease Amort'!A862+1,\"\")","v":""},"","",{"$f":"IF(A863=\"\",\"\",$C$10/'Step 4. Classification'!$E$17)","v":""},"",null,"",{"$f":"IF(A863=\"\",\"\",G863*'Step 3. Lease Payments'!$G$8)","v":""},{"$f":"_xlfn.IFNA(IF(A863=\"\",\"\",(VLOOKUP(A863,'Step 3. Lease Payments'!B:G,6,))),\"0\")","v":""},""]
[{"$f":"IF(A863<'Step 4. Classification'!$E$17,'Output FIN Lease Amort'!A863+1,\"\")","v":""},"","",{"$f":"IF(A864=\"\",\"\",$C$10/'Step 4. Classification'!$E$17)","v":""},"",null,"",{"$f":"IF(A864=\"\",\"\",G864*'Step 3. Lease Payments'!$G$8)","v":""},{"$f":"_xlfn.IFNA(IF(A864=\"\",\"\",(VLOOKUP(A864,'Step 3. Lease Payments'!B:G,6,))),\"0\")","v":""},""]
[{"$f":"IF(A864<'Step 4. Classification'!$E$17,'Output FIN Lease Amort'!A864+1,\"\")","v":""},"","",{"$f":"IF(A865=\"\",\"\",$C$10/'Step 4. Classification'!$E$17)","v":""},"",null,"",{"$f":"IF(A865=\"\",\"\",G865*'Step 3. Lease Payments'!$G$8)","v":""},{"$f":"_xlfn.IFNA(IF(A865=\"\",\"\",(VLOOKUP(A865,'Step 3. Lease Payments'!B:G,6,))),\"0\")","v":""},""]
[{"$f":"IF(A865<'Step 4. Classification'!$E$17,'Output FIN Lease Amort'!A865+1,\"\")","v":""},"","",{"$f":"IF(A866=\"\",\"\",$C$10/'Step 4. Classification'!$E$17)","v":""},"",null,"",{"$f":"IF(A866=\"\",\"\",G866*'Step 3. Lease Payments'!$G$8)","v":""},{"$f":"_xlfn.IFNA(IF(A866=\"\",\"\",(VLOOKUP(A866,'Step 3. Lease Payments'!B:G,6,))),\"0\")","v":""},""]
[{"$f":"IF(A866<'Step 4. Classification'!$E$17,'Output FIN Lease Amort'!A866+1,\"\")","v":""},"","",{"$f":"IF(A867=\"\",\"\",$C$10/'Step 4. Classification'!$E$17)","v":""},"",null,"",{"$f":"IF(A867=\"\",\"\",G867*'Step 3. Lease Payments'!$G$8)","v":""},{"$f":"_xlfn.IFNA(IF(A867=\"\",\"\",(VLOOKUP(A867,'Step 3. Lease Payments'!B:G,6,))),\"0\")","v":""},""]
[{"$f":"IF(A867<'Step 4. Classification'!$E$17,'Output FIN Lease Amort'!A867+1,\"\")","v":""},"","",{"$f":"IF(A868=\"\",\"\",$C$10/'Step 4. Classification'!$E$17)","v":""},"",null,"",{"$f":"IF(A868=\"\",\"\",G868*'Step 3. Lease Payments'!$G$8)","v":""},{"$f":"_xlfn.IFNA(IF(A868=\"\",\"\",(VLOOKUP(A868,'Step 3. Lease Payments'!B:G,6,))),\"0\")","v":""},""]
[{"$f":"IF(A868<'Step 4. Classification'!$E$17,'Output FIN Lease Amort'!A868+1,\"\")","v":""},"","",{"$f":"IF(A869=\"\",\"\",$C$10/'Step 4. Classification'!$E$17)","v":""},"",null,"",{"$f":"IF(A869=\"\",\"\",G869*'Step 3. Lease Payments'!$G$8)","v":""},{"$f":"_xlfn.IFNA(IF(A869=\"\",\"\",(VLOOKUP(A869,'Step 3. Lease Payments'!B:G,6,))),\"0\")","v":""},""]
[{"$f":"IF(A869<'Step 4. Classification'!$E$17,'Output FIN Lease Amort'!A869+1,\"\")","v":""},"","",{"$f":"IF(A870=\"\",\"\",$C$10/'Step 4. Classification'!$E$17)","v":""},"",null,"",{"$f":"IF(A870=\"\",\"\",G870*'Step 3. Lease Payments'!$G$8)","v":""},{"$f":"_xlfn.IFNA(IF(A870=\"\",\"\",(VLOOKUP(A870,'Step 3. Lease Payments'!B:G,6,))),\"0\")","v":""},""]
[{"$f":"IF(A870<'Step 4. Classification'!$E$17,'Output FIN Lease Amort'!A870+1,\"\")","v":""},"","",{"$f":"IF(A871=\"\",\"\",$C$10/'Step 4. Classification'!$E$17)","v":""},"",null,"",{"$f":"IF(A871=\"\",\"\",G871*'Step 3. Lease Payments'!$G$8)","v":""},{"$f":"_xlfn.IFNA(IF(A871=\"\",\"\",(VLOOKUP(A871,'Step 3. Lease Payments'!B:G,6,))),\"0\")","v":""},""]
[{"$f":"IF(A871<'Step 4. Classification'!$E$17,'Output FIN Lease Amort'!A871+1,\"\")","v":""},"","",{"$f":"IF(A872=\"\",\"\",$C$10/'Step 4. Classification'!$E$17)","v":""},"",null,"",{"$f":"IF(A872=\"\",\"\",G872*'Step 3. Lease Payments'!$G$8)","v":""},{"$f":"_xlfn.IFNA(IF(A872=\"\",\"\",(VLOOKUP(A872,'Step 3. Lease Payments'!B:G,6,))),\"0\")","v":""},""]
[{"$f":"IF(A872<'Step 4. Classification'!$E$17,'Output FIN Lease Amort'!A872+1,\"\")","v":""},"","",{"$f":"IF(A873=\"\",\"\",$C$10/'Step 4. Classification'!$E$17)","v":""},"",null,"",{"$f":"IF(A873=\"\",\"\",G873*'Step 3. Lease Payments'!$G$8)","v":""},{"$f":"_xlfn.IFNA(IF(A873=\"\",\"\",(VLOOKUP(A873,'Step 3. Lease Payments'!B:G,6,))),\"0\")","v":""},""]
[{"$f":"IF(A873<'Step 4. Classification'!$E$17,'Output FIN Lease Amort'!A873+1,\"\")","v":""},"","",{"$f":"IF(A874=\"\",\"\",$C$10/'Step 4. Classification'!$E$17)","v":""},"",null,"",{"$f":"IF(A874=\"\",\"\",G874*'Step 3. Lease Payments'!$G$8)","v":""},{"$f":"_xlfn.IFNA(IF(A874=\"\",\"\",(VLOOKUP(A874,'Step 3. Lease Payments'!B:G,6,))),\"0\")","v":""},""]
[{"$f":"IF(A874<'Step 4. Classification'!$E$17,'Output FIN Lease Amort'!A874+1,\"\")","v":""},"","",{"$f":"IF(A875=\"\",\"\",$C$10/'Step 4. Classification'!$E$17)","v":""},"",null,"",{"$f":"IF(A875=\"\",\"\",G875*'Step 3. Lease Payments'!$G$8)","v":""},{"$f":"_xlfn.IFNA(IF(A875=\"\",\"\",(VLOOKUP(A875,'Step 3. Lease Payments'!B:G,6,))),\"0\")","v":""},""]
[{"$f":"IF(A875<'Step 4. Classification'!$E$17,'Output FIN Lease Amort'!A875+1,\"\")","v":""},"","",{"$f":"IF(A876=\"\",\"\",$C$10/'Step 4. Classification'!$E$17)","v":""},"",null,"",{"$f":"IF(A876=\"\",\"\",G876*'Step 3. Lease Payments'!$G$8)","v":""},{"$f":"_xlfn.IFNA(IF(A876=\"\",\"\",(VLOOKUP(A876,'Step 3. Lease Payments'!B:G,6,))),\"0\")","v":""},""]
[{"$f":"IF(A876<'Step 4. Classification'!$E$17,'Output FIN Lease Amort'!A876+1,\"\")","v":""},"","",{"$f":"IF(A877=\"\",\"\",$C$10/'Step 4. Classification'!$E$17)","v":""},"",null,"",{"$f":"IF(A877=\"\",\"\",G877*'Step 3. Lease Payments'!$G$8)","v":""},{"$f":"_xlfn.IFNA(IF(A877=\"\",\"\",(VLOOKUP(A877,'Step 3. Lease Payments'!B:G,6,))),\"0\")","v":""},""]
[{"$f":"IF(A877<'Step 4. Classification'!$E$17,'Output FIN Lease Amort'!A877+1,\"\")","v":""},"","",{"$f":"IF(A878=\"\",\"\",$C$10/'Step 4. Classification'!$E$17)","v":""},"",null,"",{"$f":"IF(A878=\"\",\"\",G878*'Step 3. Lease Payments'!$G$8)","v":""},{"$f":"_xlfn.IFNA(IF(A878=\"\",\"\",(VLOOKUP(A878,'Step 3. Lease Payments'!B:G,6,))),\"0\")","v":""},""]
[{"$f":"IF(A878<'Step 4. Classification'!$E$17,'Output FIN Lease Amort'!A878+1,\"\")","v":""},"","",{"$f":"IF(A879=\"\",\"\",$C$10/'Step 4. Classification'!$E$17)","v":""},"",null,"",{"$f":"IF(A879=\"\",\"\",G879*'Step 3. Lease Payments'!$G$8)","v":""},{"$f":"_xlfn.IFNA(IF(A879=\"\",\"\",(VLOOKUP(A879,'Step 3. Lease Payments'!B:G,6,))),\"0\")","v":""},""]
[{"$f":"IF(A879<'Step 4. Classification'!$E$17,'Output FIN Lease Amort'!A879+1,\"\")","v":""},"","",{"$f":"IF(A880=\"\",\"\",$C$10/'Step 4. Classification'!$E$17)","v":""},"",null,"",{"$f":"IF(A880=\"\",\"\",G880*'Step 3. Lease Payments'!$G$8)","v":""},{"$f":"_xlfn.IFNA(IF(A880=\"\",\"\",(VLOOKUP(A880,'Step 3. Lease Payments'!B:G,6,))),\"0\")","v":""},""]
[{"$f":"IF(A880<'Step 4. Classification'!$E$17,'Output FIN Lease Amort'!A880+1,\"\")","v":""},"","",{"$f":"IF(A881=\"\",\"\",$C$10/'Step 4. Classification'!$E$17)","v":""},"",null,"",{"$f":"IF(A881=\"\",\"\",G881*'Step 3. Lease Payments'!$G$8)","v":""},{"$f":"_xlfn.IFNA(IF(A881=\"\",\"\",(VLOOKUP(A881,'Step 3. Lease Payments'!B:G,6,))),\"0\")","v":""},""]
[{"$f":"IF(A881<'Step 4. Classification'!$E$17,'Output FIN Lease Amort'!A881+1,\"\")","v":""},"","",{"$f":"IF(A882=\"\",\"\",$C$10/'Step 4. Classification'!$E$17)","v":""},"",null,"",{"$f":"IF(A882=\"\",\"\",G882*'Step 3. Lease Payments'!$G$8)","v":""},{"$f":"_xlfn.IFNA(IF(A882=\"\",\"\",(VLOOKUP(A882,'Step 3. Lease Payments'!B:G,6,))),\"0\")","v":""},""]
[{"$f":"IF(A882<'Step 4. Classification'!$E$17,'Output FIN Lease Amort'!A882+1,\"\")","v":""},"","",{"$f":"IF(A883=\"\",\"\",$C$10/'Step 4. Classification'!$E$17)","v":""},"",null,"",{"$f":"IF(A883=\"\",\"\",G883*'Step 3. Lease Payments'!$G$8)","v":""},{"$f":"_xlfn.IFNA(IF(A883=\"\",\"\",(VLOOKUP(A883,'Step 3. Lease Payments'!B:G,6,))),\"0\")","v":""},""]
[{"$f":"IF(A883<'Step 4. Classification'!$E$17,'Output FIN Lease Amort'!A883+1,\"\")","v":""},"","",{"$f":"IF(A884=\"\",\"\",$C$10/'Step 4. Classification'!$E$17)","v":""},"",null,"",{"$f":"IF(A884=\"\",\"\",G884*'Step 3. Lease Payments'!$G$8)","v":""},{"$f":"_xlfn.IFNA(IF(A884=\"\",\"\",(VLOOKUP(A884,'Step 3. Lease Payments'!B:G,6,))),\"0\")","v":""},""]
[{"$f":"IF(A884<'Step 4. Classification'!$E$17,'Output FIN Lease Amort'!A884+1,\"\")","v":""},"","",{"$f":"IF(A885=\"\",\"\",$C$10/'Step 4. Classification'!$E$17)","v":""},"",null,"",{"$f":"IF(A885=\"\",\"\",G885*'Step 3. Lease Payments'!$G$8)","v":""},{"$f":"_xlfn.IFNA(IF(A885=\"\",\"\",(VLOOKUP(A885,'Step 3. Lease Payments'!B:G,6,))),\"0\")","v":""},""]
[{"$f":"IF(A885<'Step 4. Classification'!$E$17,'Output FIN Lease Amort'!A885+1,\"\")","v":""},"","",{"$f":"IF(A886=\"\",\"\",$C$10/'Step 4. Classification'!$E$17)","v":""},"",null,"",{"$f":"IF(A886=\"\",\"\",G886*'Step 3. Lease Payments'!$G$8)","v":""},{"$f":"_xlfn.IFNA(IF(A886=\"\",\"\",(VLOOKUP(A886,'Step 3. Lease Payments'!B:G,6,))),\"0\")","v":""},""]
[{"$f":"IF(A886<'Step 4. Classification'!$E$17,'Output FIN Lease Amort'!A886+1,\"\")","v":""},"","",{"$f":"IF(A887=\"\",\"\",$C$10/'Step 4. Classification'!$E$17)","v":""},"",null,"",{"$f":"IF(A887=\"\",\"\",G887*'Step 3. Lease Payments'!$G$8)","v":""},{"$f":"_xlfn.IFNA(IF(A887=\"\",\"\",(VLOOKUP(A887,'Step 3. Lease Payments'!B:G,6,))),\"0\")","v":""},""]
[{"$f":"IF(A887<'Step 4. Classification'!$E$17,'Output FIN Lease Amort'!A887+1,\"\")","v":""},"","",{"$f":"IF(A888=\"\",\"\",$C$10/'Step 4. Classification'!$E$17)","v":""},"",null,"",{"$f":"IF(A888=\"\",\"\",G888*'Step 3. Lease Payments'!$G$8)","v":""},{"$f":"_xlfn.IFNA(IF(A888=\"\",\"\",(VLOOKUP(A888,'Step 3. Lease Payments'!B:G,6,))),\"0\")","v":""},""]
[{"$f":"IF(A888<'Step 4. Classification'!$E$17,'Output FIN Lease Amort'!A888+1,\"\")","v":""},"","",{"$f":"IF(A889=\"\",\"\",$C$10/'Step 4. Classification'!$E$17)","v":""},"",null,"",{"$f":"IF(A889=\"\",\"\",G889*'Step 3. Lease Payments'!$G$8)","v":""},{"$f":"_xlfn.IFNA(IF(A889=\"\",\"\",(VLOOKUP(A889,'Step 3. Lease Payments'!B:G,6,))),\"0\")","v":""},""]
[{"$f":"IF(A889<'Step 4. Classification'!$E$17,'Output FIN Lease Amort'!A889+1,\"\")","v":""},"","",{"$f":"IF(A890=\"\",\"\",$C$10/'Step 4. Classification'!$E$17)","v":""},"",null,"",{"$f":"IF(A890=\"\",\"\",G890*'Step 3. Lease Payments'!$G$8)","v":""},{"$f":"_xlfn.IFNA(IF(A890=\"\",\"\",(VLOOKUP(A890,'Step 3. Lease Payments'!B:G,6,))),\"0\")","v":""},""]
[{"$f":"IF(A890<'Step 4. Classification'!$E$17,'Output FIN Lease Amort'!A890+1,\"\")","v":""},"","",{"$f":"IF(A891=\"\",\"\",$C$10/'Step 4. Classification'!$E$17)","v":""},"",null,"",{"$f":"IF(A891=\"\",\"\",G891*'Step 3. Lease Payments'!$G$8)","v":""},{"$f":"_xlfn.IFNA(IF(A891=\"\",\"\",(VLOOKUP(A891,'Step 3. Lease Payments'!B:G,6,))),\"0\")","v":""},""]
[{"$f":"IF(A891<'Step 4. Classification'!$E$17,'Output FIN Lease Amort'!A891+1,\"\")","v":""},"","",{"$f":"IF(A892=\"\",\"\",$C$10/'Step 4. Classification'!$E$17)","v":""},"",null,"",{"$f":"IF(A892=\"\",\"\",G892*'Step 3. Lease Payments'!$G$8)","v":""},{"$f":"_xlfn.IFNA(IF(A892=\"\",\"\",(VLOOKUP(A892,'Step 3. Lease Payments'!B:G,6,))),\"0\")","v":""},""]
[{"$f":"IF(A892<'Step 4. Classification'!$E$17,'Output FIN Lease Amort'!A892+1,\"\")","v":""},"","",{"$f":"IF(A893=\"\",\"\",$C$10/'Step 4. Classification'!$E$17)","v":""},"",null,"",{"$f":"IF(A893=\"\",\"\",G893*'Step 3. Lease Payments'!$G$8)","v":""},{"$f":"_xlfn.IFNA(IF(A893=\"\",\"\",(VLOOKUP(A893,'Step 3. Lease Payments'!B:G,6,))),\"0\")","v":""},""]
[{"$f":"IF(A893<'Step 4. Classification'!$E$17,'Output FIN Lease Amort'!A893+1,\"\")","v":""},"","",{"$f":"IF(A894=\"\",\"\",$C$10/'Step 4. Classification'!$E$17)","v":""},"",null,"",{"$f":"IF(A894=\"\",\"\",G894*'Step 3. Lease Payments'!$G$8)","v":""},{"$f":"_xlfn.IFNA(IF(A894=\"\",\"\",(VLOOKUP(A894,'Step 3. Lease Payments'!B:G,6,))),\"0\")","v":""},""]
[{"$f":"IF(A894<'Step 4. Classification'!$E$17,'Output FIN Lease Amort'!A894+1,\"\")","v":""},"","",{"$f":"IF(A895=\"\",\"\",$C$10/'Step 4. Classification'!$E$17)","v":""},"",null,"",{"$f":"IF(A895=\"\",\"\",G895*'Step 3. Lease Payments'!$G$8)","v":""},{"$f":"_xlfn.IFNA(IF(A895=\"\",\"\",(VLOOKUP(A895,'Step 3. Lease Payments'!B:G,6,))),\"0\")","v":""},""]
[{"$f":"IF(A895<'Step 4. Classification'!$E$17,'Output FIN Lease Amort'!A895+1,\"\")","v":""},"","",{"$f":"IF(A896=\"\",\"\",$C$10/'Step 4. Classification'!$E$17)","v":""},"",null,"",{"$f":"IF(A896=\"\",\"\",G896*'Step 3. Lease Payments'!$G$8)","v":""},{"$f":"_xlfn.IFNA(IF(A896=\"\",\"\",(VLOOKUP(A896,'Step 3. Lease Payments'!B:G,6,))),\"0\")","v":""},""]
[{"$f":"IF(A896<'Step 4. Classification'!$E$17,'Output FIN Lease Amort'!A896+1,\"\")","v":""},"","",{"$f":"IF(A897=\"\",\"\",$C$10/'Step 4. Classification'!$E$17)","v":""},"",null,"",{"$f":"IF(A897=\"\",\"\",G897*'Step 3. Lease Payments'!$G$8)","v":""},{"$f":"_xlfn.IFNA(IF(A897=\"\",\"\",(VLOOKUP(A897,'Step 3. Lease Payments'!B:G,6,))),\"0\")","v":""},""]
[{"$f":"IF(A897<'Step 4. Classification'!$E$17,'Output FIN Lease Amort'!A897+1,\"\")","v":""},"","",{"$f":"IF(A898=\"\",\"\",$C$10/'Step 4. Classification'!$E$17)","v":""},"",null,"",{"$f":"IF(A898=\"\",\"\",G898*'Step 3. Lease Payments'!$G$8)","v":""},{"$f":"_xlfn.IFNA(IF(A898=\"\",\"\",(VLOOKUP(A898,'Step 3. Lease Payments'!B:G,6,))),\"0\")","v":""},""]
[{"$f":"IF(A898<'Step 4. Classification'!$E$17,'Output FIN Lease Amort'!A898+1,\"\")","v":""},"","",{"$f":"IF(A899=\"\",\"\",$C$10/'Step 4. Classification'!$E$17)","v":""},"",null,"",{"$f":"IF(A899=\"\",\"\",G899*'Step 3. Lease Payments'!$G$8)","v":""},{"$f":"_xlfn.IFNA(IF(A899=\"\",\"\",(VLOOKUP(A899,'Step 3. Lease Payments'!B:G,6,))),\"0\")","v":""},""]
[{"$f":"IF(A899<'Step 4. Classification'!$E$17,'Output FIN Lease Amort'!A899+1,\"\")","v":""},"","",{"$f":"IF(A900=\"\",\"\",$C$10/'Step 4. Classification'!$E$17)","v":""},"",null,"",{"$f":"IF(A900=\"\",\"\",G900*'Step 3. Lease Payments'!$G$8)","v":""},{"$f":"_xlfn.IFNA(IF(A900=\"\",\"\",(VLOOKUP(A900,'Step 3. Lease Payments'!B:G,6,))),\"0\")","v":""},""]
[{"$f":"IF(A900<'Step 4. Classification'!$E$17,'Output FIN Lease Amort'!A900+1,\"\")","v":""},"","",{"$f":"IF(A901=\"\",\"\",$C$10/'Step 4. Classification'!$E$17)","v":""},"",null,"",{"$f":"IF(A901=\"\",\"\",G901*'Step 3. Lease Payments'!$G$8)","v":""},{"$f":"_xlfn.IFNA(IF(A901=\"\",\"\",(VLOOKUP(A901,'Step 3. Lease Payments'!B:G,6,))),\"0\")","v":""},""]
[{"$f":"IF(A901<'Step 4. Classification'!$E$17,'Output FIN Lease Amort'!A901+1,\"\")","v":""},"","",{"$f":"IF(A902=\"\",\"\",$C$10/'Step 4. Classification'!$E$17)","v":""},"",null,"",{"$f":"IF(A902=\"\",\"\",G902*'Step 3. Lease Payments'!$G$8)","v":""},{"$f":"_xlfn.IFNA(IF(A902=\"\",\"\",(VLOOKUP(A902,'Step 3. Lease Payments'!B:G,6,))),\"0\")","v":""},""]
[{"$f":"IF(A902<'Step 4. Classification'!$E$17,'Output FIN Lease Amort'!A902+1,\"\")","v":""},"","",{"$f":"IF(A903=\"\",\"\",$C$10/'Step 4. Classification'!$E$17)","v":""},"",null,"",{"$f":"IF(A903=\"\",\"\",G903*'Step 3. Lease Payments'!$G$8)","v":""},{"$f":"_xlfn.IFNA(IF(A903=\"\",\"\",(VLOOKUP(A903,'Step 3. Lease Payments'!B:G,6,))),\"0\")","v":""},""]
[{"$f":"IF(A903<'Step 4. Classification'!$E$17,'Output FIN Lease Amort'!A903+1,\"\")","v":""},"","",{"$f":"IF(A904=\"\",\"\",$C$10/'Step 4. Classification'!$E$17)","v":""},"",null,"",{"$f":"IF(A904=\"\",\"\",G904*'Step 3. Lease Payments'!$G$8)","v":""},{"$f":"_xlfn.IFNA(IF(A904=\"\",\"\",(VLOOKUP(A904,'Step 3. Lease Payments'!B:G,6,))),\"0\")","v":""},""]
[{"$f":"IF(A904<'Step 4. Classification'!$E$17,'Output FIN Lease Amort'!A904+1,\"\")","v":""},"","",{"$f":"IF(A905=\"\",\"\",$C$10/'Step 4. Classification'!$E$17)","v":""},"",null,"",{"$f":"IF(A905=\"\",\"\",G905*'Step 3. Lease Payments'!$G$8)","v":""},{"$f":"_xlfn.IFNA(IF(A905=\"\",\"\",(VLOOKUP(A905,'Step 3. Lease Payments'!B:G,6,))),\"0\")","v":""},""]
[{"$f":"IF(A905<'Step 4. Classification'!$E$17,'Output FIN Lease Amort'!A905+1,\"\")","v":""},"","",{"$f":"IF(A906=\"\",\"\",$C$10/'Step 4. Classification'!$E$17)","v":""},"",null,"",{"$f":"IF(A906=\"\",\"\",G906*'Step 3. Lease Payments'!$G$8)","v":""},{"$f":"_xlfn.IFNA(IF(A906=\"\",\"\",(VLOOKUP(A906,'Step 3. Lease Payments'!B:G,6,))),\"0\")","v":""},""]
[{"$f":"IF(A906<'Step 4. Classification'!$E$17,'Output FIN Lease Amort'!A906+1,\"\")","v":""},{"$f":"IF(A907=\"\",\"\",(DATE(YEAR(B906),MONTH(B906)+1,DAY(B906))))","v":""},{"$f":"IF(A907=\"\",\"\",E906)","v":""},{"$f":"IF(A907=\"\",\"\",$C$10/'Step 4. Classification'!$E$17)","v":""},{"$f":"IF(A907=\"\",\"\",C907-D907)","v":""},null,{"$f":"IF(A907=\"\",\"\",J906)","v":""},{"$f":"IF(A907=\"\",\"\",G907*'Step 3. Lease Payments'!$G$8)","v":""},{"$f":"_xlfn.IFNA(IF(A907=\"\",\"\",(VLOOKUP(A907,'Step 3. Lease Payments'!B:G,6,))),\"0\")","v":""},{"$f":"IF(A907=\"\",\"\",G907-I907+H907)","v":""}]
[{"$f":"IF(A907<'Step 4. Classification'!$E$17,'Output FIN Lease Amort'!A907+1,\"\")","v":""},"","",{"$f":"IF(A908=\"\",\"\",$C$10/'Step 4. Classification'!$E$17)","v":""},"",null,"",{"$f":"IF(A908=\"\",\"\",G908*'Step 3. Lease Payments'!$G$8)","v":""},{"$f":"_xlfn.IFNA(IF(A908=\"\",\"\",(VLOOKUP(A908,'Step 3. Lease Payments'!B:G,6,))),\"0\")","v":""},""]
[{"$f":"IF(A908<'Step 4. Classification'!$E$17,'Output FIN Lease Amort'!A908+1,\"\")","v":""},"","",{"$f":"IF(A909=\"\",\"\",$C$10/'Step 4. Classification'!$E$17)","v":""},"",null,"",{"$f":"IF(A909=\"\",\"\",G909*'Step 3. Lease Payments'!$G$8)","v":""},{"$f":"_xlfn.IFNA(IF(A909=\"\",\"\",(VLOOKUP(A909,'Step 3. Lease Payments'!B:G,6,))),\"0\")","v":""},""]
[{"$f":"IF(A909<'Step 4. Classification'!$E$17,'Output FIN Lease Amort'!A909+1,\"\")","v":""},"","",{"$f":"IF(A910=\"\",\"\",$C$10/'Step 4. Classification'!$E$17)","v":""},"",null,"",{"$f":"IF(A910=\"\",\"\",G910*'Step 3. Lease Payments'!$G$8)","v":""},{"$f":"_xlfn.IFNA(IF(A910=\"\",\"\",(VLOOKUP(A910,'Step 3. Lease Payments'!B:G,6,))),\"0\")","v":""},""]
[{"$f":"IF(A910<'Step 4. Classification'!$E$17,'Output FIN Lease Amort'!A910+1,\"\")","v":""},"","",{"$f":"IF(A911=\"\",\"\",$C$10/'Step 4. Classification'!$E$17)","v":""},"",null,"",{"$f":"IF(A911=\"\",\"\",G911*'Step 3. Lease Payments'!$G$8)","v":""},{"$f":"_xlfn.IFNA(IF(A911=\"\",\"\",(VLOOKUP(A911,'Step 3. Lease Payments'!B:G,6,))),\"0\")","v":""},""]
[{"$f":"IF(A911<'Step 4. Classification'!$E$17,'Output FIN Lease Amort'!A911+1,\"\")","v":""},"","",{"$f":"IF(A912=\"\",\"\",$C$10/'Step 4. Classification'!$E$17)","v":""},"",null,"",{"$f":"IF(A912=\"\",\"\",G912*'Step 3. Lease Payments'!$G$8)","v":""},{"$f":"_xlfn.IFNA(IF(A912=\"\",\"\",(VLOOKUP(A912,'Step 3. Lease Payments'!B:G,6,))),\"0\")","v":""},""]
[{"$f":"IF(A912<'Step 4. Classification'!$E$17,'Output FIN Lease Amort'!A912+1,\"\")","v":""},"","",{"$f":"IF(A913=\"\",\"\",$C$10/'Step 4. Classification'!$E$17)","v":""},"",null,"",{"$f":"IF(A913=\"\",\"\",G913*'Step 3. Lease Payments'!$G$8)","v":""},{"$f":"_xlfn.IFNA(IF(A913=\"\",\"\",(VLOOKUP(A913,'Step 3. Lease Payments'!B:G,6,))),\"0\")","v":""},""]
[{"$f":"IF(A913<'Step 4. Classification'!$E$17,'Output FIN Lease Amort'!A913+1,\"\")","v":""},"","",{"$f":"IF(A914=\"\",\"\",$C$10/'Step 4. Classification'!$E$17)","v":""},"",null,"",{"$f":"IF(A914=\"\",\"\",G914*'Step 3. Lease Payments'!$G$8)","v":""},{"$f":"_xlfn.IFNA(IF(A914=\"\",\"\",(VLOOKUP(A914,'Step 3. Lease Payments'!B:G,6,))),\"0\")","v":""},""]
[{"$f":"IF(A914<'Step 4. Classification'!$E$17,'Output FIN Lease Amort'!A914+1,\"\")","v":""},"","",{"$f":"IF(A915=\"\",\"\",$C$10/'Step 4. Classification'!$E$17)","v":""},"",null,"",{"$f":"IF(A915=\"\",\"\",G915*'Step 3. Lease Payments'!$G$8)","v":""},{"$f":"_xlfn.IFNA(IF(A915=\"\",\"\",(VLOOKUP(A915,'Step 3. Lease Payments'!B:G,6,))),\"0\")","v":""},""]
[{"$f":"IF(A915<'Step 4. Classification'!$E$17,'Output FIN Lease Amort'!A915+1,\"\")","v":""},"","",{"$f":"IF(A916=\"\",\"\",$C$10/'Step 4. Classification'!$E$17)","v":""},"",null,"",{"$f":"IF(A916=\"\",\"\",G916*'Step 3. Lease Payments'!$G$8)","v":""},{"$f":"_xlfn.IFNA(IF(A916=\"\",\"\",(VLOOKUP(A916,'Step 3. Lease Payments'!B:G,6,))),\"0\")","v":""},""]
[{"$f":"IF(A916<'Step 4. Classification'!$E$17,'Output FIN Lease Amort'!A916+1,\"\")","v":""},"","",{"$f":"IF(A917=\"\",\"\",$C$10/'Step 4. Classification'!$E$17)","v":""},"",null,"",{"$f":"IF(A917=\"\",\"\",G917*'Step 3. Lease Payments'!$G$8)","v":""},{"$f":"_xlfn.IFNA(IF(A917=\"\",\"\",(VLOOKUP(A917,'Step 3. Lease Payments'!B:G,6,))),\"0\")","v":""},""]
[{"$f":"IF(A917<'Step 4. Classification'!$E$17,'Output FIN Lease Amort'!A917+1,\"\")","v":""},"","",{"$f":"IF(A918=\"\",\"\",$C$10/'Step 4. Classification'!$E$17)","v":""},"",null,"",{"$f":"IF(A918=\"\",\"\",G918*'Step 3. Lease Payments'!$G$8)","v":""},{"$f":"_xlfn.IFNA(IF(A918=\"\",\"\",(VLOOKUP(A918,'Step 3. Lease Payments'!B:G,6,))),\"0\")","v":""},""]
[{"$f":"IF(A918<'Step 4. Classification'!$E$17,'Output FIN Lease Amort'!A918+1,\"\")","v":""},"","",{"$f":"IF(A919=\"\",\"\",$C$10/'Step 4. Classification'!$E$17)","v":""},"",null,"",{"$f":"IF(A919=\"\",\"\",G919*'Step 3. Lease Payments'!$G$8)","v":""},{"$f":"_xlfn.IFNA(IF(A919=\"\",\"\",(VLOOKUP(A919,'Step 3. Lease Payments'!B:G,6,))),\"0\")","v":""},""]
[{"$f":"IF(A919<'Step 4. Classification'!$E$17,'Output FIN Lease Amort'!A919+1,\"\")","v":""},"","",{"$f":"IF(A920=\"\",\"\",$C$10/'Step 4. Classification'!$E$17)","v":""},"",null,"",{"$f":"IF(A920=\"\",\"\",G920*'Step 3. Lease Payments'!$G$8)","v":""},{"$f":"_xlfn.IFNA(IF(A920=\"\",\"\",(VLOOKUP(A920,'Step 3. Lease Payments'!B:G,6,))),\"0\")","v":""},""]
[{"$f":"IF(A920<'Step 4. Classification'!$E$17,'Output FIN Lease Amort'!A920+1,\"\")","v":""},"","",{"$f":"IF(A921=\"\",\"\",$C$10/'Step 4. Classification'!$E$17)","v":""},"",null,"",{"$f":"IF(A921=\"\",\"\",G921*'Step 3. Lease Payments'!$G$8)","v":""},{"$f":"_xlfn.IFNA(IF(A921=\"\",\"\",(VLOOKUP(A921,'Step 3. Lease Payments'!B:G,6,))),\"0\")","v":""},""]
[{"$f":"IF(A921<'Step 4. Classification'!$E$17,'Output FIN Lease Amort'!A921+1,\"\")","v":""},"","",{"$f":"IF(A922=\"\",\"\",$C$10/'Step 4. Classification'!$E$17)","v":""},"",null,"",{"$f":"IF(A922=\"\",\"\",G922*'Step 3. Lease Payments'!$G$8)","v":""},{"$f":"_xlfn.IFNA(IF(A922=\"\",\"\",(VLOOKUP(A922,'Step 3. Lease Payments'!B:G,6,))),\"0\")","v":""},""]
[{"$f":"IF(A922<'Step 4. Classification'!$E$17,'Output FIN Lease Amort'!A922+1,\"\")","v":""},"","",{"$f":"IF(A923=\"\",\"\",$C$10/'Step 4. Classification'!$E$17)","v":""},"",null,"",{"$f":"IF(A923=\"\",\"\",G923*'Step 3. Lease Payments'!$G$8)","v":""},{"$f":"_xlfn.IFNA(IF(A923=\"\",\"\",(VLOOKUP(A923,'Step 3. Lease Payments'!B:G,6,))),\"0\")","v":""},""]
[{"$f":"IF(A923<'Step 4. Classification'!$E$17,'Output FIN Lease Amort'!A923+1,\"\")","v":""},"","",{"$f":"IF(A924=\"\",\"\",$C$10/'Step 4. Classification'!$E$17)","v":""},"",null,"",{"$f":"IF(A924=\"\",\"\",G924*'Step 3. Lease Payments'!$G$8)","v":""},{"$f":"_xlfn.IFNA(IF(A924=\"\",\"\",(VLOOKUP(A924,'Step 3. Lease Payments'!B:G,6,))),\"0\")","v":""},""]
[{"$f":"IF(A924<'Step 4. Classification'!$E$17,'Output FIN Lease Amort'!A924+1,\"\")","v":""},"","",{"$f":"IF(A925=\"\",\"\",$C$10/'Step 4. Classification'!$E$17)","v":""},"",null,"",{"$f":"IF(A925=\"\",\"\",G925*'Step 3. Lease Payments'!$G$8)","v":""},{"$f":"_xlfn.IFNA(IF(A925=\"\",\"\",(VLOOKUP(A925,'Step 3. Lease Payments'!B:G,6,))),\"0\")","v":""},""]
[{"$f":"IF(A925<'Step 4. Classification'!$E$17,'Output FIN Lease Amort'!A925+1,\"\")","v":""},"","",{"$f":"IF(A926=\"\",\"\",$C$10/'Step 4. Classification'!$E$17)","v":""},"",null,"",{"$f":"IF(A926=\"\",\"\",G926*'Step 3. Lease Payments'!$G$8)","v":""},{"$f":"_xlfn.IFNA(IF(A926=\"\",\"\",(VLOOKUP(A926,'Step 3. Lease Payments'!B:G,6,))),\"0\")","v":""},""]
[{"$f":"IF(A926<'Step 4. Classification'!$E$17,'Output FIN Lease Amort'!A926+1,\"\")","v":""},"","",{"$f":"IF(A927=\"\",\"\",$C$10/'Step 4. Classification'!$E$17)","v":""},"",null,"",{"$f":"IF(A927=\"\",\"\",G927*'Step 3. Lease Payments'!$G$8)","v":""},{"$f":"_xlfn.IFNA(IF(A927=\"\",\"\",(VLOOKUP(A927,'Step 3. Lease Payments'!B:G,6,))),\"0\")","v":""},""]
[{"$f":"IF(A927<'Step 4. Classification'!$E$17,'Output FIN Lease Amort'!A927+1,\"\")","v":""},"","",{"$f":"IF(A928=\"\",\"\",$C$10/'Step 4. Classification'!$E$17)","v":""},"",null,"",{"$f":"IF(A928=\"\",\"\",G928*'Step 3. Lease Payments'!$G$8)","v":""},{"$f":"_xlfn.IFNA(IF(A928=\"\",\"\",(VLOOKUP(A928,'Step 3. Lease Payments'!B:G,6,))),\"0\")","v":""},""]
[{"$f":"IF(A928<'Step 4. Classification'!$E$17,'Output FIN Lease Amort'!A928+1,\"\")","v":""},"","",{"$f":"IF(A929=\"\",\"\",$C$10/'Step 4. Classification'!$E$17)","v":""},"",null,"",{"$f":"IF(A929=\"\",\"\",G929*'Step 3. Lease Payments'!$G$8)","v":""},{"$f":"_xlfn.IFNA(IF(A929=\"\",\"\",(VLOOKUP(A929,'Step 3. Lease Payments'!B:G,6,))),\"0\")","v":""},""]
[{"$f":"IF(A929<'Step 4. Classification'!$E$17,'Output FIN Lease Amort'!A929+1,\"\")","v":""},"","",{"$f":"IF(A930=\"\",\"\",$C$10/'Step 4. Classification'!$E$17)","v":""},"",null,"",{"$f":"IF(A930=\"\",\"\",G930*'Step 3. Lease Payments'!$G$8)","v":""},{"$f":"_xlfn.IFNA(IF(A930=\"\",\"\",(VLOOKUP(A930,'Step 3. Lease Payments'!B:G,6,))),\"0\")","v":""},""]
[{"$f":"IF(A930<'Step 4. Classification'!$E$17,'Output FIN Lease Amort'!A930+1,\"\")","v":""},"","",{"$f":"IF(A931=\"\",\"\",$C$10/'Step 4. Classification'!$E$17)","v":""},"",null,"",{"$f":"IF(A931=\"\",\"\",G931*'Step 3. Lease Payments'!$G$8)","v":""},{"$f":"_xlfn.IFNA(IF(A931=\"\",\"\",(VLOOKUP(A931,'Step 3. Lease Payments'!B:G,6,))),\"0\")","v":""},""]
[{"$f":"IF(A931<'Step 4. Classification'!$E$17,'Output FIN Lease Amort'!A931+1,\"\")","v":""},"","",{"$f":"IF(A932=\"\",\"\",$C$10/'Step 4. Classification'!$E$17)","v":""},"",null,"",{"$f":"IF(A932=\"\",\"\",G932*'Step 3. Lease Payments'!$G$8)","v":""},{"$f":"_xlfn.IFNA(IF(A932=\"\",\"\",(VLOOKUP(A932,'Step 3. Lease Payments'!B:G,6,))),\"0\")","v":""},""]
[{"$f":"IF(A932<'Step 4. Classification'!$E$17,'Output FIN Lease Amort'!A932+1,\"\")","v":""},"","",{"$f":"IF(A933=\"\",\"\",$C$10/'Step 4. Classification'!$E$17)","v":""},"",null,"",{"$f":"IF(A933=\"\",\"\",G933*'Step 3. Lease Payments'!$G$8)","v":""},{"$f":"_xlfn.IFNA(IF(A933=\"\",\"\",(VLOOKUP(A933,'Step 3. Lease Payments'!B:G,6,))),\"0\")","v":""},""]
[{"$f":"IF(A933<'Step 4. Classification'!$E$17,'Output FIN Lease Amort'!A933+1,\"\")","v":""},"","",{"$f":"IF(A934=\"\",\"\",$C$10/'Step 4. Classification'!$E$17)","v":""},"",null,"",{"$f":"IF(A934=\"\",\"\",G934*'Step 3. Lease Payments'!$G$8)","v":""},{"$f":"_xlfn.IFNA(IF(A934=\"\",\"\",(VLOOKUP(A934,'Step 3. Lease Payments'!B:G,6,))),\"0\")","v":""},""]
[{"$f":"IF(A934<'Step 4. Classification'!$E$17,'Output FIN Lease Amort'!A934+1,\"\")","v":""},"","",{"$f":"IF(A935=\"\",\"\",$C$10/'Step 4. Classification'!$E$17)","v":""},"",null,"",{"$f":"IF(A935=\"\",\"\",G935*'Step 3. Lease Payments'!$G$8)","v":""},{"$f":"_xlfn.IFNA(IF(A935=\"\",\"\",(VLOOKUP(A935,'Step 3. Lease Payments'!B:G,6,))),\"0\")","v":""},""]
[{"$f":"IF(A935<'Step 4. Classification'!$E$17,'Output FIN Lease Amort'!A935+1,\"\")","v":""},"","",{"$f":"IF(A936=\"\",\"\",$C$10/'Step 4. Classification'!$E$17)","v":""},"",null,"",{"$f":"IF(A936=\"\",\"\",G936*'Step 3. Lease Payments'!$G$8)","v":""},{"$f":"_xlfn.IFNA(IF(A936=\"\",\"\",(VLOOKUP(A936,'Step 3. Lease Payments'!B:G,6,))),\"0\")","v":""},""]
[{"$f":"IF(A936<'Step 4. Classification'!$E$17,'Output FIN Lease Amort'!A936+1,\"\")","v":""},"","",{"$f":"IF(A937=\"\",\"\",$C$10/'Step 4. Classification'!$E$17)","v":""},"",null,"",{"$f":"IF(A937=\"\",\"\",G937*'Step 3. Lease Payments'!$G$8)","v":""},{"$f":"_xlfn.IFNA(IF(A937=\"\",\"\",(VLOOKUP(A937,'Step 3. Lease Payments'!B:G,6,))),\"0\")","v":""},""]
[{"$f":"IF(A937<'Step 4. Classification'!$E$17,'Output FIN Lease Amort'!A937+1,\"\")","v":""},"","",{"$f":"IF(A938=\"\",\"\",$C$10/'Step 4. Classification'!$E$17)","v":""},"",null,"",{"$f":"IF(A938=\"\",\"\",G938*'Step 3. Lease Payments'!$G$8)","v":""},{"$f":"_xlfn.IFNA(IF(A938=\"\",\"\",(VLOOKUP(A938,'Step 3. Lease Payments'!B:G,6,))),\"0\")","v":""},""]
[{"$f":"IF(A938<'Step 4. Classification'!$E$17,'Output FIN Lease Amort'!A938+1,\"\")","v":""},"","",{"$f":"IF(A939=\"\",\"\",$C$10/'Step 4. Classification'!$E$17)","v":""},"",null,"",{"$f":"IF(A939=\"\",\"\",G939*'Step 3. Lease Payments'!$G$8)","v":""},{"$f":"_xlfn.IFNA(IF(A939=\"\",\"\",(VLOOKUP(A939,'Step 3. Lease Payments'!B:G,6,))),\"0\")","v":""},""]
[{"$f":"IF(A939<'Step 4. Classification'!$E$17,'Output FIN Lease Amort'!A939+1,\"\")","v":""},"","",{"$f":"IF(A940=\"\",\"\",$C$10/'Step 4. Classification'!$E$17)","v":""},"",null,"",{"$f":"IF(A940=\"\",\"\",G940*'Step 3. Lease Payments'!$G$8)","v":""},{"$f":"_xlfn.IFNA(IF(A940=\"\",\"\",(VLOOKUP(A940,'Step 3. Lease Payments'!B:G,6,))),\"0\")","v":""},""]
[{"$f":"IF(A940<'Step 4. Classification'!$E$17,'Output FIN Lease Amort'!A940+1,\"\")","v":""},"","",{"$f":"IF(A941=\"\",\"\",$C$10/'Step 4. Classification'!$E$17)","v":""},"",null,"",{"$f":"IF(A941=\"\",\"\",G941*'Step 3. Lease Payments'!$G$8)","v":""},{"$f":"_xlfn.IFNA(IF(A941=\"\",\"\",(VLOOKUP(A941,'Step 3. Lease Payments'!B:G,6,))),\"0\")","v":""},""]
[{"$f":"IF(A941<'Step 4. Classification'!$E$17,'Output FIN Lease Amort'!A941+1,\"\")","v":""},"","",{"$f":"IF(A942=\"\",\"\",$C$10/'Step 4. Classification'!$E$17)","v":""},"",null,"",{"$f":"IF(A942=\"\",\"\",G942*'Step 3. Lease Payments'!$G$8)","v":""},{"$f":"_xlfn.IFNA(IF(A942=\"\",\"\",(VLOOKUP(A942,'Step 3. Lease Payments'!B:G,6,))),\"0\")","v":""},""]
[{"$f":"IF(A942<'Step 4. Classification'!$E$17,'Output FIN Lease Amort'!A942+1,\"\")","v":""},"","",{"$f":"IF(A943=\"\",\"\",$C$10/'Step 4. Classification'!$E$17)","v":""},"",null,"",{"$f":"IF(A943=\"\",\"\",G943*'Step 3. Lease Payments'!$G$8)","v":""},{"$f":"_xlfn.IFNA(IF(A943=\"\",\"\",(VLOOKUP(A943,'Step 3. Lease Payments'!B:G,6,))),\"0\")","v":""},""]
[{"$f":"IF(A943<'Step 4. Classification'!$E$17,'Output FIN Lease Amort'!A943+1,\"\")","v":""},"","",{"$f":"IF(A944=\"\",\"\",$C$10/'Step 4. Classification'!$E$17)","v":""},"",null,"",{"$f":"IF(A944=\"\",\"\",G944*'Step 3. Lease Payments'!$G$8)","v":""},{"$f":"_xlfn.IFNA(IF(A944=\"\",\"\",(VLOOKUP(A944,'Step 3. Lease Payments'!B:G,6,))),\"0\")","v":""},""]
[{"$f":"IF(A944<'Step 4. Classification'!$E$17,'Output FIN Lease Amort'!A944+1,\"\")","v":""},"","",{"$f":"IF(A945=\"\",\"\",$C$10/'Step 4. Classification'!$E$17)","v":""},"",null,"",{"$f":"IF(A945=\"\",\"\",G945*'Step 3. Lease Payments'!$G$8)","v":""},{"$f":"_xlfn.IFNA(IF(A945=\"\",\"\",(VLOOKUP(A945,'Step 3. Lease Payments'!B:G,6,))),\"0\")","v":""},""]
[{"$f":"IF(A945<'Step 4. Classification'!$E$17,'Output FIN Lease Amort'!A945+1,\"\")","v":""},"","",{"$f":"IF(A946=\"\",\"\",$C$10/'Step 4. Classification'!$E$17)","v":""},"",null,"",{"$f":"IF(A946=\"\",\"\",G946*'Step 3. Lease Payments'!$G$8)","v":""},{"$f":"_xlfn.IFNA(IF(A946=\"\",\"\",(VLOOKUP(A946,'Step 3. Lease Payments'!B:G,6,))),\"0\")","v":""},""]
[{"$f":"IF(A946<'Step 4. Classification'!$E$17,'Output FIN Lease Amort'!A946+1,\"\")","v":""},"","",{"$f":"IF(A947=\"\",\"\",$C$10/'Step 4. Classification'!$E$17)","v":""},"",null,"",{"$f":"IF(A947=\"\",\"\",G947*'Step 3. Lease Payments'!$G$8)","v":""},{"$f":"_xlfn.IFNA(IF(A947=\"\",\"\",(VLOOKUP(A947,'Step 3. Lease Payments'!B:G,6,))),\"0\")","v":""},""]
[{"$f":"IF(A947<'Step 4. Classification'!$E$17,'Output FIN Lease Amort'!A947+1,\"\")","v":""},"","",{"$f":"IF(A948=\"\",\"\",$C$10/'Step 4. Classification'!$E$17)","v":""},"",null,"",{"$f":"IF(A948=\"\",\"\",G948*'Step 3. Lease Payments'!$G$8)","v":""},{"$f":"_xlfn.IFNA(IF(A948=\"\",\"\",(VLOOKUP(A948,'Step 3. Lease Payments'!B:G,6,))),\"0\")","v":""},""]
[{"$f":"IF(A948<'Step 4. Classification'!$E$17,'Output FIN Lease Amort'!A948+1,\"\")","v":""},"","",{"$f":"IF(A949=\"\",\"\",$C$10/'Step 4. Classification'!$E$17)","v":""},"",null,"",{"$f":"IF(A949=\"\",\"\",G949*'Step 3. Lease Payments'!$G$8)","v":""},{"$f":"_xlfn.IFNA(IF(A949=\"\",\"\",(VLOOKUP(A949,'Step 3. Lease Payments'!B:G,6,))),\"0\")","v":""},""]
[{"$f":"IF(A949<'Step 4. Classification'!$E$17,'Output FIN Lease Amort'!A949+1,\"\")","v":""},"","",{"$f":"IF(A950=\"\",\"\",$C$10/'Step 4. Classification'!$E$17)","v":""},"",null,"",{"$f":"IF(A950=\"\",\"\",G950*'Step 3. Lease Payments'!$G$8)","v":""},{"$f":"_xlfn.IFNA(IF(A950=\"\",\"\",(VLOOKUP(A950,'Step 3. Lease Payments'!B:G,6,))),\"0\")","v":""},""]
[{"$f":"IF(A950<'Step 4. Classification'!$E$17,'Output FIN Lease Amort'!A950+1,\"\")","v":""},"","",{"$f":"IF(A951=\"\",\"\",$C$10/'Step 4. Classification'!$E$17)","v":""},"",null,"",{"$f":"IF(A951=\"\",\"\",G951*'Step 3. Lease Payments'!$G$8)","v":""},{"$f":"_xlfn.IFNA(IF(A951=\"\",\"\",(VLOOKUP(A951,'Step 3. Lease Payments'!B:G,6,))),\"0\")","v":""},""]
[{"$f":"IF(A951<'Step 4. Classification'!$E$17,'Output FIN Lease Amort'!A951+1,\"\")","v":""},"","",{"$f":"IF(A952=\"\",\"\",$C$10/'Step 4. Classification'!$E$17)","v":""},"",null,"",{"$f":"IF(A952=\"\",\"\",G952*'Step 3. Lease Payments'!$G$8)","v":""},{"$f":"_xlfn.IFNA(IF(A952=\"\",\"\",(VLOOKUP(A952,'Step 3. Lease Payments'!B:G,6,))),\"0\")","v":""},""]
[{"$f":"IF(A952<'Step 4. Classification'!$E$17,'Output FIN Lease Amort'!A952+1,\"\")","v":""},"","",{"$f":"IF(A953=\"\",\"\",$C$10/'Step 4. Classification'!$E$17)","v":""},"",null,"",{"$f":"IF(A953=\"\",\"\",G953*'Step 3. Lease Payments'!$G$8)","v":""},{"$f":"_xlfn.IFNA(IF(A953=\"\",\"\",(VLOOKUP(A953,'Step 3. Lease Payments'!B:G,6,))),\"0\")","v":""},""]
[{"$f":"IF(A953<'Step 4. Classification'!$E$17,'Output FIN Lease Amort'!A953+1,\"\")","v":""},"","",{"$f":"IF(A954=\"\",\"\",$C$10/'Step 4. Classification'!$E$17)","v":""},"",null,"",{"$f":"IF(A954=\"\",\"\",G954*'Step 3. Lease Payments'!$G$8)","v":""},{"$f":"_xlfn.IFNA(IF(A954=\"\",\"\",(VLOOKUP(A954,'Step 3. Lease Payments'!B:G,6,))),\"0\")","v":""},""]
[{"$f":"IF(A954<'Step 4. Classification'!$E$17,'Output FIN Lease Amort'!A954+1,\"\")","v":""},"","",{"$f":"IF(A955=\"\",\"\",$C$10/'Step 4. Classification'!$E$17)","v":""},"",null,"",{"$f":"IF(A955=\"\",\"\",G955*'Step 3. Lease Payments'!$G$8)","v":""},{"$f":"_xlfn.IFNA(IF(A955=\"\",\"\",(VLOOKUP(A955,'Step 3. Lease Payments'!B:G,6,))),\"0\")","v":""},""]
[{"$f":"IF(A955<'Step 4. Classification'!$E$17,'Output FIN Lease Amort'!A955+1,\"\")","v":""},"","",{"$f":"IF(A956=\"\",\"\",$C$10/'Step 4. Classification'!$E$17)","v":""},"",null,"",{"$f":"IF(A956=\"\",\"\",G956*'Step 3. Lease Payments'!$G$8)","v":""},{"$f":"_xlfn.IFNA(IF(A956=\"\",\"\",(VLOOKUP(A956,'Step 3. Lease Payments'!B:G,6,))),\"0\")","v":""},""]
[{"$f":"IF(A956<'Step 4. Classification'!$E$17,'Output FIN Lease Amort'!A956+1,\"\")","v":""},"","",{"$f":"IF(A957=\"\",\"\",$C$10/'Step 4. Classification'!$E$17)","v":""},"",null,"",{"$f":"IF(A957=\"\",\"\",G957*'Step 3. Lease Payments'!$G$8)","v":""},{"$f":"_xlfn.IFNA(IF(A957=\"\",\"\",(VLOOKUP(A957,'Step 3. Lease Payments'!B:G,6,))),\"0\")","v":""},""]
[{"$f":"IF(A957<'Step 4. Classification'!$E$17,'Output FIN Lease Amort'!A957+1,\"\")","v":""},"","",{"$f":"IF(A958=\"\",\"\",$C$10/'Step 4. Classification'!$E$17)","v":""},"",null,"",{"$f":"IF(A958=\"\",\"\",G958*'Step 3. Lease Payments'!$G$8)","v":""},{"$f":"_xlfn.IFNA(IF(A958=\"\",\"\",(VLOOKUP(A958,'Step 3. Lease Payments'!B:G,6,))),\"0\")","v":""},""]
[{"$f":"IF(A958<'Step 4. Classification'!$E$17,'Output FIN Lease Amort'!A958+1,\"\")","v":""},"","",{"$f":"IF(A959=\"\",\"\",$C$10/'Step 4. Classification'!$E$17)","v":""},"",null,"",{"$f":"IF(A959=\"\",\"\",G959*'Step 3. Lease Payments'!$G$8)","v":""},{"$f":"_xlfn.IFNA(IF(A959=\"\",\"\",(VLOOKUP(A959,'Step 3. Lease Payments'!B:G,6,))),\"0\")","v":""},""]
[{"$f":"IF(A959<'Step 4. Classification'!$E$17,'Output FIN Lease Amort'!A959+1,\"\")","v":""},"","",{"$f":"IF(A960=\"\",\"\",$C$10/'Step 4. Classification'!$E$17)","v":""},"",null,"",{"$f":"IF(A960=\"\",\"\",G960*'Step 3. Lease Payments'!$G$8)","v":""},{"$f":"_xlfn.IFNA(IF(A960=\"\",\"\",(VLOOKUP(A960,'Step 3. Lease Payments'!B:G,6,))),\"0\")","v":""},""]
[{"$f":"IF(A960<'Step 4. Classification'!$E$17,'Output FIN Lease Amort'!A960+1,\"\")","v":""},"","",{"$f":"IF(A961=\"\",\"\",$C$10/'Step 4. Classification'!$E$17)","v":""},"",null,"",{"$f":"IF(A961=\"\",\"\",G961*'Step 3. Lease Payments'!$G$8)","v":""},{"$f":"_xlfn.IFNA(IF(A961=\"\",\"\",(VLOOKUP(A961,'Step 3. Lease Payments'!B:G,6,))),\"0\")","v":""},""]
[{"$f":"IF(A961<'Step 4. Classification'!$E$17,'Output FIN Lease Amort'!A961+1,\"\")","v":""},"","",{"$f":"IF(A962=\"\",\"\",$C$10/'Step 4. Classification'!$E$17)","v":""},"",null,"",{"$f":"IF(A962=\"\",\"\",G962*'Step 3. Lease Payments'!$G$8)","v":""},{"$f":"_xlfn.IFNA(IF(A962=\"\",\"\",(VLOOKUP(A962,'Step 3. Lease Payments'!B:G,6,))),\"0\")","v":""},""]
[{"$f":"IF(A962<'Step 4. Classification'!$E$17,'Output FIN Lease Amort'!A962+1,\"\")","v":""},"","",{"$f":"IF(A963=\"\",\"\",$C$10/'Step 4. Classification'!$E$17)","v":""},"",null,"",{"$f":"IF(A963=\"\",\"\",G963*'Step 3. Lease Payments'!$G$8)","v":""},{"$f":"_xlfn.IFNA(IF(A963=\"\",\"\",(VLOOKUP(A963,'Step 3. Lease Payments'!B:G,6,))),\"0\")","v":""},""]
[{"$f":"IF(A963<'Step 4. Classification'!$E$17,'Output FIN Lease Amort'!A963+1,\"\")","v":""},"","",{"$f":"IF(A964=\"\",\"\",$C$10/'Step 4. Classification'!$E$17)","v":""},"",null,"",{"$f":"IF(A964=\"\",\"\",G964*'Step 3. Lease Payments'!$G$8)","v":""},{"$f":"_xlfn.IFNA(IF(A964=\"\",\"\",(VLOOKUP(A964,'Step 3. Lease Payments'!B:G,6,))),\"0\")","v":""},""]
[{"$f":"IF(A964<'Step 4. Classification'!$E$17,'Output FIN Lease Amort'!A964+1,\"\")","v":""},"","",{"$f":"IF(A965=\"\",\"\",$C$10/'Step 4. Classification'!$E$17)","v":""},"",null,"",{"$f":"IF(A965=\"\",\"\",G965*'Step 3. Lease Payments'!$G$8)","v":""},{"$f":"_xlfn.IFNA(IF(A965=\"\",\"\",(VLOOKUP(A965,'Step 3. Lease Payments'!B:G,6,))),\"0\")","v":""},""]
[{"$f":"IF(A965<'Step 4. Classification'!$E$17,'Output FIN Lease Amort'!A965+1,\"\")","v":""},"","",{"$f":"IF(A966=\"\",\"\",$C$10/'Step 4. Classification'!$E$17)","v":""},"",null,"",{"$f":"IF(A966=\"\",\"\",G966*'Step 3. Lease Payments'!$G$8)","v":""},{"$f":"_xlfn.IFNA(IF(A966=\"\",\"\",(VLOOKUP(A966,'Step 3. Lease Payments'!B:G,6,))),\"0\")","v":""},""]
[{"$f":"IF(A966<'Step 4. Classification'!$E$17,'Output FIN Lease Amort'!A966+1,\"\")","v":""},"","",{"$f":"IF(A967=\"\",\"\",$C$10/'Step 4. Classification'!$E$17)","v":""},"",null,"",{"$f":"IF(A967=\"\",\"\",G967*'Step 3. Lease Payments'!$G$8)","v":""},{"$f":"_xlfn.IFNA(IF(A967=\"\",\"\",(VLOOKUP(A967,'Step 3. Lease Payments'!B:G,6,))),\"0\")","v":""},""]
[{"$f":"IF(A967<'Step 4. Classification'!$E$17,'Output FIN Lease Amort'!A967+1,\"\")","v":""},"","",{"$f":"IF(A968=\"\",\"\",$C$10/'Step 4. Classification'!$E$17)","v":""},"",null,"",{"$f":"IF(A968=\"\",\"\",G968*'Step 3. Lease Payments'!$G$8)","v":""},{"$f":"_xlfn.IFNA(IF(A968=\"\",\"\",(VLOOKUP(A968,'Step 3. Lease Payments'!B:G,6,))),\"0\")","v":""},""]
[{"$f":"IF(A968<'Step 4. Classification'!$E$17,'Output FIN Lease Amort'!A968+1,\"\")","v":""},"","",{"$f":"IF(A969=\"\",\"\",$C$10/'Step 4. Classification'!$E$17)","v":""},"",null,"",{"$f":"IF(A969=\"\",\"\",G969*'Step 3. Lease Payments'!$G$8)","v":""},{"$f":"_xlfn.IFNA(IF(A969=\"\",\"\",(VLOOKUP(A969,'Step 3. Lease Payments'!B:G,6,))),\"0\")","v":""},""]
[{"$f":"IF(A969<'Step 4. Classification'!$E$17,'Output FIN Lease Amort'!A969+1,\"\")","v":""},"","",{"$f":"IF(A970=\"\",\"\",$C$10/'Step 4. Classification'!$E$17)","v":""},"",null,"",{"$f":"IF(A970=\"\",\"\",G970*'Step 3. Lease Payments'!$G$8)","v":""},{"$f":"_xlfn.IFNA(IF(A970=\"\",\"\",(VLOOKUP(A970,'Step 3. Lease Payments'!B:G,6,))),\"0\")","v":""},""]
[{"$f":"IF(A970<'Step 4. Classification'!$E$17,'Output FIN Lease Amort'!A970+1,\"\")","v":""},{"$f":"IF(A971=\"\",\"\",(DATE(YEAR(B970),MONTH(B970)+1,DAY(B970))))","v":""},{"$f":"IF(A971=\"\",\"\",E970)","v":""},{"$f":"IF(A971=\"\",\"\",$C$10/'Step 4. Classification'!$E$17)","v":""},{"$f":"IF(A971=\"\",\"\",C971-D971)","v":""},null,{"$f":"IF(A971=\"\",\"\",J970)","v":""},{"$f":"IF(A971=\"\",\"\",G971*'Step 3. Lease Payments'!$G$8)","v":""},{"$f":"_xlfn.IFNA(IF(A971=\"\",\"\",(VLOOKUP(A971,'Step 3. Lease Payments'!B:G,6,))),\"0\")","v":""},{"$f":"IF(A971=\"\",\"\",G971-I971+H971)","v":""}]
[{"$f":"IF(A971<'Step 4. Classification'!$E$17,'Output FIN Lease Amort'!A971+1,\"\")","v":""},"","",{"$f":"IF(A972=\"\",\"\",$C$10/'Step 4. Classification'!$E$17)","v":""},"",null,"",{"$f":"IF(A972=\"\",\"\",G972*'Step 3. Lease Payments'!$G$8)","v":""},{"$f":"_xlfn.IFNA(IF(A972=\"\",\"\",(VLOOKUP(A972,'Step 3. Lease Payments'!B:G,6,))),\"0\")","v":""},""]
[{"$f":"IF(A972<'Step 4. Classification'!$E$17,'Output FIN Lease Amort'!A972+1,\"\")","v":""},"","",{"$f":"IF(A973=\"\",\"\",$C$10/'Step 4. Classification'!$E$17)","v":""},"",null,"",{"$f":"IF(A973=\"\",\"\",G973*'Step 3. Lease Payments'!$G$8)","v":""},{"$f":"_xlfn.IFNA(IF(A973=\"\",\"\",(VLOOKUP(A973,'Step 3. Lease Payments'!B:G,6,))),\"0\")","v":""},""]
[{"$f":"IF(A973<'Step 4. Classification'!$E$17,'Output FIN Lease Amort'!A973+1,\"\")","v":""},"","",{"$f":"IF(A974=\"\",\"\",$C$10/'Step 4. Classification'!$E$17)","v":""},"",null,"",{"$f":"IF(A974=\"\",\"\",G974*'Step 3. Lease Payments'!$G$8)","v":""},{"$f":"_xlfn.IFNA(IF(A974=\"\",\"\",(VLOOKUP(A974,'Step 3. Lease Payments'!B:G,6,))),\"0\")","v":""},""]
[{"$f":"IF(A974<'Step 4. Classification'!$E$17,'Output FIN Lease Amort'!A974+1,\"\")","v":""},"","",{"$f":"IF(A975=\"\",\"\",$C$10/'Step 4. Classification'!$E$17)","v":""},"",null,"",{"$f":"IF(A975=\"\",\"\",G975*'Step 3. Lease Payments'!$G$8)","v":""},{"$f":"_xlfn.IFNA(IF(A975=\"\",\"\",(VLOOKUP(A975,'Step 3. Lease Payments'!B:G,6,))),\"0\")","v":""},""]
[{"$f":"IF(A975<'Step 4. Classification'!$E$17,'Output FIN Lease Amort'!A975+1,\"\")","v":""},"","",{"$f":"IF(A976=\"\",\"\",$C$10/'Step 4. Classification'!$E$17)","v":""},"",null,"",{"$f":"IF(A976=\"\",\"\",G976*'Step 3. Lease Payments'!$G$8)","v":""},{"$f":"_xlfn.IFNA(IF(A976=\"\",\"\",(VLOOKUP(A976,'Step 3. Lease Payments'!B:G,6,))),\"0\")","v":""},""]
[{"$f":"IF(A976<'Step 4. Classification'!$E$17,'Output FIN Lease Amort'!A976+1,\"\")","v":""},"","",{"$f":"IF(A977=\"\",\"\",$C$10/'Step 4. Classification'!$E$17)","v":""},"",null,"",{"$f":"IF(A977=\"\",\"\",G977*'Step 3. Lease Payments'!$G$8)","v":""},{"$f":"_xlfn.IFNA(IF(A977=\"\",\"\",(VLOOKUP(A977,'Step 3. Lease Payments'!B:G,6,))),\"0\")","v":""},""]
[{"$f":"IF(A977<'Step 4. Classification'!$E$17,'Output FIN Lease Amort'!A977+1,\"\")","v":""},"","",{"$f":"IF(A978=\"\",\"\",$C$10/'Step 4. Classification'!$E$17)","v":""},"",null,"",{"$f":"IF(A978=\"\",\"\",G978*'Step 3. Lease Payments'!$G$8)","v":""},{"$f":"_xlfn.IFNA(IF(A978=\"\",\"\",(VLOOKUP(A978,'Step 3. Lease Payments'!B:G,6,))),\"0\")","v":""},""]
[{"$f":"IF(A978<'Step 4. Classification'!$E$17,'Output FIN Lease Amort'!A978+1,\"\")","v":""},"","",{"$f":"IF(A979=\"\",\"\",$C$10/'Step 4. Classification'!$E$17)","v":""},"",null,"",{"$f":"IF(A979=\"\",\"\",G979*'Step 3. Lease Payments'!$G$8)","v":""},{"$f":"_xlfn.IFNA(IF(A979=\"\",\"\",(VLOOKUP(A979,'Step 3. Lease Payments'!B:G,6,))),\"0\")","v":""},""]
[{"$f":"IF(A979<'Step 4. Classification'!$E$17,'Output FIN Lease Amort'!A979+1,\"\")","v":""},"","",{"$f":"IF(A980=\"\",\"\",$C$10/'Step 4. Classification'!$E$17)","v":""},"",null,"",{"$f":"IF(A980=\"\",\"\",G980*'Step 3. Lease Payments'!$G$8)","v":""},{"$f":"_xlfn.IFNA(IF(A980=\"\",\"\",(VLOOKUP(A980,'Step 3. Lease Payments'!B:G,6,))),\"0\")","v":""},""]
[{"$f":"IF(A980<'Step 4. Classification'!$E$17,'Output FIN Lease Amort'!A980+1,\"\")","v":""},"","",{"$f":"IF(A981=\"\",\"\",$C$10/'Step 4. Classification'!$E$17)","v":""},"",null,"",{"$f":"IF(A981=\"\",\"\",G981*'Step 3. Lease Payments'!$G$8)","v":""},{"$f":"_xlfn.IFNA(IF(A981=\"\",\"\",(VLOOKUP(A981,'Step 3. Lease Payments'!B:G,6,))),\"0\")","v":""},""]
[{"$f":"IF(A981<'Step 4. Classification'!$E$17,'Output FIN Lease Amort'!A981+1,\"\")","v":""},"","",{"$f":"IF(A982=\"\",\"\",$C$10/'Step 4. Classification'!$E$17)","v":""},"",null,"",{"$f":"IF(A982=\"\",\"\",G982*'Step 3. Lease Payments'!$G$8)","v":""},{"$f":"_xlfn.IFNA(IF(A982=\"\",\"\",(VLOOKUP(A982,'Step 3. Lease Payments'!B:G,6,))),\"0\")","v":""},""]
[{"$f":"IF(A982<'Step 4. Classification'!$E$17,'Output FIN Lease Amort'!A982+1,\"\")","v":""},"","",{"$f":"IF(A983=\"\",\"\",$C$10/'Step 4. Classification'!$E$17)","v":""},"",null,"",{"$f":"IF(A983=\"\",\"\",G983*'Step 3. Lease Payments'!$G$8)","v":""},{"$f":"_xlfn.IFNA(IF(A983=\"\",\"\",(VLOOKUP(A983,'Step 3. Lease Payments'!B:G,6,))),\"0\")","v":""},""]
[{"$f":"IF(A983<'Step 4. Classification'!$E$17,'Output FIN Lease Amort'!A983+1,\"\")","v":""},"","",{"$f":"IF(A984=\"\",\"\",$C$10/'Step 4. Classification'!$E$17)","v":""},"",null,"",{"$f":"IF(A984=\"\",\"\",G984*'Step 3. Lease Payments'!$G$8)","v":""},{"$f":"_xlfn.IFNA(IF(A984=\"\",\"\",(VLOOKUP(A984,'Step 3. Lease Payments'!B:G,6,))),\"0\")","v":""},""]
[{"$f":"IF(A984<'Step 4. Classification'!$E$17,'Output FIN Lease Amort'!A984+1,\"\")","v":""},"","",{"$f":"IF(A985=\"\",\"\",$C$10/'Step 4. Classification'!$E$17)","v":""},"",null,"",{"$f":"IF(A985=\"\",\"\",G985*'Step 3. Lease Payments'!$G$8)","v":""},{"$f":"_xlfn.IFNA(IF(A985=\"\",\"\",(VLOOKUP(A985,'Step 3. Lease Payments'!B:G,6,))),\"0\")","v":""},""]
[{"$f":"IF(A985<'Step 4. Classification'!$E$17,'Output FIN Lease Amort'!A985+1,\"\")","v":""},"","",{"$f":"IF(A986=\"\",\"\",$C$10/'Step 4. Classification'!$E$17)","v":""},"",null,"",{"$f":"IF(A986=\"\",\"\",G986*'Step 3. Lease Payments'!$G$8)","v":""},{"$f":"_xlfn.IFNA(IF(A986=\"\",\"\",(VLOOKUP(A986,'Step 3. Lease Payments'!B:G,6,))),\"0\")","v":""},""]
[{"$f":"IF(A986<'Step 4. Classification'!$E$17,'Output FIN Lease Amort'!A986+1,\"\")","v":""},"","",{"$f":"IF(A987=\"\",\"\",$C$10/'Step 4. Classification'!$E$17)","v":""},"",null,"",{"$f":"IF(A987=\"\",\"\",G987*'Step 3. Lease Payments'!$G$8)","v":""},{"$f":"_xlfn.IFNA(IF(A987=\"\",\"\",(VLOOKUP(A987,'Step 3. Lease Payments'!B:G,6,))),\"0\")","v":""},""]
[{"$f":"IF(A987<'Step 4. Classification'!$E$17,'Output FIN Lease Amort'!A987+1,\"\")","v":""},"","",{"$f":"IF(A988=\"\",\"\",$C$10/'Step 4. Classification'!$E$17)","v":""},"",null,"",{"$f":"IF(A988=\"\",\"\",G988*'Step 3. Lease Payments'!$G$8)","v":""},{"$f":"_xlfn.IFNA(IF(A988=\"\",\"\",(VLOOKUP(A988,'Step 3. Lease Payments'!B:G,6,))),\"0\")","v":""},""]
[{"$f":"IF(A988<'Step 4. Classification'!$E$17,'Output FIN Lease Amort'!A988+1,\"\")","v":""},"","",{"$f":"IF(A989=\"\",\"\",$C$10/'Step 4. Classification'!$E$17)","v":""},"",null,"",{"$f":"IF(A989=\"\",\"\",G989*'Step 3. Lease Payments'!$G$8)","v":""},{"$f":"_xlfn.IFNA(IF(A989=\"\",\"\",(VLOOKUP(A989,'Step 3. Lease Payments'!B:G,6,))),\"0\")","v":""},""]
[{"$f":"IF(A989<'Step 4. Classification'!$E$17,'Output FIN Lease Amort'!A989+1,\"\")","v":""},"","",{"$f":"IF(A990=\"\",\"\",$C$10/'Step 4. Classification'!$E$17)","v":""},"",null,"",{"$f":"IF(A990=\"\",\"\",G990*'Step 3. Lease Payments'!$G$8)","v":""},{"$f":"_xlfn.IFNA(IF(A990=\"\",\"\",(VLOOKUP(A990,'Step 3. Lease Payments'!B:G,6,))),\"0\")","v":""},""]
[{"$f":"IF(A990<'Step 4. Classification'!$E$17,'Output FIN Lease Amort'!A990+1,\"\")","v":""},"","",{"$f":"IF(A991=\"\",\"\",$C$10/'Step 4. Classification'!$E$17)","v":""},"",null,"",{"$f":"IF(A991=\"\",\"\",G991*'Step 3. Lease Payments'!$G$8)","v":""},{"$f":"_xlfn.IFNA(IF(A991=\"\",\"\",(VLOOKUP(A991,'Step 3. Lease Payments'!B:G,6,))),\"0\")","v":""},""]
[{"$f":"IF(A991<'Step 4. Classification'!$E$17,'Output FIN Lease Amort'!A991+1,\"\")","v":""},"","",{"$f":"IF(A992=\"\",\"\",$C$10/'Step 4. Classification'!$E$17)","v":""},"",null,"",{"$f":"IF(A992=\"\",\"\",G992*'Step 3. Lease Payments'!$G$8)","v":""},{"$f":"_xlfn.IFNA(IF(A992=\"\",\"\",(VLOOKUP(A992,'Step 3. Lease Payments'!B:G,6,))),\"0\")","v":""},""]
[{"$f":"IF(A992<'Step 4. Classification'!$E$17,'Output FIN Lease Amort'!A992+1,\"\")","v":""},"","",{"$f":"IF(A993=\"\",\"\",$C$10/'Step 4. Classification'!$E$17)","v":""},"",null,"",{"$f":"IF(A993=\"\",\"\",G993*'Step 3. Lease Payments'!$G$8)","v":""},{"$f":"_xlfn.IFNA(IF(A993=\"\",\"\",(VLOOKUP(A993,'Step 3. Lease Payments'!B:G,6,))),\"0\")","v":""},""]
[{"$f":"IF(A993<'Step 4. Classification'!$E$17,'Output FIN Lease Amort'!A993+1,\"\")","v":""},"","",{"$f":"IF(A994=\"\",\"\",$C$10/'Step 4. Classification'!$E$17)","v":""},"",null,"",{"$f":"IF(A994=\"\",\"\",G994*'Step 3. Lease Payments'!$G$8)","v":""},{"$f":"_xlfn.IFNA(IF(A994=\"\",\"\",(VLOOKUP(A994,'Step 3. Lease Payments'!B:G,6,))),\"0\")","v":""},""]
[{"$f":"IF(A994<'Step 4. Classification'!$E$17,'Output FIN Lease Amort'!A994+1,\"\")","v":""},"","",{"$f":"IF(A995=\"\",\"\",$C$10/'Step 4. Classification'!$E$17)","v":""},"",null,"",{"$f":"IF(A995=\"\",\"\",G995*'Step 3. Lease Payments'!$G$8)","v":""},{"$f":"_xlfn.IFNA(IF(A995=\"\",\"\",(VLOOKUP(A995,'Step 3. Lease Payments'!B:G,6,))),\"0\")","v":""},""]
[{"$f":"IF(A995<'Step 4. Classification'!$E$17,'Output FIN Lease Amort'!A995+1,\"\")","v":""},"","",{"$f":"IF(A996=\"\",\"\",$C$10/'Step 4. Classification'!$E$17)","v":""},"",null,"",{"$f":"IF(A996=\"\",\"\",G996*'Step 3. Lease Payments'!$G$8)","v":""},{"$f":"_xlfn.IFNA(IF(A996=\"\",\"\",(VLOOKUP(A996,'Step 3. Lease Payments'!B:G,6,))),\"0\")","v":""},""]
[{"$f":"IF(A996<'Step 4. Classification'!$E$17,'Output FIN Lease Amort'!A996+1,\"\")","v":""},"","",{"$f":"IF(A997=\"\",\"\",$C$10/'Step 4. Classification'!$E$17)","v":""},"",null,"",{"$f":"IF(A997=\"\",\"\",G997*'Step 3. Lease Payments'!$G$8)","v":""},{"$f":"_xlfn.IFNA(IF(A997=\"\",\"\",(VLOOKUP(A997,'Step 3. Lease Payments'!B:G,6,))),\"0\")","v":""},""]
[{"$f":"IF(A997<'Step 4. Classification'!$E$17,'Output FIN Lease Amort'!A997+1,\"\")","v":""},"","",{"$f":"IF(A998=\"\",\"\",$C$10/'Step 4. Classification'!$E$17)","v":""},"",null,"",{"$f":"IF(A998=\"\",\"\",G998*'Step 3. Lease Payments'!$G$8)","v":""},{"$f":"_xlfn.IFNA(IF(A998=\"\",\"\",(VLOOKUP(A998,'Step 3. Lease Payments'!B:G,6,))),\"0\")","v":""},""]
[{"$f":"IF(A998<'Step 4. Classification'!$E$17,'Output FIN Lease Amort'!A998+1,\"\")","v":""},"","",{"$f":"IF(A999=\"\",\"\",$C$10/'Step 4. Classification'!$E$17)","v":""},"",null,"",{"$f":"IF(A999=\"\",\"\",G999*'Step 3. Lease Payments'!$G$8)","v":""},{"$f":"_xlfn.IFNA(IF(A999=\"\",\"\",(VLOOKUP(A999,'Step 3. Lease Payments'!B:G,6,))),\"0\")","v":""},""]
[{"$f":"IF(A999<'Step 4. Classification'!$E$17,'Output FIN Lease Amort'!A999+1,\"\")","v":""},"","",{"$f":"IF(A1000=\"\",\"\",$C$10/'Step 4. Classification'!$E$17)","v":""},"",null,"",{"$f":"IF(A1000=\"\",\"\",G1000*'Step 3. Lease Payments'!$G$8)","v":""},{"$f":"_xlfn.IFNA(IF(A1000=\"\",\"\",(VLOOKUP(A1000,'Step 3. Lease Payments'!B:G,6,))),\"0\")","v":""},""]

{"sheet":"Validations - DO NOT DELETE","index":7,"n_rows":11,"n_cols":8,"rows_kept":11,"cut":false,"hidden":true,"merged":[]}
["List_YN","List_Frequency_Payments","List_Time_of_Payment","List_No_of_Leases","List_Type_of_lease","List_DiscountRateReason","List_YN_NA","1"]
["Select one…","Select one…","Select one…",1,"Real Estate","Rate implicit in lease","Select one…"]
["Yes","Monthly","Begininng",2,"Equipment","Incremental borrowing rate","Yes"]
["No","Quarterly","End",3,"Vehicle","Risk-free rate (Private company only)","No"]
[null,"Semi-Annual","Other (specify)",4,"Other",null,"N/A"]
[null,"Annual",null,5]
[null,"Weekly",null,6]
[null,null,null,7]
[null,null,null,8]
[null,null,null,9]
[null,null,null,10]